{"text_format":"3","workbook":"xlsx","n_sheets":12,"sheets":["Input","fm factor","Information","Data","Motor","Calc","Calc2","Micron Gear Data","Change LOG","PC40 Graphs","PC32 Graphs","PC25 Graphs"],"not_rendered":{"charts":12,"images":18,"external_links":3,"defined_names":99,"comments":1},"read":"whole","date_system":"1900"}

{"sheet":"Input","index":0,"n_rows":60,"n_cols":12,"rows_kept":60,"merged":[[0,1,0,4],[6,2,6,6],[7,2,7,6],[8,2,8,6],[9,2,9,6],[11,2,11,5],[11,8,11,11],[12,3,12,4],[13,3,13,6],[13,7,13,8],[14,3,14,6],[14,7,14,8],[19,7,19,9],[20,7,20,8],[28,2,28,5],[28,7,28,11],[30,2,30,3],[30,7,30,8],[30,10,30,11],[31,2,31,3],[32,2,32,3],[32,13,40,13],[33,2,33,3],[35,4,35,6],[36,4,36,6],[37,4,37,6],[38,4,38,6],[44,1,44,4],[44,5,44,9],[44,10,44,11],[45,9,45,10],[46,2,47,2],[46,9,46,10],[47,9,47,10]]}
[]
[]
[]
[null,null,"Input required by drop down",{"$nulls":8},"Latest update 2017-05-30 ASc"]
[null,null,"Input required by entering value"]
[null,null,"Output values"]
[null,"Date"]
[null,"Customer"]
[null,"Project"]
[null,"Reference"]
[]
[null,"Step 1: ","About Your Application",{"$nulls":4},"Step 2: ","PC and Gear selection"]
[null,"Select unit of measure","Metric ","Vertical application? *"]
[{"$f":"IF(Data!E25=1,1,0)","v":0},{"$f":"IF(Data!E25<>0,\"Max force is \" &Data!G25&\" \"&\"[\"&Data!E16&\"]\",\"Max force Fx\"&\" \"&\"[\"&Data!E16&\"]\")","v":"Max force Fx [N]"},1,{"$f":"Data!A51","v":" "},{"$nulls":3},"PC-version *",{"$nulls":3},{"$f":"IF(OR(Data!B141=1,Input!L15=\"-\"),\"Invalid Configuration\",\"Cylinder mounting\")","v":"Cylinder mounting"}]
[null,"Force active during stop? *","No",{"$f":"Data!A52&\" \"&Data!D52","v":"   "},{"$nulls":3},"LX-In Line",{"$nulls":3},"F-Feet Kit"]
[null,{"$f":"\"Total mass to move\"&\" \"&\"[\"&Data!N16&\"]\"","v":"Total mass to move [kg]"},0,{"$nulls":4},"Ratio",{"$f":"Data!G59","v":1}]
[{"$f":"IF(Data!E26=1,1,0)","v":0},{"$f":"IF(Data!E26<>0,\"Max Radial Force is \"&Data!G26 &\" \"&\"[\"&Data!E16&\"]\",\"Radial Force Fy or Fz\"&\" \"&\"[\"&Data!E16&\"]\")","v":"Radial Force Fy or Fz [N]"},0,{"$nulls":4},"Efficiency",{"$f":"Data!E59","v":{"v":0.9,"d":"90%"}},null,null,"Rod End"]
[{"$f":"IF(Data!E28=1,1,0)","v":0},{"$f":"IF(AND(Data!B16=1,C18>1200),\"Max stroke is 1200 mm\",IF(AND(Data!B16=2,C18>1200/25.4),\"Max stroke is 47 inch\",\"Stroke\"&\" \"&\"[\"&Data!D16&\"]\"))","v":"Stroke [mm]"},1,{"$nulls":4},"Idle torque [Nm]",{"$f":"Data!F59","v":{"v":0,"d":"0.00"}},null,null,"C-Front Clevis"]
[{"$f":"IF(Data!$E$30=1,1,0)","v":0},{"$f":"IF(AND(Data!B16=1,C19>1666),\"Max Speed is 1666 mm/s\",IF(AND(Data!B16=2,C19>65),\"Max Speed is 65 Inches/s\",\"Speed\"&\" \"&\"[\"&Data!G16&\"]\"))","v":"Speed [mm/s]"},1]
[{"$f":"IF(Data!$E$32=1,1,0)","v":0},{"$f":"IF(AND(Data!B16=1,C20>10),\"Max Accel. is 10 m/s²\",IF(AND(Data!B16=2,C20>393),\"Max Accel. is 393 Inches/s²\",\"Acceleration\"&\" \"&\"[\"&Data!H16&\"]\"))","v":"Acceleration [m/s²]"},1,{"$nulls":4},"Gear Selection (Optional)",{"$nulls":3},{"$f":"IF(Data!E83=2,\"Micron gear part number\",\"\")","v":""}]
[null,"fm factor *",1,{"$nulls":4},"No Gear"]
[null,{"$f":"IF(C25*C22>30,\"Not possible\",\"Cycles per minute\")","v":"Cycles per minute"},1,{"$nulls":4},"Type","NT23",null,null,{"$f":"IF(AND(Data!$E$83=2,Data!$J$150=4),\"Please check if motor fits to Micron gear\",Data!I106)","v":""}]
[null,{"$f":"IF(C23>24,\"Not possible\",\"Working hours per day\")","v":"Working hours per day"},1,{"$nulls":4},"Ratio",3]
[null,{"$f":"IF(C24>365,\"Not possible\",\"Working days per year\")","v":"Working days per year"},1,{"$nulls":4},"Ratio",3]
[null,"Time for one stroke [s]",{"$f":"Data!C48","v":{"v":1.001,"d":"1.0"}},{"$nulls":4},"Efficiency",{"v":0.93,"d":"93%"}]
[null,{"$f":"\"Average speed\"&\" \"&\"[\"&Data!G16&\"]\"","v":"Average speed [mm/s]"},{"$f":"Data!L27","v":{"v":0.9990009990009993,"d":"1.0"}},{"$nulls":4},"Idle torque",{"v":1E-3,"d":"0.001"}]
[null,"Duty cycle",{"$f":"C25*C22*2/60","v":{"v":0.03336666666666666,"d":"3%"}},{"$nulls":4},"Inertia (kg cm²)",{"v":0.076,"d":"0.0760"}]
[]
[null,"Step 3:"," Motor Selection",{"$nulls":4},{"$f":"IF(Data!$J$150=1,Data!$AL$142,\"\")","v":"Motor perfomance of  AKM22E"}]
[]
[null,"Type of motor *",{"$f":"IF(Data!D143=1,\"Invalid Configuration\",IF(Data!$J$150=1,\"Input voltage (VAC)\",IF(Data!$J$150=2,\"Input voltage (VDC)\",\"\")))","v":"Input voltage (VAC)"},null,{"$f":"IF(OR(Data!C141=1,Data!C143=1),\"Invalid Configuration\",\"Select size\")","v":"Select size"},null,null,"Motor curve",null,null,"4. PC32, Lead 10 mm"]
[null,"1. Kollmorgen AKM Servo","240",null,"AKM22E"]
[null,{"$f":"IF(Data!D141=1,\"Invalid Configuration\",IF(Data!$J$150=1,\"Brake\",\"Rear Shaft\"))","v":"Brake"},{"$f":"IF(Data!E141=1,\"Invalid Configuration\",IF(Data!$J$150=1,\"Feedback\",\"Sealing Option\"))","v":"Feedback"}]
[null,"No","R-Resolver (standard)"]
[]
[null,{"$f":"IF(Data!J150<4,\"Motor Data For\" &\" \"&E32, \"Motor data Customer Supplied Motor\")","v":"Motor Data For AKM22E"},null,null,"Motor part number"]
[null,{"$f":"Data!D207","v":"Cont. torque (Stall) [Nm]"},10,{"$f":"Data!D150","v":{"v":0.87,"d":"0.9"}},{"$f":"IF(Data!$J$150=1,LOOKUP(Data!$R$205,Data!$R$209:$R$246,Data!$Q$209:$Q$246),IF(Data!$J$150=2,LOOKUP(Data!$B$150,Data!$Y$357:$Y$380,Data!$AI$357:$AI$380),\"\"))","v":"AKM22E-ANCNR-00"}]
[null,{"$f":"Data!E207","v":"Peak torque [Nm]"},10,{"$f":"Data!E150","v":{"v":2.76,"d":"2.8"}},"RediMount ID**"]
[null,{"$f":"Data!F207","v":"Rated torque [Nm]"},10,{"$f":"Data!F150","v":0.7},{"$f":"Data!S108","v":"004"}]
[null,{"$f":"Data!G207","v":"Rated speed [rpm]"},4000,{"$f":"Data!G150","v":{"v":8000,"d":"8000.0"}}]
[null,{"$f":"Data!H207","v":"Inertia [kg cm²]"},0.5,{"$f":"Data!H150","v":0.16}]
[null,"Max speed [rpm]",null,{"$f":"Calc!B71","v":8000}]
[]
[]
[null,"PC unit Data",{"$nulls":3},"Required Motor Data",{"$nulls":4},"Additional Data"]
[null,null,"Life time","Required Input","System Inertia","Motor","Motor torque","motor torque","Motor Torque","Motor",null,"Inertia balance"]
[null,"Unit part number ***","Years","torque","kg cm²","speed","constant speed","acceleration","(TRMS)","Performance",null,"(max 7 for \"OK\")"]
[{"$nulls":3},"Nm",null,"rpm","Nm","Nm","Nm"]
[null,{"$f":"IF(AND(J49=\"OK\",Data!$C$59<>3,Data!AD138=1),\"Motor dimensions out of range\",IF(J49=\"OK\",Data!X93,\"\"))","v":"PC25LX004B03-01FC1"},{"$f":"IF(AND(J49=\"OK\",$C$47=\"Hours\"),Data!X83,IF(AND(J49=\"OK\",$C$47=\"Years\"),Data!Y83,IF(AND(J49=\"OK\",$C$47=\"Millions of Cycles\"),Data!Z83,\"\")))","v":">50"},{"$f":"Data!V7","v":{"v":0.05084683103659461,"d":"0.05"}},{"$f":"Data!AN21","v":{"v":0.007827500000000001,"d":"0.01"}},{"$f":"IF(Data!$E$83=2,Data!$D$90*Data!M7,Data!$L$115*Data!M7)","v":20},{"$f":"Data!AK21","v":{"v":0.056496478929549565,"d":"0.06"}},{"$f":"Data!AL21","v":{"v":0.09162836892954956,"d":"0.09"}},{"$f":"Data!U116","v":{"v":7.370930219683638E-3,"d":"0.01"}},{"$f":"IF(AND(G49<IF(Data!$J$150=2,Data!$X$361,IF(Data!$J$150=1,VLOOKUP(F49,Data!$AG$149:$AH$200,2,TRUE),Data!$F$149)),F49>Data!$M$153*Data!$T$149,H49<Data!$E$149,F49<=Data!$T$149*Data!$M$150,Data!AM21<7,I49<=Data!$F$149),\"OK\",\"Not OK\")","v":"OK"},{"$f":"IF(Data!AA138=1,1,0)","v":0},{"$f":"Data!AM21","v":{"v":1.048921875,"d":"1.05"}}]
[null,{"$f":"IF(AND(J50=\"OK\",Data!$C$59<>3,Data!AD139=1),\"Motor dimensions out of range\",IF(J50=\"OK\",Data!X94,\"\"))","v":"PC25LX004B10-01FC1"},{"$f":"IF(AND(J50=\"OK\",$C$47=\"Hours\"),Data!X84,IF(AND(J50=\"OK\",$C$47=\"Years\"),Data!Y84,IF(AND(J50=\"OK\",$C$47=\"Millions of Cycles\"),Data!Z84,\"\")))","v":">50"},{"$f":"Data!V8","v":{"v":0.15221443678864868,"d":"0.15"}},{"$f":"Data!AN22","v":{"v":0.007827500000000001,"d":"0.01"}},{"$f":"IF(Data!$E$83=2,Data!$D$90*Data!M8,Data!$L$115*Data!M8)","v":6},{"$f":"Data!AK22","v":{"v":0.16912715198738743,"d":"0.17"}},{"$f":"Data!AL22","v":{"v":0.17966671898738742,"d":"0.18"}},{"$f":"Data!U117","v":{"v":0.02203250112238065,"d":"0.02"}},{"$f":"IF(AND(G50<IF(Data!$J$150=2,Data!$X$361,IF(Data!$J$150=1,VLOOKUP(F50,Data!$AG$149:$AH$200,2,TRUE),Data!$F$149)),F50>Data!$M$153*Data!$T$149,H50<Data!$E$149,F50<=Data!$T$149*Data!$M$150,Data!AM22<7,I50<=Data!$F$149),\"OK\",\"Not OK\")","v":"OK"},{"$f":"IF(Data!AA139=1,1,0)","v":0},{"$f":"Data!AM22","v":{"v":1.048921875,"d":"1.05"}}]
[null,{"$f":"IF(AND(J51=\"OK\",Data!$C$59<>3,Data!AD140=1),\"Motor dimensions out of range\",IF(J51=\"OK\",Data!X95,\"\"))","v":"PC32LX004B04-01FC1"},{"$f":"IF(AND(J51=\"OK\",$C$47=\"Hours\"),Data!X85,IF(AND(J51=\"OK\",$C$47=\"Years\"),Data!Y85,IF(AND(J51=\"OK\",$C$47=\"Millions of Cycles\"),Data!Z85,\"\")))","v":">50"},{"$f":"Data!V9","v":{"v":0.07114577471545949,"d":"0.07"}},{"$f":"Data!AN23","v":{"v":0.016180200000000002,"d":"0.02"}},{"$f":"IF(Data!$E$83=2,Data!$D$90*Data!M9,Data!$L$115*Data!M9)","v":15},{"$f":"Data!AK23","v":{"v":0.07905086079495499,"d":"0.08"}},{"$f":"Data!AL23","v":{"v":0.106711152194955,"d":"0.11"}},{"$f":"Data!U118","v":{"v":0.010305231756403492,"d":"0.01"}},{"$f":"IF(AND(G51<IF(Data!$J$150=2,Data!$X$361,IF(Data!$J$150=1,VLOOKUP(F51,Data!$AG$149:$AH$200,2,TRUE),Data!$F$149)),F51>Data!$M$153*Data!$T$149,H51<Data!$E$149,F51<=Data!$T$149*Data!$M$150,Data!AM23<7,I51<=Data!$F$149),\"OK\",\"Not OK\")","v":"OK"},{"$f":"IF(Data!AA140=1,1,0)","v":0},{"$f":"Data!AM23","v":{"v":1.10112625,"d":"1.10"}}]
[null,{"$f":"IF(AND(J52=\"OK\",Data!$C$59<>3,Data!AD141=1),\"Motor dimensions out of range\",IF(J52=\"OK\",Data!X96,\"\"))","v":"PC32LX004B10-01FC1"},{"$f":"IF(AND(J52=\"OK\",$C$47=\"Hours\"),Data!X86,IF(AND(J52=\"OK\",$C$47=\"Years\"),Data!Y86,IF(AND(J52=\"OK\",$C$47=\"Millions of Cycles\"),Data!Z86,\"\")))","v":">50"},{"$f":"Data!V10","v":{"v":0.18234943678864868,"d":"0.18"}},{"$f":"Data!AN24","v":{"v":0.016180200000000002,"d":"0.02"}},{"$f":"IF(Data!$E$83=2,Data!$D$90*Data!M10,Data!$L$115*Data!M10)","v":6},{"$f":"Data!AK24","v":{"v":0.20261048532072073,"d":"0.20"}},{"$f":"Data!AL24","v":{"v":0.21367460188072074,"d":"0.21"}},{"$f":"Data!U119","v":{"v":0.02639400550447349,"d":"0.03"}},{"$f":"IF(AND(G52<IF(Data!$J$150=2,Data!$X$361,IF(Data!$J$150=1,VLOOKUP(F52,Data!$AG$149:$AH$200,2,TRUE),Data!$F$149)),F52>Data!$M$153*Data!$T$149,H52<Data!$E$149,F52<=Data!$T$149*Data!$M$150,Data!AM24<7,I52<=Data!$F$149),\"OK\",\"Not OK\")","v":"OK"},{"$f":"IF(Data!AA141=1,1,0)","v":0},{"$f":"Data!AM24","v":{"v":1.10112625,"d":"1.10"}}]
[null,{"$f":"IF(J53=\"OK\",Data!X97,\"\")","v":"PC40LX004B05-01FC1"},{"$f":"IF(AND(J53=\"OK\",$C$47=\"Hours\"),Data!X87,IF(AND(J53=\"OK\",$C$47=\"Years\"),Data!Y87,IF(AND(J53=\"OK\",$C$47=\"Millions of Cycles\"),Data!Z87,\"\")))","v":">50"},{"$f":"Data!V11","v":{"v":0.10147471839432434,"d":"0.10"}},{"$f":"Data!AN25","v":{"v":0.12473500000000001,"d":"0.12"}},{"$f":"IF(Data!$E$83=2,Data!$D$90*Data!M11,Data!$L$115*Data!M11)","v":12},{"$f":"Data!AK25","v":{"v":0.11274968710480482,"d":"0.11"}},{"$f":"Data!AL25","v":{"v":0.14851240310480482,"d":"0.15"}},{"$f":"Data!U120","v":{"v":0.014697000339548173,"d":"0.01"}},{"$f":"IF(AND(G53<IF(Data!$J$150=2,Data!$X$361,IF(Data!$J$150=1,VLOOKUP(F53,Data!$AG$149:$AH$200,2,TRUE),Data!$F$149)),F53>Data!$M$153*Data!$T$149,H53<Data!$E$149,F53<=Data!$T$149*Data!$M$150,Data!AM25<7,I53<=Data!$F$149),\"OK\",\"Not OK\")","v":"OK"},{"$f":"IF(Data!AA142=1,1,0)","v":0},{"$f":"Data!AM25","v":{"v":1.77959375,"d":"1.78"}}]
[null,{"$f":"IF(J54=\"OK\",Data!X98,\"\")","v":"PC40LX004B10-01FC1"},{"$f":"IF(AND(J54=\"OK\",$C$47=\"Hours\"),Data!X88,IF(AND(J54=\"OK\",$C$47=\"Years\"),Data!Y88,IF(AND(J54=\"OK\",$C$47=\"Millions of Cycles\"),Data!Z88,\"\")))","v":">50"},{"$f":"Data!V12","v":{"v":0.2024694367886487,"d":"0.20"}},{"$f":"Data!AN26","v":{"v":0.12473500000000001,"d":"0.12"}},{"$f":"IF(Data!$E$83=2,Data!$D$90*Data!M12,Data!$L$115*Data!M12)","v":6},{"$f":"Data!AK26","v":{"v":0.22496604087627634,"d":"0.22"}},{"$f":"Data!AL26","v":{"v":0.24284739887627635,"d":"0.24"}},{"$f":"Data!U121","v":{"v":0.029307810752180478,"d":"0.03"}},{"$f":"IF(AND(G54<IF(Data!$J$150=2,Data!$X$361,IF(Data!$J$150=1,VLOOKUP(F54,Data!$AG$149:$AH$200,2,TRUE),Data!$F$149)),F54>Data!$M$153*Data!$T$149,H54<Data!$E$149,F54<=Data!$T$149*Data!$M$150,Data!AM26<7,I54<=Data!$F$149),\"OK\",\"Not OK\")","v":"OK"},{"$f":"IF(Data!AA143=1,1,0)","v":0},{"$f":"Data!AM26","v":{"v":1.77959375,"d":"1.78"}}]
[null,{"$f":"IF(J55=\"OK\",Data!X99,\"\")","v":"PC40LX004B20-01FC1"},{"$f":"IF(AND(J55=\"OK\",$C$47=\"Hours\"),Data!X89,IF(AND(J55=\"OK\",$C$47=\"Years\"),Data!Y89,IF(AND(J55=\"OK\",$C$47=\"Millions of Cycles\"),Data!Z89,\"\")))","v":">50"},{"$f":"Data!V13","v":{"v":0.3043388735772974,"d":"0.30"}},{"$f":"Data!AN27","v":{"v":0.12473500000000001,"d":"0.12"}},{"$f":"IF(Data!$E$83=2,Data!$D$90*Data!M13,Data!$L$115*Data!M13)","v":3},{"$f":"Data!AK27","v":{"v":0.33815430397477486,"d":"0.34"}},{"$f":"Data!AL27","v":{"v":0.34709498297477487,"d":"0.35"}},{"$f":"Data!U122","v":{"v":0.04404867783155878,"d":"0.04"}},{"$f":"IF(AND(G55<IF(Data!$J$150=2,Data!$X$361,IF(Data!$J$150=1,VLOOKUP(F55,Data!$AG$149:$AH$200,2,TRUE),Data!$F$149)),F55>Data!$M$153*Data!$T$149,H55<Data!$E$149,F55<=Data!$T$149*Data!$M$150,Data!AM27<7,I55<=Data!$F$149),\"OK\",\"Not OK\")","v":"OK"},{"$f":"IF(Data!AA144=1,1,0)","v":0},{"$f":"Data!AM27","v":{"v":1.77959375,"d":"1.78"}}]
[]
[null,"* = Hover over for more information"]
[null,"** = Click to open RediMount ID tool; This tool is used to check motor and gear compatibility to PC-unit"]
[null,"***= If only the unit part number cell is blank the motor or the unit cannot handle the specified application. If a row is blank the unit cannot handle the current application data"]
[null,"Notes:"]

{"sheet":"fm factor","index":1,"n_rows":36,"n_cols":18,"rows_kept":36}
[]
[null,"Typical fm factors"]
{"$rows_empty":18}
[null,"Calcualate your own specific fm factor below",{"$nulls":9},"Example of fm factor"]
[]
[{"$nulls":15},"=",{"$f":"((P27*M27^3+P28*M28^3+P29*M29^3+P30*M30^3+P31*M31^3+P32*M32^3)/P34)^(1/3)","v":{"v":795.8114415792778,"d":"796"}},"N"]
[{"$nulls":5},"=",{"$f":"((F27*C27^3+F28*C28^3+F29*C29^3+F30*C30^3+F31*C31^3+F32*C32^3)/F34)^(1/3)","v":{"v":999.9999999999998,"d":"1000"}},"N"]
[]
[null,null,"Load",null,null,"Part of stroke",{"$nulls":6},"Load",null,null,"Part of stroke"]
[null,null,1000,"N",null,400,"mm",{"$nulls":5},1000,"N",null,400,"mm"]
[null,null,1000,"N",null,400,"mm",{"$nulls":5},200,"N",null,400,"mm"]
[null,null,0,"N",null,0,"mm",{"$nulls":5},0,"N",null,0,"mm"]
[null,null,0,"N",null,0,"mm",{"$nulls":5},0,"N",null,0,"mm"]
[null,null,0,"N",null,0,"mm",{"$nulls":5},0,"N",null,0,"mm"]
[null,null,0,"N",null,0,"mm",{"$nulls":5},0,"N",null,0,"mm"]
[]
[null,"Max Load",{"$f":"MAX(C27:C32)","v":1000},"N",null,{"$f":"SUM(F27:F32)","v":800},"mm",{"$nulls":4},"Max Load",{"$f":"MAX(M27:M32)","v":1000},"N",null,{"$f":"SUM(P27:P32)","v":800},"mm"]
[]
[null,null,"=",{"$f":"$G$24/$C$34","v":{"v":0.9999999999999998,"d":"1.00"}},{"$nulls":8},"=",{"$f":"$Q$23/$M$34","v":{"v":0.7958114415792779,"d":"0.80"}}]

{"sheet":"Information","index":2,"n_rows":38,"n_cols":12,"rows_kept":38,"merged":[[3,1,3,11],[6,1,6,3],[6,5,6,7],[6,9,6,11],[7,2,7,3],[7,6,7,7],[7,10,7,11],[8,2,8,3],[8,6,8,7],[8,10,8,11],[9,2,9,3],[9,6,9,7],[9,10,9,11],[10,2,10,3],[10,6,10,7],[10,10,10,11],[11,2,11,3],[11,6,11,7],[11,10,11,11],[13,1,13,3],[13,5,13,7],[13,9,13,11],[16,2,16,3],[16,6,16,7],[16,10,16,11],[17,2,17,3],[17,6,17,7],[17,10,17,11],[19,2,19,3],[19,6,19,7],[19,10,19,11],[21,1,21,3],[21,5,21,7],[21,9,21,11],[22,1,22,3],[22,5,22,7],[22,9,22,11],[25,1,25,3],[25,5,25,7],[25,9,25,11],[28,2,28,3],[28,6,28,7],[28,10,28,11],[29,2,29,3],[29,6,29,7],[29,10,29,11],[31,2,31,3],[31,6,31,7],[31,10,31,11],[32,2,32,3],[32,6,32,7],[32,10,32,11],[34,1,34,3],[34,5,34,7],[34,9,34,11],[35,1,35,3],[35,5,35,7],[35,9,35,11],[36,2,36,3],[37,1,37,3],[37,5,37,7],[37,9,37,11],[38,2,38,3]]}
[]
[]
[]
[null,"Dimensions for Bell house and  Redimount flanges "]
[]
[null,"PC 25 LX",{"$nulls":3},"PC 32 LX",{"$nulls":3},"PC 40 LX"]
[null,"Bell House Length",{"$nulls":3},"Bell House Length",{"$nulls":3},"Bell House Length"]
[null,"Motor shaft Length [mm]","Bell House Length, C [mm]",null,null,"Motor shaft Length [mm]","Bell House Length, C [mm]",null,null,"Motor shaft Length [mm]","Bell House Length, C [mm]"]
[null,"19-24",52,null,null,"20-27",59,null,null,"20-27",62]
[null,"24-29",57,null,null,"27-34",66,null,null,"27-34",69]
[null,"29-34",62,null,null,"34-41",73,null,null,"34-41",76]
[null,"34-39",67]
[]
[null,"Redimount Flange Motor Dimensions Compatibility",{"$nulls":3},"Redimount Flange Motor Dimensions Compatibility",{"$nulls":3},"Redimount Flange Motor Dimensions Compatibility"]
[null,"Motor data","Flange A[mm]","Flange B [mm]",null,"Motor data","Flange A[mm]","Flange B [mm]",null,"Motor data","Flange A[mm]","Flange B [mm]"]
[null,"Bolt circle diameter","43.8-48","48-72",null,"Bolt circle diameter","37-50","50-99",null,"Bolt circle diameter","37-72","72-107"]
[null,"Shaft Diameter","5-11",null,null,"Shaft Diameter","5-16",null,null,"Shaft Diameter","5-16"]
[null,"Shaft Length","19-39",null,null,"Shaft Length","20-41",null,null,"Shaft Length","20-41"]
[null,"Pilot Diameter","16-36","16-54",null,"Pilot Diameter","16-39","16-75",null,"Pilot Diameter","16-54","16-85"]
[null,"Pilot length","max 4",null,null,"Pilot length","max 4",null,null,"Pilot length","max 4"]
[]
[null,"Weight of Unit [kg]",{"$nulls":3},"Weight of Unit [kg]",{"$nulls":3},"Weight of Unit [kg]"]
[null,"0.53+(Smax[mm] x 0.0021)",{"$nulls":3},"0.681+(Smax[mm] x 0.0034)",{"$nulls":3},"1.853+(Smax[mm] x 0.0052)"]
[]
[null,"PC 25 PA",{"$nulls":3},"PC 32 PA",{"$nulls":3},"PC 40 PA"]
[null,"Redimount Flange Motor Dimensions Compatibility",{"$nulls":3},"Redimount Flange Motor Dimensions Compatibility",{"$nulls":3},"Redimount Flange Motor Dimensions Compatibility"]
[null,"Motor data","Flange C [mm]","Flange D [mm]",null,"Motor data","Flange C [mm]","Flange D [mm]",null,"Motor data","Flange C [mm]","Flange D [mm]"]
[null,"Bolt circle diameter","25-51","51-72",null,"Bolt circle diameter","25-72","72-99",null,"Bolt circle diameter","26-85","85-107"]
[null,"Shaft Diameter","5-10",null,null,"Shaft Diameter","5-14",null,null,"Shaft Diameter","5-16"]
[null,"Shaft Length","13-35",null,null,"Shaft Length","15-34",null,null,"Shaft Length","15-41"]
[null,"Pilot Diameter","16-39","16-54",null,"Pilot Diameter","16-54","16-74",null,"Pilot Diameter","16-64","16-85"]
[null,"Pilot length","max 4",null,null,"Pilot length","max 4",null,null,"Pilot length","max 4"]
[null,"Motor Square/diameter","max 66.5",null,null,"Motor Square/diameter","max 82.5",null,null,"Motor Square/diameter","max 90.5"]
[]
[null,"Weight of Unit [kg]",{"$nulls":3},"Weight of Unit [kg]",{"$nulls":3},"Weight of Unit [kg]"]
[null,"0.778+(Smax[mm] x 0.0021)",{"$nulls":3},"1.221+(Smax[mm] x 0.0034)",{"$nulls":3},"2.318+(Smax[mm] x 0.0052)"]
[]
[null,"Dimensions PC25",{"$nulls":3},"Dimensions PC32",{"$nulls":3},"Dimensions PC40"]

{"sheet":"Data","index":3,"n_rows":434,"n_cols":46,"rows_kept":434,"hidden":true,"merged":[[2,2,2,11],[2,36,2,37],[16,8,16,9],[16,36,16,39],[17,8,17,9],[18,42,18,45],[22,0,22,1],[22,15,22,16],[56,1,56,2],[64,2,64,9],[73,23,73,24],[80,23,80,25],[112,2,112,4],[113,16,113,19],[122,2,122,10],[131,44,132,44],[133,44,134,44],[135,44,136,44],[137,1,137,5],[137,39,137,40],[138,8,138,13],[142,42,142,45],[143,42,143,43],[143,44,143,45],[145,1,145,2],[146,20,146,21],[146,22,146,23],[146,24,146,25],[205,11,205,15]]}
[]
[]
[null,null,"Catalogue values",{"$nulls":33},"Motor torque"]
[null,null,"Pitch","Max stroke","Max rpm","Max force Fx","Max force Fy","Max load torque My","Max drive torque shaft","Max torque coupling","Cam  nut","C ballbearing","Calc speed","rpm","Acc","Fx","Fy","Stroke","idle torque","idle torque","Drive torque from load","with acc","Coupl","Life ball bearing","Life ball nut",null,"Critical speed","Critical speed check","Buckling Max S screw","Buckling Max S tube","Buckling check","Summa",null,"Lifetime","J\nscrew","J\nLoad","Drive torque constant","Drive torque acc","Inertia balance","System Inertia",null,"Inertia Belt gear (PA)"]
["OK",null,"mm","mm",null,"N","N","Nm","Nm","Nm","N","N","rpm","OK","OK","OK","OK","OK","Nm","Nm","Nm","Nm","OK","h","h",null,"rpm","OK","mm","mm","OK","OK",null,"Years","kg cm²","kg cm²","Nm",{"$nulls":4},"kg cm²"]
[]
[{"$f":"AF7","v":0},"PC25…B03",3,600,8000,1250,20,10,4,2.3,2800,5200,{"$f":"Data!$M$28/Data!C7*60","v":20},{"$f":"IF(M7<=E7,0,1)","v":0},{"$f":"IF(Data!$M$29>20,1,0)","v":0},{"$f":"IF(Data!$M$23<=Data!F7,0,1)","v":0},{"$f":"IF(Data!$M$24<=Data!G7,0,1)","v":0},{"$f":"IF(Data!$M$25<=Data!D7,0,1)","v":0},0.05,{"$f":"M7/E7*S7*2+S7","v":{"v":0.05025,"d":"0.050"}},{"$f":"Data!$M$23*Data!C7/2000/PI()/0.8+Data!T7","v":{"v":0.05084683103659461,"d":"0.05"}},{"$f":"(Data!$M$23+$M$26*Data!$M$29)*Data!C7/2000/PI()/0.8+T7","v":{"v":0.05084683103659461,"d":"0.05"}},{"$f":"IF(V7<J7,0,1)","v":0},{"$f":"1000000/60/M7*(L7/$R$25/(0.62*30+1.17*(Data!$M$23+$M$26*Data!$M$29+30)))^3","v":{"v":709290109.9527506,"d":"709290110"}},{"$f":"1000000/60/M7*(K7/$R$25/(Data!$M$23+$M$26*Data!$M$29+30))^3","v":{"v":614055699.1485125,"d":"614055699"}},{"$f":"MIN(X7:Y7)","v":{"v":614055699.1485125,"d":"614055699"}},{"$f":"0.8*1.56*1.2*10^8*8.9/(50+Data!$M$25)^2","v":{"v":512442.90657439455,"d":"512443"}},{"$f":"IF(AA7>M7,0,1)","v":0},{"$f":"SQRT((PI())^2*2.1*10^6*0.03/(Data!$M$23+Data!$M$23/10*Data!$M$29)*0.8*2*10)/100*0.8*1000-50","v":{"v":24008.790098859477,"d":"24009"}},{"$f":"(SQRT(PI()^2*2.1*1000000*0.5/4/(Data!$M$23/10+1))/100*0.8)*1000-50","v":{"v":12227.44991061037,"d":"12227"}},{"$f":"IF(AND(AC7>Data!$M$25,Data!AD7>Data!$M$25),0,1)","v":0},{"$f":"AE7+AB7+W7+R7+Q7+P7+N7+O7","v":0},1,{"$f":"Z7*60*$M$28/2/$M$25/Input!$C$22/Input!$C$23/Input!$C$24","v":{"v":18421670974.455376,"d":"18421670974.5"}},{"$f":"($M$25+100)/1000*0.62/2*0.5^2","v":0.007827500000000001},{"$f":"$M$26*($M$28/1000*60/2/3.14/Data!M7)^2*10^4","v":0},{"$f":"$L$117+$F$59+U7/$L$116/$E$59/$L$115","v":{"v":0.056496478929549565,"d":"0.0565"}},{"$f":"V7/$L$116/$E$59/Data!$L$115+$L$117+$F$59+($H$149+$L$118+(Data!AJ7+Data!AI7)/Data!$L$115^2)*3.14/Data!$L$115*Data!M7/Data!$C$43/10000/30","v":0.09162836892954956},{"$f":"($H$149+$L$118+(Data!AJ7+Data!AI7)/Data!$L$115^2)/$H$149","v":{"v":1.048921875,"d":"1.05"}},{"$f":"IF(OR($C$59=1,$C$59=3),(AI7+AJ7)/$L$115^2+$L$118,(AI7+AJ7+AP7)/$L$115^2+$L$118)","v":{"v":0.007827500000000001,"d":"0.01"}},null,0.5]
[{"$f":"AF8","v":0},"PC25…B10",10,600,8000,1250,20,10,4,2.3,2500,5200,{"$f":"Data!$M$28/Data!C8*60","v":6},{"$f":"IF(M8<=E8,0,1)","v":0},{"$f":"IF(Data!$M$29>20,1,0)","v":0},{"$f":"IF(Data!$M$23<=Data!F8,0,1)","v":0},{"$f":"IF(Data!$M$24<=Data!G8,0,1)","v":0},{"$f":"IF(Data!$M$25<=Data!D8,0,1)","v":0},0.15,{"v":0.150225,"d":"0.150"},{"$f":"Data!$M$23*Data!C8/2000/PI()/0.8+Data!T8","v":{"v":0.15221443678864868,"d":"0.15"}},{"$f":"(Data!$M$23+$M$26*Data!$M$29)*Data!C8/2000/PI()/0.8+T8","v":{"v":0.15221443678864868,"d":"0.15"}},{"$f":"IF(V8<J8,0,1)","v":0},{"$f":"1000000/60/M8*(L8/$R$25/(0.62*30+1.17*(Data!$M$23+$M$26*Data!$M$29+30)))^3","v":{"v":2364300366.509168,"d":"2364300367"}},{"$f":"1000000/60/M8*(K8/$R$25/(Data!$M$23+$M$26*Data!$M$29+30))^3","v":{"v":1456909059.0372183,"d":"1456909059"}},{"$f":"MIN(X8:Y8)","v":{"v":1456909059.0372183,"d":"1456909059"}},{"$f":"0.8*1.56*1.2*10^8*8.9/(50+Data!$M$25)^2","v":{"v":512442.90657439455,"d":"512443"}},{"$f":"IF(AA8>M8,0,1)","v":0},{"$f":"SQRT((PI())^2*2.1*10^6*0.03/(Data!$M$23+Data!$M$23/10*Data!$M$29)*0.8*2*10)/100*0.8*1000-50","v":{"v":24008.790098859477,"d":"24009"}},{"$f":"(SQRT(PI()^2*2.1*1000000*0.5/4/(Data!$M$23/10+1))/100*0.8)*1000-50","v":{"v":12227.44991061037,"d":"12227"}},{"$f":"IF(AND(AC8>Data!$M$25,Data!AD8>Data!$M$25),0,1)","v":0},{"$f":"AE8+AB8+W8+R8+Q8+P8+N8+O8","v":0},2,{"$f":"Z8*60*$M$28/2/$M$25/Input!$C$22/Input!$C$23/Input!$C$24","v":{"v":43707271771.11655,"d":"43707271771.1"}},{"$f":"($M$25+100)/1000*0.62/2*0.5^2","v":0.007827500000000001},{"$f":"$M$26*($M$28/1000*60/2/3.14/Data!M8)^2*10^4","v":0},{"v":0.16912715198738743,"d":"0.1691"},{"$f":"V8/$L$116/$E$59/Data!$L$115+$L$117+$F$59+($H$149+$L$118+(Data!AJ8+Data!AI8)/Data!$L$115^2)*3.14/Data!$L$115*Data!M8/Data!$C$43/10000/30","v":0.17966671898738742},{"$f":"($H$149+$L$118+(Data!AJ8+Data!AI8)/Data!$L$115^2)/$H$149","v":{"v":1.048921875,"d":"1.05"}},{"v":0.007827500000000001,"d":"0.01"},null,0.5]
[0,"PC32…B04",4,1200,6000,3200,20,25,9.2,5.1,4800,7610,{"$f":"Data!$M$28/Data!C9*60","v":15},0,{"$f":"IF(Data!$M$29>20,1,0)","v":0},{"$f":"IF(Data!$M$23<=Data!F9,0,1)","v":0},{"$f":"IF(Data!$M$24<=Data!G9,0,1)","v":0},{"$f":"IF(Data!$M$25<=Data!D9,0,1)","v":0},0.07,{"v":0.07035000000000001,"d":"0.070"},{"$f":"Data!$M$23*Data!C9/2000/PI()/0.8+Data!T9","v":{"v":0.07114577471545949,"d":"0.07"}},{"$f":"(Data!$M$23+$M$26*Data!$M$29)*Data!C9/2000/PI()/0.8+T9","v":{"v":0.07114577471545949,"d":"0.07"}},0,{"$f":"1000000/60/M9*(L9/$R$25/(0.62*30+1.17*(Data!$M$23+$M$26*Data!$M$29+30)))^3","v":{"v":2964193702.5857754,"d":"2964193703"}},{"$f":"1000000/60/M9*(K9/$R$25/(Data!$M$23+$M$26*Data!$M$29+30))^3","v":{"v":4124735658.420329,"d":"4124735658"}},{"v":2964193702.5857754,"d":"2964193703"},{"$f":"0.8*1.56*1.2*10^8*10.75/(50+Data!$M$25)^2","v":{"v":618961.9377162631,"d":"618962"}},0,{"$f":"SQRT((PI())^2*2.1*10^6*0.07/(Data!$M$23+Data!$M$23/10*Data!$M$29)*0.8*2*10)/100*0.8*1000-50","v":{"v":36700.40891902589,"d":"36700"}},{"$f":"(SQRT(PI()^2*2.1*1000000*0.5/4/(Data!$M$23/10+1))/100*0.8)*1000-50","v":{"v":12227.44991061037,"d":"12227"}},{"$f":"IF(AND(AC9>Data!$M$25,Data!AD9>Data!$M$25),0,1)","v":0},0,3,{"$f":"Z9*60*$M$28/2/$M$25/Input!$C$22/Input!$C$23/Input!$C$24","v":{"v":88925811077.57326,"d":"88925811077.6"}},{"$f":"(M25+100)/1000*0.89/2*0.6^2","v":0.016180200000000002},{"$f":"$M$26*($M$28/1000*60/2/3.14/Data!M9)^2*10^4","v":0},{"v":0.07905086079495499,"d":"0.0791"},{"$f":"V9/$L$116/$E$59/Data!$L$115+$L$117+$F$59+($H$149+$L$118+(Data!AJ9+Data!AI9)/Data!$L$115^2)*3.14/Data!$L$115*Data!M9/Data!$C$43/10000/30","v":0.106711152194955},{"$f":"($H$149+$L$118+(Data!AJ9+Data!AI9)/Data!$L$115^2)/$H$149","v":{"v":1.10112625,"d":"1.10"}},{"v":0.016180200000000002,"d":"0.02"},null,0.6]
[0,"PC32…B10",10,1200,6000,3200,20,25,9.2,5.1,7300,7610,{"$f":"Data!$M$28/Data!C10*60","v":6},0,{"$f":"IF(Data!$M$29>20,1,0)","v":0},{"$f":"IF(Data!$M$23<=Data!F10,0,1)","v":0},{"$f":"IF(Data!$M$24<=Data!G10,0,1)","v":0},{"$f":"IF(Data!$M$25<=Data!D10,0,1)","v":0},0.18,{"v":0.18036,"d":"0.180"},{"$f":"Data!$M$23*Data!C10/2000/PI()/0.8+Data!T10","v":{"v":0.18234943678864868,"d":"0.18"}},{"$f":"(Data!$M$23+$M$26*Data!$M$29)*Data!C10/2000/PI()/0.8+T10","v":{"v":0.18234943678864868,"d":"0.18"}},0,{"$f":"1000000/60/M10*(L10/$R$25/(0.62*30+1.17*(Data!$M$23+$M$26*Data!$M$29+30)))^3","v":{"v":7410484256.464438,"d":"7410484256"}},{"$f":"1000000/60/M10*(K10/$R$25/(Data!$M$23+$M$26*Data!$M$29+30))^3","v":{"v":36272793050.84682,"d":"36272793051"}},{"v":7410484256.464438,"d":"7410484256"},{"$f":"0.8*1.56*1.2*10^8*10.75/(50+Data!$M$25)^2","v":{"v":618961.9377162631,"d":"618962"}},0,{"$f":"SQRT((PI())^2*2.1*10^6*0.07/(Data!$M$23+Data!$M$23/10*Data!$M$29)*0.8*2*10)/100*0.8*1000-50","v":{"v":36700.40891902589,"d":"36700"}},{"$f":"(SQRT(PI()^2*2.1*1000000*0.5/4/(Data!$M$23/10+1))/100*0.8)*1000-50","v":{"v":12227.44991061037,"d":"12227"}},{"$f":"IF(AND(AC10>Data!$M$25,Data!AD10>Data!$M$25),0,1)","v":0},0,4,{"$f":"Z10*60*$M$28/2/$M$25/Input!$C$22/Input!$C$23/Input!$C$24","v":{"v":222314527693.93317,"d":"222314527693.9"}},{"$f":"(M25+100)/1000*0.89/2*0.6^2","v":0.016180200000000002},{"$f":"$M$26*($M$28/1000*60/2/3.14/Data!M10)^2*10^4","v":0},{"v":0.20261048532072073,"d":"0.2026"},{"$f":"V10/$L$116/$E$59/Data!$L$115+$L$117+$F$59+($H$149+$L$118+(Data!AJ10+Data!AI10)/Data!$L$115^2)*3.14/Data!$L$115*Data!M10/Data!$C$43/10000/30","v":{"v":0.21367460188072074,"d":"0.213674602"}},{"$f":"($H$149+$L$118+(Data!AJ10+Data!AI10)/Data!$L$115^2)/$H$149","v":{"v":1.10112625,"d":"1.10"}},{"v":0.016180200000000002,"d":"0.02"},null,0.6]
[0,"PC40…B05",5,1200,5000,6000,50,25,24,5.8,14800,11200,{"$f":"Data!$M$28/Data!C11*60","v":12},0,{"$f":"IF(Data!$M$29>20,1,0)","v":0},{"$f":"IF(Data!$M$23<=Data!F11,0,1)","v":0},{"$f":"IF(Data!$M$24<=Data!G11,0,1)","v":0},{"$f":"IF(Data!$M$25<=Data!D11,0,1)","v":0},0.1,{"v":0.10048,"d":"0.100"},{"$f":"Data!$M$23*Data!C11/2000/PI()/0.8+Data!T11","v":{"v":0.10147471839432434,"d":"0.10"}},{"$f":"(Data!$M$23+$M$26*Data!$M$29)*Data!C11/2000/PI()/0.8+T11","v":{"v":0.10147471839432434,"d":"0.10"}},0,{"$f":"1000000/60/M11*(L11/$R$25/(0.62*30+1.17*(Data!$M$23+$M$26*Data!$M$29+30)))^3","v":{"v":11811816487.394007,"d":"11811816487"}},{"$f":"1000000/60/M11*(K11/$R$25/(Data!$M$23+$M$26*Data!$M$29+30))^3","v":{"v":151135876234.06027,"d":"151135876234"}},{"v":11811816487.394007,"d":"11811816487"},{"$f":"0.8*1.56*1.2*10^8*18.25/(50+Data!$M$25)^2","v":{"v":1050795.8477508652,"d":"1050796"}},0,{"$f":"SQRT((PI())^2*2.1*10^6*0.55/(Data!$M$23+Data!$M$23/10*Data!$M$29)*0.8*2*10)/100*0.8*1000-50","v":{"v":102963.58479371195,"d":"102964"}},{"$f":"(SQRT(PI()^2*2.1*1000000*1.4/4/(Data!$M$23/10+1))/100*0.8)*1000-50","v":{"v":20494.10313596411,"d":"20494"}},{"$f":"IF(AND(AC11>Data!$M$25,Data!AD11>Data!$M$25),0,1)","v":0},0,5,{"$f":"Z11*60*$M$28/2/$M$25/Input!$C$22/Input!$C$23/Input!$C$24","v":{"v":354354494621.8202,"d":"354354494621.8"}},{"$f":"($M$25+100)/1000*2.47/2*1^2","v":0.12473500000000001},{"$f":"$M$26*($M$28/1000*60/2/3.14/Data!M11)^2*10^4","v":0},{"v":0.11274968710480482,"d":"0.1127"},{"$f":"V11/$L$116/$E$59/Data!$L$115+$L$117+$F$59+($H$149+$L$118+(Data!AJ11+Data!AI11)/Data!$L$115^2)*3.14/Data!$L$115*Data!M11/Data!$C$43/10000/30","v":0.14851240310480482},{"$f":"($H$149+$L$118+(Data!AJ11+Data!AI11)/Data!$L$115^2)/$H$149","v":{"v":1.77959375,"d":"1.78"}},{"v":0.12473500000000001,"d":"0.12"},null,0.8]
[0,"PC40…B10",10,1200,5000,6000,50,25,24,5.8,15200,11200,{"$f":"Data!$M$28/Data!C12*60","v":6},0,{"$f":"IF(Data!$M$29>20,1,0)","v":0},{"$f":"IF(Data!$M$23<=Data!F12,0,1)","v":0},{"$f":"IF(Data!$M$24<=Data!G12,0,1)","v":0},{"$f":"IF(Data!$M$25<=Data!D12,0,1)","v":0},0.2,{"v":0.20048000000000002,"d":"0.200"},{"$f":"Data!$M$23*Data!C12/2000/PI()/0.8+Data!T12","v":{"v":0.2024694367886487,"d":"0.20"}},{"$f":"(Data!$M$23+$M$26*Data!$M$29)*Data!C12/2000/PI()/0.8+T12","v":{"v":0.2024694367886487,"d":"0.20"}},0,{"$f":"1000000/60/M12*(L12/$R$25/(0.62*30+1.17*(Data!$M$23+$M$26*Data!$M$29+30)))^3","v":{"v":23623632974.788013,"d":"23623632975"}},{"$f":"1000000/60/M12*(K12/$R$25/(Data!$M$23+$M$26*Data!$M$29+30))^3","v":{"v":327448632883.1601,"d":"327448632883"}},{"v":23623632974.788013,"d":"23623632975"},{"$f":"0.8*1.56*1.2*10^8*18.25/(50+Data!$M$25)^2","v":{"v":1050795.8477508652,"d":"1050796"}},0,{"$f":"SQRT((PI())^2*2.1*10^6*0.55/(Data!$M$23+Data!$M$23/10*Data!$M$29)*0.8*2*10)/100*0.8*1000-50","v":{"v":102963.58479371195,"d":"102964"}},{"$f":"(SQRT(PI()^2*2.1*1000000*1.4/4/(Data!$M$23/10+1))/100*0.8)*1000-50","v":{"v":20494.10313596411,"d":"20494"}},{"$f":"IF(AND(AC12>Data!$M$25,Data!AD12>Data!$M$25),0,1)","v":0},0,6,{"$f":"Z12*60*$M$28/2/$M$25/Input!$C$22/Input!$C$23/Input!$C$24","v":{"v":708708989243.6404,"d":"708708989243.6"}},{"$f":"($M$25+100)/1000*2.47/2*1^2","v":0.12473500000000001},{"$f":"$M$26*($M$28/1000*60/2/3.14/Data!M12)^2*10^4","v":0},{"v":0.22496604087627634,"d":"0.2250"},{"$f":"V12/$L$116/$E$59/Data!$L$115+$L$117+$F$59+($H$149+$L$118+(Data!AJ12+Data!AI12)/Data!$L$115^2)*3.14/Data!$L$115*Data!M12/Data!$C$43/10000/30","v":0.24284739887627635},{"$f":"($H$149+$L$118+(Data!AJ12+Data!AI12)/Data!$L$115^2)/$H$149","v":{"v":1.77959375,"d":"1.78"}},{"v":0.12473500000000001,"d":"0.12"},null,0.8]
[0,"PC40…B20",20,1200,5000,6000,50,25,24,5.8,13600,11200,{"$f":"Data!$M$28/Data!C13*60","v":3},0,{"$f":"IF(Data!$M$29>20,1,0)","v":0},{"$f":"IF(Data!$M$23<=Data!F13,0,1)","v":0},{"$f":"IF(Data!$M$24<=Data!G13,0,1)","v":0},{"$f":"IF(Data!$M$25<=Data!D13,0,1)","v":0},0.3,{"$f":"M13/E13*S13*2+S13","v":{"v":0.30036,"d":"0.300"}},{"$f":"Data!$M$23*Data!C13/2000/PI()/0.8+Data!T13","v":{"v":0.3043388735772974,"d":"0.30"}},{"$f":"(Data!$M$23+$M$26*Data!$M$29)*Data!C13/2000/PI()/0.8+T13","v":{"v":0.3043388735772974,"d":"0.30"}},0,{"$f":"1000000/60/M13*(L13/$R$25/(0.62*30+1.17*(Data!$M$23+$M$26*Data!$M$29+30)))^3","v":{"v":47247265949.57603,"d":"47247265950"}},{"$f":"1000000/60/M13*(K13/$R$25/(Data!$M$23+$M$26*Data!$M$29+30))^3","v":{"v":469093201153.21924,"d":"469093201153"}},{"v":47247265949.57603,"d":"47247265950"},{"$f":"0.8*1.56*1.2*10^8*18.25/(50+Data!$M$25)^2","v":{"v":1050795.8477508652,"d":"1050796"}},0,{"$f":"SQRT((PI())^2*2.1*10^6*0.55/(Data!$M$23+Data!$M$23/10*Data!$M$29)*0.8*2*10)/100*0.8*1000-50","v":{"v":102963.58479371195,"d":"102964"}},{"$f":"(SQRT(PI()^2*2.1*1000000*1.4/4/(Data!$M$23/10+1))/100*0.8)*1000-50","v":{"v":20494.10313596411,"d":"20494"}},{"$f":"IF(AND(AC13>Data!$M$25,Data!AD13>Data!$M$25),0,1)","v":0},0,7,{"$f":"Z13*60*$M$28/2/$M$25/Input!$C$22/Input!$C$23/Input!$C$24","v":{"v":1417417978487.2808,"d":"1417417978487.3"}},{"$f":"($M$25+100)/1000*2.47/2*1^2","v":0.12473500000000001},{"$f":"$M$26*($M$28/1000*60/2/3.14/Data!M13)^2*10^4","v":0},{"v":0.33815430397477486,"d":"0.3382"},{"$f":"V13/$L$116/$E$59/Data!$L$115+$L$117+$F$59+($H$149+$L$118+(Data!AJ13+Data!AI13)/Data!$L$115^2)*3.14/Data!$L$115*Data!M13/Data!$C$43/10000/30","v":0.34709498297477487},{"$f":"($H$149+$L$118+(Data!AJ13+Data!AI13)/Data!$L$115^2)/$H$149","v":{"v":1.77959375,"d":"1.78"}},{"v":0.12473500000000001,"d":"0.12"},null,0.8]
[]
[{"$nulls":3},{"$f":"\"Distance\"& \" \"&\"[\"&D16&\"]\"","v":"Distance [mm]"},null,null,{"$f":"\"Speed\"&\" \" &\"[\"&G16&\"]\"","v":"Speed [mm/s]"}]
[{"$f":"Input!C13","v":"Metric "},{"$f":"IF(A16=\"Metric \",1,2)","v":1},{"$f":"VLOOKUP(B16,B17:C18,2)","v":"Metric "},{"$f":"VLOOKUP(B16,B17:D18,3)","v":"mm"},{"$f":"VLOOKUP(B16,B17:E18,4)","v":"N"},null,{"$f":"VLOOKUP(B16,B17:G18,6)","v":"mm/s"},{"$f":"VLOOKUP(B16,B17:H18,7)","v":"m/s²"},null,null,{"$f":"VLOOKUP(B16,B17:K18,10)","v":"m/s"},null,{"$f":"IF(B16=1,1,2.20462)","v":1},{"$f":"VLOOKUP(B16,B17:N18,13)","v":"kg"},null,"Att ändra: ",{"$nulls":23},"(AI7+AJ7)/$AE$51^2+$AE$54"]
[null,1,"Metric ","mm","N",{"$f":"IF(B16=1,1,25.4)","v":1},"mm/s","m/s²",{"$f":"IF($B$16=1,1,25.4)","v":1},null,"m/s",null,null,"kg",null,"Livslängdsberäkningarna skall inte innehålla hastighet",{"$nulls":20},"NEW FORMULAS INCLUDING MICRON GEARS"]
[null,2,"Imperial ","inch","lbf",{"$f":"IF(B16=1,1,4.44822)","v":1},"inch /s","inch/s²",{"$f":"IF($B$16=1,1,0.0254)","v":1},null,"inch/s",null,null,"lb",null,"lägg in val av vertikal applikation och tvinga användaren till att ange både massa och kraft samt horizontell applikation med external guide",{"$nulls":15},"$AE$53+$S$56+U7/$AE$52/$R$56/$AE$51",{"$nulls":4},"Drive Torque constant","Drive torque acc","Inertia balance","System inertia"]
[{"$nulls":15},"lägg in koll så att peak moment inte är längre en 1 sek",{"$nulls":14},"Kolumn AK:","(Idle Torque_gear+Idle Torque unit+Drive torque from load)/Efficiency_Gear/Efficiency_unit/Ratio_Gear",{"$nulls":10},"TEST av system inertia"]
[{"$nulls":15},"Kolla så att T rms ligger 80 procent av cont toruque vid specifikt medelvarvtal. Om inte så ta annan motor. "]
[{"$nulls":36},{"$f":"IF($E$83=1,$L$117+$F$59+U7/$L$116/$E$59/$L$115,$E$90+$F$59+U7/$G$90/$E$59/$D$90)","v":{"v":0.056496478929549565,"d":"0.0565"}},{"$f":"IF($E$83=2,V7/$G$90/$E$59/$D$90+$E$90+$F$59+($H$149+$F$90+(AJ7+AI7)/$D$90^2)*3.14/$D$90*M7/$C$43/10000/30,V7/$L$116/$E$59/Data!$L$115+$L$117+$F$59+($H$149+$L$118+(Data!AJ7+Data!AI7)/Data!$L$115^2)*3.14/Data!$L$115*Data!M7/Data!$C$43/10000/30)","v":{"v":0.09162836892954956,"d":"0.091628369"}},{"$f":"IF($E$83=2,(IF(OR($C$59=1,$C$59=3),($H$149+$F$90+(AJ7+AI7)/$D$90^2)/$H$149,($H$149+$F$90+(AJ7+AI7+AP7)/$D$90^2)/$H$149)),IF(OR($C$59=1,$C$59=3),($H$149+$L$118+(Data!AJ7+Data!AI7)/Data!$L$115^2)/$H$149,($H$149+$L$118+(Data!AJ7+Data!AI7+AP7)/Data!$L$115^2)/$H$149))","v":{"v":1.048921875,"d":"1.05"}},{"$f":"IF($E$83=2,(IF(OR($C$59=1,$C$59=3),(AI7+AJ7)/$D$90^2+$F$90,(AI7+AJ7+AP7)/$D$90^2+$F$90)),IF(OR($C$59=1,$C$59=3),(AI7+AJ7)/$L$115^2+$L$118,(AI7+AJ7+AP7)/$L$115^2+$L$118))","v":{"v":0.007827500000000001,"d":"0.01"}},null,null,"Fall1",null,{"$f":"IF(AND($E$83=3, $C$59<>2),AI7+AJ7,\"NA\")","v":{"v":0.007827500000000001,"d":"0.01"}},"LX"]
[{"$nulls":30},"Kolumn AL:","V7/$AE$52/$R$56/Data!$AE$51+$AE$53+$S$56+($H$68+$AE$54+(Data!AJ7+Data!AI7)/Data!$AE$51^2)*3,14/Data!$AE$51*Data!M7/Data!$C$43/10000/30",{"$nulls":4},{"v":0.16912715198738743,"d":"0.1691"},{"$f":"IF($E$83=2,V8/$G$90/$E$59/$D$90+$E$90+$F$59+($H$149+$F$90+(AJ8+AI8)/$D$90^2)*3.14/$D$90*M8/$C$43/10000/30,V8/$L$116/$E$59/Data!$L$115+$L$117+$F$59+($H$149+$L$118+(Data!AJ8+Data!AI8)/Data!$L$115^2)*3.14/Data!$L$115*Data!M8/Data!$C$43/10000/30)","v":{"v":0.17966671898738742,"d":"0.179666719"}},{"$f":"IF($E$83=2,(IF(OR($C$59=1,$C$59=3),($H$149+$F$90+(AJ8+AI8)/$D$90^2)/$H$149,($H$149+$F$90+(AJ8+AI8+AP8)/$D$90^2)/$H$149)),IF(OR($C$59=1,$C$59=3),($H$149+$L$118+(Data!AJ8+Data!AI8)/Data!$L$115^2)/$H$149,($H$149+$L$118+(Data!AJ8+Data!AI8+AP8)/Data!$L$115^2)/$H$149))","v":{"v":1.048921875,"d":"1.05"}},{"v":0.007827500000000001,"d":"0.01"},null,null,"Fall2",null,{"$f":"IF(AND($C$59=2,$E$83=3),AI7+AJ7+AP7,\"NA\")","v":"NA"},"PA"]
["STEP 1",null,null,"1= not OK, 0 = OK",{"$nulls":6},"Fx",{"$f":"Input!C14","v":1},{"$f":"L23*F18","v":1},"C11",{"$nulls":3},"SEE COLUMN AP for fm factors",{"$nulls":13},"V7/Efficiency gear/R56/Ratio Gear+IdleTorque Gear+S56+(H68+Inertia Gear+(AJ7+AI7)/Ratio gear*exp2)3,14/Ratio Gear*M7/c43/10000/30",{"$nulls":4},{"v":0.07905086079495499,"d":"0.0791"},{"$f":"IF($E$83=2,V9/$G$90/$E$59/$D$90+$E$90+$F$59+($H$149+$F$90+(AJ9+AI9)/$D$90^2)*3.14/$D$90*M9/$C$43/10000/30,V9/$L$116/$E$59/Data!$L$115+$L$117+$F$59+($H$149+$L$118+(Data!AJ9+Data!AI9)/Data!$L$115^2)*3.14/Data!$L$115*Data!M9/Data!$C$43/10000/30)","v":{"v":0.106711152194955,"d":"0.106711152"}},{"$f":"IF($E$83=2,(IF(OR($C$59=1,$C$59=3),($H$149+$F$90+(AJ9+AI9)/$D$90^2)/$H$149,($H$149+$F$90+(AJ9+AI9+AP9)/$D$90^2)/$H$149)),IF(OR($C$59=1,$C$59=3),($H$149+$L$118+(Data!AJ9+Data!AI9)/Data!$L$115^2)/$H$149,($H$149+$L$118+(Data!AJ9+Data!AI9+AP9)/Data!$L$115^2)/$H$149))","v":{"v":1.10112625,"d":"1.10"}},{"v":0.016180200000000002,"d":"0.02"},null,null,"Fall3",null,{"$f":"IF(AND($E$83=2,$C$59=1),AI7+AJ7+$F$90,\"NA\")","v":"NA"},"LX+Micron"]
["Fm factors",null,null,"Force OK?",null,null,"Max force",{"$nulls":3},"Fy",{"$f":"Input!C17","v":0},{"$f":"L24*F18","v":0},"C13",{"$nulls":22},{"v":0.20261048532072073,"d":"0.2026"},{"$f":"IF($E$83=2,V10/$G$90/$E$59/$D$90+$E$90+$F$59+($H$149+$F$90+(AJ10+AI10)/$D$90^2)*3.14/$D$90*M10/$C$43/10000/30,V10/$L$116/$E$59/Data!$L$115+$L$117+$F$59+($H$149+$L$118+(Data!AJ10+Data!AI10)/Data!$L$115^2)*3.14/Data!$L$115*Data!M10/Data!$C$43/10000/30)","v":{"v":0.21367460188072074,"d":"0.213674602"}},{"$f":"IF($E$83=2,(IF(OR($C$59=1,$C$59=3),($H$149+$F$90+(AJ10+AI10)/$D$90^2)/$H$149,($H$149+$F$90+(AJ10+AI10+AP10)/$D$90^2)/$H$149)),IF(OR($C$59=1,$C$59=3),($H$149+$L$118+(Data!AJ10+Data!AI10)/Data!$L$115^2)/$H$149,($H$149+$L$118+(Data!AJ10+Data!AI10+AP10)/Data!$L$115^2)/$H$149))","v":{"v":1.10112625,"d":"1.10"}},{"v":0.016180200000000002,"d":"0.02"},null,null,"Fall4",null,{"$f":"IF(AND($E$83=2, $C$59=2),AI7+AJ7+$F$90+AP7,\"NA\")","v":"NA"},"PA+Micron"]
[1,null,null,"Fx",{"$f":"IF(AND(B16=1,M23>6000),1,IF(AND(B16=2,M23>6000),1,0))","v":0},null,{"$f":"IF(B16=1,6000,1348)","v":6000},{"$nulls":3},"Stroke",{"$f":"Input!C18","v":1},{"$f":"L25*F17","v":1},"C14",null,null,"fm",{"$f":"Input!C21","v":1},{"$f":"VLOOKUP(Input!C21,Data!Q26:S29,3)","v":{"$error":"#N/A"}},{"$nulls":11},"Kolumn AM:","($H$68+AE54+(Data!AJ7+Data!AI7)/Data!$AE$51^2)/$H$68",{"$nulls":4},{"v":0.11274968710480482,"d":"0.1127"},{"$f":"IF($E$83=2,V11/$G$90/$E$59/$D$90+$E$90+$F$59+($H$149+$F$90+(AJ11+AI11)/$D$90^2)*3.14/$D$90*M11/$C$43/10000/30,V11/$L$116/$E$59/Data!$L$115+$L$117+$F$59+($H$149+$L$118+(Data!AJ11+Data!AI11)/Data!$L$115^2)*3.14/Data!$L$115*Data!M11/Data!$C$43/10000/30)","v":{"v":0.14851240310480482,"d":"0.148512403"}},{"$f":"IF($E$83=2,(IF(OR($C$59=1,$C$59=3),($H$149+$F$90+(AJ11+AI11)/$D$90^2)/$H$149,($H$149+$F$90+(AJ11+AI11+AP11)/$D$90^2)/$H$149)),IF(OR($C$59=1,$C$59=3),($H$149+$L$118+(Data!AJ11+Data!AI11)/Data!$L$115^2)/$H$149,($H$149+$L$118+(Data!AJ11+Data!AI11+AP11)/Data!$L$115^2)/$H$149))","v":{"v":1.77959375,"d":"1.78"}},{"v":0.12473500000000001,"d":"0.12"},null,null,"Fall5",null,{"$f":"IF(AND($C$59=2,$E$83=1),AI7+AJ7+$L$118+AP7,\"NA\")","v":"NA"},"PA+Cust"]
[0.8,null,null,"Fy Fz",{"$f":"IF(AND(B16=1,M24>50),1,IF(AND(B16=2,M24>50),1,0))","v":0},null,{"$f":"IF(B16=1,50,11)","v":50},{"$nulls":3},"Mass",{"$f":"Input!C16","v":0},{"$f":"L26/M16","v":0},"C12",null,null,"A: fm=1",1,"Typical application for lifting/lowering load  or constant force",{"$nulls":12},"H68+inertia Gear+(AJ7+AI7)/Ratio Gear*exp2/H68",{"$nulls":4},{"v":0.22496604087627634,"d":"0.2250"},{"$f":"IF($E$83=2,V12/$G$90/$E$59/$D$90+$E$90+$F$59+($H$149+$F$90+(AJ12+AI12)/$D$90^2)*3.14/$D$90*M12/$C$43/10000/30,V12/$L$116/$E$59/Data!$L$115+$L$117+$F$59+($H$149+$L$118+(Data!AJ12+Data!AI12)/Data!$L$115^2)*3.14/Data!$L$115*Data!M12/Data!$C$43/10000/30)","v":{"v":0.24284739887627635,"d":"0.242847399"}},{"$f":"IF($E$83=2,(IF(OR($C$59=1,$C$59=3),($H$149+$F$90+(AJ12+AI12)/$D$90^2)/$H$149,($H$149+$F$90+(AJ12+AI12+AP12)/$D$90^2)/$H$149)),IF(OR($C$59=1,$C$59=3),($H$149+$L$118+(Data!AJ12+Data!AI12)/Data!$L$115^2)/$H$149,($H$149+$L$118+(Data!AJ12+Data!AI12+AP12)/Data!$L$115^2)/$H$149))","v":{"v":1.77959375,"d":"1.78"}},{"v":0.12473500000000001,"d":"0.12"},null,null,"Fall6",null,{"$f":"IF(AND($E$83=1,$C$59=1),AI7+AJ7+$L$118,\"NA\")","v":"NA"},"LX+Cust"]
[0.7,null,null,"Stroke OK?",null,null,"Max stroke",{"$nulls":3},"Avr. Speed",{"$f":"M27/I17","v":0.9990009990009993},{"$f":"C49*1000","v":0.9990009990009993},"G14",null,null,"B: fm=0.8",0.8,"Typical application for feeding. High force forward, low return",{"$nulls":11},"Kolumn AN:","AI7+AJ7+$AE$54",{"$nulls":4},{"v":0.33815430397477486,"d":"0.3382"},{"$f":"IF($E$83=2,V13/$G$90/$E$59/$D$90+$E$90+$F$59+($H$149+$F$90+(AJ13+AI13)/$D$90^2)*3.14/$D$90*M13/$C$43/10000/30,V13/$L$116/$E$59/Data!$L$115+$L$117+$F$59+($H$149+$L$118+(Data!AJ13+Data!AI13)/Data!$L$115^2)*3.14/Data!$L$115*Data!M13/Data!$C$43/10000/30)","v":{"v":0.34709498297477487,"d":"0.347094983"}},{"$f":"IF($E$83=2,(IF(OR($C$59=1,$C$59=3),($H$149+$F$90+(AJ13+AI13)/$D$90^2)/$H$149,($H$149+$F$90+(AJ13+AI13+AP13)/$D$90^2)/$H$149)),IF(OR($C$59=1,$C$59=3),($H$149+$L$118+(Data!AJ13+Data!AI13)/Data!$L$115^2)/$H$149,($H$149+$L$118+(Data!AJ13+Data!AI13+AP13)/Data!$L$115^2)/$H$149))","v":{"v":1.77959375,"d":"1.78"}},{"v":0.12473500000000001,"d":"0.12"}]
[0.5,null,null,"Stroke",{"$f":"IF(AND(B16=1,M25>1200),1,IF(AND(B16=2,M25>1200),1,0))","v":0},null,{"$f":"IF(B16=1,1200,47)","v":1200},{"$nulls":3},"Top speed",{"$f":"M28/I17","v":1},{"$f":"Input!C19*I17","v":1},"C15",null,null,"C: fm=0.5",0.5,"Typical application for pressing/cutting. High force at just one part of stroke",{"$nulls":12},"AI7+AJ7+Inertia Gear"]
[{"$nulls":3},"Speed OK?",null,null,"Max speed",{"$nulls":3},"Acc",{"$f":"M29/I18","v":1},{"$f":"Input!C20*I18","v":1},"C16",null,null,"D:fm=0,7",0.7,"Typical application for compression spring. Increasing force."]
[{"$nulls":3},"Speed",{"$f":"IF(AND(B16=1,M28>1666),1,IF(AND(B16=2,M28>1666),1,0))","v":0},null,{"$f":"IF(B16=1,1666,65)","v":1666},{"$nulls":5},"input"]
[{"$nulls":3},"Acc OK?",{"$nulls":7},{"$f":"C16","v":"Metric "},"output"]
[{"$nulls":3},"Acc",{"$f":"IF(AND(B16=1,M29>10),1,IF(AND(B16=2,M29>10),1,0))","v":0},null,{"$f":"IF(B16=1,10,393)","v":10},{"$nulls":5},"Metric"]
[{"$nulls":3},"Sum ",{"$f":"SUM(E25:E32)","v":0}]
[]
[]
[null,"Customized profile"]
[]
["Acceleration",null,{"$f":"M29","v":1},"m/s2",{"$nulls":4},{"$f":"IF((J42+J44)>H40,1,0)","v":0},null,null,{"$f":"LOOKUP(Input!$C$15,Data!$M$39:$M$40,Data!$L$39:$L$40)","v":1},"Force active during stop?"]
["Deceleration",null,{"$f":"C38","v":1},"m/s2",{"$nulls":4},{"$f":"IF(I38=1,J39,C41)","v":1E-3},{"$f":"I43*C38","v":0.03162277660168379},null,1,"No",{"$nulls":28},"fm factors"]
["Distance (stroke)",null,{"$f":"M25","v":1},"mm",{"$nulls":3},{"$f":"C40/1000","v":1E-3},{"$nulls":3},2,"Yes",{"$nulls":28},{"v":1,"d":"1.00"}]
["Speed",null,{"$f":"M28/1000","v":1E-3},"m/s",{"$nulls":37},0.99]
["Distance for acc.",null,{"$f":"1000*H42","v":{"v":0.0005,"d":"0"}},"mm",{"$nulls":3},{"$f":"IF(I38=0,J42,I42)","v":{"v":5e-07,"d":"0.000"}},{"$f":"H40*C39/(C39+C38)","v":0.0005},{"$f":"C38*J43*J43/2","v":5e-07},{"$nulls":31},0.98]
["Time for acc.",null,{"$f":"IF($I$168=0,J43,I43)","v":{"v":1E-3,"d":"0.001"}},"s",{"$nulls":4},{"$f":"SQRT(2*I42/C38)","v":0.03162277660168379},{"$f":"C41/C38","v":1E-3},{"$nulls":31},0.97]
["Distance for decel.",null,{"$f":"H44*1000","v":{"v":0.0005,"d":"0"}},"mm",{"$nulls":3},{"$f":"IF(I38=0,J44,I44)","v":{"v":5e-07,"d":"0.000"}},{"$f":"H40*C38/(C39+C38)","v":0.0005},{"$f":"C39*J45*J45/2","v":5e-07},{"$nulls":31},0.96]
["Time for decel.",null,{"$f":"IF($I$168=0,J45,I45)","v":{"v":1E-3,"d":"0.001"}},"s",{"$nulls":4},{"$f":"SQRT(2*I44/C39)","v":0.03162277660168379},{"$f":"C41/C39","v":1E-3},{"$f":"IF(E33=0,0,\"\")","v":0},{"$f":"IF(E33=0,H42*1000/F17,\"\")","v":{"v":0.0005,"d":"0.001"}},{"$f":"IF(E33=0,L45+H46*1000/F17,\"\")","v":{"v":0.9994999999999998,"d":"1.000"}},{"$f":"IF(E33=0,H40*1000/F17,\"\")","v":1},{"$nulls":27},0.95]
["Dist. at const speed",null,{"$f":"H46*1000","v":{"v":0.9989999999999999,"d":"1"}},"mm",{"$nulls":3},{"$f":"H40-H42-H44","v":{"v":9.9899999999999989E-4,"d":"0.001"}},null,{"$f":"IF((H42+H44)>H40,\"Du når ej önskad max hastighet\",\" \")","v":" "},{"$f":"IF(E33=0,0,\"\")","v":0},{"$f":"IF(E33=0,I39/I18*1000,\"\")","v":1},{"$f":"L46","v":1},{"$f":"IF(E33=0,0,\"\")","v":0},{"$nulls":27},0.94]
["Time at const speed",null,{"$f":"H46/C41","v":{"v":0.9989999999999999,"d":"0.999"}},"s",{"$nulls":37},0.93]
["Cycle time",null,{"$f":"IF($I$168=0,J48,I48)","v":1.001},"s",{"$nulls":4},{"$f":"I43+I45","v":0.06324555320336758},{"$f":"C45+C43+C47","v":1.001},{"$nulls":31},0.92]
["Average speed",null,{"$f":"H40/C48","v":{"v":9.9900099900099922E-4,"d":"0.001"}},"m/s",{"$f":"C49/4*60*1000","v":14.985014985014988},{"$nulls":6},"Cycles per min",{"$f":"Input!C22","v":1},{"$nulls":28},0.91]
["Pause time",null,{"$f":"((1-Input!$C$27)*60)/Input!$C$22","v":57.998},"s",{"$f":"C42/C43+C44/C45+C46/C47","v":2},{"$f":"E50/3","v":0.6666666666666666},{"$f":"(F50*60)/4","v":10},{"$nulls":4},"Cycle time",{"$f":"C48","v":1.001},{"$nulls":28},{"v":0.9,"d":"0.90"}]
[{"$f":"IF(I38=1,\"You will not reach full speed!\",\" \")","v":" "},{"$nulls":10},"Duty Cycle",{"$f":"M49*M50*2/60","v":{"v":0.03336666666666666,"d":"3%"}},{"$nulls":28},0.89]
[{"$f":"IF(I38=1,\"You will reach: \"&ROUND(C52,0),\" \")","v":" "},null,{"$f":"IF(AND(B16=1,I38=1),(I43*C38/I18)*1000,IF(I38=1,I43*C38/I18,\" \"))","v":" "},{"$f":"IF(I38=1,G16,\" \")","v":" "},{"$nulls":37},0.88]
[{"$nulls":41},0.87]
[{"$nulls":41},0.86]
[{"$nulls":41},0.85]
[{"$nulls":41},0.84]
[null,"STEP 2",{"$nulls":39},0.83]
[null,null,"PC Version","Type","Efficency","Idle Torque","Ratio",{"$nulls":34},0.82]
[null,null,{"$f":"LOOKUP(Input!$H$15,Data!$D$60:$D$62,Data!$C$60:$C$62)","v":1},{"$f":"VLOOKUP(C59,C60:F62,2,FALSE)","v":"LX-In Line"},{"$f":"VLOOKUP(C59,C60:F62,3,FALSE)","v":{"v":0.9,"d":"90%"}},{"$f":"VLOOKUP(C59,C60:F62,4,FALSE)","v":0},{"$f":"VLOOKUP(C59,C60:G62,5,FALSE)","v":1},{"$nulls":34},0.81]
[null,null,1,"LX-In Line",{"v":0.9,"d":"90%"},0,1,{"$nulls":34},{"v":0.8,"d":"0.80"}]
[null,null,2,"PA-Parallel",{"v":0.8,"d":"80%"},0.1,1,{"$nulls":34},0.79]
[null,null,3,"SX-No RediMount",{"v":0.9,"d":"90%"},0,1,{"$nulls":34},0.78]
[{"$nulls":41},0.77]
[{"$nulls":41},0.76]
[null,null,"Cylinder mounting compatibility",{"$nulls":38},0.75]
[{"$nulls":3},2,3,4,5,6,7,8,{"$nulls":31},0.74]
[null,null,"SX-No RediMount","X-Without cylinder mounting","-","-","-","M-Trunnion (movable)","T-Front trunnion (fixed on to housing)","P-Front mounting plate",{"$nulls":31},0.73]
[null,null,"LX-In Line","X-Without cylinder mounting","-","-","F-Feet Kit","M-Trunnion (movable)","T-Front trunnion (fixed on to housing)","P-Front mounting plate",{"$nulls":31},0.72]
[null,null,"PA-Parallel","X-Without cylinder mounting","R-Rear Trunnion (fixed onto belt gear)","C-Rear Clevis","F-Feet Kit","M-Trunnion (movable)","T-Front trunnion (fixed on to housing)","P-Front mounting plate",{"$nulls":31},0.71]
[{"$nulls":41},{"v":0.7,"d":"0.70"}]
[{"$nulls":3},"Cylinder Mounting",{"$nulls":3},"Rod End ",{"$nulls":33},0.69]
[null,null,{"$f":"LOOKUP(Input!$L$15,Data!$D$73:$D$79,Data!$C$73:$C$79)","v":2},{"$f":"Input!$L$15","v":"F-Feet Kit"},"PC-version",null,{"$f":"LOOKUP(Input!$L$18,Data!$H$73:$H$76,Data!$G$73:$G$76)","v":1},null,"PC-version",{"$nulls":32},0.68]
[null,null,1,{"$f":"VLOOKUP($D$59,$C$67:$J$69,C75+1,FALSE)","v":"-"},"PA",null,1,"C-Front Clevis","PA,LX,SX",{"$nulls":32},0.67]
[null,null,2,{"$f":"VLOOKUP($D$59,$C$67:$J$69,C76+1,FALSE)","v":"F-Feet Kit"},"PA,LX",null,2,"F-Female thread","PA,LX,SX",{"$nulls":6},"SENT TO INPUT AS OUTPUT IN TABLE AT BOTTOM",{"$nulls":7},"RediMount ID ",{"$nulls":17},0.66]
[null,null,3,{"$f":"VLOOKUP($D$59,$C$67:$J$69,C77+1,FALSE)","v":"M-Trunnion (movable)"},"PA,LX,SX",null,3,"J-Spherical joint","PA,LX,SX",{"$nulls":13},1,"AKM Servo",{"$f":"IF(AND($J$150=1,B150<=14,$E$83<>2),LOOKUP($B$209,$R$209:$R$246,$N$209:$N$246),IF($C$90=\"NT23\",127,\"\"))","v":"004"},{"$nulls":16},0.65]
[null,null,4,{"$f":"VLOOKUP($D$59,$C$67:$J$69,C79+1,FALSE)","v":"P-Front mounting plate"},"PA,LX,SX",null,4,"M-Male thread (standard)","PA,LX,SX",{"$nulls":5},"Current motor","Current iput voltage","Current PC-type","Current gear",{"$nulls":4},2,"PMX stepper",{"$f":"IF($J$150=2,LOOKUP($B$150,$N$357:$N$380,$U$357:$U$380),\"xxx\")","v":"xxx"},{"$nulls":16},0.64]
[null,null,5,{"$f":"VLOOKUP($D$59,$C$67:$J$69,C74+1,FALSE)","v":"-"},"PA",{"$nulls":9},{"$f":"$C$150","v":"AKM22E"},{"$f":"$K$170","v":"240"},{"$f":"$D$59","v":"LX-In Line"},{"$f":"$E$84","v":"No Gear"},{"$nulls":4},3,"Brushed DC motor",{"$f":" IF(AND($J$150=3,$B$150<=2),LOOKUP(B378,B379:B380,I379:I380),\"xxx\")","v":"xxx"},{"$nulls":16},0.63]
[null,null,6,{"$f":"VLOOKUP($D$59,$C$67:$J$69,C78+1,FALSE)","v":"T-Front trunnion (fixed on to housing)"},"PA,LX,SX",{"$nulls":10},"1=Villkor gäller","0= Villkor gäller inte",{"$nulls":24},0.62]
[null,null,7,{"$f":"VLOOKUP($D$59,$C$67:$J$69,C73+1,FALSE)","v":"X-Without cylinder mounting"},"PA,LX,SX",{"$nulls":9},"Kollar motorstorlek mot ","PC25","PC32","PC40","Output Redimount","Ouput PN",{"$nulls":21},0.61]
[{"$nulls":14},"SX",{"$f":"IF($C$59=3,1,0)","v":0},{"$f":"IF($C$59=3,1,0)","v":0},{"$f":"IF($C$59=3,1,0)","v":0},"Unit without redimount","XXX",{"$nulls":21},{"v":0.6,"d":"0.60"}]
[{"$nulls":14},"LX utan växel",{"$nulls":5},"AKM3 passar inte",null,"Drop down menu","Life time",{"$nulls":17},0.59]
[null,null,"Type of Gear","Nbr","Current Choice",{"$nulls":9},"120;240 Volt",{"$f":"IF(AND($J$150=1,$J$170<3,$B$150>7,$C$59=1,$E$83=3),1,0)","v":0},null,null,"No physical match between motor and PC-unit","Try with a smaller motor","PC25 LX utan växel",null,null,"Hours","Years ","M. of Cycles",{"$nulls":15},0.58]
[null,null,"Customer Supplied",1,{"$f":"LOOKUP(Input!H21,Data!C83:C85,Data!D83:D85)","v":3},{"$nulls":9},"400 Volt",{"$f":"IF(AND($J$150=1,$J$170=3,$B$150>3,$C$59=1,$E$83=3),1,0)","v":0},null,null,"No physical match between motor and PC-unit","Try with a smaller motor","PC25 PA",null,"Hours",{"$f":"IF(IF(X7<Y7,X7,Y7)>100000,\">100 000\",IF(X7<Y7,X7,Y7))","v":">100 000"},{"$f":"IF(AH7>50,\">50\",AH7)","v":">50"},{"$f":"IF(Z7*3600/$M$25*$M$28/2/1000000>200,\"> 200\",Z7*3600/$M$25*$M$28/2/1000000)","v":"> 200"},{"$nulls":15},0.57]
[null,null,"Micron Gear",2,{"$f":"Input!$H$21","v":"No Gear"},{"$nulls":9},"PA ",{"$nulls":7},"Years",">100 000",">50","> 200",{"$nulls":15},0.56]
[null,null,"No Gear",3,{"$nulls":10},"120;240 Volt",{"$f":"IF(AND($J$150=1,$J$170<3,$B$150>7,$C$59=2),1,0)","v":0},{"$f":"IF(AND($J$150=1,$C$59=2,$J$170<3,$B$150>10),1,0)","v":0},null,"No physical match between motor and PC-unit","Try with a smaller motor","AKM4 passar inte",null,"Millions of cycles",">100 000",">50","> 200",{"$nulls":15},0.55]
[{"$nulls":14},"400 Volt",{"$f":"IF(AND($J$150=1,$J$170=3,$B$150>3,$C$59=2),1,0)","v":0},{"$f":"IF(AND($J$150=1,$C$59=2,$J$170=3,$B$150>6),1,0)","v":0},null,"No physical match between motor and PC-unit","Try with a smaller motor","PC32 PA ",null,null,">100 000",">50","> 200",{"$nulls":15},0.54]
[null,null,"Micron Gear Option",{"$nulls":4},"Used in drop-down",{"$nulls":6},"Errors motor size",{"$f":"SUM(P80:P86)","v":0},{"$f":"SUM(Q80:Q86)","v":0},0,null,null,"PC25 LX utan växel",null,null,">100 000",">50","> 200",{"$nulls":15},0.53]
[null,null,"Current Choice",{"$nulls":20},">100 000",">50","> 200",{"$nulls":15},0.52]
[null,null,"Gear","Ratio","Idle Torque","Inertia","Efficiency","NT23",{"$nulls":6},"Micron+cust.Motor",{"$f":"IF(AND($E$83=2,$J$150=4),1,0)","v":0},{"$f":"IF(AND($E$83=2,$J$150=4),1,0)","v":0},{"$f":"IF(AND($E$83=2,$J$150=4),1,0)","v":0},127,"Redimount ID",{"$nulls":3},">100 000",">50","> 200",{"$nulls":15},0.51]
[null,null,{"$f":"IF($E$83=2,Input!I22,0)","v":0},{"$f":"IF($E$83=2,Input!I23,1)","v":1},{"$f":"IF(AND(E83=2,$C$90=\"NT23\"),VLOOKUP($D$90,$D$94:$K$98,6,FALSE),0)","v":0},{"$f":"IF(AND($E$83=2,$C$90=\"NT23\"),VLOOKUP($D$90,$D$94:$K$98,7,FALSE),0)","v":0},{"$f":"IF(AND($E$83=2,$C$90=\"NT23\"),VLOOKUP($D$90,$D$94:$K$98,8,FALSE),1)","v":1},"Used in calculations",{"$nulls":6},"Cust.Mot or gear",{"$f":"IF(OR($E$83=1,$J$150=4),1,0)","v":0},{"$f":"IF(OR($E$83=1,$J$150=4),1,0)","v":0},{"$f":"IF(OR($E$83=1,$J$150=4),1,0)","v":0},"Check motor and/or gear dimensions in RediMount Tool",999,{"$nulls":21},{"v":0.5,"d":"0.50"}]
[null,null,"Gear active?",false,{"$nulls":10},"Sum errors",{"$f":"SUM(P89:P90)","v":0},{"$f":"SUM(Q89:Q90)","v":0},{"$f":"SUM(R89:R90)","v":0},{"$nulls":23},0.49]
[null,null,"NT23",null,"Torque [Nm] at specified rpm for 20 000 H life time",{"$nulls":9},"Om AK105=0",{"$f":"VLOOKUP($J$150,$W$75:$Y$77,3,FALSE)","v":"004"},{"$f":"VLOOKUP($J$150,$W$75:$Y$77,3,FALSE)","v":"004"},{"$f":"VLOOKUP($J$150,$W$75:$Y$77,3,FALSE)","v":"004"},{"$nulls":5},"Sent to input",{"$nulls":17},0.48]
[null,null,"P/N","Ratio",1000,2000,3000,4000,"Idle Torque","Inertia","Efficiency","RediMount ID PC unit",{"$nulls":10},1,{"$f":"IF($C$59=3,CONCATENATE(P104,Q104,R104,\"XXX\",T104,U104,V104,W104,X104),IF(AND(Input!J49=\"OK\",V104<>\"-\",LEFT(S104,1)<>\"N\",$E$83<>1,$J$150<>4),CONCATENATE(P104,Q104,R104,S104,T104,U104,V104,W104,X104),IF(AND($E$83=2,$J$150=4,$C$59<>3),CONCATENATE(P104,Q104,R104,Y75,T104,U104,V104,W104,X104),IF(OR($E$83=1,$J$150=4),CONCATENATE(P104,Q104,R104,\"999\",T104,U104,V104,W104,X104),CONCATENATE(P104,Q104,R104,\"xxx\",T104,U104,V104,W104,X104)))))","v":"PC25LX004B03-01FC1"},{"$nulls":17},0.47]
[null,null,"NT23-003",3,11.1,9,7.9,7.3,1E-3,0.076,{"v":0.93,"d":"93%"},127,{"$nulls":10},2,{"$f":"IF($C$59=3,CONCATENATE(P105,Q105,R105,\"XXX\",T105,U105,V105,W105,X105),IF(AND(Input!J49=\"OK\",V105<>\"-\",LEFT(S105,1)<>\"N\",$E$83<>1,$J$150<>4),CONCATENATE(P105,Q105,R105,S105,T105,U105,V105,W105,X105),IF(AND($E$83=2,$J$150=4,$C$59<>3),CONCATENATE(P105,Q105,R105,Y75,T105,U105,V105,W105,X105),IF(AND(Input!J50=\"OK\",V105<>\"-\",LEFT(S105,1)<>\"N\",$E$83<>1,$J$150<>4),CONCATENATE(P105,Q105,R105,S105,T105,U105,V105,W105,X105),IF(AND($E$83=2,$J$150=4,$C$59<>3),CONCATENATE(P105,Q105,R105,$Y$75,T105,U105,V105,W105,X105),IF(OR($E$83=1,$J$150=4),CONCATENATE(P105,Q105,R105,\"999\",T105,U105,V105,W105,X105),CONCATENATE(P105,Q105,R105,\"xxx\",T105,U105,V105,W105,X105)))))))","v":"PC25LX004B10-01FC1"},{"$nulls":17},0.46]
[null,null,"NT23-005",5,11.9,9.9,8.8,8,1E-3,0.025,{"v":0.93,"d":"93%"},127,{"$nulls":3},{"$f":"IF($P$87<>0,VLOOKUP(1,$P$80:$T$86,5,FALSE),IF($R$91<>0,VLOOKUP(1,$P$89:$T$90,5,FALSE),$P$92))","v":"004"},{"$nulls":6},3,{"$f":"IF($C$59=3,CONCATENATE(P106,Q106,R106,\"XXX\",T106,U106,V106,W106,X106),IF(AND(Input!J49=\"OK\",V106<>\"-\",LEFT(S106,1)<>\"N\",$E$83<>1,$J$150<>4),CONCATENATE(P106,Q106,R106,S106,T106,U106,V106,W106,X106),IF(AND($E$83=2,$J$150=4,$C$59<>3),CONCATENATE(P106,Q106,R106,Y75,T106,U106,V106,W106,X106),IF(AND(Input!J51=\"OK\",V106<>\"-\",$C$59=2,LEFT(S106,1)=\"N\",$E$83<>1,$J$150<>4),CONCATENATE(P106,Q106,R106,\"xxx\",T106,U106,V106,W106,X106),IF(AND($E$83=2,$J$150=4,$C$59<>3),CONCATENATE(P106,Q106,R106,$Y$75,T106,U106,V106,W106,X106),IF(OR($E$83=1,$J$150=4),CONCATENATE(P106,Q106,R106,\"999\",T106,U106,V106,W106,X106,),CONCATENATE(P106,Q106,R106,S106,T106,U106,V106,W106,X106)))))))","v":"PC32LX004B04-01FC1"},{"$nulls":17},0.45]
[null,null,"NT23-010",10,7.1,6.6,6.1,5.9,1E-3,0.016,{"v":0.93,"d":"93%"},127,{"$nulls":10},4,{"$f":"IF($C$59=3,CONCATENATE(P107,Q107,R107,\"XXX\",T107,U107,V107,W107,X107),IF(AND(Input!J49=\"OK\",V107<>\"-\",LEFT(S107,1)<>\"N\",$E$83<>1,$J$150<>4),CONCATENATE(P107,Q107,R107,S107,T107,U107,V107,W107,X107),IF(AND($E$83=2,$J$150=4,$C$59<>3),CONCATENATE(P107,Q107,R107,Y75,T107,U107,V107,W107,X107),IF(AND(Input!J52=\"OK\",V107<>\"-\",$C$59=2,LEFT(S107,1)=\"N\",$E$83<>1,$J$150<>4),CONCATENATE(P107,Q107,R107,\"xxx\",T107,U107,V107,W107,X107),IF(AND($E$83=2,$J$150=4,$C$59<>3),CONCATENATE(P107,Q107,R107,$Y$75,T107,U107,V107,W107,X107),IF(OR($E$83=1,$J$150=4),CONCATENATE(P107,Q107,R107,\"999\",T107,U107,V107,W107,X107,),CONCATENATE(P107,Q107,R107,S107,T107,U107,V107,W107,X107)))))))","v":"PC32LX004B10-01FC1"},{"$nulls":17},0.44]
[null,null,"NT23-015",15,14,12.4,11.9,11.3,1E-3,0.024,{"v":0.88,"d":"88%"},127,{"$nulls":10},5,{"$f":"IF($C$59=3,CONCATENATE(P108,Q108,R108,\"XXX\",T108,U108,V108,W108,X108),IF(AND(Input!J49=\"OK\",V108<>\"-\",LEFT(S108,1)<>\"N\",$E$83<>1,$J$150<>4),CONCATENATE(P108,Q108,R108,S108,T108,U108,V108,W108,X108),IF(AND($E$83=2,$J$150=4,$C$59<>3),CONCATENATE(P108,Q108,R108,Y75,T108,U108,V108,W108,X108),IF(AND(Input!J53=\"OK\",V108<>\"-\",$E$83<>1,$J$150<>4),CONCATENATE(P108,Q108,R108,S108,T108,U108,V108,W108,X108),IF(AND($E$83=2,$J$150=4,$C$59<>3),CONCATENATE(P108,Q108,R108,$Y$75,T108,U108,V108,W108,X108),CONCATENATE(P108,Q108,R108,\"999\",T108,U108,V108,W108,X108,))))))","v":"PC40LX004B05-01FC1"},{"$nulls":17},0.429999999999999]
[null,null,"NT23-025",25,9.8,16,14.1,13,1E-3,0.024,{"v":0.88,"d":"88%"},127,{"$nulls":10},6,{"$f":"IF($C$59=3,CONCATENATE(P109,Q109,R109,\"XXX\",T109,U109,V109,W109,X109),IF(AND(Input!J49=\"OK\",V109<>\"-\",LEFT(S109,1)<>\"N\",$E$83<>1,$J$150<>4),CONCATENATE(P109,Q109,R109,S109,T109,U109,V109,W109,X109),IF(AND($E$83=2,$J$150=4,$C$59<>3),CONCATENATE(P109,Q109,R109,Y75,T109,U109,V109,W109,X109),IF(AND(Input!J54=\"OK\",V109<>\"-\",$E$83<>1,$J$150<>4),CONCATENATE(P109,Q109,R109,S109,T109,U109,V109,W109,X109),IF(AND($E$83=2,$J$150=4,$C$59<>3),CONCATENATE(P109,Q109,R109,$Y$75,T109,U109,V109,W109,X109),CONCATENATE(P109,Q109,R109,\"999\",T109,U109,V109,W109,X109,))))))","v":"PC40LX004B10-01FC1"},{"$nulls":17},{"v":0.419999999999999,"d":"0.42"}]
[{"$nulls":22},7,{"$f":"IF($C$59=3,CONCATENATE(P110,Q110,R110,\"XXX\",T110,U110,V110,W110,X110),IF(AND(Input!J49=\"OK\",V110<>\"-\",LEFT(S110,1)<>\"N\",$E$83<>1,$J$150<>4),CONCATENATE(P110,Q110,R110,S110,T110,U110,V110,W110,X110),IF(AND($E$83=2,$J$150=4,$C$59<>3),CONCATENATE(P110,Q110,R110,Y75,T110,U110,V110,W110,X110),IF(AND(Input!J55=\"OK\",V110<>\"-\",$E$83<>1,$J$150<>4),CONCATENATE(P110,Q110,R110,S110,T110,U110,V110,W110,X110),IF(AND($E$83=2,$J$150=4,$C$59<>3),CONCATENATE(P110,Q110,R110,$Y$75,T110,U110,V110,W110,X110),CONCATENATE(P110,Q110,R110,\"999\",T110,U110,V110,W110,X110,))))))","v":"PC40LX004B20-01FC1"},{"$nulls":17},0.409999999999999]
[null,null,"Micron Gear Part Numbers",{"$nulls":38},{"v":0.399999999999999,"d":"0.40"}]
[null,null,"INFO",{"$nulls":3},"Choices made",{"$nulls":7},"Full Part numbers PC",{"$nulls":26},0.389999999999999]
[{"$nulls":3},"Current motor chosen",null,null,"Dynamic text depending on motor, gear and ratio",{"$nulls":8},"Type","Size","Tansmission","Redimount ID","Lead","Stroke","Cylinder Mounting","Rod End","Envrionmental",{"$nulls":17},{"v":0.379999999999999,"d":"0.38"}]
[{"$nulls":3},{"$f":"C150","v":"AKM22E"},{"$nulls":10},"Ordering key",1,2,3,4,5,6,7,8,9,{"$nulls":17},0.369999999999999]
[null,null,"Gear","Motor","RediMount ID Gear","Building Part number","Gear type and ratio ","RediMount ID","Part number Sen to input","Gear","RediMount ID PC Unit","Fits",null,null,"PC25…B03","PC",25,{"$f":"IF($C$59=1,\"LX\",IF($C$59=2,\"PA\",IF($C$59=3,\"SX\",\"\")))","v":"LX"},{"$f":"Z115","v":"004"},"B03-",{"$f":"\"0\"&$C$40","v":"01"},{"$f":"LEFT(VLOOKUP($C$72,$C$73:$D$79,2,FALSE),1)","v":"F"},{"$f":"LEFT(VLOOKUP($G$72,$G$73:$H$76,2,FALSE),1)","v":"C"},1,{"$nulls":17},{"v":0.359999999999999,"d":"0.36"}]
[null,null,"NT23","AKM1","RM60-130","NT23-003-0-RM60-130",{"$f":"LOOKUP($D$90,$D$94:$D$98,$C$94:$C$98)&\"-0-\"","v":{"$error":"#N/A"}},{"$f":"IF(AND(J150=1,$E$83=2),LOOKUP(LEFT($C$150,4),$D$105:$D$108,$E$105:$E$108))","v":false},{"$f":"IF(AND($J$150=1,$E$83=2),CONCATENATE($G$105,$H$105),IF($J$150<>1,\"Only applicable with AKM\",\"\"))","v":""},"NT17",138,"ALL",null,null,"PC25…B10","PC",25,"LX","004","B10-",{"$f":"\"0\"&$C$40","v":"01"},"F","C",1,{"$nulls":17},0.349999999999999]
[{"$nulls":3},"AKM2","RM060-6","NT23-003-0-RM060-6",null,null,{"$f":"IF(AND($J$150=1,$E$83=2),CONCATENATE($G$105,$H$105),IF($J$150<>1,\"Only applicable with AKM\",\"\"))","v":""},"NT23",127,"ALL",null,null,"PC32…B04","PC",32,"LX","004","B04-","01","F","C",1,{"$nulls":17},{"v":0.339999999999999,"d":"0.34"}]
[{"$nulls":3},"AKM3","RM060-19","NT23-003-0-RM060-19",null,null,{"$f":"IF(AND($J$150=1,$E$83=2,Input!J51=\"OK\"),CONCATENATE($G$105,$H$105),IF($J$150<>1,\"Only applicable with AKM\",\"\"))","v":""},{"$nulls":5},"PC32…B10","PC",32,"LX","004","B10-","01","F","C",1,{"$nulls":17},0.329999999999999]
[{"$nulls":3},"AKM4","RM060-25","NT23-003-0-RM060-25",null,null,{"$f":"IF(AND($J$150=1,$E$83=2,Input!J52=\"OK\"),CONCATENATE($G$105,$H$105),IF($J$150<>1,\"Only applicable with AKM\",\"\"))","v":""},{"$nulls":5},"PC40…B05","PC",40,"LX","004","B05-","01","F","C",1,{"$nulls":17},{"v":0.319999999999999,"d":"0.32"}]
[{"$nulls":8},{"$f":"IF(AND($J$150=1,$E$83=2,Input!J53=\"OK\"),CONCATENATE($G$105,$H$105),IF($J$150<>1,\"Only applicable with AKM\",\"\"))","v":""},{"$nulls":5},"PC40…B10","PC",40,"LX","004","B10-","01","F","C",1,{"$nulls":17},0.309999999999999]
[{"$nulls":8},{"$f":"IF(AND($J$150=1,$E$83=2,Input!J54=\"OK\"),CONCATENATE($G$105,$H$105),IF($J$150<>1,\"Only applicable with AKM\",\"\"))","v":""},{"$nulls":5},"PC40…B20","PC",40,"LX","004","B20-","01","F","C",1,{"$nulls":17},{"v":0.299999999999999,"d":"0.30"}]
[{"$nulls":8},{"$f":"IF(AND($J$150=1,$E$83=2,Input!J55=\"OK\"),CONCATENATE($G$105,$H$105),IF($J$150<>1,\"Only applicable with AKM\",\"\"))","v":""},{"$nulls":32},0.289999999999999]
[{"$nulls":23},"RÄTTA FORMLER NEDAN, FÅNGAR INTE SX",{"$nulls":17},{"v":0.279999999999999,"d":"0.28"}]
[null,null,"Customer Supplied Gear option",{"$nulls":38},0.269999999999999]
[null,null,"Gear active?",false,{"$nulls":12},"Torque",{"$nulls":6},"Unit","Output PN","Output redimount ID",{"$nulls":15},{"v":0.259999999999999,"d":"0.26"}]
[null,null,2,null,null,{"$f":"VLOOKUP(C115,C116:F120,4)","v":"65% - 80%"},null,{"$f":"VLOOKUP(C115,C116:H120,6)","v":0.2},null,null,"Ratio",{"$f":"IF($E$83=1,Input!I24,1)","v":1},{"$nulls":4},"Acceleration","Constant","Decceleration","Pause","Trms","RPMrms","Vrms","PC25…B03",{"$f":"IF($P$87<>0,VLOOKUP(1,$P$80:$T$86,5,FALSE),IF($R$91<>0,VLOOKUP(1,$P$89:$T$90,5,FALSE),$P$92))","v":"004"},{"$f":"IF($P$87<>0,VLOOKUP(1,$P$80:$T$86,4,FALSE),IF($R$91<>0,VLOOKUP(1,$P$89:$T$90,4,FALSE),$P$92))","v":"004"},{"$nulls":15},0.249999999999999]
[null,null,1,"Direct",null,"95% - 100 %",null,0,null,null,"Efficiency",{"$f":"IF($E$83=1,Input!I25,1)","v":{"v":1,"d":"100%"}},null,null,1,null,{"$f":"AL21","v":{"v":0.09162836892954956,"d":"0.091628369"}},{"$f":"AK21","v":{"v":0.056496478929549565,"d":"0.0565"}},{"v":0.09162836892954956,"d":"0.091628369"},{"$f":"IF($L$38=1,0,AK21)","v":0},{"$f":"SQRT((Q116^2*$Q$123+R116^2*$R$123+S116^2*$S$123+T116^2*$T$123)/SUM(Q123:T123))","v":7.370930219683638E-3},{"$f":"(ABS(($U$129/2+$U$130+$U$131/2)/$U$133*(M7-$W$129)+$W$129)*IF($C$90<>0,$D$90,$L$115))","v":{"v":0.33898879642027824,"d":"0"}},{"$f":"V116/60*C7","v":{"v":0.01694943982101391,"d":"0"}},"PC25…B10",{"$f":"IF($P$87<>0,VLOOKUP(1,$P$80:$T$86,5,FALSE),IF($R$91<>0,VLOOKUP(1,$P$89:$T$90,5,FALSE),$P$92))","v":"004"},{"$f":"IF($P$87<>0,VLOOKUP(1,$P$80:$T$86,4,FALSE),IF($R$91<>0,VLOOKUP(1,$P$89:$T$90,4,FALSE),$P$92))","v":"004"},{"$nulls":15},{"v":0.239999999999999,"d":"0.24"}]
[null,null,2,"Worm gear",null,"65% - 80%",null,0.2,null,null,"Idle Torque",{"$f":"IF($E$83=1,Input!I26,0)","v":{"v":0,"d":"0.000"}},null,null,2,null,{"v":0.17966671898738742,"d":"0.179666719"},{"v":0.16912715198738743,"d":"0.1691"},{"v":0.17966671898738742,"d":"0.179666719"},0,{"$f":"SQRT((Q117^2*$Q$123+R117^2*$R$123+S117^2*$S$123+T117^2*$T$123)/SUM($Q$123:$T$123))","v":0.02203250112238065},{"v":0.10169663892608348,"d":"0"},{"$f":"V117/60*C8","v":{"v":0.016949439821013913,"d":"0"}},"PC32…B04",{"$f":"IF($Q$87<>0,VLOOKUP(1,$P$80:$T$86,5,FALSE),IF($R$91<>0,VLOOKUP(1,$P$89:$T$90,5,FALSE),$P$92))","v":"004"},{"$f":"IF($Q$87<>0,VLOOKUP(1,$P$80:$T$86,4,FALSE),IF($R$91<>0,VLOOKUP(1,$P$89:$T$90,4,FALSE),$P$92))","v":"004"},{"$nulls":15},0.229999999999999]
[null,null,3,"Planetary gear",null,"85% - 95%",null,0.1,null,null,"Inertia",{"$f":"IF($E$83=1,Input!I27,0)","v":{"v":0,"d":"0.0000"}},null,null,3,null,{"v":0.106711152194955,"d":"0.106711152"},{"v":0.07905086079495499,"d":"0.0791"},{"v":0.106711152194955,"d":"0.106711152"},0,0.010305231756403492,{"v":0.2542415973152087,"d":"0"},{"v":0.016949439821013913,"d":"0"},"PC32…B10",{"$f":"IF($Q$87<>0,VLOOKUP(1,$P$80:$T$86,5,FALSE),IF($R$91<>0,VLOOKUP(1,$P$89:$T$90,5,FALSE),$P$92))","v":"004"},{"$f":"IF($Q$87<>0,VLOOKUP(1,$P$80:$T$86,4,FALSE),IF($R$91<>0,VLOOKUP(1,$P$89:$T$90,4,FALSE),$P$92))","v":"004"},{"$nulls":15},{"v":0.219999999999999,"d":"0.22"}]
[null,null,4,"Bevel gear",null,"80% - 95%",null,0.1,{"$nulls":6},4,null,{"v":0.21367460188072074,"d":"0.213674602"},{"v":0.20261048532072073,"d":"0.2026"},{"v":0.21367460188072074,"d":"0.213674602"},0,0.02639400550447349,{"v":0.10169663892608348,"d":"0"},{"v":0.016949439821013913,"d":"0"},"PC40…B05",{"$f":"IF($R$87<>0,VLOOKUP(1,$P$80:$T$86,5,FALSE),IF($R$91<>0,VLOOKUP(1,$P$89:$T$90,5,FALSE),$P$92))","v":"004"},{"$f":"IF($R$87<>0,VLOOKUP(1,$P$80:$T$86,4,FALSE),IF($R$91<>0,VLOOKUP(1,$P$89:$T$90,4,FALSE),$P$92))","v":"004"},{"$nulls":15},0.209999999999999]
[null,null,5,"Belt gear",null,"80% - 90%",null,0.1,{"$nulls":6},5,null,{"v":0.14851240310480482,"d":"0.148512403"},{"v":0.11274968710480482,"d":"0.1127"},{"v":0.14851240310480482,"d":"0.148512403"},0,0.014697000339548173,{"v":0.20339327785216696,"d":"0"},{"v":0.016949439821013913,"d":"0"},"PC40…B10",{"$f":"IF($R$87<>0,VLOOKUP(1,$P$80:$T$86,5,FALSE),IF($R$91<>0,VLOOKUP(1,$P$89:$T$90,5,FALSE),$P$92))","v":"004"},{"$f":"IF($R$87<>0,VLOOKUP(1,$P$80:$T$86,4,FALSE),IF($R$91<>0,VLOOKUP(1,$P$89:$T$90,4,FALSE),$P$92))","v":"004"},{"$nulls":15},{"v":0.199999999999999,"d":"0.20"}]
[{"$nulls":14},6,null,{"v":0.24284739887627635,"d":"0.242847399"},{"v":0.22496604087627634,"d":"0.2250"},{"v":0.24284739887627635,"d":"0.242847399"},0,0.029307810752180478,{"v":0.10169663892608348,"d":"0"},{"v":0.016949439821013913,"d":"0"},"PC40…B20",{"$f":"IF($R$87<>0,VLOOKUP(1,$P$80:$T$86,5,FALSE),IF($R$91<>0,VLOOKUP(1,$P$89:$T$90,5,FALSE),$P$92))","v":"004"},{"$f":"IF($R$87<>0,VLOOKUP(1,$P$80:$T$86,4,FALSE),IF($R$91<>0,VLOOKUP(1,$P$89:$T$90,4,FALSE),$P$92))","v":"004"},{"$nulls":15},0.189999999999999]
[{"$nulls":14},7,null,{"v":0.34709498297477487,"d":"0.347094983"},{"v":0.33815430397477486,"d":"0.3382"},{"v":0.34709498297477487,"d":"0.347094983"},0,0.04404867783155878,{"v":0.05084831946304174,"d":"0"},{"v":0.016949439821013913,"d":"0"},{"$nulls":18},{"v":0.179999999999999,"d":"0.18"}]
[null,null,"Unit Fail test  (0 = pass, 1 = fail)",{"$nulls":12},"Time",{"$f":"C43","v":{"v":1E-3,"d":"0.001"}},{"$f":"C47","v":{"v":0.9989999999999999,"d":"0.999"}},{"$f":"C45","v":{"v":1E-3,"d":"0.001"}},{"$f":"C50","v":{"v":57.998,"d":"58.00"}},{"$nulls":21},0.169999999999999]
[null,null,"rpm","Acc","Fx","Fy","Stroke","Coupl","Critical speed check","Buckling check","Sum errors",{"$nulls":8},"Current choice",{"$f":"VLOOKUP(X139,O116:W122,7,FALSE)","v":0.02639400550447349},{"$f":"VLOOKUP(X139,O116:W122,8,FALSE)","v":{"v":0.10169663892608348,"d":"0"}},{"$nulls":19},{"v":0.159999999999999,"d":"0.16"}]
[{"$nulls":22},"Hela formeln",{"$f":"IF($C$59=3,\"Unit Without RediMount\",IF(AND($J$150=1,$J$170<3,$B$150>7,$C$59=2),\"No physical match between motor and PC-unit\",IF(AND($J$150=1,$J$170=3,$B$150>3,$C$59=2),\"No physical match between motor and PC-unit\",IF(AND($J$150=2,LEFT($C$150,5)=\"PMX34\"),\"No physical match between motor and PC-unit\",IF(AND($E$83=2,$J$150=4),$Y$75,IF(OR($E$83=1,$J$150=4),\"Check motor and/or gear dimensions in RediMount Tool\",IF($E$83=1,\"999\",VLOOKUP($J$150,$W$75:$Y$77,3,FALSE))))))))","v":"004"},{"$f":"IF($C$59=3,\"Unit Without RediMount\",IF(AND($J$150=1,$C$59=2,$J$170<3,$B$150>10),\"No physical match between motor and PC-unit\",IF(AND($J$150=1,$C$59=2,$J$170=3,$B$150>6),\"No physical match between motor and PC-unit\",IF(AND($J$150=2,LEFT(K151,5)=\"PMX34\",$C$59=2),\"No physical match between motor and PC-unit\",IF(AND($E$83=2,$J$150=4),$Y$75,IF(OR($E$83=1,$J$150=4),\"Check motor and/or gear dimensions in RediMount Tool\",IF($E$83=1,\"999\",VLOOKUP($J$150,$W$75:$Y$77,3,FALSE))))))))","v":"004"},{"$f":"IF(AND($E$83=2,$J$150=4,$C$59<>3),$Y$75,IF($C$59=3,\"Unit Without RediMount\",IF(OR($E$83=1,$J$150=4),\"Check motor and/or gear dimensions in RediMount Tool\",VLOOKUP($J$150,$W$75:$Y$77,3,FALSE))))","v":"004"},null,null,"torque=Load under input",null,"Dry torque =Dry friction under input",{"$nulls":10},0.149999999999999]
[null,{"$f":"B7","v":"PC25…B03"},{"$f":"N7","v":0},0,0,0,0,{"$f":"W7","v":0},{"$f":"AB7","v":0},{"$f":"AE7","v":0},{"$f":"SUM(C126:J126)","v":0},{"$nulls":17},"Wiknugsgrad=Efficiency för gear",null,"Gear=ratio",{"$nulls":10},{"v":0.139999999999999,"d":"0.14"}]
[null,"PC25…B10",0,0,0,0,0,0,0,0,{"$f":"SUM(C127:J127)","v":0},{"$nulls":17},"M18=indertia motor ",null,"Accel1/3=accel rad/s² under motion profile ",{"$nulls":10},0.129999999999999]
[null,"PC32…B04",0,0,0,0,0,0,0,0,0,{"$nulls":4},"Från Anydim",{"$nulls":4},"Time (ms)",null,"Speed (rpm)",null,"AnyDim",{"$nulls":16},{"v":0.119999999999999,"d":"0.12"}]
[null,"PC32…B10",0,0,0,0,0,0,0,0,0,{"$nulls":4},"ABS(((time1/2+time2+time3/2)/time*(speed2-speed1)+(speed1))*gear",{"$nulls":4},{"$f":"Q123*1000","v":{"v":1,"d":"1.000"}},"Acceleration",0,null,"T acc","accel1*gear*(inertia/10/gear^2+M18+gear_inertia/10)/1000+(torque+OM(accel1>=0;OM(OCH(speed1=0;speed2=0);0;DryTorq);-DryTorq))/gear)/Wirkungsgrad",{"$nulls":15},0.109999999999999]
[null,"PC40…B05",0,0,0,0,0,0,0,0,0,{"$nulls":9},{"$f":"R123*1000","v":{"v":998.9999999999999,"d":"999.000"}},"Constant",{"$f":"C41*60/4*1000","v":15},null,"T cons","(torque+OM(speed2=0;0;OM(speed2>0;DryTorq;-DryTorq)))/gear/Wirkungsgrad",{"$nulls":15},{"v":0.099999999999999,"d":"0.10"}]
[null,"PC40…B10",0,0,0,0,0,0,0,0,0,{"$nulls":4},"ROT((D130^2*time1+D131^2*time2+D132^2*time3+D133^2*time4)/time)",{"$nulls":4},{"$f":"S123*1000","v":{"v":1,"d":"1.000"}},"Decceleration",0,null,"T decc","(accel3*gear*(inertia/10/gear^2+M18+gear_inertia/10)/1000+(torque+OM(accel1>=0;OM(OCH(speed1=0;speed2=0);0;DryTorq);-DryTorq))/gear)/Wirkungsgrad",{"$nulls":15},0.089999999999999]
[null,"PC40…B20",0,0,0,0,0,0,0,0,0,{"$nulls":9},{"$f":"T123*1000","v":{"v":57998,"d":"57998.000"}},"Pause",0,null,"Tpaus","torque+OM(speed1=0;0;OM(speed4>0;DryTorq;-DryTorq)))/gear/Wirkungsgrad",{"$nulls":15},{"v":0.079999999999999,"d":"0.08"}]
[null,"Message",{"$f":"IF(OR(C126>0,C127>0,C128>0,C129>0,C130>0,C131>0,C132>0),\"Too high RPM\",\"\")","v":""},{"$f":"IF(OR(D126>0,D127>0,D128>0,D129>0,D130>0,D131>0,D132>0),\"Too high acceleration\",\"\")","v":""},{"$f":"IF(OR(E126>0,E127>0,E128>0,E129>0,E130>0,E131>0,E132>0),\"Too high Fx\",\"\")","v":""},{"$f":"IF(OR(F126>0,F127>0,F128>0,F129>0,F130>0,F131>0,F132>0),\"Too high Fy\",\"\")","v":""},{"$f":"IF(OR(G126>0,G127>0,G128>0,G129>0,G130>0,G131>0,G132>0),\"Stroke to long\",\"\")","v":""},{"$f":"IF(OR(H126>0,H127>0,H128>0,H129>0,H130>0,H131>0,H132>0),\"Input torque to high for Redimount\",\"\")","v":""},{"$f":"IF(OR(I126>0,I127>0,I128>0,I129>0,I130>0,I131>0,I132>0),\"Above critical speed\",\"\")","v":""},{"$f":"IF(OR(J126>0,J127>0,J128>0,J129>0,J130>0,J131>0,J132>0),\"Buckling of screw or extension tube\",\"\")","v":""},{"$nulls":10},{"$f":"SUM(U129:U132)","v":{"v":58999,"d":"58999.000"}},"Total",{"$nulls":19},0.069999999999999]
[null,"SUM",{"$f":"SUM(C126:C132)","v":0},{"$f":"SUM(D126:D132)","v":0},0,0,0,0,0,0,{"$nulls":31},{"v":0.0599999999999991,"d":"0.06"}]
[null,"Output",{"$f":"C133&\" \"&D133&\" \"&E133&\" \"&F133&\" \"&G133&\" \"&H133&\" \"&I133&\" \"&J133","v":"       "},{"$nulls":38},0.049999999999999]
[{"$nulls":22},"Graph display",null,"Graph data ",{"$nulls":6},"motor capability",null,"Current",{"$nulls":7},{"v":0.039999999999999,"d":"0.04"}]
["STEP3",{"$nulls":21},"Unit","Current Choice",null,null,"Motor performance OK?","Unit OK?",null,"Motor size OK","Sum"," at specified rpm continuous drive","rpm","Torque","rpm",{"$nulls":4},"USED IN GRAPH",null,0.029999999999999]
[null,"Error check motor choices",{"$nulls":19},1,{"$f":"IF(AE138<>0,\"1.\",\"1. PC25, Lead 3 mm\")","v":"1. PC25, Lead 3 mm"},{"$f":"IF($J$150=1,Input!K31,\"\")","v":"4. PC32, Lead 10 mm"},"1:kolla om motor är OK enligt input",null,{"$f":"IF(Input!J49=\"OK\",0,1)","v":0},{"$f":"K126","v":0},null,{"$f":"IF($P$87<>0,1,0)","v":0},{"$f":"SUM(AA138:AD138)","v":0},{"$f":"VLOOKUP(Input!F49,$AD$149:$AE$199,2,TRUE)","v":0.87},{"$f":"Input!F49","v":20},{"$f":"VLOOKUP(X139,V138:AG144,11)","v":0.87},{"$f":"VLOOKUP(X139,V138:AG144,12)","v":6},null,"Current choice",null,null,"RMS values",null,{"v":0.019999999999999,"d":"0.02"}]
[{"$nulls":8},"MOTOR OPTIONS",{"$nulls":12},2,{"$f":"IF(AE139<>0,\"2.\",\"2. PC25, Lead 10 mm\")","v":"2. PC25, Lead 10 mm"},{"$f":"LOOKUP(X138,W138:W144,V138:V144)","v":4},"2: kolla upp vilken enhet som är vald",null,{"$f":"IF(Input!J50=\"OK\",0,1)","v":0},0,null,{"$f":"IF($P$87<>0,1,0)","v":0},0,{"$f":"VLOOKUP(Input!F50,$AD$149:$AE$199,2,TRUE)","v":0.87},{"$f":"Input!F50","v":6},{"$nulls":3},{"$f":"LOOKUP(AL139,AL140:AL141,AK140:AK141)","v":1},{"$f":"Input!H31","v":"Motor curve"},null,"Torque","rpm",0.00999999999999901]
[null,"Cylinder mounting","Motor size","Motor option 1","Motor option 2","Sum Errors",null,null,"Break Option",null,"Current Choice","Feedback Option",null,null,"Current Choice",{"$nulls":6},3,{"$f":"IF(AE140<>0,\"3.\",\"3. PC32, Lead 4 mm\")","v":"3. PC32, Lead 4 mm"},{"$f":"LOOKUP(X139,W93:W99,X93:X99)","v":"PC32LX004B10-01FC1"},"3: plotta speed-force kurvan för detta",null,{"$f":"IF(Input!J51=\"OK\",0,1)","v":0},0,null,{"$f":"IF($Q$87<>0,1,0)","v":0},0,{"$f":"VLOOKUP(Input!F51,$AD$149:$AE$199,2,TRUE)","v":0.87},{"$f":"Input!F51","v":15},{"$nulls":3},1,{"$f":"IF($J$150=1,\"Motor curve\",\"\")","v":"Motor curve"},null,{"$f":"IF(AK139=1,U124,NA())","v":{"v":0.02639400550447349,"d":"0.03"}},{"$f":"IF(AK139=1,V124,NA())","v":{"v":0.10169663892608348,"d":"0"}},{"v":0,"d":"0.00"}]
[null,{"$f":"IF(IFERROR(LOOKUP(D72,D73:D79)<>D72,1),1,0)","v":0},{"$f":"IF(J150<>4,IF(IFERROR(FIND(LEFT(Input!E32,3),Input!B32),0)>0,0,1),0)","v":0},{"$f":"IF(J150<>4,IF(IFERROR(LOOKUP(J141,J143:J144)<>J141,1),1,0),0)","v":0},{"$f":"IF(J150<>4,IF(IFERROR(LOOKUP(M141,M143:M145)<>M141,1),1,0),0)","v":0},{"$f":"SUM(B141:E141,B143:D143)","v":0},null,null,{"$f":"IF(J150<=2,LOOKUP(J141,J143:J144,I143:I144),\"\")","v":1},{"$f":"IF($J$150<=2,Input!B34,\"\")","v":"No"},{"$f":"IF($J$150=1,IF(J141=\"Yes\",\"2\",\"N\"),IF($J$150=2,IF(B358=1,\"0\",\"R\"),\"NA for PMX\"))","v":"N"},{"$f":"IF(J150<=2,LOOKUP(M141,M143:M145,L143:L145),\"\")","v":3},{"$f":"IF(J150<=2,Input!C34,\"\")","v":"R-Resolver (standard)"},null,{"$f":"IF($J$150=1,IF(M141=\"R-Resolver (standard)\",LEFT(M141,1),LEFT(M141,2))&\"-00\",IF($J$150=2,\"-\"&IF(E358=1,\"00\",\"01\"),\"NA for PMX\"))","v":"R-00"},{"$nulls":6},4,{"$f":"IF(AE141<>0,\"4.\",\"4. PC32, Lead 10 mm\")","v":"4. PC32, Lead 10 mm"},{"$nulls":3},{"$f":"IF(Input!J52=\"OK\",0,1)","v":0},0,null,{"$f":"IF($Q$87<>0,1,0)","v":0},0,{"$f":"VLOOKUP(Input!F52,$AD$149:$AE$199,2,TRUE)","v":0.87},{"$f":"Input!F52","v":6},{"$nulls":3},2,{"$f":"IF($J$150=1,\"Performance curve\",\"\")","v":"Performance curve"},null,{"$f":"IF($J$150<>1,\"\",IF($AK$139=1,\"Working point (Mean rpm, T RMS)\",\"Not applicable\"))","v":"Working point (Mean rpm, T RMS)"}]
[null,"Current choice cylinder mounting","AKM choice","Voltage",{"$nulls":17},5,{"$f":"IF(AE142<>0,\"5.\",\"5. PC40, Lead 5 mm\")","v":"5. PC40, Lead 5 mm"},{"$nulls":3},{"$f":"IF(Input!J53=\"OK\",0,1)","v":0},0,null,{"$f":"IF($R$87<>0,1,0)","v":0},0,{"$f":"VLOOKUP(Input!F53,$AD$149:$AE$199,2,TRUE)","v":0.87},{"$f":"Input!F53","v":12},{"$nulls":3},"Header",{"$f":"IF(AK139=1,\"Motor perfomance of\"&\"  \"& T147,\"Performance of\" & \"  \"&X140&\" \"&\"and\"&\" \" &T147)","v":"Motor perfomance of  AKM22E"}]
[null,{"$f":"IF(IFERROR(D72=\"-\",1),1,0)","v":0},{"$f":"IF(J150=1,IF(IFERROR(FIND(LEFT(Input!E32,6),Data!C150),0)>0,0,1),0)","v":0},{"$f":"IF(OR(J150=1,J150=2),IF(IFERROR(LOOKUP(K170,K171:K173),0)<>K170,1,0),0)","v":0},{"$nulls":4},1,{"$f":"IF($J$150=1,\"No\",IF($J$150=2,\"No Shaft\",\"\"))","v":"No"},null,1,{"$f":"IF($J$150=2,\"No Shaft Seal\",IF(AND($J$150=1,(LEFT(C149,4)<>\"AKM1\")),\"DA-Singleturn Absolute Encoder\",\"\"))","v":"DA-Singleturn Absolute Encoder"},{"$nulls":8},6,{"$f":"IF(AE143<>0,\"6.\",\"6. PC40, Lead 10 mm\")","v":"6. PC40, Lead 10 mm"},{"$nulls":3},{"$f":"IF(Input!J54=\"OK\",0,1)","v":0},0,null,{"$f":"IF($R$87<>0,1,0)","v":0},0,{"$f":"VLOOKUP(Input!F54,$AD$149:$AE$199,2,TRUE)","v":0.87},{"$f":"Input!F54","v":6},{"$nulls":3},"X-axis",{"$f":"IF(AK139=1,\"Speed [rpm]\", \"Load [N]\")","v":"Speed [rpm]"},{"$nulls":4},"USED IN GRAPH"]
[{"$nulls":8},2,{"$f":"IF($J$150=1,\"Yes\",IF($J$150=2,\"Rear Shaft\",\"\"))","v":"Yes"},null,2,{"$f":"IF($J$150=2,\"Shaft Seal\",IF(AND($J$150=1,LEFT(C149,4)<>\"AKM1\"),\"DB-Multiturn Absolute Encoder\",\"\"))","v":"DB-Multiturn Absolute Encoder"},{"$nulls":8},7,{"$f":"IF(AE144<>0,\"7.\",\"7. PC40, Lead 20 mm\")","v":"7. PC40, Lead 20 mm"},{"$nulls":3},{"$f":"IF(Input!J55=\"OK\",0,1)","v":0},0,null,{"$f":"IF($R$87<>0,1,0)","v":0},0,{"$f":"VLOOKUP(Input!F55,$AD$149:$AE$199,2,TRUE)","v":0.87},{"$f":"Input!F55","v":3},{"$nulls":3},"Y-axis",{"$f":"IF(AK139=1,\"Torque [Nm]\", \"Speed [mm/s]\")","v":"Torque [Nm]"},{"$nulls":4},{"$f":"IF($J$150=1,\"Continuous\",\"\")","v":"Continuous"},null,{"$f":"IF($J$150=1,\"Intermittent\",\"\")","v":"Intermittent"}]
[{"$nulls":4},"OM(J69=1;OM(OMFEL(HITTA(VÄNSTER(Input!K32;6);Data!C69);0)>0;0;1);0)",{"$nulls":6},3,{"$f":"IF($J$150=1,\"R-Resolver (standard)\",\"\")","v":"R-Resolver (standard)"},{"$nulls":29},"mm/s or Torque","Fx or rpm","mm/s or Torque","Fx or rpm"]
[null,"Current Motor",{"$nulls":27},"Continuous Motor data",null,null,"Cyclic Motor data",{"$nulls":9},{"$f":"IF($AK$139=2,U149,AE149)","v":0.87},{"$f":"IF($AK$139=2,AA149,AD149)","v":0},{"$f":"IF($AK$139=2,W149,AH149)","v":2.7600000000000002},{"$f":"IF($AK$139=2,X149,AG149)","v":0}]
[{"$nulls":3},"Nominal torque","Peak torque","Rated torque","Rated speed","Inertia",{"$nulls":10},"Current motor",{"$f":"Input!E32","v":"AKM22E"},"Continuous drive",null,"Cyclic drive",null,"Cyclic drive",null,"Continuous drive",{"$nulls":15},{"$f":"IF($AK$139=2,U150,AE150)","v":0.8668},{"$f":"IF($AK$139=2,AA150,AD150)","v":160},{"$f":"IF($AK$139=2,W150,AH150)","v":2.7600000000000002},{"$f":"IF($AK$139=2,X150,AG150)","v":5148.4}]
[{"$nulls":3},"Nm","Nm","Nm","rpm","kg cm²",{"$nulls":10},"Current voltage",{"$f":"Input!C32","v":"240"},"mm/s","Fx (N)","mm/s","Fx (N)","mm/s","revisedFx (N)","Fx (N)",null,null,"rpm","Torque",null,"rpm","Torque",{"$nulls":8},{"$f":"IF($AK$139=2,U151,AE151)","v":0.8636},320,2.719411692307692,5224.8]
[null,null,{"$f":"IF($J$150=1,Input!$E$32,\"Customer Supplied\")","v":"AKM22E"},{"$f":"IF($J$150=4,L156,D150)","v":0.87},{"$f":"IF($J$150=4,L157,E150)","v":2.76},{"$f":"IF($J$150=4,L158,F150)","v":0.7},{"$f":"IF($J$150=4,L159,G150)","v":8000},{"$f":"IF($J$150=4,L160,H150)","v":0.16},null,"UPDATED",null,null,"Max Hz x 50",{"$nulls":5},"Max speed (cyclic) [rpm]",{"$f":"IF($J$150=1,Calc!B71,G149)","v":8000},{"$f":"IF(AND($X$139=7,$AA$144=0,$AB$144=0),'PC40 Graphs'!$B5,IF(AND($X$139=6,$AA$143=0,$AB$143=0),'PC40 Graphs'!$D5,IF(AND($X$139=5,$AA$142=0,$AB$142=0),'PC40 Graphs'!$F5,IF(AND($X$139=4,$AA$141=0,$AB$141=0),'PC32 Graphs'!$B5,IF(AND($X$139=3,$AA$140=0,$AB$140=0),'PC32 Graphs'!$D5,IF(AND($X$139=2,$AA$139=0,$AB$139=0),'PC25 Graphs'!$B6,IF(AND($X$139=1,$AA$138=0,$AB$138=0),'PC25 Graphs'!$D6)))))))","v":0},{"$f":"IF(AND($X$139=7,$AA$144=0,$AB$144=0),'PC40 Graphs'!$C5,IF(AND($X$139=6,$AA$143=0,$AB$143=0),'PC40 Graphs'!$E5,IF(AND($X$139=5,$AA$142=0,$AB$142=0),'PC40 Graphs'!$G5,IF(AND($X$139=4,$AA$141=0,$AB$141=0),'PC32 Graphs'!$C5,IF(AND($X$139=3,$AA$140=0,$AB$140=0),'PC32 Graphs'!$E5,IF(AND($X$139=2,$AA$139=0,$AB$139=0),'PC25 Graphs'!$C6,IF(AND($X$139=1,$AA$138=0,$AB$138=0),'PC25 Graphs'!$E6)))))))","v":303},{"$f":"IF(AND($X$139=7,$AA$144=0,$AB$144=0),'PC40 Graphs'!$B63,IF(AND($X$139=6,$AA$143=0,$AB$143=0),'PC40 Graphs'!$D63,IF(AND($X$139=5,$AA$142=0,$AB$142=0),'PC40 Graphs'!$F63,IF(AND($X$139=4,$AA$141=0,$AB$141=0),'PC32 Graphs'!$B62,IF(AND($X$139=3,$AA$140=0,$AB$140=0),'PC32 Graphs'!$D62,IF(AND($X$139=2,$AA$139=0,$AB$139=0),'PC25 Graphs'!$B63,IF(AND($X$139=1,$AA$138=0,$AB$138=0),'PC25 Graphs'!$D63)))))))","v":0},{"$f":"IF(AND($X$139=7,$AA$144=0,$AB$144=0),'PC40 Graphs'!L63,IF(AND($X$139=6,$AA$143=0,$AB$143=0),'PC40 Graphs'!N63,IF(AND($X$139=5,$AA$142=0,$AB$142=0),'PC40 Graphs'!P63,IF(AND($X$139=4,$AA$141=0,$AB$141=0),'PC32 Graphs'!L62,IF(AND($X$139=3,$AA$140=0,$AB$140=0),'PC32 Graphs'!N62,IF(AND($X$139=2,$AA$139=0,$AB$139=0),'PC25 Graphs'!L63,IF(AND($X$139=1,$AA$138=0,$AB$138=0),'PC25 Graphs'!N63)))))))","v":1158},{"$f":"U149","v":0},{"$f":"VLOOKUP(U149,$W$148:$X$200,2)","v":1158},{"$f":"IF(V149>Z149,Z149,V149)","v":303},null,null,{"$f":"Calc!B86","v":0},{"$f":"Calc!A86","v":0.87},null,{"$f":"Calc!B20","v":0},{"$f":"Calc!A20","v":2.7600000000000002},{"$nulls":8},0.8604,480,2.678226989010989,5302.7]
[null,{"$f":"IF(J150=2,LOOKUP(C149,$C$151:$C$158,$B$151:$B$158),IF(AND(J150=1,J170=3),LOOKUP(C149,Data!$C$151:$C$160,Data!$B$151:$B$160),LOOKUP(C149,Data!$C$151:$C$164,Data!$B$151:$B$164)))","v":5},{"$f":"VLOOKUP($B$150,$B$151:$H$174,2)","v":"AKM22E"},{"$f":"VLOOKUP($B$150,$B$151:$H$174,3)","v":0.87},{"$f":"VLOOKUP($B$150,$B$151:$H$174,4)","v":2.76},{"$f":"VLOOKUP($B$150,$B$151:$H$174,5)","v":0.7},{"$f":"VLOOKUP($B$150,$B$151:$H$174,6)","v":8000},{"$f":"VLOOKUP($B$150,$B$151:$H$174,7)","v":0.16},null,{"$f":"LOOKUP(Input!$B$32,Data!$K$151:$K$152,Data!$J$151:$J$153)","v":1},{"$f":"Input!$B$32","v":"1. Kollmorgen AKM Servo"},null,{"$f":"IF(J150=3,1.6,1)","v":1},"x 50 = 80 Hz",{"$nulls":6},{"$f":"IF(AND($X$139=7,$AA$144=0,$AB$144=0),'PC40 Graphs'!$B6,IF(AND($X$139=6,$AA$143=0,$AB$143=0),'PC40 Graphs'!$D6,IF(AND($X$139=5,$AA$142=0,$AB$142=0),'PC40 Graphs'!$F6,IF(AND($X$139=4,$AA$141=0,$AB$141=0),'PC32 Graphs'!$B6,IF(AND($X$139=3,$AA$140=0,$AB$140=0),'PC32 Graphs'!$D6,IF(AND($X$139=2,$AA$139=0,$AB$139=0),'PC25 Graphs'!$B7,IF(AND($X$139=1,$AA$138=0,$AB$138=0),'PC25 Graphs'!$D7)))))))","v":{"v":26.666666666666664,"d":"27"}},{"$f":"IF(AND($X$139=7,$AA$144=0,$AB$144=0),'PC40 Graphs'!$C6,IF(AND($X$139=6,$AA$143=0,$AB$143=0),'PC40 Graphs'!$E6,IF(AND($X$139=5,$AA$142=0,$AB$142=0),'PC40 Graphs'!$G6,IF(AND($X$139=4,$AA$141=0,$AB$141=0),'PC32 Graphs'!$C6,IF(AND($X$139=3,$AA$140=0,$AB$140=0),'PC32 Graphs'!$E6,IF(AND($X$139=2,$AA$139=0,$AB$139=0),'PC25 Graphs'!$C7,IF(AND($X$139=1,$AA$138=0,$AB$138=0),'PC25 Graphs'!$E7)))))))","v":296},{"$f":"IF(AND($X$139=7,$AA$144=0,$AB$144=0),'PC40 Graphs'!$B64,IF(AND($X$139=6,$AA$143=0,$AB$143=0),'PC40 Graphs'!$D64,IF(AND($X$139=5,$AA$142=0,$AB$142=0),'PC40 Graphs'!$F64,IF(AND($X$139=4,$AA$141=0,$AB$141=0),'PC32 Graphs'!$B63,IF(AND($X$139=3,$AA$140=0,$AB$140=0),'PC32 Graphs'!$D63,IF(AND($X$139=2,$AA$139=0,$AB$139=0),'PC25 Graphs'!$B64,IF(AND($X$139=1,$AA$138=0,$AB$138=0),'PC25 Graphs'!$D64)))))))","v":{"v":858.0666666666666,"d":"858"}},{"$f":"IF(AND($X$139=7,$AA$144=0,$AB$144=0),'PC40 Graphs'!L64,IF(AND($X$139=6,$AA$143=0,$AB$143=0),'PC40 Graphs'!N64,IF(AND($X$139=5,$AA$142=0,$AB$142=0),'PC40 Graphs'!P64,IF(AND($X$139=4,$AA$141=0,$AB$141=0),'PC32 Graphs'!L63,IF(AND($X$139=3,$AA$140=0,$AB$140=0),'PC32 Graphs'!N63,IF(AND($X$139=2,$AA$139=0,$AB$139=0),'PC25 Graphs'!L64,IF(AND($X$139=1,$AA$138=0,$AB$138=0),'PC25 Graphs'!N64)))))))","v":1002},{"v":26.666666666666664,"d":"27"},1158,296,null,null,{"$f":"Calc!B87","v":160},{"$f":"Calc!A87","v":0.8668},null,{"$f":"Calc!B21","v":5148.4},{"$f":"Calc!A21","v":2.7600000000000002},{"$nulls":8},0.8572000000000001,640,2.6364458901098904,5382.1]
[null,1,{"$f":"IF(AND($J$150=1,$J$170=2),C210,IF(AND($J$150=1,$J$170=1),C225,IF(AND($J$150=1,$J$170=3),C240,IF(AND($J$150=2,$J$170=1),O357,IF(AND($J$150=2,$J$170=2),O365,IF(AND($J$150=2,$J$170=3),O373,IF($J$150=3,C379,\"\")))))))","v":"AKM11B"},0.183,0.609,0.167,8000,0.017,null,1,"1. Kollmorgen AKM Servo",{"$nulls":9},{"$f":"IF(AND($X$139=7,$AA$144=0,$AB$144=0),'PC40 Graphs'!$B7,IF(AND($X$139=6,$AA$143=0,$AB$143=0),'PC40 Graphs'!$D7,IF(AND($X$139=5,$AA$142=0,$AB$142=0),'PC40 Graphs'!$F7,IF(AND($X$139=4,$AA$141=0,$AB$141=0),'PC32 Graphs'!$B7,IF(AND($X$139=3,$AA$140=0,$AB$140=0),'PC32 Graphs'!$D7,IF(AND($X$139=2,$AA$139=0,$AB$139=0),'PC25 Graphs'!$B8,IF(AND($X$139=1,$AA$138=0,$AB$138=0),'PC25 Graphs'!$D8)))))))","v":{"v":53.33333333333333,"d":"53"}},{"$f":"IF(AND($X$139=7,$AA$144=0,$AB$144=0),'PC40 Graphs'!$C7,IF(AND($X$139=6,$AA$143=0,$AB$143=0),'PC40 Graphs'!$E7,IF(AND($X$139=5,$AA$142=0,$AB$142=0),'PC40 Graphs'!$G7,IF(AND($X$139=4,$AA$141=0,$AB$141=0),'PC32 Graphs'!$C7,IF(AND($X$139=3,$AA$140=0,$AB$140=0),'PC32 Graphs'!$E7,IF(AND($X$139=2,$AA$139=0,$AB$139=0),'PC25 Graphs'!$C8,IF(AND($X$139=1,$AA$138=0,$AB$138=0),'PC25 Graphs'!$E8)))))))","v":290},{"$f":"IF(AND($X$139=7,$AA$144=0,$AB$144=0),'PC40 Graphs'!$B65,IF(AND($X$139=6,$AA$143=0,$AB$143=0),'PC40 Graphs'!$D65,IF(AND($X$139=5,$AA$142=0,$AB$142=0),'PC40 Graphs'!$F65,IF(AND($X$139=4,$AA$141=0,$AB$141=0),'PC32 Graphs'!$B64,IF(AND($X$139=3,$AA$140=0,$AB$140=0),'PC32 Graphs'!$D64,IF(AND($X$139=2,$AA$139=0,$AB$139=0),'PC25 Graphs'!$B65,IF(AND($X$139=1,$AA$138=0,$AB$138=0),'PC25 Graphs'!$D65)))))))","v":{"v":870.8,"d":"871"}},{"$f":"IF(AND($X$139=7,$AA$144=0,$AB$144=0),'PC40 Graphs'!L65,IF(AND($X$139=6,$AA$143=0,$AB$143=0),'PC40 Graphs'!N65,IF(AND($X$139=5,$AA$142=0,$AB$142=0),'PC40 Graphs'!P65,IF(AND($X$139=4,$AA$141=0,$AB$141=0),'PC32 Graphs'!L64,IF(AND($X$139=3,$AA$140=0,$AB$140=0),'PC32 Graphs'!N64,IF(AND($X$139=2,$AA$139=0,$AB$139=0),'PC25 Graphs'!L65,IF(AND($X$139=1,$AA$138=0,$AB$138=0),'PC25 Graphs'!N65)))))))","v":982},{"v":53.33333333333333,"d":"53"},1158,290,null,null,{"$f":"Calc!B88","v":320},{"$f":"Calc!A88","v":0.8636},null,{"$f":"Calc!B22","v":5224.8},{"$f":"Calc!A22","v":2.719411692307692},{"$nulls":8},0.8540000000000001,800,2.5940683956043955,5463.1]
[null,2,"AKM12C",0.31,1.08,0.279,8000,0.031,null,4,"2. Customer Supplied",null,"Min Hz x 50",{"$nulls":7},{"$f":"IF(AND($X$139=7,$AA$144=0,$AB$144=0),'PC40 Graphs'!$B8,IF(AND($X$139=6,$AA$143=0,$AB$143=0),'PC40 Graphs'!$D8,IF(AND($X$139=5,$AA$142=0,$AB$142=0),'PC40 Graphs'!$F8,IF(AND($X$139=4,$AA$141=0,$AB$141=0),'PC32 Graphs'!$B8,IF(AND($X$139=3,$AA$140=0,$AB$140=0),'PC32 Graphs'!$D8,IF(AND($X$139=2,$AA$139=0,$AB$139=0),'PC25 Graphs'!$B9,IF(AND($X$139=1,$AA$138=0,$AB$138=0),'PC25 Graphs'!$D9)))))))","v":80},{"$f":"IF(AND($X$139=7,$AA$144=0,$AB$144=0),'PC40 Graphs'!$C8,IF(AND($X$139=6,$AA$143=0,$AB$143=0),'PC40 Graphs'!$E8,IF(AND($X$139=5,$AA$142=0,$AB$142=0),'PC40 Graphs'!$G8,IF(AND($X$139=4,$AA$141=0,$AB$141=0),'PC32 Graphs'!$C8,IF(AND($X$139=3,$AA$140=0,$AB$140=0),'PC32 Graphs'!$E8,IF(AND($X$139=2,$AA$139=0,$AB$139=0),'PC25 Graphs'!$C9,IF(AND($X$139=1,$AA$138=0,$AB$138=0),'PC25 Graphs'!$E9)))))))","v":284},{"$f":"IF(AND($X$139=7,$AA$144=0,$AB$144=0),'PC40 Graphs'!$B66,IF(AND($X$139=6,$AA$143=0,$AB$143=0),'PC40 Graphs'!$D66,IF(AND($X$139=5,$AA$142=0,$AB$142=0),'PC40 Graphs'!$F66,IF(AND($X$139=4,$AA$141=0,$AB$141=0),'PC32 Graphs'!$B65,IF(AND($X$139=3,$AA$140=0,$AB$140=0),'PC32 Graphs'!$D65,IF(AND($X$139=2,$AA$139=0,$AB$139=0),'PC25 Graphs'!$B66,IF(AND($X$139=1,$AA$138=0,$AB$138=0),'PC25 Graphs'!$D66)))))))","v":{"v":883.7833333333333,"d":"884"}},{"$f":"IF(AND($X$139=7,$AA$144=0,$AB$144=0),'PC40 Graphs'!L66,IF(AND($X$139=6,$AA$143=0,$AB$143=0),'PC40 Graphs'!N66,IF(AND($X$139=5,$AA$142=0,$AB$142=0),'PC40 Graphs'!P66,IF(AND($X$139=4,$AA$141=0,$AB$141=0),'PC32 Graphs'!L65,IF(AND($X$139=3,$AA$140=0,$AB$140=0),'PC32 Graphs'!N65,IF(AND($X$139=2,$AA$139=0,$AB$139=0),'PC25 Graphs'!L66,IF(AND($X$139=1,$AA$138=0,$AB$138=0),'PC25 Graphs'!N66)))))))","v":961},80,1158,284,null,null,{"$f":"Calc!B89","v":480},{"$f":"Calc!A89","v":0.8604},null,{"$f":"Calc!B23","v":5302.7},{"$f":"Calc!A23","v":2.678226989010989},{"$nulls":8},0.8508000000000001,960,2.5510945054945053,5545.7]
[null,3,"AKM13C",0.409,1.46,0.364,8000,0.045,null,4,null,null,{"$f":"IF(J150=3,0.3,0)","v":0},"x 50 Hz = 15 Hz",{"$nulls":6},{"$f":"IF(AND($X$139=7,$AA$144=0,$AB$144=0),'PC40 Graphs'!$B9,IF(AND($X$139=6,$AA$143=0,$AB$143=0),'PC40 Graphs'!$D9,IF(AND($X$139=5,$AA$142=0,$AB$142=0),'PC40 Graphs'!$F9,IF(AND($X$139=4,$AA$141=0,$AB$141=0),'PC32 Graphs'!$B9,IF(AND($X$139=3,$AA$140=0,$AB$140=0),'PC32 Graphs'!$D9,IF(AND($X$139=2,$AA$139=0,$AB$139=0),'PC25 Graphs'!$B10,IF(AND($X$139=1,$AA$138=0,$AB$138=0),'PC25 Graphs'!$D10)))))))","v":{"v":106.66666666666666,"d":"107"}},{"$f":"IF(AND($X$139=7,$AA$144=0,$AB$144=0),'PC40 Graphs'!$C9,IF(AND($X$139=6,$AA$143=0,$AB$143=0),'PC40 Graphs'!$E9,IF(AND($X$139=5,$AA$142=0,$AB$142=0),'PC40 Graphs'!$G9,IF(AND($X$139=4,$AA$141=0,$AB$141=0),'PC32 Graphs'!$C9,IF(AND($X$139=3,$AA$140=0,$AB$140=0),'PC32 Graphs'!$E9,IF(AND($X$139=2,$AA$139=0,$AB$139=0),'PC25 Graphs'!$C10,IF(AND($X$139=1,$AA$138=0,$AB$138=0),'PC25 Graphs'!$E10)))))))","v":278},{"$f":"IF(AND($X$139=7,$AA$144=0,$AB$144=0),'PC40 Graphs'!$B67,IF(AND($X$139=6,$AA$143=0,$AB$143=0),'PC40 Graphs'!$D67,IF(AND($X$139=5,$AA$142=0,$AB$142=0),'PC40 Graphs'!$F67,IF(AND($X$139=4,$AA$141=0,$AB$141=0),'PC32 Graphs'!$B66,IF(AND($X$139=3,$AA$140=0,$AB$140=0),'PC32 Graphs'!$D66,IF(AND($X$139=2,$AA$139=0,$AB$139=0),'PC25 Graphs'!$B67,IF(AND($X$139=1,$AA$138=0,$AB$138=0),'PC25 Graphs'!$D67)))))))","v":{"v":897.0166666666667,"d":"897"}},{"$f":"IF(AND($X$139=7,$AA$144=0,$AB$144=0),'PC40 Graphs'!L67,IF(AND($X$139=6,$AA$143=0,$AB$143=0),'PC40 Graphs'!N67,IF(AND($X$139=5,$AA$142=0,$AB$142=0),'PC40 Graphs'!P67,IF(AND($X$139=4,$AA$141=0,$AB$141=0),'PC32 Graphs'!L66,IF(AND($X$139=3,$AA$140=0,$AB$140=0),'PC32 Graphs'!N66,IF(AND($X$139=2,$AA$139=0,$AB$139=0),'PC25 Graphs'!L67,IF(AND($X$139=1,$AA$138=0,$AB$138=0),'PC25 Graphs'!N67)))))))","v":939},{"v":106.66666666666666,"d":"107"},1158,278,null,null,{"$f":"Calc!B90","v":640},{"$f":"Calc!A90","v":0.8572000000000001},null,{"$f":"Calc!B24","v":5382.1},{"$f":"Calc!A24","v":2.6364458901098904},{"$nulls":8},0.8482400000000001,1120,2.5075242197802194,5630]
[null,4,"AKM21C",0.48,1.47,0.39,8000,0.11,null,4,{"$nulls":10},{"$f":"IF(AND($X$139=7,$AA$144=0,$AB$144=0),'PC40 Graphs'!$B10,IF(AND($X$139=6,$AA$143=0,$AB$143=0),'PC40 Graphs'!$D10,IF(AND($X$139=5,$AA$142=0,$AB$142=0),'PC40 Graphs'!$F10,IF(AND($X$139=4,$AA$141=0,$AB$141=0),'PC32 Graphs'!$B10,IF(AND($X$139=3,$AA$140=0,$AB$140=0),'PC32 Graphs'!$D10,IF(AND($X$139=2,$AA$139=0,$AB$139=0),'PC25 Graphs'!$B11,IF(AND($X$139=1,$AA$138=0,$AB$138=0),'PC25 Graphs'!$D11)))))))","v":{"v":133.33333333333334,"d":"133"}},{"$f":"IF(AND($X$139=7,$AA$144=0,$AB$144=0),'PC40 Graphs'!$C10,IF(AND($X$139=6,$AA$143=0,$AB$143=0),'PC40 Graphs'!$E10,IF(AND($X$139=5,$AA$142=0,$AB$142=0),'PC40 Graphs'!$G10,IF(AND($X$139=4,$AA$141=0,$AB$141=0),'PC32 Graphs'!$C10,IF(AND($X$139=3,$AA$140=0,$AB$140=0),'PC32 Graphs'!$E10,IF(AND($X$139=2,$AA$139=0,$AB$139=0),'PC25 Graphs'!$C11,IF(AND($X$139=1,$AA$138=0,$AB$138=0),'PC25 Graphs'!$E11)))))))","v":271},{"$f":"IF(AND($X$139=7,$AA$144=0,$AB$144=0),'PC40 Graphs'!$B68,IF(AND($X$139=6,$AA$143=0,$AB$143=0),'PC40 Graphs'!$D68,IF(AND($X$139=5,$AA$142=0,$AB$142=0),'PC40 Graphs'!$F68,IF(AND($X$139=4,$AA$141=0,$AB$141=0),'PC32 Graphs'!$B67,IF(AND($X$139=3,$AA$140=0,$AB$140=0),'PC32 Graphs'!$D67,IF(AND($X$139=2,$AA$139=0,$AB$139=0),'PC25 Graphs'!$B68,IF(AND($X$139=1,$AA$138=0,$AB$138=0),'PC25 Graphs'!$D68)))))))","v":{"v":910.5166666666668,"d":"911"}},{"$f":"IF(AND($X$139=7,$AA$144=0,$AB$144=0),'PC40 Graphs'!L68,IF(AND($X$139=6,$AA$143=0,$AB$143=0),'PC40 Graphs'!N68,IF(AND($X$139=5,$AA$142=0,$AB$142=0),'PC40 Graphs'!P68,IF(AND($X$139=4,$AA$141=0,$AB$141=0),'PC32 Graphs'!L67,IF(AND($X$139=3,$AA$140=0,$AB$140=0),'PC32 Graphs'!N67,IF(AND($X$139=2,$AA$139=0,$AB$139=0),'PC25 Graphs'!L68,IF(AND($X$139=1,$AA$138=0,$AB$138=0),'PC25 Graphs'!N68)))))))","v":918},{"v":133.33333333333334,"d":"133"},1158,271,null,null,{"$f":"Calc!B91","v":800},{"$f":"Calc!A91","v":0.8540000000000001},null,{"$f":"Calc!B25","v":5463.1},{"$f":"Calc!A25","v":2.5940683956043955},{"$nulls":8},0.8456800000000001,1280,2.4633575384615383,5715.8]
[null,5,"AKM22E",0.87,2.76,0.7,8000,0.16,null,5,null,null,"Name",{"$nulls":7},{"$f":"IF(AND($X$139=7,$AA$144=0,$AB$144=0),'PC40 Graphs'!$B11,IF(AND($X$139=6,$AA$143=0,$AB$143=0),'PC40 Graphs'!$D11,IF(AND($X$139=5,$AA$142=0,$AB$142=0),'PC40 Graphs'!$F11,IF(AND($X$139=4,$AA$141=0,$AB$141=0),'PC32 Graphs'!$B11,IF(AND($X$139=3,$AA$140=0,$AB$140=0),'PC32 Graphs'!$D11,IF(AND($X$139=2,$AA$139=0,$AB$139=0),'PC25 Graphs'!$B12,IF(AND($X$139=1,$AA$138=0,$AB$138=0),'PC25 Graphs'!$D12)))))))","v":160},{"$f":"IF(AND($X$139=7,$AA$144=0,$AB$144=0),'PC40 Graphs'!$C11,IF(AND($X$139=6,$AA$143=0,$AB$143=0),'PC40 Graphs'!$E11,IF(AND($X$139=5,$AA$142=0,$AB$142=0),'PC40 Graphs'!$G11,IF(AND($X$139=4,$AA$141=0,$AB$141=0),'PC32 Graphs'!$C11,IF(AND($X$139=3,$AA$140=0,$AB$140=0),'PC32 Graphs'!$E11,IF(AND($X$139=2,$AA$139=0,$AB$139=0),'PC25 Graphs'!$C12,IF(AND($X$139=1,$AA$138=0,$AB$138=0),'PC25 Graphs'!$E12)))))))","v":265},{"$f":"IF(AND($X$139=7,$AA$144=0,$AB$144=0),'PC40 Graphs'!$B69,IF(AND($X$139=6,$AA$143=0,$AB$143=0),'PC40 Graphs'!$D69,IF(AND($X$139=5,$AA$142=0,$AB$142=0),'PC40 Graphs'!$F69,IF(AND($X$139=4,$AA$141=0,$AB$141=0),'PC32 Graphs'!$B68,IF(AND($X$139=3,$AA$140=0,$AB$140=0),'PC32 Graphs'!$D68,IF(AND($X$139=2,$AA$139=0,$AB$139=0),'PC25 Graphs'!$B69,IF(AND($X$139=1,$AA$138=0,$AB$138=0),'PC25 Graphs'!$D69)))))))","v":{"v":924.2833333333333,"d":"924"}},{"$f":"IF(AND($X$139=7,$AA$144=0,$AB$144=0),'PC40 Graphs'!L69,IF(AND($X$139=6,$AA$143=0,$AB$143=0),'PC40 Graphs'!N69,IF(AND($X$139=5,$AA$142=0,$AB$142=0),'PC40 Graphs'!P69,IF(AND($X$139=4,$AA$141=0,$AB$141=0),'PC32 Graphs'!L68,IF(AND($X$139=3,$AA$140=0,$AB$140=0),'PC32 Graphs'!N68,IF(AND($X$139=2,$AA$139=0,$AB$139=0),'PC25 Graphs'!L69,IF(AND($X$139=1,$AA$138=0,$AB$138=0),'PC25 Graphs'!N69)))))))","v":896},160,1158,265,null,null,{"$f":"Calc!B92","v":960},{"$f":"Calc!A92","v":0.8508000000000001},null,{"$f":"Calc!B26","v":5545.7},{"$f":"Calc!A26","v":2.5510945054945053},{"$nulls":8},0.8431200000000001,1440,2.418594461538462,5803.3]
[null,6,"AKM23E",1.16,3.86,0.98,6500,0.22,null,6,null,{"$f":"Input!C37","v":10},"Nominal torque",{"$f":"L156=2","v":false},{"$nulls":6},{"$f":"IF(AND($X$139=7,$AA$144=0,$AB$144=0),'PC40 Graphs'!$B12,IF(AND($X$139=6,$AA$143=0,$AB$143=0),'PC40 Graphs'!$D12,IF(AND($X$139=5,$AA$142=0,$AB$142=0),'PC40 Graphs'!$F12,IF(AND($X$139=4,$AA$141=0,$AB$141=0),'PC32 Graphs'!$B12,IF(AND($X$139=3,$AA$140=0,$AB$140=0),'PC32 Graphs'!$D12,IF(AND($X$139=2,$AA$139=0,$AB$139=0),'PC25 Graphs'!$B13,IF(AND($X$139=1,$AA$138=0,$AB$138=0),'PC25 Graphs'!$D13)))))))","v":{"v":186.66666666666669,"d":"187"}},{"$f":"IF(AND($X$139=7,$AA$144=0,$AB$144=0),'PC40 Graphs'!$C12,IF(AND($X$139=6,$AA$143=0,$AB$143=0),'PC40 Graphs'!$E12,IF(AND($X$139=5,$AA$142=0,$AB$142=0),'PC40 Graphs'!$G12,IF(AND($X$139=4,$AA$141=0,$AB$141=0),'PC32 Graphs'!$C12,IF(AND($X$139=3,$AA$140=0,$AB$140=0),'PC32 Graphs'!$E12,IF(AND($X$139=2,$AA$139=0,$AB$139=0),'PC25 Graphs'!$C13,IF(AND($X$139=1,$AA$138=0,$AB$138=0),'PC25 Graphs'!$E13)))))))","v":259},{"$f":"IF(AND($X$139=7,$AA$144=0,$AB$144=0),'PC40 Graphs'!$B70,IF(AND($X$139=6,$AA$143=0,$AB$143=0),'PC40 Graphs'!$D70,IF(AND($X$139=5,$AA$142=0,$AB$142=0),'PC40 Graphs'!$F70,IF(AND($X$139=4,$AA$141=0,$AB$141=0),'PC32 Graphs'!$B69,IF(AND($X$139=3,$AA$140=0,$AB$140=0),'PC32 Graphs'!$D69,IF(AND($X$139=2,$AA$139=0,$AB$139=0),'PC25 Graphs'!$B70,IF(AND($X$139=1,$AA$138=0,$AB$138=0),'PC25 Graphs'!$D70)))))))","v":{"v":938.3333333333333,"d":"938"}},{"$f":"IF(AND($X$139=7,$AA$144=0,$AB$144=0),'PC40 Graphs'!L70,IF(AND($X$139=6,$AA$143=0,$AB$143=0),'PC40 Graphs'!N70,IF(AND($X$139=5,$AA$142=0,$AB$142=0),'PC40 Graphs'!P70,IF(AND($X$139=4,$AA$141=0,$AB$141=0),'PC32 Graphs'!L69,IF(AND($X$139=3,$AA$140=0,$AB$140=0),'PC32 Graphs'!N69,IF(AND($X$139=2,$AA$139=0,$AB$139=0),'PC25 Graphs'!L70,IF(AND($X$139=1,$AA$138=0,$AB$138=0),'PC25 Graphs'!N70)))))))","v":874},{"v":186.66666666666669,"d":"187"},1158,259,null,null,{"$f":"Calc!B93","v":1120},{"$f":"Calc!A93","v":0.8482400000000001},null,{"$f":"Calc!B27","v":5630},{"$f":"Calc!A27","v":2.5075242197802194},{"$nulls":8},0.8405600000000001,1600,2.373234989010989,5892.4]
[null,7,"AKM24E",1.4,4.79,1.24,5500,0.27,{"$nulls":3},{"$f":"Input!C38","v":10},"Peak torque",{"$nulls":7},{"$f":"IF(AND($X$139=7,$AA$144=0,$AB$144=0),'PC40 Graphs'!$B13,IF(AND($X$139=6,$AA$143=0,$AB$143=0),'PC40 Graphs'!$D13,IF(AND($X$139=5,$AA$142=0,$AB$142=0),'PC40 Graphs'!$F13,IF(AND($X$139=4,$AA$141=0,$AB$141=0),'PC32 Graphs'!$B13,IF(AND($X$139=3,$AA$140=0,$AB$140=0),'PC32 Graphs'!$D13,IF(AND($X$139=2,$AA$139=0,$AB$139=0),'PC25 Graphs'!$B14,IF(AND($X$139=1,$AA$138=0,$AB$138=0),'PC25 Graphs'!$D14)))))))","v":{"v":213.33333333333331,"d":"213"}},{"$f":"IF(AND($X$139=7,$AA$144=0,$AB$144=0),'PC40 Graphs'!$C13,IF(AND($X$139=6,$AA$143=0,$AB$143=0),'PC40 Graphs'!$E13,IF(AND($X$139=5,$AA$142=0,$AB$142=0),'PC40 Graphs'!$G13,IF(AND($X$139=4,$AA$141=0,$AB$141=0),'PC32 Graphs'!$C13,IF(AND($X$139=3,$AA$140=0,$AB$140=0),'PC32 Graphs'!$E13,IF(AND($X$139=2,$AA$139=0,$AB$139=0),'PC25 Graphs'!$C14,IF(AND($X$139=1,$AA$138=0,$AB$138=0),'PC25 Graphs'!$E14)))))))","v":253},{"$f":"IF(AND($X$139=7,$AA$144=0,$AB$144=0),'PC40 Graphs'!$B71,IF(AND($X$139=6,$AA$143=0,$AB$143=0),'PC40 Graphs'!$D71,IF(AND($X$139=5,$AA$142=0,$AB$142=0),'PC40 Graphs'!$F71,IF(AND($X$139=4,$AA$141=0,$AB$141=0),'PC32 Graphs'!$B70,IF(AND($X$139=3,$AA$140=0,$AB$140=0),'PC32 Graphs'!$D70,IF(AND($X$139=2,$AA$139=0,$AB$139=0),'PC25 Graphs'!$B71,IF(AND($X$139=1,$AA$138=0,$AB$138=0),'PC25 Graphs'!$D71)))))))","v":{"v":952.6333333333333,"d":"953"}},{"$f":"IF(AND($X$139=7,$AA$144=0,$AB$144=0),'PC40 Graphs'!L71,IF(AND($X$139=6,$AA$143=0,$AB$143=0),'PC40 Graphs'!N71,IF(AND($X$139=5,$AA$142=0,$AB$142=0),'PC40 Graphs'!P71,IF(AND($X$139=4,$AA$141=0,$AB$141=0),'PC32 Graphs'!L70,IF(AND($X$139=3,$AA$140=0,$AB$140=0),'PC32 Graphs'!N70,IF(AND($X$139=2,$AA$139=0,$AB$139=0),'PC25 Graphs'!L71,IF(AND($X$139=1,$AA$138=0,$AB$138=0),'PC25 Graphs'!N71)))))))","v":851},{"v":213.33333333333331,"d":"213"},1158,253,null,null,{"$f":"Calc!B94","v":1280},{"$f":"Calc!A94","v":0.8456800000000001},null,{"$f":"Calc!B28","v":5715.8},{"$f":"Calc!A28","v":2.4633575384615383},{"$nulls":8},0.8380000000000001,1760,2.3272791208791213,5983.2]
[null,8,"AKM31E",1.2,4,0.95,6000,0.33,{"$nulls":3},{"$f":"Input!C39","v":10},"Rated torque",{"$nulls":7},{"$f":"IF(AND($X$139=7,$AA$144=0,$AB$144=0),'PC40 Graphs'!$B14,IF(AND($X$139=6,$AA$143=0,$AB$143=0),'PC40 Graphs'!$D14,IF(AND($X$139=5,$AA$142=0,$AB$142=0),'PC40 Graphs'!$F14,IF(AND($X$139=4,$AA$141=0,$AB$141=0),'PC32 Graphs'!$B14,IF(AND($X$139=3,$AA$140=0,$AB$140=0),'PC32 Graphs'!$D14,IF(AND($X$139=2,$AA$139=0,$AB$139=0),'PC25 Graphs'!$B15,IF(AND($X$139=1,$AA$138=0,$AB$138=0),'PC25 Graphs'!$D15)))))))","v":240},{"$f":"IF(AND($X$139=7,$AA$144=0,$AB$144=0),'PC40 Graphs'!$C14,IF(AND($X$139=6,$AA$143=0,$AB$143=0),'PC40 Graphs'!$E14,IF(AND($X$139=5,$AA$142=0,$AB$142=0),'PC40 Graphs'!$G14,IF(AND($X$139=4,$AA$141=0,$AB$141=0),'PC32 Graphs'!$C14,IF(AND($X$139=3,$AA$140=0,$AB$140=0),'PC32 Graphs'!$E14,IF(AND($X$139=2,$AA$139=0,$AB$139=0),'PC25 Graphs'!$C15,IF(AND($X$139=1,$AA$138=0,$AB$138=0),'PC25 Graphs'!$E15)))))))","v":247},{"$f":"IF(AND($X$139=7,$AA$144=0,$AB$144=0),'PC40 Graphs'!$B72,IF(AND($X$139=6,$AA$143=0,$AB$143=0),'PC40 Graphs'!$D72,IF(AND($X$139=5,$AA$142=0,$AB$142=0),'PC40 Graphs'!$F72,IF(AND($X$139=4,$AA$141=0,$AB$141=0),'PC32 Graphs'!$B71,IF(AND($X$139=3,$AA$140=0,$AB$140=0),'PC32 Graphs'!$D71,IF(AND($X$139=2,$AA$139=0,$AB$139=0),'PC25 Graphs'!$B72,IF(AND($X$139=1,$AA$138=0,$AB$138=0),'PC25 Graphs'!$D72)))))))","v":{"v":967.2166666666667,"d":"967"}},{"$f":"IF(AND($X$139=7,$AA$144=0,$AB$144=0),'PC40 Graphs'!L72,IF(AND($X$139=6,$AA$143=0,$AB$143=0),'PC40 Graphs'!N72,IF(AND($X$139=5,$AA$142=0,$AB$142=0),'PC40 Graphs'!P72,IF(AND($X$139=4,$AA$141=0,$AB$141=0),'PC32 Graphs'!L71,IF(AND($X$139=3,$AA$140=0,$AB$140=0),'PC32 Graphs'!N71,IF(AND($X$139=2,$AA$139=0,$AB$139=0),'PC25 Graphs'!L72,IF(AND($X$139=1,$AA$138=0,$AB$138=0),'PC25 Graphs'!N72)))))))","v":828},240,1158,247,null,null,{"$f":"Calc!B95","v":1440},{"$f":"Calc!A95","v":0.8431200000000001},null,{"$f":"Calc!B29","v":5803.3},{"$f":"Calc!A29","v":2.418594461538462},{"$nulls":8},0.8354400000000001,1920,2.2807268571428576,6075.6]
[null,9,{"$f":"IF(AND($J$150=1,$J$170=2),C218,IF(AND($J$150=1,$J$170=1),C233,IF(AND($J$150=1,$J$170=3),C248,IF($J$150=3,C387,\"\"))))","v":"AKM32E"},2.04,7.11,1.91,3000,0.59,{"$nulls":3},{"$f":"Input!C40","v":4000},"Max speed",{"$nulls":7},{"$f":"IF(AND($X$139=7,$AA$144=0,$AB$144=0),'PC40 Graphs'!$B15,IF(AND($X$139=6,$AA$143=0,$AB$143=0),'PC40 Graphs'!$D15,IF(AND($X$139=5,$AA$142=0,$AB$142=0),'PC40 Graphs'!$F15,IF(AND($X$139=4,$AA$141=0,$AB$141=0),'PC32 Graphs'!$B15,IF(AND($X$139=3,$AA$140=0,$AB$140=0),'PC32 Graphs'!$D15,IF(AND($X$139=2,$AA$139=0,$AB$139=0),'PC25 Graphs'!$B16,IF(AND($X$139=1,$AA$138=0,$AB$138=0),'PC25 Graphs'!$D16)))))))","v":{"v":266.6666666666667,"d":"267"}},{"$f":"IF(AND($X$139=7,$AA$144=0,$AB$144=0),'PC40 Graphs'!$C15,IF(AND($X$139=6,$AA$143=0,$AB$143=0),'PC40 Graphs'!$E15,IF(AND($X$139=5,$AA$142=0,$AB$142=0),'PC40 Graphs'!$G15,IF(AND($X$139=4,$AA$141=0,$AB$141=0),'PC32 Graphs'!$C15,IF(AND($X$139=3,$AA$140=0,$AB$140=0),'PC32 Graphs'!$E15,IF(AND($X$139=2,$AA$139=0,$AB$139=0),'PC25 Graphs'!$C16,IF(AND($X$139=1,$AA$138=0,$AB$138=0),'PC25 Graphs'!$E16)))))))","v":241},{"$f":"IF(AND($X$139=7,$AA$144=0,$AB$144=0),'PC40 Graphs'!$B73,IF(AND($X$139=6,$AA$143=0,$AB$143=0),'PC40 Graphs'!$D73,IF(AND($X$139=5,$AA$142=0,$AB$142=0),'PC40 Graphs'!$F73,IF(AND($X$139=4,$AA$141=0,$AB$141=0),'PC32 Graphs'!$B72,IF(AND($X$139=3,$AA$140=0,$AB$140=0),'PC32 Graphs'!$D72,IF(AND($X$139=2,$AA$139=0,$AB$139=0),'PC25 Graphs'!$B73,IF(AND($X$139=1,$AA$138=0,$AB$138=0),'PC25 Graphs'!$D73)))))))","v":{"v":982.0666666666666,"d":"982"}},{"$f":"IF(AND($X$139=7,$AA$144=0,$AB$144=0),'PC40 Graphs'!L73,IF(AND($X$139=6,$AA$143=0,$AB$143=0),'PC40 Graphs'!N73,IF(AND($X$139=5,$AA$142=0,$AB$142=0),'PC40 Graphs'!P73,IF(AND($X$139=4,$AA$141=0,$AB$141=0),'PC32 Graphs'!L72,IF(AND($X$139=3,$AA$140=0,$AB$140=0),'PC32 Graphs'!N72,IF(AND($X$139=2,$AA$139=0,$AB$139=0),'PC25 Graphs'!L73,IF(AND($X$139=1,$AA$138=0,$AB$138=0),'PC25 Graphs'!N73)))))))","v":805},{"v":266.6666666666667,"d":"267"},1158,241,null,null,{"$f":"Calc!B96","v":1600},{"$f":"Calc!A96","v":0.8405600000000001},null,{"$f":"Calc!B30","v":5892.4},{"$f":"Calc!A30","v":2.373234989010989},{"$nulls":8},0.8328800000000001,2080,2.2335781978021974,6169.7]
[null,10,"AKM33H",2.88,10.22,2.27,5500,0.85,{"$nulls":3},{"$f":"Input!C41","v":{"v":0.5,"d":"0.50"}},"Inertia",{"$nulls":7},{"$f":"IF(AND($X$139=7,$AA$144=0,$AB$144=0),'PC40 Graphs'!$B16,IF(AND($X$139=6,$AA$143=0,$AB$143=0),'PC40 Graphs'!$D16,IF(AND($X$139=5,$AA$142=0,$AB$142=0),'PC40 Graphs'!$F16,IF(AND($X$139=4,$AA$141=0,$AB$141=0),'PC32 Graphs'!$B16,IF(AND($X$139=3,$AA$140=0,$AB$140=0),'PC32 Graphs'!$D16,IF(AND($X$139=2,$AA$139=0,$AB$139=0),'PC25 Graphs'!$B17,IF(AND($X$139=1,$AA$138=0,$AB$138=0),'PC25 Graphs'!$D17)))))))","v":{"v":293.3333333333333,"d":"293"}},{"$f":"IF(AND($X$139=7,$AA$144=0,$AB$144=0),'PC40 Graphs'!$C16,IF(AND($X$139=6,$AA$143=0,$AB$143=0),'PC40 Graphs'!$E16,IF(AND($X$139=5,$AA$142=0,$AB$142=0),'PC40 Graphs'!$G16,IF(AND($X$139=4,$AA$141=0,$AB$141=0),'PC32 Graphs'!$C16,IF(AND($X$139=3,$AA$140=0,$AB$140=0),'PC32 Graphs'!$E16,IF(AND($X$139=2,$AA$139=0,$AB$139=0),'PC25 Graphs'!$C17,IF(AND($X$139=1,$AA$138=0,$AB$138=0),'PC25 Graphs'!$E17)))))))","v":235},{"$f":"IF(AND($X$139=7,$AA$144=0,$AB$144=0),'PC40 Graphs'!$B74,IF(AND($X$139=6,$AA$143=0,$AB$143=0),'PC40 Graphs'!$D74,IF(AND($X$139=5,$AA$142=0,$AB$142=0),'PC40 Graphs'!$F74,IF(AND($X$139=4,$AA$141=0,$AB$141=0),'PC32 Graphs'!$B73,IF(AND($X$139=3,$AA$140=0,$AB$140=0),'PC32 Graphs'!$D73,IF(AND($X$139=2,$AA$139=0,$AB$139=0),'PC25 Graphs'!$B74,IF(AND($X$139=1,$AA$138=0,$AB$138=0),'PC25 Graphs'!$D74)))))))","v":{"v":997.2,"d":"997"}},{"$f":"IF(AND($X$139=7,$AA$144=0,$AB$144=0),'PC40 Graphs'!L74,IF(AND($X$139=6,$AA$143=0,$AB$143=0),'PC40 Graphs'!N74,IF(AND($X$139=5,$AA$142=0,$AB$142=0),'PC40 Graphs'!P74,IF(AND($X$139=4,$AA$141=0,$AB$141=0),'PC32 Graphs'!L73,IF(AND($X$139=3,$AA$140=0,$AB$140=0),'PC32 Graphs'!N73,IF(AND($X$139=2,$AA$139=0,$AB$139=0),'PC25 Graphs'!L74,IF(AND($X$139=1,$AA$138=0,$AB$138=0),'PC25 Graphs'!N74)))))))","v":781},{"v":293.3333333333333,"d":"293"},1158,235,null,null,{"$f":"Calc!B97","v":1760},{"$f":"Calc!A97","v":0.8380000000000001},null,{"$f":"Calc!B31","v":5983.2},{"$f":"Calc!A31","v":2.3272791208791213},{"$nulls":8},0.8303200000000001,2240,2.1858331428571427,6265.5]
[null,11,{"$f":"IF(AND($J$150=1,$J$170=2),C220,IF(AND($J$150=1,$J$170=1),C235,IF(AND($J$150=1,$J$170=3),\"\",IF($J$150=3,C389,\"\"))))","v":"AKM41H"},2.06,6.36,1.62,6000,0.81,null,{"$f":"LOOKUP(M162,K162:K163,J162:J163)","v":1},{"$f":"M162","v":"Kollmorgen AKM Servo"},{"$nulls":9},{"$f":"IF(AND($X$139=7,$AA$144=0,$AB$144=0),'PC40 Graphs'!$B17,IF(AND($X$139=6,$AA$143=0,$AB$143=0),'PC40 Graphs'!$D17,IF(AND($X$139=5,$AA$142=0,$AB$142=0),'PC40 Graphs'!$F17,IF(AND($X$139=4,$AA$141=0,$AB$141=0),'PC32 Graphs'!$B17,IF(AND($X$139=3,$AA$140=0,$AB$140=0),'PC32 Graphs'!$D17,IF(AND($X$139=2,$AA$139=0,$AB$139=0),'PC25 Graphs'!$B18,IF(AND($X$139=1,$AA$138=0,$AB$138=0),'PC25 Graphs'!$D18)))))))","v":320},{"$f":"IF(AND($X$139=7,$AA$144=0,$AB$144=0),'PC40 Graphs'!$C17,IF(AND($X$139=6,$AA$143=0,$AB$143=0),'PC40 Graphs'!$E17,IF(AND($X$139=5,$AA$142=0,$AB$142=0),'PC40 Graphs'!$G17,IF(AND($X$139=4,$AA$141=0,$AB$141=0),'PC32 Graphs'!$C17,IF(AND($X$139=3,$AA$140=0,$AB$140=0),'PC32 Graphs'!$E17,IF(AND($X$139=2,$AA$139=0,$AB$139=0),'PC25 Graphs'!$C18,IF(AND($X$139=1,$AA$138=0,$AB$138=0),'PC25 Graphs'!$E18)))))))","v":229},{"$f":"IF(AND($X$139=7,$AA$144=0,$AB$144=0),'PC40 Graphs'!$B75,IF(AND($X$139=6,$AA$143=0,$AB$143=0),'PC40 Graphs'!$D75,IF(AND($X$139=5,$AA$142=0,$AB$142=0),'PC40 Graphs'!$F75,IF(AND($X$139=4,$AA$141=0,$AB$141=0),'PC32 Graphs'!$B74,IF(AND($X$139=3,$AA$140=0,$AB$140=0),'PC32 Graphs'!$D74,IF(AND($X$139=2,$AA$139=0,$AB$139=0),'PC25 Graphs'!$B75,IF(AND($X$139=1,$AA$138=0,$AB$138=0),'PC25 Graphs'!$D75)))))))","v":1000},{"$f":"IF(AND($X$139=7,$AA$144=0,$AB$144=0),'PC40 Graphs'!L75,IF(AND($X$139=6,$AA$143=0,$AB$143=0),'PC40 Graphs'!N75,IF(AND($X$139=5,$AA$142=0,$AB$142=0),'PC40 Graphs'!P75,IF(AND($X$139=4,$AA$141=0,$AB$141=0),'PC32 Graphs'!L74,IF(AND($X$139=3,$AA$140=0,$AB$140=0),'PC32 Graphs'!N74,IF(AND($X$139=2,$AA$139=0,$AB$139=0),'PC25 Graphs'!L75,IF(AND($X$139=1,$AA$138=0,$AB$138=0),'PC25 Graphs'!N75)))))))","v":758},320,1158,229,null,null,{"$f":"Calc!B98","v":1920},{"$f":"Calc!A98","v":0.8354400000000001},null,{"$f":"Calc!B32","v":6075.6},{"$f":"Calc!A32","v":2.2807268571428576},{"$nulls":8},0.82776,2400,2.1374916923076923,6362.9]
[null,12,"AKM42J",3.56,11.6,2.38,6000,1.5,null,1,"Kollmorgen AKM Servo",null,"Kollmorgen AKM Servo",{"$nulls":7},{"$f":"IF(AND($X$139=7,$AA$144=0,$AB$144=0),'PC40 Graphs'!$B18,IF(AND($X$139=6,$AA$143=0,$AB$143=0),'PC40 Graphs'!$D18,IF(AND($X$139=5,$AA$142=0,$AB$142=0),'PC40 Graphs'!$F18,IF(AND($X$139=4,$AA$141=0,$AB$141=0),'PC32 Graphs'!$B18,IF(AND($X$139=3,$AA$140=0,$AB$140=0),'PC32 Graphs'!$D18,IF(AND($X$139=2,$AA$139=0,$AB$139=0),'PC25 Graphs'!$B19,IF(AND($X$139=1,$AA$138=0,$AB$138=0),'PC25 Graphs'!$D19)))))))","v":{"v":346.66666666666663,"d":"347"}},{"$f":"IF(AND($X$139=7,$AA$144=0,$AB$144=0),'PC40 Graphs'!$C18,IF(AND($X$139=6,$AA$143=0,$AB$143=0),'PC40 Graphs'!$E18,IF(AND($X$139=5,$AA$142=0,$AB$142=0),'PC40 Graphs'!$G18,IF(AND($X$139=4,$AA$141=0,$AB$141=0),'PC32 Graphs'!$C18,IF(AND($X$139=3,$AA$140=0,$AB$140=0),'PC32 Graphs'!$E18,IF(AND($X$139=2,$AA$139=0,$AB$139=0),'PC25 Graphs'!$C19,IF(AND($X$139=1,$AA$138=0,$AB$138=0),'PC25 Graphs'!$E19)))))))","v":223},{"$f":"IF(AND($X$139=7,$AA$144=0,$AB$144=0),'PC40 Graphs'!$B76,IF(AND($X$139=6,$AA$143=0,$AB$143=0),'PC40 Graphs'!$D76,IF(AND($X$139=5,$AA$142=0,$AB$142=0),'PC40 Graphs'!$F76,IF(AND($X$139=4,$AA$141=0,$AB$141=0),'PC32 Graphs'!$B75,IF(AND($X$139=3,$AA$140=0,$AB$140=0),'PC32 Graphs'!$D75,IF(AND($X$139=2,$AA$139=0,$AB$139=0),'PC25 Graphs'!$B76,IF(AND($X$139=1,$AA$138=0,$AB$138=0),'PC25 Graphs'!$D76)))))))","v":1000},{"$f":"IF(AND($X$139=7,$AA$144=0,$AB$144=0),'PC40 Graphs'!L76,IF(AND($X$139=6,$AA$143=0,$AB$143=0),'PC40 Graphs'!N76,IF(AND($X$139=5,$AA$142=0,$AB$142=0),'PC40 Graphs'!P76,IF(AND($X$139=4,$AA$141=0,$AB$141=0),'PC32 Graphs'!L75,IF(AND($X$139=3,$AA$140=0,$AB$140=0),'PC32 Graphs'!N75,IF(AND($X$139=2,$AA$139=0,$AB$139=0),'PC25 Graphs'!L76,IF(AND($X$139=1,$AA$138=0,$AB$138=0),'PC25 Graphs'!N76)))))))","v":733},{"v":346.66666666666663,"d":"347"},1158,223,null,null,{"$f":"Calc!B99","v":2080},{"$f":"Calc!A99","v":0.8328800000000001},null,{"$f":"Calc!B33","v":6169.7},{"$f":"Calc!A33","v":2.2335781978021974},{"$nulls":8},0.8252,2560,2.088553846153846,6461.9]
[null,13,"AKM43L",4.73,16,2.53,6000,2.1,null,2,"Customer Supplied",{"$nulls":9},{"$f":"IF(AND($X$139=7,$AA$144=0,$AB$144=0),'PC40 Graphs'!$B19,IF(AND($X$139=6,$AA$143=0,$AB$143=0),'PC40 Graphs'!$D19,IF(AND($X$139=5,$AA$142=0,$AB$142=0),'PC40 Graphs'!$F19,IF(AND($X$139=4,$AA$141=0,$AB$141=0),'PC32 Graphs'!$B19,IF(AND($X$139=3,$AA$140=0,$AB$140=0),'PC32 Graphs'!$D19,IF(AND($X$139=2,$AA$139=0,$AB$139=0),'PC25 Graphs'!$B20,IF(AND($X$139=1,$AA$138=0,$AB$138=0),'PC25 Graphs'!$D20)))))))","v":{"v":373.33333333333337,"d":"373"}},{"$f":"IF(AND($X$139=7,$AA$144=0,$AB$144=0),'PC40 Graphs'!$C19,IF(AND($X$139=6,$AA$143=0,$AB$143=0),'PC40 Graphs'!$E19,IF(AND($X$139=5,$AA$142=0,$AB$142=0),'PC40 Graphs'!$G19,IF(AND($X$139=4,$AA$141=0,$AB$141=0),'PC32 Graphs'!$C19,IF(AND($X$139=3,$AA$140=0,$AB$140=0),'PC32 Graphs'!$E19,IF(AND($X$139=2,$AA$139=0,$AB$139=0),'PC25 Graphs'!$C20,IF(AND($X$139=1,$AA$138=0,$AB$138=0),'PC25 Graphs'!$E20)))))))","v":217},{"$f":"IF(AND($X$139=7,$AA$144=0,$AB$144=0),'PC40 Graphs'!$B77,IF(AND($X$139=6,$AA$143=0,$AB$143=0),'PC40 Graphs'!$D77,IF(AND($X$139=5,$AA$142=0,$AB$142=0),'PC40 Graphs'!$F77,IF(AND($X$139=4,$AA$141=0,$AB$141=0),'PC32 Graphs'!$B76,IF(AND($X$139=3,$AA$140=0,$AB$140=0),'PC32 Graphs'!$D76,IF(AND($X$139=2,$AA$139=0,$AB$139=0),'PC25 Graphs'!$B77,IF(AND($X$139=1,$AA$138=0,$AB$138=0),'PC25 Graphs'!$D77)))))))","v":1000},{"$f":"IF(AND($X$139=7,$AA$144=0,$AB$144=0),'PC40 Graphs'!L77,IF(AND($X$139=6,$AA$143=0,$AB$143=0),'PC40 Graphs'!N77,IF(AND($X$139=5,$AA$142=0,$AB$142=0),'PC40 Graphs'!P77,IF(AND($X$139=4,$AA$141=0,$AB$141=0),'PC32 Graphs'!L76,IF(AND($X$139=3,$AA$140=0,$AB$140=0),'PC32 Graphs'!N76,IF(AND($X$139=2,$AA$139=0,$AB$139=0),'PC25 Graphs'!L77,IF(AND($X$139=1,$AA$138=0,$AB$138=0),'PC25 Graphs'!N77)))))))","v":709},{"v":373.33333333333337,"d":"373"},1158,217,null,null,{"$f":"Calc!B100","v":2240},{"$f":"Calc!A100","v":0.8303200000000001},null,{"$f":"Calc!B34","v":6265.5},{"$f":"Calc!A34","v":2.1858331428571427},{"$nulls":8},0.82264,2720,2.0390196043956044,6562.5]
[null,14,"AKM44J",6,20.4,3.84,4000,2.7,{"$nulls":12},{"$f":"IF(AND($X$139=7,$AA$144=0,$AB$144=0),'PC40 Graphs'!$B20,IF(AND($X$139=6,$AA$143=0,$AB$143=0),'PC40 Graphs'!$D20,IF(AND($X$139=5,$AA$142=0,$AB$142=0),'PC40 Graphs'!$F20,IF(AND($X$139=4,$AA$141=0,$AB$141=0),'PC32 Graphs'!$B20,IF(AND($X$139=3,$AA$140=0,$AB$140=0),'PC32 Graphs'!$D20,IF(AND($X$139=2,$AA$139=0,$AB$139=0),'PC25 Graphs'!$B21,IF(AND($X$139=1,$AA$138=0,$AB$138=0),'PC25 Graphs'!$D21)))))))","v":400},{"$f":"IF(AND($X$139=7,$AA$144=0,$AB$144=0),'PC40 Graphs'!$C20,IF(AND($X$139=6,$AA$143=0,$AB$143=0),'PC40 Graphs'!$E20,IF(AND($X$139=5,$AA$142=0,$AB$142=0),'PC40 Graphs'!$G20,IF(AND($X$139=4,$AA$141=0,$AB$141=0),'PC32 Graphs'!$C20,IF(AND($X$139=3,$AA$140=0,$AB$140=0),'PC32 Graphs'!$E20,IF(AND($X$139=2,$AA$139=0,$AB$139=0),'PC25 Graphs'!$C21,IF(AND($X$139=1,$AA$138=0,$AB$138=0),'PC25 Graphs'!$E21)))))))","v":211},{"$f":"IF(AND($X$139=7,$AA$144=0,$AB$144=0),'PC40 Graphs'!$B78,IF(AND($X$139=6,$AA$143=0,$AB$143=0),'PC40 Graphs'!$D78,IF(AND($X$139=5,$AA$142=0,$AB$142=0),'PC40 Graphs'!$F78,IF(AND($X$139=4,$AA$141=0,$AB$141=0),'PC32 Graphs'!$B77,IF(AND($X$139=3,$AA$140=0,$AB$140=0),'PC32 Graphs'!$D77,IF(AND($X$139=2,$AA$139=0,$AB$139=0),'PC25 Graphs'!$B78,IF(AND($X$139=1,$AA$138=0,$AB$138=0),'PC25 Graphs'!$D78)))))))","v":1000},{"$f":"IF(AND($X$139=7,$AA$144=0,$AB$144=0),'PC40 Graphs'!L78,IF(AND($X$139=6,$AA$143=0,$AB$143=0),'PC40 Graphs'!N78,IF(AND($X$139=5,$AA$142=0,$AB$142=0),'PC40 Graphs'!P78,IF(AND($X$139=4,$AA$141=0,$AB$141=0),'PC32 Graphs'!L77,IF(AND($X$139=3,$AA$140=0,$AB$140=0),'PC32 Graphs'!N77,IF(AND($X$139=2,$AA$139=0,$AB$139=0),'PC25 Graphs'!L78,IF(AND($X$139=1,$AA$138=0,$AB$138=0),'PC25 Graphs'!N78)))))))","v":684},400,1158,211,null,null,{"$f":"Calc!B101","v":2400},{"$f":"Calc!A101","v":0.82776},null,{"$f":"Calc!B35","v":6362.9},{"$f":"Calc!A35","v":2.1374916923076923},{"$nulls":8},0.82008,2880,1.9888889670329672,6664.7]
[null,15,{"$f":"IF(AND($J$150=1,$J$170=2),\"\",IF(AND($J$150=1,$J$170=1),\"\",IF(AND($J$150=1,$J$170=3),\"\",IF($J$150=3,C393,\"\"))))","v":""},"","","","","",{"$nulls":12},{"$f":"IF(AND($X$139=7,$AA$144=0,$AB$144=0),'PC40 Graphs'!$B21,IF(AND($X$139=6,$AA$143=0,$AB$143=0),'PC40 Graphs'!$D21,IF(AND($X$139=5,$AA$142=0,$AB$142=0),'PC40 Graphs'!$F21,IF(AND($X$139=4,$AA$141=0,$AB$141=0),'PC32 Graphs'!$B21,IF(AND($X$139=3,$AA$140=0,$AB$140=0),'PC32 Graphs'!$D21,IF(AND($X$139=2,$AA$139=0,$AB$139=0),'PC25 Graphs'!$B22,IF(AND($X$139=1,$AA$138=0,$AB$138=0),'PC25 Graphs'!$D22)))))))","v":{"v":426.66666666666663,"d":"427"}},{"$f":"IF(AND($X$139=7,$AA$144=0,$AB$144=0),'PC40 Graphs'!$C21,IF(AND($X$139=6,$AA$143=0,$AB$143=0),'PC40 Graphs'!$E21,IF(AND($X$139=5,$AA$142=0,$AB$142=0),'PC40 Graphs'!$G21,IF(AND($X$139=4,$AA$141=0,$AB$141=0),'PC32 Graphs'!$C21,IF(AND($X$139=3,$AA$140=0,$AB$140=0),'PC32 Graphs'!$E21,IF(AND($X$139=2,$AA$139=0,$AB$139=0),'PC25 Graphs'!$C22,IF(AND($X$139=1,$AA$138=0,$AB$138=0),'PC25 Graphs'!$E22)))))))","v":205},{"$f":"IF(AND($X$139=7,$AA$144=0,$AB$144=0),'PC40 Graphs'!$B79,IF(AND($X$139=6,$AA$143=0,$AB$143=0),'PC40 Graphs'!$D79,IF(AND($X$139=5,$AA$142=0,$AB$142=0),'PC40 Graphs'!$F79,IF(AND($X$139=4,$AA$141=0,$AB$141=0),'PC32 Graphs'!$B78,IF(AND($X$139=3,$AA$140=0,$AB$140=0),'PC32 Graphs'!$D78,IF(AND($X$139=2,$AA$139=0,$AB$139=0),'PC25 Graphs'!$B79,IF(AND($X$139=1,$AA$138=0,$AB$138=0),'PC25 Graphs'!$D79)))))))","v":1000},{"$f":"IF(AND($X$139=7,$AA$144=0,$AB$144=0),'PC40 Graphs'!L79,IF(AND($X$139=6,$AA$143=0,$AB$143=0),'PC40 Graphs'!N79,IF(AND($X$139=5,$AA$142=0,$AB$142=0),'PC40 Graphs'!P79,IF(AND($X$139=4,$AA$141=0,$AB$141=0),'PC32 Graphs'!L78,IF(AND($X$139=3,$AA$140=0,$AB$140=0),'PC32 Graphs'!N78,IF(AND($X$139=2,$AA$139=0,$AB$139=0),'PC25 Graphs'!L79,IF(AND($X$139=1,$AA$138=0,$AB$138=0),'PC25 Graphs'!N79)))))))","v":659},{"v":426.66666666666663,"d":"427"},1158,205,null,null,{"$f":"Calc!B102","v":2560},{"$f":"Calc!A102","v":0.8252},null,{"$f":"Calc!B36","v":6461.9},{"$f":"Calc!A36","v":2.088553846153846},{"$nulls":8},0.81752,3040,1.938161934065934,6768.4]
[null,16,"","","","","","",{"$nulls":12},{"$f":"IF(AND($X$139=7,$AA$144=0,$AB$144=0),'PC40 Graphs'!$B22,IF(AND($X$139=6,$AA$143=0,$AB$143=0),'PC40 Graphs'!$D22,IF(AND($X$139=5,$AA$142=0,$AB$142=0),'PC40 Graphs'!$F22,IF(AND($X$139=4,$AA$141=0,$AB$141=0),'PC32 Graphs'!$B22,IF(AND($X$139=3,$AA$140=0,$AB$140=0),'PC32 Graphs'!$D22,IF(AND($X$139=2,$AA$139=0,$AB$139=0),'PC25 Graphs'!$B23,IF(AND($X$139=1,$AA$138=0,$AB$138=0),'PC25 Graphs'!$D23)))))))","v":{"v":453.33333333333337,"d":"453"}},{"$f":"IF(AND($X$139=7,$AA$144=0,$AB$144=0),'PC40 Graphs'!$C22,IF(AND($X$139=6,$AA$143=0,$AB$143=0),'PC40 Graphs'!$E22,IF(AND($X$139=5,$AA$142=0,$AB$142=0),'PC40 Graphs'!$G22,IF(AND($X$139=4,$AA$141=0,$AB$141=0),'PC32 Graphs'!$C22,IF(AND($X$139=3,$AA$140=0,$AB$140=0),'PC32 Graphs'!$E22,IF(AND($X$139=2,$AA$139=0,$AB$139=0),'PC25 Graphs'!$C23,IF(AND($X$139=1,$AA$138=0,$AB$138=0),'PC25 Graphs'!$E23)))))))","v":199},{"$f":"IF(AND($X$139=7,$AA$144=0,$AB$144=0),'PC40 Graphs'!$B80,IF(AND($X$139=6,$AA$143=0,$AB$143=0),'PC40 Graphs'!$D80,IF(AND($X$139=5,$AA$142=0,$AB$142=0),'PC40 Graphs'!$F80,IF(AND($X$139=4,$AA$141=0,$AB$141=0),'PC32 Graphs'!$B79,IF(AND($X$139=3,$AA$140=0,$AB$140=0),'PC32 Graphs'!$D79,IF(AND($X$139=2,$AA$139=0,$AB$139=0),'PC25 Graphs'!$B80,IF(AND($X$139=1,$AA$138=0,$AB$138=0),'PC25 Graphs'!$D80)))))))","v":1000},{"$f":"IF(AND($X$139=7,$AA$144=0,$AB$144=0),'PC40 Graphs'!L80,IF(AND($X$139=6,$AA$143=0,$AB$143=0),'PC40 Graphs'!N80,IF(AND($X$139=5,$AA$142=0,$AB$142=0),'PC40 Graphs'!P80,IF(AND($X$139=4,$AA$141=0,$AB$141=0),'PC32 Graphs'!L79,IF(AND($X$139=3,$AA$140=0,$AB$140=0),'PC32 Graphs'!N79,IF(AND($X$139=2,$AA$139=0,$AB$139=0),'PC25 Graphs'!L80,IF(AND($X$139=1,$AA$138=0,$AB$138=0),'PC25 Graphs'!N80)))))))","v":634},{"v":453.33333333333337,"d":"453"},1158,199,null,null,{"$f":"Calc!B103","v":2720},{"$f":"Calc!A103","v":0.82264},null,{"$f":"Calc!B37","v":6562.5},{"$f":"Calc!A37","v":2.0390196043956044},{"$nulls":8},0.81496,3200,1.8868385054945054,6873.6]
[null,17,"","","","","","",{"$nulls":12},{"$f":"IF(AND($X$139=7,$AA$144=0,$AB$144=0),'PC40 Graphs'!$B23,IF(AND($X$139=6,$AA$143=0,$AB$143=0),'PC40 Graphs'!$D23,IF(AND($X$139=5,$AA$142=0,$AB$142=0),'PC40 Graphs'!$F23,IF(AND($X$139=4,$AA$141=0,$AB$141=0),'PC32 Graphs'!$B23,IF(AND($X$139=3,$AA$140=0,$AB$140=0),'PC32 Graphs'!$D23,IF(AND($X$139=2,$AA$139=0,$AB$139=0),'PC25 Graphs'!$B24,IF(AND($X$139=1,$AA$138=0,$AB$138=0),'PC25 Graphs'!$D24)))))))","v":480},{"$f":"IF(AND($X$139=7,$AA$144=0,$AB$144=0),'PC40 Graphs'!$C23,IF(AND($X$139=6,$AA$143=0,$AB$143=0),'PC40 Graphs'!$E23,IF(AND($X$139=5,$AA$142=0,$AB$142=0),'PC40 Graphs'!$G23,IF(AND($X$139=4,$AA$141=0,$AB$141=0),'PC32 Graphs'!$C23,IF(AND($X$139=3,$AA$140=0,$AB$140=0),'PC32 Graphs'!$E23,IF(AND($X$139=2,$AA$139=0,$AB$139=0),'PC25 Graphs'!$C24,IF(AND($X$139=1,$AA$138=0,$AB$138=0),'PC25 Graphs'!$E24)))))))","v":193},{"$f":"IF(AND($X$139=7,$AA$144=0,$AB$144=0),'PC40 Graphs'!$B81,IF(AND($X$139=6,$AA$143=0,$AB$143=0),'PC40 Graphs'!$D81,IF(AND($X$139=5,$AA$142=0,$AB$142=0),'PC40 Graphs'!$F81,IF(AND($X$139=4,$AA$141=0,$AB$141=0),'PC32 Graphs'!$B80,IF(AND($X$139=3,$AA$140=0,$AB$140=0),'PC32 Graphs'!$D80,IF(AND($X$139=2,$AA$139=0,$AB$139=0),'PC25 Graphs'!$B81,IF(AND($X$139=1,$AA$138=0,$AB$138=0),'PC25 Graphs'!$D81)))))))","v":1000},{"$f":"IF(AND($X$139=7,$AA$144=0,$AB$144=0),'PC40 Graphs'!L81,IF(AND($X$139=6,$AA$143=0,$AB$143=0),'PC40 Graphs'!N81,IF(AND($X$139=5,$AA$142=0,$AB$142=0),'PC40 Graphs'!P81,IF(AND($X$139=4,$AA$141=0,$AB$141=0),'PC32 Graphs'!L80,IF(AND($X$139=3,$AA$140=0,$AB$140=0),'PC32 Graphs'!N80,IF(AND($X$139=2,$AA$139=0,$AB$139=0),'PC25 Graphs'!L81,IF(AND($X$139=1,$AA$138=0,$AB$138=0),'PC25 Graphs'!N81)))))))","v":608},480,1158,193,null,null,{"$f":"Calc!B104","v":2880},{"$f":"Calc!A104","v":0.82008},null,{"$f":"Calc!B38","v":6664.7},{"$f":"Calc!A38","v":1.9888889670329672},{"$nulls":8},0.8124,3360,1.834918681318681,6980.1]
[null,18,"","","","","","",{"$nulls":12},{"$f":"IF(AND($X$139=7,$AA$144=0,$AB$144=0),'PC40 Graphs'!$B24,IF(AND($X$139=6,$AA$143=0,$AB$143=0),'PC40 Graphs'!$D24,IF(AND($X$139=5,$AA$142=0,$AB$142=0),'PC40 Graphs'!$F24,IF(AND($X$139=4,$AA$141=0,$AB$141=0),'PC32 Graphs'!$B24,IF(AND($X$139=3,$AA$140=0,$AB$140=0),'PC32 Graphs'!$D24,IF(AND($X$139=2,$AA$139=0,$AB$139=0),'PC25 Graphs'!$B25,IF(AND($X$139=1,$AA$138=0,$AB$138=0),'PC25 Graphs'!$D25)))))))","v":{"v":506.66666666666663,"d":"507"}},{"$f":"IF(AND($X$139=7,$AA$144=0,$AB$144=0),'PC40 Graphs'!$C24,IF(AND($X$139=6,$AA$143=0,$AB$143=0),'PC40 Graphs'!$E24,IF(AND($X$139=5,$AA$142=0,$AB$142=0),'PC40 Graphs'!$G24,IF(AND($X$139=4,$AA$141=0,$AB$141=0),'PC32 Graphs'!$C24,IF(AND($X$139=3,$AA$140=0,$AB$140=0),'PC32 Graphs'!$E24,IF(AND($X$139=2,$AA$139=0,$AB$139=0),'PC25 Graphs'!$C25,IF(AND($X$139=1,$AA$138=0,$AB$138=0),'PC25 Graphs'!$E25)))))))","v":187},{"$f":"IF(AND($X$139=7,$AA$144=0,$AB$144=0),'PC40 Graphs'!$B82,IF(AND($X$139=6,$AA$143=0,$AB$143=0),'PC40 Graphs'!$D82,IF(AND($X$139=5,$AA$142=0,$AB$142=0),'PC40 Graphs'!$F82,IF(AND($X$139=4,$AA$141=0,$AB$141=0),'PC32 Graphs'!$B81,IF(AND($X$139=3,$AA$140=0,$AB$140=0),'PC32 Graphs'!$D81,IF(AND($X$139=2,$AA$139=0,$AB$139=0),'PC25 Graphs'!$B82,IF(AND($X$139=1,$AA$138=0,$AB$138=0),'PC25 Graphs'!$D82)))))))","v":1000},{"$f":"IF(AND($X$139=7,$AA$144=0,$AB$144=0),'PC40 Graphs'!L82,IF(AND($X$139=6,$AA$143=0,$AB$143=0),'PC40 Graphs'!N82,IF(AND($X$139=5,$AA$142=0,$AB$142=0),'PC40 Graphs'!P82,IF(AND($X$139=4,$AA$141=0,$AB$141=0),'PC32 Graphs'!L81,IF(AND($X$139=3,$AA$140=0,$AB$140=0),'PC32 Graphs'!N81,IF(AND($X$139=2,$AA$139=0,$AB$139=0),'PC25 Graphs'!L82,IF(AND($X$139=1,$AA$138=0,$AB$138=0),'PC25 Graphs'!N82)))))))","v":582},{"v":506.66666666666663,"d":"507"},1158,187,null,null,{"$f":"Calc!B105","v":3040},{"$f":"Calc!A105","v":0.81752},null,{"$f":"Calc!B39","v":6768.4},{"$f":"Calc!A39","v":1.938161934065934},{"$nulls":8},0.8084888888888889,3520,1.7824024615384615,7088]
[null,19,"","","","","","",null,"Chosen Input Voltage",null,null,160,{"$nulls":7},{"$f":"IF(AND($X$139=7,$AA$144=0,$AB$144=0),'PC40 Graphs'!$B25,IF(AND($X$139=6,$AA$143=0,$AB$143=0),'PC40 Graphs'!$D25,IF(AND($X$139=5,$AA$142=0,$AB$142=0),'PC40 Graphs'!$F25,IF(AND($X$139=4,$AA$141=0,$AB$141=0),'PC32 Graphs'!$B25,IF(AND($X$139=3,$AA$140=0,$AB$140=0),'PC32 Graphs'!$D25,IF(AND($X$139=2,$AA$139=0,$AB$139=0),'PC25 Graphs'!$B26,IF(AND($X$139=1,$AA$138=0,$AB$138=0),'PC25 Graphs'!$D26)))))))","v":{"v":533.3333333333334,"d":"533"}},{"$f":"IF(AND($X$139=7,$AA$144=0,$AB$144=0),'PC40 Graphs'!$C25,IF(AND($X$139=6,$AA$143=0,$AB$143=0),'PC40 Graphs'!$E25,IF(AND($X$139=5,$AA$142=0,$AB$142=0),'PC40 Graphs'!$G25,IF(AND($X$139=4,$AA$141=0,$AB$141=0),'PC32 Graphs'!$C25,IF(AND($X$139=3,$AA$140=0,$AB$140=0),'PC32 Graphs'!$E25,IF(AND($X$139=2,$AA$139=0,$AB$139=0),'PC25 Graphs'!$C26,IF(AND($X$139=1,$AA$138=0,$AB$138=0),'PC25 Graphs'!$E26)))))))","v":181},{"$f":"IF(AND($X$139=7,$AA$144=0,$AB$144=0),'PC40 Graphs'!$B83,IF(AND($X$139=6,$AA$143=0,$AB$143=0),'PC40 Graphs'!$D83,IF(AND($X$139=5,$AA$142=0,$AB$142=0),'PC40 Graphs'!$F83,IF(AND($X$139=4,$AA$141=0,$AB$141=0),'PC32 Graphs'!$B82,IF(AND($X$139=3,$AA$140=0,$AB$140=0),'PC32 Graphs'!$D82,IF(AND($X$139=2,$AA$139=0,$AB$139=0),'PC25 Graphs'!$B83,IF(AND($X$139=1,$AA$138=0,$AB$138=0),'PC25 Graphs'!$D83)))))))","v":1000},{"$f":"IF(AND($X$139=7,$AA$144=0,$AB$144=0),'PC40 Graphs'!L83,IF(AND($X$139=6,$AA$143=0,$AB$143=0),'PC40 Graphs'!N83,IF(AND($X$139=5,$AA$142=0,$AB$142=0),'PC40 Graphs'!P83,IF(AND($X$139=4,$AA$141=0,$AB$141=0),'PC32 Graphs'!L82,IF(AND($X$139=3,$AA$140=0,$AB$140=0),'PC32 Graphs'!N82,IF(AND($X$139=2,$AA$139=0,$AB$139=0),'PC25 Graphs'!L83,IF(AND($X$139=1,$AA$138=0,$AB$138=0),'PC25 Graphs'!N83)))))))","v":555},{"v":533.3333333333334,"d":"533"},1158,181,null,null,{"$f":"Calc!B106","v":3200},{"$f":"Calc!A106","v":0.81496},null,{"$f":"Calc!B40","v":6873.6},{"$f":"Calc!A40","v":1.8868385054945054},{"$nulls":8},0.8045777777777778,3680,1.7292898461538462,7197.1]
[null,20,"","","","","","",null,{"$f":"IF(OR($J$150=1,$J$150=2),LOOKUP($K$170,$K$171:$K$173,$J$171:$J$173),\"\")","v":2},{"$f":"IF(OR(J150=1,J150=2),Input!C32,\"\")","v":"240"},{"$f":"IF(J170=1,160,IF(J170=2,320,560))","v":320},320,{"$nulls":7},{"$f":"IF(AND($X$139=7,$AA$144=0,$AB$144=0),'PC40 Graphs'!$B26,IF(AND($X$139=6,$AA$143=0,$AB$143=0),'PC40 Graphs'!$D26,IF(AND($X$139=5,$AA$142=0,$AB$142=0),'PC40 Graphs'!$F26,IF(AND($X$139=4,$AA$141=0,$AB$141=0),'PC32 Graphs'!$B26,IF(AND($X$139=3,$AA$140=0,$AB$140=0),'PC32 Graphs'!$D26,IF(AND($X$139=2,$AA$139=0,$AB$139=0),'PC25 Graphs'!$B27,IF(AND($X$139=1,$AA$138=0,$AB$138=0),'PC25 Graphs'!$D27)))))))","v":560},{"$f":"IF(AND($X$139=7,$AA$144=0,$AB$144=0),'PC40 Graphs'!$C26,IF(AND($X$139=6,$AA$143=0,$AB$143=0),'PC40 Graphs'!$E26,IF(AND($X$139=5,$AA$142=0,$AB$142=0),'PC40 Graphs'!$G26,IF(AND($X$139=4,$AA$141=0,$AB$141=0),'PC32 Graphs'!$C26,IF(AND($X$139=3,$AA$140=0,$AB$140=0),'PC32 Graphs'!$E26,IF(AND($X$139=2,$AA$139=0,$AB$139=0),'PC25 Graphs'!$C27,IF(AND($X$139=1,$AA$138=0,$AB$138=0),'PC25 Graphs'!$E27)))))))","v":175},{"$f":"IF(AND($X$139=7,$AA$144=0,$AB$144=0),'PC40 Graphs'!$B84,IF(AND($X$139=6,$AA$143=0,$AB$143=0),'PC40 Graphs'!$D84,IF(AND($X$139=5,$AA$142=0,$AB$142=0),'PC40 Graphs'!$F84,IF(AND($X$139=4,$AA$141=0,$AB$141=0),'PC32 Graphs'!$B83,IF(AND($X$139=3,$AA$140=0,$AB$140=0),'PC32 Graphs'!$D83,IF(AND($X$139=2,$AA$139=0,$AB$139=0),'PC25 Graphs'!$B84,IF(AND($X$139=1,$AA$138=0,$AB$138=0),'PC25 Graphs'!$D84)))))))","v":1000},{"$f":"IF(AND($X$139=7,$AA$144=0,$AB$144=0),'PC40 Graphs'!L84,IF(AND($X$139=6,$AA$143=0,$AB$143=0),'PC40 Graphs'!N84,IF(AND($X$139=5,$AA$142=0,$AB$142=0),'PC40 Graphs'!P84,IF(AND($X$139=4,$AA$141=0,$AB$141=0),'PC32 Graphs'!L83,IF(AND($X$139=3,$AA$140=0,$AB$140=0),'PC32 Graphs'!N83,IF(AND($X$139=2,$AA$139=0,$AB$139=0),'PC25 Graphs'!L84,IF(AND($X$139=1,$AA$138=0,$AB$138=0),'PC25 Graphs'!N84)))))))","v":529},560,1158,175,null,null,{"$f":"Calc!B107","v":3360},{"$f":"Calc!A107","v":0.8124},null,{"$f":"Calc!B41","v":6980.1},{"$f":"Calc!A41","v":1.834918681318681},{"$nulls":8},0.8006666666666667,3840,1.6755808351648354,7307.4]
[null,21,"","","","","","",null,1,{"$f":"IF(J150=1,\"120\",IF(J150=2,\"12\",\"\"))","v":"120"},null,560,{"$nulls":7},{"$f":"IF(AND($X$139=7,$AA$144=0,$AB$144=0),'PC40 Graphs'!$B27,IF(AND($X$139=6,$AA$143=0,$AB$143=0),'PC40 Graphs'!$D27,IF(AND($X$139=5,$AA$142=0,$AB$142=0),'PC40 Graphs'!$F27,IF(AND($X$139=4,$AA$141=0,$AB$141=0),'PC32 Graphs'!$B27,IF(AND($X$139=3,$AA$140=0,$AB$140=0),'PC32 Graphs'!$D27,IF(AND($X$139=2,$AA$139=0,$AB$139=0),'PC25 Graphs'!$B28,IF(AND($X$139=1,$AA$138=0,$AB$138=0),'PC25 Graphs'!$D28)))))))","v":{"v":586.6666666666666,"d":"587"}},{"$f":"IF(AND($X$139=7,$AA$144=0,$AB$144=0),'PC40 Graphs'!$C27,IF(AND($X$139=6,$AA$143=0,$AB$143=0),'PC40 Graphs'!$E27,IF(AND($X$139=5,$AA$142=0,$AB$142=0),'PC40 Graphs'!$G27,IF(AND($X$139=4,$AA$141=0,$AB$141=0),'PC32 Graphs'!$C27,IF(AND($X$139=3,$AA$140=0,$AB$140=0),'PC32 Graphs'!$E27,IF(AND($X$139=2,$AA$139=0,$AB$139=0),'PC25 Graphs'!$C28,IF(AND($X$139=1,$AA$138=0,$AB$138=0),'PC25 Graphs'!$E28)))))))","v":169},{"$f":"IF(AND($X$139=7,$AA$144=0,$AB$144=0),'PC40 Graphs'!$B85,IF(AND($X$139=6,$AA$143=0,$AB$143=0),'PC40 Graphs'!$D85,IF(AND($X$139=5,$AA$142=0,$AB$142=0),'PC40 Graphs'!$F85,IF(AND($X$139=4,$AA$141=0,$AB$141=0),'PC32 Graphs'!$B84,IF(AND($X$139=3,$AA$140=0,$AB$140=0),'PC32 Graphs'!$D84,IF(AND($X$139=2,$AA$139=0,$AB$139=0),'PC25 Graphs'!$B85,IF(AND($X$139=1,$AA$138=0,$AB$138=0),'PC25 Graphs'!$D85)))))))","v":1000},{"$f":"IF(AND($X$139=7,$AA$144=0,$AB$144=0),'PC40 Graphs'!L85,IF(AND($X$139=6,$AA$143=0,$AB$143=0),'PC40 Graphs'!N85,IF(AND($X$139=5,$AA$142=0,$AB$142=0),'PC40 Graphs'!P85,IF(AND($X$139=4,$AA$141=0,$AB$141=0),'PC32 Graphs'!L84,IF(AND($X$139=3,$AA$140=0,$AB$140=0),'PC32 Graphs'!N84,IF(AND($X$139=2,$AA$139=0,$AB$139=0),'PC25 Graphs'!L85,IF(AND($X$139=1,$AA$138=0,$AB$138=0),'PC25 Graphs'!N85)))))))","v":502},{"v":586.6666666666666,"d":"587"},1158,169,null,null,{"$f":"Calc!B108","v":3520},{"$f":"Calc!A108","v":0.8084888888888889},null,{"$f":"Calc!B42","v":7088},{"$f":"Calc!A42","v":1.7824024615384615},{"$nulls":8},0.7967555555555557,4000,1.6212754285714288,7418.7]
[null,22,"","","","","","",null,2,{"$f":"IF(J150=1,\"240\",IF(J150=2,\"24\",\"\"))","v":"240"},{"$nulls":9},{"$f":"IF(AND($X$139=7,$AA$144=0,$AB$144=0),'PC40 Graphs'!$B28,IF(AND($X$139=6,$AA$143=0,$AB$143=0),'PC40 Graphs'!$D28,IF(AND($X$139=5,$AA$142=0,$AB$142=0),'PC40 Graphs'!$F28,IF(AND($X$139=4,$AA$141=0,$AB$141=0),'PC32 Graphs'!$B28,IF(AND($X$139=3,$AA$140=0,$AB$140=0),'PC32 Graphs'!$D28,IF(AND($X$139=2,$AA$139=0,$AB$139=0),'PC25 Graphs'!$B29,IF(AND($X$139=1,$AA$138=0,$AB$138=0),'PC25 Graphs'!$D29)))))))","v":{"v":613.3333333333334,"d":"613"}},{"$f":"IF(AND($X$139=7,$AA$144=0,$AB$144=0),'PC40 Graphs'!$C28,IF(AND($X$139=6,$AA$143=0,$AB$143=0),'PC40 Graphs'!$E28,IF(AND($X$139=5,$AA$142=0,$AB$142=0),'PC40 Graphs'!$G28,IF(AND($X$139=4,$AA$141=0,$AB$141=0),'PC32 Graphs'!$C28,IF(AND($X$139=3,$AA$140=0,$AB$140=0),'PC32 Graphs'!$E28,IF(AND($X$139=2,$AA$139=0,$AB$139=0),'PC25 Graphs'!$C29,IF(AND($X$139=1,$AA$138=0,$AB$138=0),'PC25 Graphs'!$E29)))))))","v":162},{"$f":"IF(AND($X$139=7,$AA$144=0,$AB$144=0),'PC40 Graphs'!$B86,IF(AND($X$139=6,$AA$143=0,$AB$143=0),'PC40 Graphs'!$D86,IF(AND($X$139=5,$AA$142=0,$AB$142=0),'PC40 Graphs'!$F86,IF(AND($X$139=4,$AA$141=0,$AB$141=0),'PC32 Graphs'!$B85,IF(AND($X$139=3,$AA$140=0,$AB$140=0),'PC32 Graphs'!$D85,IF(AND($X$139=2,$AA$139=0,$AB$139=0),'PC25 Graphs'!$B86,IF(AND($X$139=1,$AA$138=0,$AB$138=0),'PC25 Graphs'!$D86)))))))","v":1000},{"$f":"IF(AND($X$139=7,$AA$144=0,$AB$144=0),'PC40 Graphs'!L86,IF(AND($X$139=6,$AA$143=0,$AB$143=0),'PC40 Graphs'!N86,IF(AND($X$139=5,$AA$142=0,$AB$142=0),'PC40 Graphs'!P86,IF(AND($X$139=4,$AA$141=0,$AB$141=0),'PC32 Graphs'!L85,IF(AND($X$139=3,$AA$140=0,$AB$140=0),'PC32 Graphs'!N85,IF(AND($X$139=2,$AA$139=0,$AB$139=0),'PC25 Graphs'!L86,IF(AND($X$139=1,$AA$138=0,$AB$138=0),'PC25 Graphs'!N86)))))))","v":474},{"v":613.3333333333334,"d":"613"},1158,162,null,null,{"$f":"Calc!B109","v":3680},{"$f":"Calc!A109","v":0.8045777777777778},null,{"$f":"Calc!B43","v":7197.1},{"$f":"Calc!A43","v":1.7292898461538462},{"$nulls":8},0.7928444444444446,4160,1.5663736263736265,7530.8]
[null,23,"","","","","","",null,3,{"$f":"IF(J150=1,\"400\",IF(J150=2,48,\"\"))","v":"400"},{"$nulls":9},{"$f":"IF(AND($X$139=7,$AA$144=0,$AB$144=0),'PC40 Graphs'!$B29,IF(AND($X$139=6,$AA$143=0,$AB$143=0),'PC40 Graphs'!$D29,IF(AND($X$139=5,$AA$142=0,$AB$142=0),'PC40 Graphs'!$F29,IF(AND($X$139=4,$AA$141=0,$AB$141=0),'PC32 Graphs'!$B29,IF(AND($X$139=3,$AA$140=0,$AB$140=0),'PC32 Graphs'!$D29,IF(AND($X$139=2,$AA$139=0,$AB$139=0),'PC25 Graphs'!$B30,IF(AND($X$139=1,$AA$138=0,$AB$138=0),'PC25 Graphs'!$D30)))))))","v":640},{"$f":"IF(AND($X$139=7,$AA$144=0,$AB$144=0),'PC40 Graphs'!$C29,IF(AND($X$139=6,$AA$143=0,$AB$143=0),'PC40 Graphs'!$E29,IF(AND($X$139=5,$AA$142=0,$AB$142=0),'PC40 Graphs'!$G29,IF(AND($X$139=4,$AA$141=0,$AB$141=0),'PC32 Graphs'!$C29,IF(AND($X$139=3,$AA$140=0,$AB$140=0),'PC32 Graphs'!$E29,IF(AND($X$139=2,$AA$139=0,$AB$139=0),'PC25 Graphs'!$C30,IF(AND($X$139=1,$AA$138=0,$AB$138=0),'PC25 Graphs'!$E30)))))))","v":155},{"$f":"IF(AND($X$139=7,$AA$144=0,$AB$144=0),'PC40 Graphs'!$B87,IF(AND($X$139=6,$AA$143=0,$AB$143=0),'PC40 Graphs'!$D87,IF(AND($X$139=5,$AA$142=0,$AB$142=0),'PC40 Graphs'!$F87,IF(AND($X$139=4,$AA$141=0,$AB$141=0),'PC32 Graphs'!$B86,IF(AND($X$139=3,$AA$140=0,$AB$140=0),'PC32 Graphs'!$D86,IF(AND($X$139=2,$AA$139=0,$AB$139=0),'PC25 Graphs'!$B87,IF(AND($X$139=1,$AA$138=0,$AB$138=0),'PC25 Graphs'!$D87)))))))","v":1000},{"$f":"IF(AND($X$139=7,$AA$144=0,$AB$144=0),'PC40 Graphs'!L87,IF(AND($X$139=6,$AA$143=0,$AB$143=0),'PC40 Graphs'!N87,IF(AND($X$139=5,$AA$142=0,$AB$142=0),'PC40 Graphs'!P87,IF(AND($X$139=4,$AA$141=0,$AB$141=0),'PC32 Graphs'!L86,IF(AND($X$139=3,$AA$140=0,$AB$140=0),'PC32 Graphs'!N86,IF(AND($X$139=2,$AA$139=0,$AB$139=0),'PC25 Graphs'!L87,IF(AND($X$139=1,$AA$138=0,$AB$138=0),'PC25 Graphs'!N87)))))))","v":447},640,1158,155,null,null,{"$f":"Calc!B110","v":3840},{"$f":"Calc!A110","v":0.8006666666666667},null,{"$f":"Calc!B44","v":7307.4},{"$f":"Calc!A44","v":1.6755808351648354},{"$nulls":8},0.7889333333333335,4320,1.5108754285714285,7643.7]
[null,24,"","","","","","",{"$nulls":12},{"$f":"IF(AND($X$139=7,$AA$144=0,$AB$144=0),'PC40 Graphs'!$B30,IF(AND($X$139=6,$AA$143=0,$AB$143=0),'PC40 Graphs'!$D30,IF(AND($X$139=5,$AA$142=0,$AB$142=0),'PC40 Graphs'!$F30,IF(AND($X$139=4,$AA$141=0,$AB$141=0),'PC32 Graphs'!$B30,IF(AND($X$139=3,$AA$140=0,$AB$140=0),'PC32 Graphs'!$D30,IF(AND($X$139=2,$AA$139=0,$AB$139=0),'PC25 Graphs'!$B31,IF(AND($X$139=1,$AA$138=0,$AB$138=0),'PC25 Graphs'!$D31)))))))","v":{"v":666.6666666666667,"d":"667"}},{"$f":"IF(AND($X$139=7,$AA$144=0,$AB$144=0),'PC40 Graphs'!$C30,IF(AND($X$139=6,$AA$143=0,$AB$143=0),'PC40 Graphs'!$E30,IF(AND($X$139=5,$AA$142=0,$AB$142=0),'PC40 Graphs'!$G30,IF(AND($X$139=4,$AA$141=0,$AB$141=0),'PC32 Graphs'!$C30,IF(AND($X$139=3,$AA$140=0,$AB$140=0),'PC32 Graphs'!$E30,IF(AND($X$139=2,$AA$139=0,$AB$139=0),'PC25 Graphs'!$C31,IF(AND($X$139=1,$AA$138=0,$AB$138=0),'PC25 Graphs'!$E31)))))))","v":149},{"$f":"IF(AND($X$139=7,$AA$144=0,$AB$144=0),'PC40 Graphs'!$B88,IF(AND($X$139=6,$AA$143=0,$AB$143=0),'PC40 Graphs'!$D88,IF(AND($X$139=5,$AA$142=0,$AB$142=0),'PC40 Graphs'!$F88,IF(AND($X$139=4,$AA$141=0,$AB$141=0),'PC32 Graphs'!$B87,IF(AND($X$139=3,$AA$140=0,$AB$140=0),'PC32 Graphs'!$D87,IF(AND($X$139=2,$AA$139=0,$AB$139=0),'PC25 Graphs'!$B88,IF(AND($X$139=1,$AA$138=0,$AB$138=0),'PC25 Graphs'!$D88)))))))","v":1000},{"$f":"IF(AND($X$139=7,$AA$144=0,$AB$144=0),'PC40 Graphs'!L88,IF(AND($X$139=6,$AA$143=0,$AB$143=0),'PC40 Graphs'!N88,IF(AND($X$139=5,$AA$142=0,$AB$142=0),'PC40 Graphs'!P88,IF(AND($X$139=4,$AA$141=0,$AB$141=0),'PC32 Graphs'!L87,IF(AND($X$139=3,$AA$140=0,$AB$140=0),'PC32 Graphs'!N87,IF(AND($X$139=2,$AA$139=0,$AB$139=0),'PC25 Graphs'!L88,IF(AND($X$139=1,$AA$138=0,$AB$138=0),'PC25 Graphs'!N88)))))))","v":419},{"v":666.6666666666667,"d":"667"},1158,149,null,null,{"$f":"Calc!B111","v":4000},{"$f":"Calc!A111","v":0.7967555555555557},null,{"$f":"Calc!B45","v":7418.7},{"$f":"Calc!A45","v":1.6212754285714288},{"$nulls":8},0.7850222222222224,4480,1.4547808351648353,7757.2]
[{"$nulls":20},{"$f":"IF(AND($X$139=7,$AA$144=0,$AB$144=0),'PC40 Graphs'!$B31,IF(AND($X$139=6,$AA$143=0,$AB$143=0),'PC40 Graphs'!$D31,IF(AND($X$139=5,$AA$142=0,$AB$142=0),'PC40 Graphs'!$F31,IF(AND($X$139=4,$AA$141=0,$AB$141=0),'PC32 Graphs'!$B31,IF(AND($X$139=3,$AA$140=0,$AB$140=0),'PC32 Graphs'!$D31,IF(AND($X$139=2,$AA$139=0,$AB$139=0),'PC25 Graphs'!$B32,IF(AND($X$139=1,$AA$138=0,$AB$138=0),'PC25 Graphs'!$D32)))))))","v":{"v":693.3333333333333,"d":"693"}},{"$f":"IF(AND($X$139=7,$AA$144=0,$AB$144=0),'PC40 Graphs'!$C31,IF(AND($X$139=6,$AA$143=0,$AB$143=0),'PC40 Graphs'!$E31,IF(AND($X$139=5,$AA$142=0,$AB$142=0),'PC40 Graphs'!$G31,IF(AND($X$139=4,$AA$141=0,$AB$141=0),'PC32 Graphs'!$C31,IF(AND($X$139=3,$AA$140=0,$AB$140=0),'PC32 Graphs'!$E31,IF(AND($X$139=2,$AA$139=0,$AB$139=0),'PC25 Graphs'!$C32,IF(AND($X$139=1,$AA$138=0,$AB$138=0),'PC25 Graphs'!$E32)))))))","v":142},{"$f":"IF(AND($X$139=7,$AA$144=0,$AB$144=0),'PC40 Graphs'!$B89,IF(AND($X$139=6,$AA$143=0,$AB$143=0),'PC40 Graphs'!$D89,IF(AND($X$139=5,$AA$142=0,$AB$142=0),'PC40 Graphs'!$F89,IF(AND($X$139=4,$AA$141=0,$AB$141=0),'PC32 Graphs'!$B88,IF(AND($X$139=3,$AA$140=0,$AB$140=0),'PC32 Graphs'!$D88,IF(AND($X$139=2,$AA$139=0,$AB$139=0),'PC25 Graphs'!$B89,IF(AND($X$139=1,$AA$138=0,$AB$138=0),'PC25 Graphs'!$D89)))))))","v":1000},{"$f":"IF(AND($X$139=7,$AA$144=0,$AB$144=0),'PC40 Graphs'!L89,IF(AND($X$139=6,$AA$143=0,$AB$143=0),'PC40 Graphs'!N89,IF(AND($X$139=5,$AA$142=0,$AB$142=0),'PC40 Graphs'!P89,IF(AND($X$139=4,$AA$141=0,$AB$141=0),'PC32 Graphs'!L88,IF(AND($X$139=3,$AA$140=0,$AB$140=0),'PC32 Graphs'!N88,IF(AND($X$139=2,$AA$139=0,$AB$139=0),'PC25 Graphs'!L89,IF(AND($X$139=1,$AA$138=0,$AB$138=0),'PC25 Graphs'!N89)))))))","v":391},{"v":693.3333333333333,"d":"693"},1158,142,null,null,{"$f":"Calc!B112","v":4160},{"$f":"Calc!A112","v":0.7928444444444446},null,{"$f":"Calc!B46","v":7530.8},{"$f":"Calc!A46","v":1.5663736263736265},{"$nulls":8},0.7811111111111113,4640,1.398089846153846,7871.1]
[{"$nulls":20},{"$f":"IF(AND($X$139=7,$AA$144=0,$AB$144=0),'PC40 Graphs'!$B32,IF(AND($X$139=6,$AA$143=0,$AB$143=0),'PC40 Graphs'!$D32,IF(AND($X$139=5,$AA$142=0,$AB$142=0),'PC40 Graphs'!$F32,IF(AND($X$139=4,$AA$141=0,$AB$141=0),'PC32 Graphs'!$B32,IF(AND($X$139=3,$AA$140=0,$AB$140=0),'PC32 Graphs'!$D32,IF(AND($X$139=2,$AA$139=0,$AB$139=0),'PC25 Graphs'!$B33,IF(AND($X$139=1,$AA$138=0,$AB$138=0),'PC25 Graphs'!$D33)))))))","v":720},{"$f":"IF(AND($X$139=7,$AA$144=0,$AB$144=0),'PC40 Graphs'!$C32,IF(AND($X$139=6,$AA$143=0,$AB$143=0),'PC40 Graphs'!$E32,IF(AND($X$139=5,$AA$142=0,$AB$142=0),'PC40 Graphs'!$G32,IF(AND($X$139=4,$AA$141=0,$AB$141=0),'PC32 Graphs'!$C32,IF(AND($X$139=3,$AA$140=0,$AB$140=0),'PC32 Graphs'!$E32,IF(AND($X$139=2,$AA$139=0,$AB$139=0),'PC25 Graphs'!$C33,IF(AND($X$139=1,$AA$138=0,$AB$138=0),'PC25 Graphs'!$E33)))))))","v":136},{"$f":"IF(AND($X$139=7,$AA$144=0,$AB$144=0),'PC40 Graphs'!$B90,IF(AND($X$139=6,$AA$143=0,$AB$143=0),'PC40 Graphs'!$D90,IF(AND($X$139=5,$AA$142=0,$AB$142=0),'PC40 Graphs'!$F90,IF(AND($X$139=4,$AA$141=0,$AB$141=0),'PC32 Graphs'!$B89,IF(AND($X$139=3,$AA$140=0,$AB$140=0),'PC32 Graphs'!$D89,IF(AND($X$139=2,$AA$139=0,$AB$139=0),'PC25 Graphs'!$B90,IF(AND($X$139=1,$AA$138=0,$AB$138=0),'PC25 Graphs'!$D90)))))))","v":1000},{"$f":"IF(AND($X$139=7,$AA$144=0,$AB$144=0),'PC40 Graphs'!L90,IF(AND($X$139=6,$AA$143=0,$AB$143=0),'PC40 Graphs'!N90,IF(AND($X$139=5,$AA$142=0,$AB$142=0),'PC40 Graphs'!P90,IF(AND($X$139=4,$AA$141=0,$AB$141=0),'PC32 Graphs'!L89,IF(AND($X$139=3,$AA$140=0,$AB$140=0),'PC32 Graphs'!N89,IF(AND($X$139=2,$AA$139=0,$AB$139=0),'PC25 Graphs'!L90,IF(AND($X$139=1,$AA$138=0,$AB$138=0),'PC25 Graphs'!N90)))))))","v":362},720,1158,136,null,null,{"$f":"Calc!B113","v":4320},{"$f":"Calc!A113","v":0.7889333333333335},null,{"$f":"Calc!B47","v":7643.7},{"$f":"Calc!A47","v":1.5108754285714285},{"$nulls":8},0.7772000000000002,4800,1.3408024615384615,7985.2]
[{"$nulls":20},{"$f":"IF(AND($X$139=7,$AA$144=0,$AB$144=0),'PC40 Graphs'!$B33,IF(AND($X$139=6,$AA$143=0,$AB$143=0),'PC40 Graphs'!$D33,IF(AND($X$139=5,$AA$142=0,$AB$142=0),'PC40 Graphs'!$F33,IF(AND($X$139=4,$AA$141=0,$AB$141=0),'PC32 Graphs'!$B33,IF(AND($X$139=3,$AA$140=0,$AB$140=0),'PC32 Graphs'!$D33,IF(AND($X$139=2,$AA$139=0,$AB$139=0),'PC25 Graphs'!$B34,IF(AND($X$139=1,$AA$138=0,$AB$138=0),'PC25 Graphs'!$D34)))))))","v":{"v":746.6666666666667,"d":"747"}},{"$f":"IF(AND($X$139=7,$AA$144=0,$AB$144=0),'PC40 Graphs'!$C33,IF(AND($X$139=6,$AA$143=0,$AB$143=0),'PC40 Graphs'!$E33,IF(AND($X$139=5,$AA$142=0,$AB$142=0),'PC40 Graphs'!$G33,IF(AND($X$139=4,$AA$141=0,$AB$141=0),'PC32 Graphs'!$C33,IF(AND($X$139=3,$AA$140=0,$AB$140=0),'PC32 Graphs'!$E33,IF(AND($X$139=2,$AA$139=0,$AB$139=0),'PC25 Graphs'!$C34,IF(AND($X$139=1,$AA$138=0,$AB$138=0),'PC25 Graphs'!$E34)))))))","v":129},{"$f":"IF(AND($X$139=7,$AA$144=0,$AB$144=0),'PC40 Graphs'!$B91,IF(AND($X$139=6,$AA$143=0,$AB$143=0),'PC40 Graphs'!$D91,IF(AND($X$139=5,$AA$142=0,$AB$142=0),'PC40 Graphs'!$F91,IF(AND($X$139=4,$AA$141=0,$AB$141=0),'PC32 Graphs'!$B90,IF(AND($X$139=3,$AA$140=0,$AB$140=0),'PC32 Graphs'!$D90,IF(AND($X$139=2,$AA$139=0,$AB$139=0),'PC25 Graphs'!$B91,IF(AND($X$139=1,$AA$138=0,$AB$138=0),'PC25 Graphs'!$D91)))))))","v":1000},{"$f":"IF(AND($X$139=7,$AA$144=0,$AB$144=0),'PC40 Graphs'!L91,IF(AND($X$139=6,$AA$143=0,$AB$143=0),'PC40 Graphs'!N91,IF(AND($X$139=5,$AA$142=0,$AB$142=0),'PC40 Graphs'!P91,IF(AND($X$139=4,$AA$141=0,$AB$141=0),'PC32 Graphs'!L90,IF(AND($X$139=3,$AA$140=0,$AB$140=0),'PC32 Graphs'!N90,IF(AND($X$139=2,$AA$139=0,$AB$139=0),'PC25 Graphs'!L91,IF(AND($X$139=1,$AA$138=0,$AB$138=0),'PC25 Graphs'!N91)))))))","v":333},{"v":746.6666666666667,"d":"747"},1158,129,null,null,{"$f":"Calc!B114","v":4480},{"$f":"Calc!A114","v":0.7850222222222224},null,{"$f":"Calc!B48","v":7757.2},{"$f":"Calc!A48","v":1.4547808351648353},{"$nulls":8},0.7732888888888891,4960,1.2829186813186786,8000]
[{"$nulls":20},{"$f":"IF(AND($X$139=7,$AA$144=0,$AB$144=0),'PC40 Graphs'!$B34,IF(AND($X$139=6,$AA$143=0,$AB$143=0),'PC40 Graphs'!$D34,IF(AND($X$139=5,$AA$142=0,$AB$142=0),'PC40 Graphs'!$F34,IF(AND($X$139=4,$AA$141=0,$AB$141=0),'PC32 Graphs'!$B34,IF(AND($X$139=3,$AA$140=0,$AB$140=0),'PC32 Graphs'!$D34,IF(AND($X$139=2,$AA$139=0,$AB$139=0),'PC25 Graphs'!$B35,IF(AND($X$139=1,$AA$138=0,$AB$138=0),'PC25 Graphs'!$D35)))))))","v":{"v":773.3333333333333,"d":"773"}},{"$f":"IF(AND($X$139=7,$AA$144=0,$AB$144=0),'PC40 Graphs'!$C34,IF(AND($X$139=6,$AA$143=0,$AB$143=0),'PC40 Graphs'!$E34,IF(AND($X$139=5,$AA$142=0,$AB$142=0),'PC40 Graphs'!$G34,IF(AND($X$139=4,$AA$141=0,$AB$141=0),'PC32 Graphs'!$C34,IF(AND($X$139=3,$AA$140=0,$AB$140=0),'PC32 Graphs'!$E34,IF(AND($X$139=2,$AA$139=0,$AB$139=0),'PC25 Graphs'!$C35,IF(AND($X$139=1,$AA$138=0,$AB$138=0),'PC25 Graphs'!$E35)))))))","v":122},{"$f":"IF(AND($X$139=7,$AA$144=0,$AB$144=0),'PC40 Graphs'!$B92,IF(AND($X$139=6,$AA$143=0,$AB$143=0),'PC40 Graphs'!$D92,IF(AND($X$139=5,$AA$142=0,$AB$142=0),'PC40 Graphs'!$F92,IF(AND($X$139=4,$AA$141=0,$AB$141=0),'PC32 Graphs'!$B91,IF(AND($X$139=3,$AA$140=0,$AB$140=0),'PC32 Graphs'!$D91,IF(AND($X$139=2,$AA$139=0,$AB$139=0),'PC25 Graphs'!$B92,IF(AND($X$139=1,$AA$138=0,$AB$138=0),'PC25 Graphs'!$D92)))))))","v":1000},{"$f":"IF(AND($X$139=7,$AA$144=0,$AB$144=0),'PC40 Graphs'!L92,IF(AND($X$139=6,$AA$143=0,$AB$143=0),'PC40 Graphs'!N92,IF(AND($X$139=5,$AA$142=0,$AB$142=0),'PC40 Graphs'!P92,IF(AND($X$139=4,$AA$141=0,$AB$141=0),'PC32 Graphs'!L91,IF(AND($X$139=3,$AA$140=0,$AB$140=0),'PC32 Graphs'!N91,IF(AND($X$139=2,$AA$139=0,$AB$139=0),'PC25 Graphs'!L92,IF(AND($X$139=1,$AA$138=0,$AB$138=0),'PC25 Graphs'!N92)))))))","v":304},{"v":773.3333333333333,"d":"773"},1158,122,null,null,{"$f":"Calc!B115","v":4640},{"$f":"Calc!A115","v":0.7811111111111113},null,{"$f":"Calc!B49","v":7871.1},{"$f":"Calc!A49","v":1.398089846153846},{"$nulls":8},0.769377777777778,5120,1.2244385054945026,8000]
[{"$nulls":20},{"$f":"IF(AND($X$139=7,$AA$144=0,$AB$144=0),'PC40 Graphs'!$B35,IF(AND($X$139=6,$AA$143=0,$AB$143=0),'PC40 Graphs'!$D35,IF(AND($X$139=5,$AA$142=0,$AB$142=0),'PC40 Graphs'!$F35,IF(AND($X$139=4,$AA$141=0,$AB$141=0),'PC32 Graphs'!$B35,IF(AND($X$139=3,$AA$140=0,$AB$140=0),'PC32 Graphs'!$D35,IF(AND($X$139=2,$AA$139=0,$AB$139=0),'PC25 Graphs'!$B36,IF(AND($X$139=1,$AA$138=0,$AB$138=0),'PC25 Graphs'!$D36)))))))","v":800},{"$f":"IF(AND($X$139=7,$AA$144=0,$AB$144=0),'PC40 Graphs'!$C35,IF(AND($X$139=6,$AA$143=0,$AB$143=0),'PC40 Graphs'!$E35,IF(AND($X$139=5,$AA$142=0,$AB$142=0),'PC40 Graphs'!$G35,IF(AND($X$139=4,$AA$141=0,$AB$141=0),'PC32 Graphs'!$C35,IF(AND($X$139=3,$AA$140=0,$AB$140=0),'PC32 Graphs'!$E35,IF(AND($X$139=2,$AA$139=0,$AB$139=0),'PC25 Graphs'!$C36,IF(AND($X$139=1,$AA$138=0,$AB$138=0),'PC25 Graphs'!$E36)))))))","v":116},{"$f":"IF(AND($X$139=7,$AA$144=0,$AB$144=0),'PC40 Graphs'!$B93,IF(AND($X$139=6,$AA$143=0,$AB$143=0),'PC40 Graphs'!$D93,IF(AND($X$139=5,$AA$142=0,$AB$142=0),'PC40 Graphs'!$F93,IF(AND($X$139=4,$AA$141=0,$AB$141=0),'PC32 Graphs'!$B92,IF(AND($X$139=3,$AA$140=0,$AB$140=0),'PC32 Graphs'!$D92,IF(AND($X$139=2,$AA$139=0,$AB$139=0),'PC25 Graphs'!$B93,IF(AND($X$139=1,$AA$138=0,$AB$138=0),'PC25 Graphs'!$D93)))))))","v":1000},{"$f":"IF(AND($X$139=7,$AA$144=0,$AB$144=0),'PC40 Graphs'!L93,IF(AND($X$139=6,$AA$143=0,$AB$143=0),'PC40 Graphs'!N93,IF(AND($X$139=5,$AA$142=0,$AB$142=0),'PC40 Graphs'!P93,IF(AND($X$139=4,$AA$141=0,$AB$141=0),'PC32 Graphs'!L92,IF(AND($X$139=3,$AA$140=0,$AB$140=0),'PC32 Graphs'!N92,IF(AND($X$139=2,$AA$139=0,$AB$139=0),'PC25 Graphs'!L93,IF(AND($X$139=1,$AA$138=0,$AB$138=0),'PC25 Graphs'!N93)))))))","v":275},800,1158,116,null,null,{"$f":"Calc!B116","v":4800},{"$f":"Calc!A116","v":0.7772000000000002},null,{"$f":"Calc!B50","v":7985.2},{"$f":"Calc!A50","v":1.3408024615384615},{"$nulls":8},0.765466666666667,5280,1.1653619340659311,8000]
[{"$nulls":20},{"$f":"IF(AND($X$139=7,$AA$144=0,$AB$144=0),'PC40 Graphs'!$B36,IF(AND($X$139=6,$AA$143=0,$AB$143=0),'PC40 Graphs'!$D36,IF(AND($X$139=5,$AA$142=0,$AB$142=0),'PC40 Graphs'!$F36,IF(AND($X$139=4,$AA$141=0,$AB$141=0),'PC32 Graphs'!$B36,IF(AND($X$139=3,$AA$140=0,$AB$140=0),'PC32 Graphs'!$D36,IF(AND($X$139=2,$AA$139=0,$AB$139=0),'PC25 Graphs'!$B37,IF(AND($X$139=1,$AA$138=0,$AB$138=0),'PC25 Graphs'!$D37)))))))","v":{"v":826.6666666666667,"d":"827"}},{"$f":"IF(AND($X$139=7,$AA$144=0,$AB$144=0),'PC40 Graphs'!$C36,IF(AND($X$139=6,$AA$143=0,$AB$143=0),'PC40 Graphs'!$E36,IF(AND($X$139=5,$AA$142=0,$AB$142=0),'PC40 Graphs'!$G36,IF(AND($X$139=4,$AA$141=0,$AB$141=0),'PC32 Graphs'!$C36,IF(AND($X$139=3,$AA$140=0,$AB$140=0),'PC32 Graphs'!$E36,IF(AND($X$139=2,$AA$139=0,$AB$139=0),'PC25 Graphs'!$C37,IF(AND($X$139=1,$AA$138=0,$AB$138=0),'PC25 Graphs'!$E37)))))))","v":109},{"$f":"IF(AND($X$139=7,$AA$144=0,$AB$144=0),'PC40 Graphs'!$B94,IF(AND($X$139=6,$AA$143=0,$AB$143=0),'PC40 Graphs'!$D94,IF(AND($X$139=5,$AA$142=0,$AB$142=0),'PC40 Graphs'!$F94,IF(AND($X$139=4,$AA$141=0,$AB$141=0),'PC32 Graphs'!$B93,IF(AND($X$139=3,$AA$140=0,$AB$140=0),'PC32 Graphs'!$D93,IF(AND($X$139=2,$AA$139=0,$AB$139=0),'PC25 Graphs'!$B94,IF(AND($X$139=1,$AA$138=0,$AB$138=0),'PC25 Graphs'!$D94)))))))","v":1000},{"$f":"IF(AND($X$139=7,$AA$144=0,$AB$144=0),'PC40 Graphs'!L94,IF(AND($X$139=6,$AA$143=0,$AB$143=0),'PC40 Graphs'!N94,IF(AND($X$139=5,$AA$142=0,$AB$142=0),'PC40 Graphs'!P94,IF(AND($X$139=4,$AA$141=0,$AB$141=0),'PC32 Graphs'!L93,IF(AND($X$139=3,$AA$140=0,$AB$140=0),'PC32 Graphs'!N93,IF(AND($X$139=2,$AA$139=0,$AB$139=0),'PC25 Graphs'!L94,IF(AND($X$139=1,$AA$138=0,$AB$138=0),'PC25 Graphs'!N94)))))))","v":248},{"v":826.6666666666667,"d":"827"},1158,109,null,null,{"$f":"Calc!B117","v":4960},{"$f":"Calc!A117","v":0.7732888888888891},null,{"$f":"Calc!B51","v":8000},{"$f":"Calc!A51","v":1.2829186813186786},{"$nulls":8},0.7615555555555559,5440,1.1056889670329642,8000]
[{"$nulls":20},{"$f":"IF(AND($X$139=7,$AA$144=0,$AB$144=0),'PC40 Graphs'!$B37,IF(AND($X$139=6,$AA$143=0,$AB$143=0),'PC40 Graphs'!$D37,IF(AND($X$139=5,$AA$142=0,$AB$142=0),'PC40 Graphs'!$F37,IF(AND($X$139=4,$AA$141=0,$AB$141=0),'PC32 Graphs'!$B37,IF(AND($X$139=3,$AA$140=0,$AB$140=0),'PC32 Graphs'!$D37,IF(AND($X$139=2,$AA$139=0,$AB$139=0),'PC25 Graphs'!$B38,IF(AND($X$139=1,$AA$138=0,$AB$138=0),'PC25 Graphs'!$D38)))))))","v":{"v":853.3333333333333,"d":"853"}},{"$f":"IF(AND($X$139=7,$AA$144=0,$AB$144=0),'PC40 Graphs'!$C37,IF(AND($X$139=6,$AA$143=0,$AB$143=0),'PC40 Graphs'!$E37,IF(AND($X$139=5,$AA$142=0,$AB$142=0),'PC40 Graphs'!$G37,IF(AND($X$139=4,$AA$141=0,$AB$141=0),'PC32 Graphs'!$C37,IF(AND($X$139=3,$AA$140=0,$AB$140=0),'PC32 Graphs'!$E37,IF(AND($X$139=2,$AA$139=0,$AB$139=0),'PC25 Graphs'!$C38,IF(AND($X$139=1,$AA$138=0,$AB$138=0),'PC25 Graphs'!$E38)))))))","v":103},{"$f":"IF(AND($X$139=7,$AA$144=0,$AB$144=0),'PC40 Graphs'!$B95,IF(AND($X$139=6,$AA$143=0,$AB$143=0),'PC40 Graphs'!$D95,IF(AND($X$139=5,$AA$142=0,$AB$142=0),'PC40 Graphs'!$F95,IF(AND($X$139=4,$AA$141=0,$AB$141=0),'PC32 Graphs'!$B94,IF(AND($X$139=3,$AA$140=0,$AB$140=0),'PC32 Graphs'!$D94,IF(AND($X$139=2,$AA$139=0,$AB$139=0),'PC25 Graphs'!$B95,IF(AND($X$139=1,$AA$138=0,$AB$138=0),'PC25 Graphs'!$D95)))))))","v":1000},{"$f":"IF(AND($X$139=7,$AA$144=0,$AB$144=0),'PC40 Graphs'!L95,IF(AND($X$139=6,$AA$143=0,$AB$143=0),'PC40 Graphs'!N95,IF(AND($X$139=5,$AA$142=0,$AB$142=0),'PC40 Graphs'!P95,IF(AND($X$139=4,$AA$141=0,$AB$141=0),'PC32 Graphs'!L94,IF(AND($X$139=3,$AA$140=0,$AB$140=0),'PC32 Graphs'!N94,IF(AND($X$139=2,$AA$139=0,$AB$139=0),'PC25 Graphs'!L95,IF(AND($X$139=1,$AA$138=0,$AB$138=0),'PC25 Graphs'!N95)))))))","v":222},{"$f":"U181","v":{"v":853.3333333333333,"d":"853"}},{"$f":"VLOOKUP(U181,$W$148:$X$200,2)","v":1158},{"$f":"IF(V181>Z181,Z181,V181)","v":103},null,null,{"$f":"Calc!B118","v":5120},{"$f":"Calc!A118","v":0.769377777777778},null,{"$f":"Calc!B52","v":8000},{"$f":"Calc!A52","v":1.2244385054945026},{"$nulls":8},0.7576444444444448,5600,1.0454196043956014,8000]
[{"$nulls":20},{"$f":"IF(AND($X$139=7,$AA$144=0,$AB$144=0),'PC40 Graphs'!$B38,IF(AND($X$139=6,$AA$143=0,$AB$143=0),'PC40 Graphs'!$D38,IF(AND($X$139=5,$AA$142=0,$AB$142=0),'PC40 Graphs'!$F38,IF(AND($X$139=4,$AA$141=0,$AB$141=0),'PC32 Graphs'!$B38,IF(AND($X$139=3,$AA$140=0,$AB$140=0),'PC32 Graphs'!$D38,IF(AND($X$139=2,$AA$139=0,$AB$139=0),'PC25 Graphs'!$B39,IF(AND($X$139=1,$AA$138=0,$AB$138=0),'PC25 Graphs'!$D39)))))))","v":880},{"$f":"IF(AND($X$139=7,$AA$144=0,$AB$144=0),'PC40 Graphs'!$C38,IF(AND($X$139=6,$AA$143=0,$AB$143=0),'PC40 Graphs'!$E38,IF(AND($X$139=5,$AA$142=0,$AB$142=0),'PC40 Graphs'!$G38,IF(AND($X$139=4,$AA$141=0,$AB$141=0),'PC32 Graphs'!$C38,IF(AND($X$139=3,$AA$140=0,$AB$140=0),'PC32 Graphs'!$E38,IF(AND($X$139=2,$AA$139=0,$AB$139=0),'PC25 Graphs'!$C39,IF(AND($X$139=1,$AA$138=0,$AB$138=0),'PC25 Graphs'!$E39)))))))","v":96},{"$f":"IF(AND($X$139=7,$AA$144=0,$AB$144=0),'PC40 Graphs'!$B96,IF(AND($X$139=6,$AA$143=0,$AB$143=0),'PC40 Graphs'!$D96,IF(AND($X$139=5,$AA$142=0,$AB$142=0),'PC40 Graphs'!$F96,IF(AND($X$139=4,$AA$141=0,$AB$141=0),'PC32 Graphs'!$B95,IF(AND($X$139=3,$AA$140=0,$AB$140=0),'PC32 Graphs'!$D95,IF(AND($X$139=2,$AA$139=0,$AB$139=0),'PC25 Graphs'!$B96,IF(AND($X$139=1,$AA$138=0,$AB$138=0),'PC25 Graphs'!$D96)))))))","v":1000},{"$f":"IF(AND($X$139=7,$AA$144=0,$AB$144=0),'PC40 Graphs'!L96,IF(AND($X$139=6,$AA$143=0,$AB$143=0),'PC40 Graphs'!N96,IF(AND($X$139=5,$AA$142=0,$AB$142=0),'PC40 Graphs'!P96,IF(AND($X$139=4,$AA$141=0,$AB$141=0),'PC32 Graphs'!L95,IF(AND($X$139=3,$AA$140=0,$AB$140=0),'PC32 Graphs'!N95,IF(AND($X$139=2,$AA$139=0,$AB$139=0),'PC25 Graphs'!L96,IF(AND($X$139=1,$AA$138=0,$AB$138=0),'PC25 Graphs'!N96)))))))","v":195},880,982,96,null,null,{"$f":"Calc!B119","v":5280},{"$f":"Calc!A119","v":0.765466666666667},null,{"$f":"Calc!B53","v":8000},{"$f":"Calc!A53","v":1.1653619340659311},{"$nulls":8},0.7537333333333337,5760,0.9845538461538429,8000]
[{"$nulls":20},{"$f":"IF(AND($X$139=7,$AA$144=0,$AB$144=0),'PC40 Graphs'!$B39,IF(AND($X$139=6,$AA$143=0,$AB$143=0),'PC40 Graphs'!$D39,IF(AND($X$139=5,$AA$142=0,$AB$142=0),'PC40 Graphs'!$F39,IF(AND($X$139=4,$AA$141=0,$AB$141=0),'PC32 Graphs'!$B39,IF(AND($X$139=3,$AA$140=0,$AB$140=0),'PC32 Graphs'!$D39,IF(AND($X$139=2,$AA$139=0,$AB$139=0),'PC25 Graphs'!$B40,IF(AND($X$139=1,$AA$138=0,$AB$138=0),'PC25 Graphs'!$D40)))))))","v":{"v":906.6666666666667,"d":"907"}},{"$f":"IF(AND($X$139=7,$AA$144=0,$AB$144=0),'PC40 Graphs'!$C39,IF(AND($X$139=6,$AA$143=0,$AB$143=0),'PC40 Graphs'!$E39,IF(AND($X$139=5,$AA$142=0,$AB$142=0),'PC40 Graphs'!$G39,IF(AND($X$139=4,$AA$141=0,$AB$141=0),'PC32 Graphs'!$C39,IF(AND($X$139=3,$AA$140=0,$AB$140=0),'PC32 Graphs'!$E39,IF(AND($X$139=2,$AA$139=0,$AB$139=0),'PC25 Graphs'!$C40,IF(AND($X$139=1,$AA$138=0,$AB$138=0),'PC25 Graphs'!$E40)))))))","v":89},{"$f":"IF(AND($X$139=7,$AA$144=0,$AB$144=0),'PC40 Graphs'!$B97,IF(AND($X$139=6,$AA$143=0,$AB$143=0),'PC40 Graphs'!$D97,IF(AND($X$139=5,$AA$142=0,$AB$142=0),'PC40 Graphs'!$F97,IF(AND($X$139=4,$AA$141=0,$AB$141=0),'PC32 Graphs'!$B96,IF(AND($X$139=3,$AA$140=0,$AB$140=0),'PC32 Graphs'!$D96,IF(AND($X$139=2,$AA$139=0,$AB$139=0),'PC25 Graphs'!$B97,IF(AND($X$139=1,$AA$138=0,$AB$138=0),'PC25 Graphs'!$D97)))))))","v":1000},{"$f":"IF(AND($X$139=7,$AA$144=0,$AB$144=0),'PC40 Graphs'!L97,IF(AND($X$139=6,$AA$143=0,$AB$143=0),'PC40 Graphs'!N97,IF(AND($X$139=5,$AA$142=0,$AB$142=0),'PC40 Graphs'!P97,IF(AND($X$139=4,$AA$141=0,$AB$141=0),'PC32 Graphs'!L96,IF(AND($X$139=3,$AA$140=0,$AB$140=0),'PC32 Graphs'!N96,IF(AND($X$139=2,$AA$139=0,$AB$139=0),'PC25 Graphs'!L97,IF(AND($X$139=1,$AA$138=0,$AB$138=0),'PC25 Graphs'!N97)))))))","v":168},{"v":906.6666666666667,"d":"907"},939,89,null,null,{"$f":"Calc!B120","v":5440},{"$f":"Calc!A120","v":0.7615555555555559},null,{"$f":"Calc!B54","v":8000},{"$f":"Calc!A54","v":1.1056889670329642},{"$nulls":8},0.7498222222222226,5920,0.9230916923076893,8000]
[{"$nulls":20},{"$f":"IF(AND($X$139=7,$AA$144=0,$AB$144=0),'PC40 Graphs'!$B40,IF(AND($X$139=6,$AA$143=0,$AB$143=0),'PC40 Graphs'!$D40,IF(AND($X$139=5,$AA$142=0,$AB$142=0),'PC40 Graphs'!$F40,IF(AND($X$139=4,$AA$141=0,$AB$141=0),'PC32 Graphs'!$B40,IF(AND($X$139=3,$AA$140=0,$AB$140=0),'PC32 Graphs'!$D40,IF(AND($X$139=2,$AA$139=0,$AB$139=0),'PC25 Graphs'!$B41,IF(AND($X$139=1,$AA$138=0,$AB$138=0),'PC25 Graphs'!$D41)))))))","v":{"v":933.3333333333333,"d":"933"}},{"$f":"IF(AND($X$139=7,$AA$144=0,$AB$144=0),'PC40 Graphs'!$C40,IF(AND($X$139=6,$AA$143=0,$AB$143=0),'PC40 Graphs'!$E40,IF(AND($X$139=5,$AA$142=0,$AB$142=0),'PC40 Graphs'!$G40,IF(AND($X$139=4,$AA$141=0,$AB$141=0),'PC32 Graphs'!$C40,IF(AND($X$139=3,$AA$140=0,$AB$140=0),'PC32 Graphs'!$E40,IF(AND($X$139=2,$AA$139=0,$AB$139=0),'PC25 Graphs'!$C41,IF(AND($X$139=1,$AA$138=0,$AB$138=0),'PC25 Graphs'!$E41)))))))","v":83},{"$f":"IF(AND($X$139=7,$AA$144=0,$AB$144=0),'PC40 Graphs'!$B98,IF(AND($X$139=6,$AA$143=0,$AB$143=0),'PC40 Graphs'!$D98,IF(AND($X$139=5,$AA$142=0,$AB$142=0),'PC40 Graphs'!$F98,IF(AND($X$139=4,$AA$141=0,$AB$141=0),'PC32 Graphs'!$B97,IF(AND($X$139=3,$AA$140=0,$AB$140=0),'PC32 Graphs'!$D97,IF(AND($X$139=2,$AA$139=0,$AB$139=0),'PC25 Graphs'!$B98,IF(AND($X$139=1,$AA$138=0,$AB$138=0),'PC25 Graphs'!$D98)))))))","v":1000},{"$f":"IF(AND($X$139=7,$AA$144=0,$AB$144=0),'PC40 Graphs'!L98,IF(AND($X$139=6,$AA$143=0,$AB$143=0),'PC40 Graphs'!N98,IF(AND($X$139=5,$AA$142=0,$AB$142=0),'PC40 Graphs'!P98,IF(AND($X$139=4,$AA$141=0,$AB$141=0),'PC32 Graphs'!L97,IF(AND($X$139=3,$AA$140=0,$AB$140=0),'PC32 Graphs'!N97,IF(AND($X$139=2,$AA$139=0,$AB$139=0),'PC25 Graphs'!L98,IF(AND($X$139=1,$AA$138=0,$AB$138=0),'PC25 Graphs'!N98)))))))","v":141},{"v":933.3333333333333,"d":"933"},896,83,null,null,{"$f":"Calc!B121","v":5600},{"$f":"Calc!A121","v":0.7576444444444448},null,{"$f":"Calc!B55","v":8000},{"$f":"Calc!A55","v":1.0454196043956014},{"$nulls":8},0.7459111111111115,6080,0.8610331428571397,8000]
[{"$nulls":20},{"$f":"IF(AND($X$139=7,$AA$144=0,$AB$144=0),'PC40 Graphs'!$B41,IF(AND($X$139=6,$AA$143=0,$AB$143=0),'PC40 Graphs'!$D41,IF(AND($X$139=5,$AA$142=0,$AB$142=0),'PC40 Graphs'!$F41,IF(AND($X$139=4,$AA$141=0,$AB$141=0),'PC32 Graphs'!$B41,IF(AND($X$139=3,$AA$140=0,$AB$140=0),'PC32 Graphs'!$D41,IF(AND($X$139=2,$AA$139=0,$AB$139=0),'PC25 Graphs'!$B42,IF(AND($X$139=1,$AA$138=0,$AB$138=0),'PC25 Graphs'!$D42)))))))","v":960},{"$f":"IF(AND($X$139=7,$AA$144=0,$AB$144=0),'PC40 Graphs'!$C41,IF(AND($X$139=6,$AA$143=0,$AB$143=0),'PC40 Graphs'!$E41,IF(AND($X$139=5,$AA$142=0,$AB$142=0),'PC40 Graphs'!$G41,IF(AND($X$139=4,$AA$141=0,$AB$141=0),'PC32 Graphs'!$C41,IF(AND($X$139=3,$AA$140=0,$AB$140=0),'PC32 Graphs'!$E41,IF(AND($X$139=2,$AA$139=0,$AB$139=0),'PC25 Graphs'!$C42,IF(AND($X$139=1,$AA$138=0,$AB$138=0),'PC25 Graphs'!$E42)))))))","v":76},{"$f":"IF(AND($X$139=7,$AA$144=0,$AB$144=0),'PC40 Graphs'!$B99,IF(AND($X$139=6,$AA$143=0,$AB$143=0),'PC40 Graphs'!$D99,IF(AND($X$139=5,$AA$142=0,$AB$142=0),'PC40 Graphs'!$F99,IF(AND($X$139=4,$AA$141=0,$AB$141=0),'PC32 Graphs'!$B98,IF(AND($X$139=3,$AA$140=0,$AB$140=0),'PC32 Graphs'!$D98,IF(AND($X$139=2,$AA$139=0,$AB$139=0),'PC25 Graphs'!$B99,IF(AND($X$139=1,$AA$138=0,$AB$138=0),'PC25 Graphs'!$D99)))))))","v":1000},{"$f":"IF(AND($X$139=7,$AA$144=0,$AB$144=0),'PC40 Graphs'!L99,IF(AND($X$139=6,$AA$143=0,$AB$143=0),'PC40 Graphs'!N99,IF(AND($X$139=5,$AA$142=0,$AB$142=0),'PC40 Graphs'!P99,IF(AND($X$139=4,$AA$141=0,$AB$141=0),'PC32 Graphs'!L98,IF(AND($X$139=3,$AA$140=0,$AB$140=0),'PC32 Graphs'!N98,IF(AND($X$139=2,$AA$139=0,$AB$139=0),'PC25 Graphs'!L99,IF(AND($X$139=1,$AA$138=0,$AB$138=0),'PC25 Graphs'!N99)))))))","v":113},960,851,76,null,null,{"$f":"Calc!B122","v":5760},{"$f":"Calc!A122","v":0.7537333333333337},null,{"$f":"Calc!B56","v":8000},{"$f":"Calc!A56","v":0.9845538461538429},{"$nulls":8},0.7420000000000004,6240,0.7983781978021947,8000]
[{"$nulls":20},{"$f":"IF(AND($X$139=7,$AA$144=0,$AB$144=0),'PC40 Graphs'!$B42,IF(AND($X$139=6,$AA$143=0,$AB$143=0),'PC40 Graphs'!$D42,IF(AND($X$139=5,$AA$142=0,$AB$142=0),'PC40 Graphs'!$F42,IF(AND($X$139=4,$AA$141=0,$AB$141=0),'PC32 Graphs'!$B42,IF(AND($X$139=3,$AA$140=0,$AB$140=0),'PC32 Graphs'!$D42,IF(AND($X$139=2,$AA$139=0,$AB$139=0),'PC25 Graphs'!$B43,IF(AND($X$139=1,$AA$138=0,$AB$138=0),'PC25 Graphs'!$D43)))))))","v":{"v":986.6666666666667,"d":"987"}},{"$f":"IF(AND($X$139=7,$AA$144=0,$AB$144=0),'PC40 Graphs'!$C42,IF(AND($X$139=6,$AA$143=0,$AB$143=0),'PC40 Graphs'!$E42,IF(AND($X$139=5,$AA$142=0,$AB$142=0),'PC40 Graphs'!$G42,IF(AND($X$139=4,$AA$141=0,$AB$141=0),'PC32 Graphs'!$C42,IF(AND($X$139=3,$AA$140=0,$AB$140=0),'PC32 Graphs'!$E42,IF(AND($X$139=2,$AA$139=0,$AB$139=0),'PC25 Graphs'!$C43,IF(AND($X$139=1,$AA$138=0,$AB$138=0),'PC25 Graphs'!$E43)))))))","v":70},{"$f":"IF(AND($X$139=7,$AA$144=0,$AB$144=0),'PC40 Graphs'!$B100,IF(AND($X$139=6,$AA$143=0,$AB$143=0),'PC40 Graphs'!$D100,IF(AND($X$139=5,$AA$142=0,$AB$142=0),'PC40 Graphs'!$F100,IF(AND($X$139=4,$AA$141=0,$AB$141=0),'PC32 Graphs'!$B99,IF(AND($X$139=3,$AA$140=0,$AB$140=0),'PC32 Graphs'!$D99,IF(AND($X$139=2,$AA$139=0,$AB$139=0),'PC25 Graphs'!$B100,IF(AND($X$139=1,$AA$138=0,$AB$138=0),'PC25 Graphs'!$D100)))))))","v":1000},{"$f":"IF(AND($X$139=7,$AA$144=0,$AB$144=0),'PC40 Graphs'!L100,IF(AND($X$139=6,$AA$143=0,$AB$143=0),'PC40 Graphs'!N100,IF(AND($X$139=5,$AA$142=0,$AB$142=0),'PC40 Graphs'!P100,IF(AND($X$139=4,$AA$141=0,$AB$141=0),'PC32 Graphs'!L99,IF(AND($X$139=3,$AA$140=0,$AB$140=0),'PC32 Graphs'!N99,IF(AND($X$139=2,$AA$139=0,$AB$139=0),'PC25 Graphs'!L100,IF(AND($X$139=1,$AA$138=0,$AB$138=0),'PC25 Graphs'!N100)))))))","v":85},{"v":986.6666666666667,"d":"987"},805,70,null,null,{"$f":"Calc!B123","v":5920},{"$f":"Calc!A123","v":0.7498222222222226},null,{"$f":"Calc!B57","v":8000},{"$f":"Calc!A57","v":0.9230916923076893},{"$nulls":8},0.7380888888888893,6400,0.7351268571428539,8000]
[{"$nulls":20},{"$f":"IF(AND($X$139=7,$AA$144=0,$AB$144=0),'PC40 Graphs'!$B43,IF(AND($X$139=6,$AA$143=0,$AB$143=0),'PC40 Graphs'!$D43,IF(AND($X$139=5,$AA$142=0,$AB$142=0),'PC40 Graphs'!$F43,IF(AND($X$139=4,$AA$141=0,$AB$141=0),'PC32 Graphs'!$B43,IF(AND($X$139=3,$AA$140=0,$AB$140=0),'PC32 Graphs'!$D43,IF(AND($X$139=2,$AA$139=0,$AB$139=0),'PC25 Graphs'!$B44,IF(AND($X$139=1,$AA$138=0,$AB$138=0),'PC25 Graphs'!$D44)))))))","v":{"v":986.6666666666667,"d":"987"}},{"$f":"IF(AND($X$139=7,$AA$144=0,$AB$144=0),'PC40 Graphs'!$C43,IF(AND($X$139=6,$AA$143=0,$AB$143=0),'PC40 Graphs'!$E43,IF(AND($X$139=5,$AA$142=0,$AB$142=0),'PC40 Graphs'!$G43,IF(AND($X$139=4,$AA$141=0,$AB$141=0),'PC32 Graphs'!$C43,IF(AND($X$139=3,$AA$140=0,$AB$140=0),'PC32 Graphs'!$E43,IF(AND($X$139=2,$AA$139=0,$AB$139=0),'PC25 Graphs'!$C44,IF(AND($X$139=1,$AA$138=0,$AB$138=0),'PC25 Graphs'!$E44)))))))","v":63},{"$f":"IF(AND($X$139=7,$AA$144=0,$AB$144=0),'PC40 Graphs'!$B101,IF(AND($X$139=6,$AA$143=0,$AB$143=0),'PC40 Graphs'!$D101,IF(AND($X$139=5,$AA$142=0,$AB$142=0),'PC40 Graphs'!$F101,IF(AND($X$139=4,$AA$141=0,$AB$141=0),'PC32 Graphs'!$B100,IF(AND($X$139=3,$AA$140=0,$AB$140=0),'PC32 Graphs'!$D100,IF(AND($X$139=2,$AA$139=0,$AB$139=0),'PC25 Graphs'!$B101,IF(AND($X$139=1,$AA$138=0,$AB$138=0),'PC25 Graphs'!$D101)))))))","v":1000},{"$f":"IF(AND($X$139=7,$AA$144=0,$AB$144=0),'PC40 Graphs'!L101,IF(AND($X$139=6,$AA$143=0,$AB$143=0),'PC40 Graphs'!N101,IF(AND($X$139=5,$AA$142=0,$AB$142=0),'PC40 Graphs'!P101,IF(AND($X$139=4,$AA$141=0,$AB$141=0),'PC32 Graphs'!L100,IF(AND($X$139=3,$AA$140=0,$AB$140=0),'PC32 Graphs'!N100,IF(AND($X$139=2,$AA$139=0,$AB$139=0),'PC25 Graphs'!L101,IF(AND($X$139=1,$AA$138=0,$AB$138=0),'PC25 Graphs'!N101)))))))","v":57},{"v":986.6666666666667,"d":"987"},805,63,null,null,{"$f":"Calc!B124","v":6080},{"$f":"Calc!A124","v":0.7459111111111115},null,{"$f":"Calc!B58","v":8000},{"$f":"Calc!A58","v":0.8610331428571397},{"$nulls":8},0.7341777777777783,6560,0.6712791208791177,8000]
[{"$nulls":20},{"$f":"IF(AND($X$139=7,$AA$144=0,$AB$144=0),'PC40 Graphs'!$B44,IF(AND($X$139=6,$AA$143=0,$AB$143=0),'PC40 Graphs'!$D44,IF(AND($X$139=5,$AA$142=0,$AB$142=0),'PC40 Graphs'!$F44,IF(AND($X$139=4,$AA$141=0,$AB$141=0),'PC32 Graphs'!$B44,IF(AND($X$139=3,$AA$140=0,$AB$140=0),'PC32 Graphs'!$D44,IF(AND($X$139=2,$AA$139=0,$AB$139=0),'PC25 Graphs'!$B45,IF(AND($X$139=1,$AA$138=0,$AB$138=0),'PC25 Graphs'!$D45)))))))","v":{"v":986.6666666666667,"d":"987"}},{"$f":"IF(AND($X$139=7,$AA$144=0,$AB$144=0),'PC40 Graphs'!$C44,IF(AND($X$139=6,$AA$143=0,$AB$143=0),'PC40 Graphs'!$E44,IF(AND($X$139=5,$AA$142=0,$AB$142=0),'PC40 Graphs'!$G44,IF(AND($X$139=4,$AA$141=0,$AB$141=0),'PC32 Graphs'!$C44,IF(AND($X$139=3,$AA$140=0,$AB$140=0),'PC32 Graphs'!$E44,IF(AND($X$139=2,$AA$139=0,$AB$139=0),'PC25 Graphs'!$C45,IF(AND($X$139=1,$AA$138=0,$AB$138=0),'PC25 Graphs'!$E45)))))))","v":57},{"$f":"IF(AND($X$139=7,$AA$144=0,$AB$144=0),'PC40 Graphs'!$B102,IF(AND($X$139=6,$AA$143=0,$AB$143=0),'PC40 Graphs'!$D102,IF(AND($X$139=5,$AA$142=0,$AB$142=0),'PC40 Graphs'!$F102,IF(AND($X$139=4,$AA$141=0,$AB$141=0),'PC32 Graphs'!$B101,IF(AND($X$139=3,$AA$140=0,$AB$140=0),'PC32 Graphs'!$D101,IF(AND($X$139=2,$AA$139=0,$AB$139=0),'PC25 Graphs'!$B102,IF(AND($X$139=1,$AA$138=0,$AB$138=0),'PC25 Graphs'!$D102)))))))","v":1000},{"$f":"IF(AND($X$139=7,$AA$144=0,$AB$144=0),'PC40 Graphs'!L102,IF(AND($X$139=6,$AA$143=0,$AB$143=0),'PC40 Graphs'!N102,IF(AND($X$139=5,$AA$142=0,$AB$142=0),'PC40 Graphs'!P102,IF(AND($X$139=4,$AA$141=0,$AB$141=0),'PC32 Graphs'!L101,IF(AND($X$139=3,$AA$140=0,$AB$140=0),'PC32 Graphs'!N101,IF(AND($X$139=2,$AA$139=0,$AB$139=0),'PC25 Graphs'!L102,IF(AND($X$139=1,$AA$138=0,$AB$138=0),'PC25 Graphs'!N102)))))))","v":29},{"v":986.6666666666667,"d":"987"},805,57,null,null,{"$f":"Calc!B125","v":6240},{"$f":"Calc!A125","v":0.7420000000000004},null,{"$f":"Calc!B59","v":8000},{"$f":"Calc!A59","v":0.7983781978021947},{"$nulls":8},0.7302666666666672,6720,0.6068349890109856,8000]
[{"$nulls":20},{"$f":"IF(AND($X$139=7,$AA$144=0,$AB$144=0),'PC40 Graphs'!$B45,IF(AND($X$139=6,$AA$143=0,$AB$143=0),'PC40 Graphs'!$D45,IF(AND($X$139=5,$AA$142=0,$AB$142=0),'PC40 Graphs'!$F45,IF(AND($X$139=4,$AA$141=0,$AB$141=0),'PC32 Graphs'!$B45,IF(AND($X$139=3,$AA$140=0,$AB$140=0),'PC32 Graphs'!$D45,IF(AND($X$139=2,$AA$139=0,$AB$139=0),'PC25 Graphs'!$B46,IF(AND($X$139=1,$AA$138=0,$AB$138=0),'PC25 Graphs'!$D46)))))))","v":{"v":986.6666666666667,"d":"987"}},{"$f":"IF(AND($X$139=7,$AA$144=0,$AB$144=0),'PC40 Graphs'!$C45,IF(AND($X$139=6,$AA$143=0,$AB$143=0),'PC40 Graphs'!$E45,IF(AND($X$139=5,$AA$142=0,$AB$142=0),'PC40 Graphs'!$G45,IF(AND($X$139=4,$AA$141=0,$AB$141=0),'PC32 Graphs'!$C45,IF(AND($X$139=3,$AA$140=0,$AB$140=0),'PC32 Graphs'!$E45,IF(AND($X$139=2,$AA$139=0,$AB$139=0),'PC25 Graphs'!$C46,IF(AND($X$139=1,$AA$138=0,$AB$138=0),'PC25 Graphs'!$E46)))))))","v":50},{"$f":"IF(AND($X$139=7,$AA$144=0,$AB$144=0),'PC40 Graphs'!$B103,IF(AND($X$139=6,$AA$143=0,$AB$143=0),'PC40 Graphs'!$D103,IF(AND($X$139=5,$AA$142=0,$AB$142=0),'PC40 Graphs'!$F103,IF(AND($X$139=4,$AA$141=0,$AB$141=0),'PC32 Graphs'!$B102,IF(AND($X$139=3,$AA$140=0,$AB$140=0),'PC32 Graphs'!$D102,IF(AND($X$139=2,$AA$139=0,$AB$139=0),'PC25 Graphs'!$B103,IF(AND($X$139=1,$AA$138=0,$AB$138=0),'PC25 Graphs'!$D103)))))))","v":1000},{"$f":"IF(AND($X$139=7,$AA$144=0,$AB$144=0),'PC40 Graphs'!L103,IF(AND($X$139=6,$AA$143=0,$AB$143=0),'PC40 Graphs'!N103,IF(AND($X$139=5,$AA$142=0,$AB$142=0),'PC40 Graphs'!P103,IF(AND($X$139=4,$AA$141=0,$AB$141=0),'PC32 Graphs'!L102,IF(AND($X$139=3,$AA$140=0,$AB$140=0),'PC32 Graphs'!N102,IF(AND($X$139=2,$AA$139=0,$AB$139=0),'PC25 Graphs'!L103,IF(AND($X$139=1,$AA$138=0,$AB$138=0),'PC25 Graphs'!N103)))))))","v":0},{"v":986.6666666666667,"d":"987"},805,50,null,null,{"$f":"Calc!B126","v":6400},{"$f":"Calc!A126","v":0.7380888888888893},null,{"$f":"Calc!B60","v":8000},{"$f":"Calc!A60","v":0.7351268571428539},{"$nulls":8},0.7263555555555561,6880,0.5417944615384582,8000]
[{"$nulls":20},{"$f":"IF(AND($X$139=7,$AA$144=0,$AB$144=0),'PC40 Graphs'!$B46,IF(AND($X$139=6,$AA$143=0,$AB$143=0),'PC40 Graphs'!$D46,IF(AND($X$139=5,$AA$142=0,$AB$142=0),'PC40 Graphs'!$F46,IF(AND($X$139=4,$AA$141=0,$AB$141=0),'PC32 Graphs'!$B46,IF(AND($X$139=3,$AA$140=0,$AB$140=0),'PC32 Graphs'!$D46,IF(AND($X$139=2,$AA$139=0,$AB$139=0),'PC25 Graphs'!$B47,IF(AND($X$139=1,$AA$138=0,$AB$138=0),'PC25 Graphs'!$D47)))))))","v":{"v":986.6666666666667,"d":"987"}},{"$f":"IF(AND($X$139=7,$AA$144=0,$AB$144=0),'PC40 Graphs'!$C46,IF(AND($X$139=6,$AA$143=0,$AB$143=0),'PC40 Graphs'!$E46,IF(AND($X$139=5,$AA$142=0,$AB$142=0),'PC40 Graphs'!$G46,IF(AND($X$139=4,$AA$141=0,$AB$141=0),'PC32 Graphs'!$C46,IF(AND($X$139=3,$AA$140=0,$AB$140=0),'PC32 Graphs'!$E46,IF(AND($X$139=2,$AA$139=0,$AB$139=0),'PC25 Graphs'!$C47,IF(AND($X$139=1,$AA$138=0,$AB$138=0),'PC25 Graphs'!$E47)))))))","v":43},{"$f":"IF(AND($X$139=7,$AA$144=0,$AB$144=0),'PC40 Graphs'!$B104,IF(AND($X$139=6,$AA$143=0,$AB$143=0),'PC40 Graphs'!$D104,IF(AND($X$139=5,$AA$142=0,$AB$142=0),'PC40 Graphs'!$F104,IF(AND($X$139=4,$AA$141=0,$AB$141=0),'PC32 Graphs'!$B103,IF(AND($X$139=3,$AA$140=0,$AB$140=0),'PC32 Graphs'!$D103,IF(AND($X$139=2,$AA$139=0,$AB$139=0),'PC25 Graphs'!$B104,IF(AND($X$139=1,$AA$138=0,$AB$138=0),'PC25 Graphs'!$D104)))))))","v":1000},{"$f":"IF(AND($X$139=7,$AA$144=0,$AB$144=0),'PC40 Graphs'!L104,IF(AND($X$139=6,$AA$143=0,$AB$143=0),'PC40 Graphs'!N104,IF(AND($X$139=5,$AA$142=0,$AB$142=0),'PC40 Graphs'!P104,IF(AND($X$139=4,$AA$141=0,$AB$141=0),'PC32 Graphs'!L103,IF(AND($X$139=3,$AA$140=0,$AB$140=0),'PC32 Graphs'!N103,IF(AND($X$139=2,$AA$139=0,$AB$139=0),'PC25 Graphs'!L104,IF(AND($X$139=1,$AA$138=0,$AB$138=0),'PC25 Graphs'!N104)))))))","v":0},{"v":986.6666666666667,"d":"987"},805,43,null,null,{"$f":"Calc!B127","v":6560},{"$f":"Calc!A127","v":0.7341777777777783},null,{"$f":"Calc!B61","v":8000},{"$f":"Calc!A61","v":0.6712791208791177},{"$nulls":8},0.722444444444445,7040,0.4761575384615351,8000]
[{"$nulls":20},{"$f":"IF(AND($X$139=7,$AA$144=0,$AB$144=0),'PC40 Graphs'!$B47,IF(AND($X$139=6,$AA$143=0,$AB$143=0),'PC40 Graphs'!$D47,IF(AND($X$139=5,$AA$142=0,$AB$142=0),'PC40 Graphs'!$F47,IF(AND($X$139=4,$AA$141=0,$AB$141=0),'PC32 Graphs'!$B47,IF(AND($X$139=3,$AA$140=0,$AB$140=0),'PC32 Graphs'!$D47,IF(AND($X$139=2,$AA$139=0,$AB$139=0),'PC25 Graphs'!$B48,IF(AND($X$139=1,$AA$138=0,$AB$138=0),'PC25 Graphs'!$D48)))))))","v":{"v":986.6666666666667,"d":"987"}},{"$f":"IF(AND($X$139=7,$AA$144=0,$AB$144=0),'PC40 Graphs'!$C47,IF(AND($X$139=6,$AA$143=0,$AB$143=0),'PC40 Graphs'!$E47,IF(AND($X$139=5,$AA$142=0,$AB$142=0),'PC40 Graphs'!$G47,IF(AND($X$139=4,$AA$141=0,$AB$141=0),'PC32 Graphs'!$C47,IF(AND($X$139=3,$AA$140=0,$AB$140=0),'PC32 Graphs'!$E47,IF(AND($X$139=2,$AA$139=0,$AB$139=0),'PC25 Graphs'!$C48,IF(AND($X$139=1,$AA$138=0,$AB$138=0),'PC25 Graphs'!$E48)))))))","v":37},{"$f":"IF(AND($X$139=7,$AA$144=0,$AB$144=0),'PC40 Graphs'!$B105,IF(AND($X$139=6,$AA$143=0,$AB$143=0),'PC40 Graphs'!$D105,IF(AND($X$139=5,$AA$142=0,$AB$142=0),'PC40 Graphs'!$F105,IF(AND($X$139=4,$AA$141=0,$AB$141=0),'PC32 Graphs'!$B104,IF(AND($X$139=3,$AA$140=0,$AB$140=0),'PC32 Graphs'!$D104,IF(AND($X$139=2,$AA$139=0,$AB$139=0),'PC25 Graphs'!$B105,IF(AND($X$139=1,$AA$138=0,$AB$138=0),'PC25 Graphs'!$D105)))))))","v":1000},{"$f":"IF(AND($X$139=7,$AA$144=0,$AB$144=0),'PC40 Graphs'!L105,IF(AND($X$139=6,$AA$143=0,$AB$143=0),'PC40 Graphs'!N105,IF(AND($X$139=5,$AA$142=0,$AB$142=0),'PC40 Graphs'!P105,IF(AND($X$139=4,$AA$141=0,$AB$141=0),'PC32 Graphs'!L104,IF(AND($X$139=3,$AA$140=0,$AB$140=0),'PC32 Graphs'!N104,IF(AND($X$139=2,$AA$139=0,$AB$139=0),'PC25 Graphs'!L105,IF(AND($X$139=1,$AA$138=0,$AB$138=0),'PC25 Graphs'!N105)))))))","v":0},{"v":986.6666666666667,"d":"987"},805,37,null,null,{"$f":"Calc!B128","v":6720},{"$f":"Calc!A128","v":0.7302666666666672},null,{"$f":"Calc!B62","v":8000},{"$f":"Calc!A62","v":0.6068349890109856},{"$nulls":8},0.7185333333333339,7200,0.4099242197802164,8000]
[{"$nulls":20},{"$f":"IF(AND($X$139=7,$AA$144=0,$AB$144=0),'PC40 Graphs'!$B48,IF(AND($X$139=6,$AA$143=0,$AB$143=0),'PC40 Graphs'!$D48,IF(AND($X$139=5,$AA$142=0,$AB$142=0),'PC40 Graphs'!$F48,IF(AND($X$139=4,$AA$141=0,$AB$141=0),'PC32 Graphs'!$B48,IF(AND($X$139=3,$AA$140=0,$AB$140=0),'PC32 Graphs'!$D48,IF(AND($X$139=2,$AA$139=0,$AB$139=0),'PC25 Graphs'!$B49,IF(AND($X$139=1,$AA$138=0,$AB$138=0),'PC25 Graphs'!$D49)))))))","v":{"v":986.6666666666667,"d":"987"}},{"$f":"IF(AND($X$139=7,$AA$144=0,$AB$144=0),'PC40 Graphs'!$C48,IF(AND($X$139=6,$AA$143=0,$AB$143=0),'PC40 Graphs'!$E48,IF(AND($X$139=5,$AA$142=0,$AB$142=0),'PC40 Graphs'!$G48,IF(AND($X$139=4,$AA$141=0,$AB$141=0),'PC32 Graphs'!$C48,IF(AND($X$139=3,$AA$140=0,$AB$140=0),'PC32 Graphs'!$E48,IF(AND($X$139=2,$AA$139=0,$AB$139=0),'PC25 Graphs'!$C49,IF(AND($X$139=1,$AA$138=0,$AB$138=0),'PC25 Graphs'!$E49)))))))","v":30},{"$f":"IF(AND($X$139=7,$AA$144=0,$AB$144=0),'PC40 Graphs'!$B106,IF(AND($X$139=6,$AA$143=0,$AB$143=0),'PC40 Graphs'!$D106,IF(AND($X$139=5,$AA$142=0,$AB$142=0),'PC40 Graphs'!$F106,IF(AND($X$139=4,$AA$141=0,$AB$141=0),'PC32 Graphs'!$B105,IF(AND($X$139=3,$AA$140=0,$AB$140=0),'PC32 Graphs'!$D105,IF(AND($X$139=2,$AA$139=0,$AB$139=0),'PC25 Graphs'!$B106,IF(AND($X$139=1,$AA$138=0,$AB$138=0),'PC25 Graphs'!$D106)))))))","v":1000},{"$f":"IF(AND($X$139=7,$AA$144=0,$AB$144=0),'PC40 Graphs'!L106,IF(AND($X$139=6,$AA$143=0,$AB$143=0),'PC40 Graphs'!N106,IF(AND($X$139=5,$AA$142=0,$AB$142=0),'PC40 Graphs'!P106,IF(AND($X$139=4,$AA$141=0,$AB$141=0),'PC32 Graphs'!L105,IF(AND($X$139=3,$AA$140=0,$AB$140=0),'PC32 Graphs'!N105,IF(AND($X$139=2,$AA$139=0,$AB$139=0),'PC25 Graphs'!L106,IF(AND($X$139=1,$AA$138=0,$AB$138=0),'PC25 Graphs'!N106)))))))","v":0},{"v":986.6666666666667,"d":"987"},805,30,null,null,{"$f":"Calc!B129","v":6880},{"$f":"Calc!A129","v":0.7263555555555561},null,{"$f":"Calc!B63","v":8000},{"$f":"Calc!A63","v":0.5417944615384582},{"$nulls":8},0.7146222222222228,7360,0.3430945054945021,8000]
[{"$nulls":20},{"$f":"IF(AND($X$139=7,$AA$144=0,$AB$144=0),'PC40 Graphs'!$B49,IF(AND($X$139=6,$AA$143=0,$AB$143=0),'PC40 Graphs'!$D49,IF(AND($X$139=5,$AA$142=0,$AB$142=0),'PC40 Graphs'!$F49,IF(AND($X$139=4,$AA$141=0,$AB$141=0),'PC32 Graphs'!$B49,IF(AND($X$139=3,$AA$140=0,$AB$140=0),'PC32 Graphs'!$D49,IF(AND($X$139=2,$AA$139=0,$AB$139=0),'PC25 Graphs'!$B50,IF(AND($X$139=1,$AA$138=0,$AB$138=0),'PC25 Graphs'!$D50)))))))","v":{"v":986.6666666666667,"d":"987"}},{"$f":"IF(AND($X$139=7,$AA$144=0,$AB$144=0),'PC40 Graphs'!$C49,IF(AND($X$139=6,$AA$143=0,$AB$143=0),'PC40 Graphs'!$E49,IF(AND($X$139=5,$AA$142=0,$AB$142=0),'PC40 Graphs'!$G49,IF(AND($X$139=4,$AA$141=0,$AB$141=0),'PC32 Graphs'!$C49,IF(AND($X$139=3,$AA$140=0,$AB$140=0),'PC32 Graphs'!$E49,IF(AND($X$139=2,$AA$139=0,$AB$139=0),'PC25 Graphs'!$C50,IF(AND($X$139=1,$AA$138=0,$AB$138=0),'PC25 Graphs'!$E50)))))))","v":24},{"$f":"IF(AND($X$139=7,$AA$144=0,$AB$144=0),'PC40 Graphs'!$B107,IF(AND($X$139=6,$AA$143=0,$AB$143=0),'PC40 Graphs'!$D107,IF(AND($X$139=5,$AA$142=0,$AB$142=0),'PC40 Graphs'!$F107,IF(AND($X$139=4,$AA$141=0,$AB$141=0),'PC32 Graphs'!$B106,IF(AND($X$139=3,$AA$140=0,$AB$140=0),'PC32 Graphs'!$D106,IF(AND($X$139=2,$AA$139=0,$AB$139=0),'PC25 Graphs'!$B107,IF(AND($X$139=1,$AA$138=0,$AB$138=0),'PC25 Graphs'!$D107)))))))","v":1000},{"$f":"IF(AND($X$139=7,$AA$144=0,$AB$144=0),'PC40 Graphs'!L107,IF(AND($X$139=6,$AA$143=0,$AB$143=0),'PC40 Graphs'!N107,IF(AND($X$139=5,$AA$142=0,$AB$142=0),'PC40 Graphs'!P107,IF(AND($X$139=4,$AA$141=0,$AB$141=0),'PC32 Graphs'!L106,IF(AND($X$139=3,$AA$140=0,$AB$140=0),'PC32 Graphs'!N106,IF(AND($X$139=2,$AA$139=0,$AB$139=0),'PC25 Graphs'!L107,IF(AND($X$139=1,$AA$138=0,$AB$138=0),'PC25 Graphs'!N107)))))))","v":0},{"v":986.6666666666667,"d":"987"},805,24,null,null,{"$f":"Calc!B130","v":7040},{"$f":"Calc!A130","v":0.722444444444445},null,{"$f":"Calc!B64","v":8000},{"$f":"Calc!A64","v":0.4761575384615351},{"$nulls":8},0.7107111111111117,7520,0.2756683956043922,8000]
[{"$nulls":20},{"$f":"IF(AND($X$139=7,$AA$144=0,$AB$144=0),'PC40 Graphs'!$B50,IF(AND($X$139=6,$AA$143=0,$AB$143=0),'PC40 Graphs'!$D50,IF(AND($X$139=5,$AA$142=0,$AB$142=0),'PC40 Graphs'!$F50,IF(AND($X$139=4,$AA$141=0,$AB$141=0),'PC32 Graphs'!$B50,IF(AND($X$139=3,$AA$140=0,$AB$140=0),'PC32 Graphs'!$D50,IF(AND($X$139=2,$AA$139=0,$AB$139=0),'PC25 Graphs'!$B51,IF(AND($X$139=1,$AA$138=0,$AB$138=0),'PC25 Graphs'!$D51)))))))","v":{"v":986.6666666666667,"d":"987"}},{"$f":"IF(AND($X$139=7,$AA$144=0,$AB$144=0),'PC40 Graphs'!$C50,IF(AND($X$139=6,$AA$143=0,$AB$143=0),'PC40 Graphs'!$E50,IF(AND($X$139=5,$AA$142=0,$AB$142=0),'PC40 Graphs'!$G50,IF(AND($X$139=4,$AA$141=0,$AB$141=0),'PC32 Graphs'!$C50,IF(AND($X$139=3,$AA$140=0,$AB$140=0),'PC32 Graphs'!$E50,IF(AND($X$139=2,$AA$139=0,$AB$139=0),'PC25 Graphs'!$C51,IF(AND($X$139=1,$AA$138=0,$AB$138=0),'PC25 Graphs'!$E51)))))))","v":17},{"$f":"IF(AND($X$139=7,$AA$144=0,$AB$144=0),'PC40 Graphs'!$B108,IF(AND($X$139=6,$AA$143=0,$AB$143=0),'PC40 Graphs'!$D108,IF(AND($X$139=5,$AA$142=0,$AB$142=0),'PC40 Graphs'!$F108,IF(AND($X$139=4,$AA$141=0,$AB$141=0),'PC32 Graphs'!$B107,IF(AND($X$139=3,$AA$140=0,$AB$140=0),'PC32 Graphs'!$D107,IF(AND($X$139=2,$AA$139=0,$AB$139=0),'PC25 Graphs'!$B108,IF(AND($X$139=1,$AA$138=0,$AB$138=0),'PC25 Graphs'!$D108)))))))","v":1000},{"$f":"IF(AND($X$139=7,$AA$144=0,$AB$144=0),'PC40 Graphs'!L108,IF(AND($X$139=6,$AA$143=0,$AB$143=0),'PC40 Graphs'!N108,IF(AND($X$139=5,$AA$142=0,$AB$142=0),'PC40 Graphs'!P108,IF(AND($X$139=4,$AA$141=0,$AB$141=0),'PC32 Graphs'!L107,IF(AND($X$139=3,$AA$140=0,$AB$140=0),'PC32 Graphs'!N107,IF(AND($X$139=2,$AA$139=0,$AB$139=0),'PC25 Graphs'!L108,IF(AND($X$139=1,$AA$138=0,$AB$138=0),'PC25 Graphs'!N108)))))))","v":0},{"v":986.6666666666667,"d":"987"},805,17,null,null,{"$f":"Calc!B131","v":7200},{"$f":"Calc!A131","v":0.7185333333333339},null,{"$f":"Calc!B65","v":8000},{"$f":"Calc!A65","v":0.4099242197802164},{"$nulls":8},0.7068000000000006,7680,0.20764589010988635,8000]
[{"$nulls":20},{"$f":"IF(AND($X$139=7,$AA$144=0,$AB$144=0),'PC40 Graphs'!$B51,IF(AND($X$139=6,$AA$143=0,$AB$143=0),'PC40 Graphs'!$D51,IF(AND($X$139=5,$AA$142=0,$AB$142=0),'PC40 Graphs'!$F51,IF(AND($X$139=4,$AA$141=0,$AB$141=0),'PC32 Graphs'!$B51,IF(AND($X$139=3,$AA$140=0,$AB$140=0),'PC32 Graphs'!$D51,IF(AND($X$139=2,$AA$139=0,$AB$139=0),'PC25 Graphs'!$B52,IF(AND($X$139=1,$AA$138=0,$AB$138=0),'PC25 Graphs'!$D52)))))))","v":{"v":986.6666666666667,"d":"987"}},{"$f":"IF(AND($X$139=7,$AA$144=0,$AB$144=0),'PC40 Graphs'!$C51,IF(AND($X$139=6,$AA$143=0,$AB$143=0),'PC40 Graphs'!$E51,IF(AND($X$139=5,$AA$142=0,$AB$142=0),'PC40 Graphs'!$G51,IF(AND($X$139=4,$AA$141=0,$AB$141=0),'PC32 Graphs'!$C51,IF(AND($X$139=3,$AA$140=0,$AB$140=0),'PC32 Graphs'!$E51,IF(AND($X$139=2,$AA$139=0,$AB$139=0),'PC25 Graphs'!$C52,IF(AND($X$139=1,$AA$138=0,$AB$138=0),'PC25 Graphs'!$E52)))))))","v":10},{"$f":"IF(AND($X$139=7,$AA$144=0,$AB$144=0),'PC40 Graphs'!$B109,IF(AND($X$139=6,$AA$143=0,$AB$143=0),'PC40 Graphs'!$D109,IF(AND($X$139=5,$AA$142=0,$AB$142=0),'PC40 Graphs'!$F109,IF(AND($X$139=4,$AA$141=0,$AB$141=0),'PC32 Graphs'!$B108,IF(AND($X$139=3,$AA$140=0,$AB$140=0),'PC32 Graphs'!$D108,IF(AND($X$139=2,$AA$139=0,$AB$139=0),'PC25 Graphs'!$B109,IF(AND($X$139=1,$AA$138=0,$AB$138=0),'PC25 Graphs'!$D109)))))))","v":1000},{"$f":"IF(AND($X$139=7,$AA$144=0,$AB$144=0),'PC40 Graphs'!L109,IF(AND($X$139=6,$AA$143=0,$AB$143=0),'PC40 Graphs'!N109,IF(AND($X$139=5,$AA$142=0,$AB$142=0),'PC40 Graphs'!P109,IF(AND($X$139=4,$AA$141=0,$AB$141=0),'PC32 Graphs'!L108,IF(AND($X$139=3,$AA$140=0,$AB$140=0),'PC32 Graphs'!N108,IF(AND($X$139=2,$AA$139=0,$AB$139=0),'PC25 Graphs'!L109,IF(AND($X$139=1,$AA$138=0,$AB$138=0),'PC25 Graphs'!N109)))))))","v":0},{"v":986.6666666666667,"d":"987"},805,10,null,null,{"$f":"Calc!B132","v":7360},{"$f":"Calc!A132","v":0.7146222222222228},null,{"$f":"Calc!B66","v":8000},{"$f":"Calc!A66","v":0.3430945054945021},{"$nulls":8},0.7028888888888896,7840,0.13902698901098556,8000]
[{"$nulls":20},{"$f":"IF(AND($X$139=7,$AA$144=0,$AB$144=0),'PC40 Graphs'!$B52,IF(AND($X$139=6,$AA$143=0,$AB$143=0),'PC40 Graphs'!$D52,IF(AND($X$139=5,$AA$142=0,$AB$142=0),'PC40 Graphs'!$F52,IF(AND($X$139=4,$AA$141=0,$AB$141=0),'PC32 Graphs'!$B52,IF(AND($X$139=3,$AA$140=0,$AB$140=0),'PC32 Graphs'!$D52,IF(AND($X$139=2,$AA$139=0,$AB$139=0),'PC25 Graphs'!$B53,IF(AND($X$139=1,$AA$138=0,$AB$138=0),'PC25 Graphs'!$D53)))))))","v":{"v":986.6666666666667,"d":"987"}},{"$f":"IF(AND($X$139=7,$AA$144=0,$AB$144=0),'PC40 Graphs'!$C52,IF(AND($X$139=6,$AA$143=0,$AB$143=0),'PC40 Graphs'!$E52,IF(AND($X$139=5,$AA$142=0,$AB$142=0),'PC40 Graphs'!$G52,IF(AND($X$139=4,$AA$141=0,$AB$141=0),'PC32 Graphs'!$C52,IF(AND($X$139=3,$AA$140=0,$AB$140=0),'PC32 Graphs'!$E52,IF(AND($X$139=2,$AA$139=0,$AB$139=0),'PC25 Graphs'!$C53,IF(AND($X$139=1,$AA$138=0,$AB$138=0),'PC25 Graphs'!$E53)))))))","v":4},{"$f":"IF(AND($X$139=7,$AA$144=0,$AB$144=0),'PC40 Graphs'!$B110,IF(AND($X$139=6,$AA$143=0,$AB$143=0),'PC40 Graphs'!$D110,IF(AND($X$139=5,$AA$142=0,$AB$142=0),'PC40 Graphs'!$F110,IF(AND($X$139=4,$AA$141=0,$AB$141=0),'PC32 Graphs'!$B109,IF(AND($X$139=3,$AA$140=0,$AB$140=0),'PC32 Graphs'!$D109,IF(AND($X$139=2,$AA$139=0,$AB$139=0),'PC25 Graphs'!$B110,IF(AND($X$139=1,$AA$138=0,$AB$138=0),'PC25 Graphs'!$D110)))))))","v":1000},{"$f":"IF(AND($X$139=7,$AA$144=0,$AB$144=0),'PC40 Graphs'!L110,IF(AND($X$139=6,$AA$143=0,$AB$143=0),'PC40 Graphs'!N110,IF(AND($X$139=5,$AA$142=0,$AB$142=0),'PC40 Graphs'!P110,IF(AND($X$139=4,$AA$141=0,$AB$141=0),'PC32 Graphs'!L109,IF(AND($X$139=3,$AA$140=0,$AB$140=0),'PC32 Graphs'!N109,IF(AND($X$139=2,$AA$139=0,$AB$139=0),'PC25 Graphs'!L110,IF(AND($X$139=1,$AA$138=0,$AB$138=0),'PC25 Graphs'!N110)))))))","v":0},{"v":986.6666666666667,"d":"987"},805,4,null,null,{"$f":"Calc!B133","v":7520},{"$f":"Calc!A133","v":0.7107111111111117},null,{"$f":"Calc!B67","v":8000},{"$f":"Calc!A67","v":0.2756683956043922},{"$nulls":8},0.7,8000,0.06981169230768883,8000]
[{"$nulls":20},{"$f":"IF(AND($X$139=7,$AA$144=0,$AB$144=0),'PC40 Graphs'!$B53,IF(AND($X$139=6,$AA$143=0,$AB$143=0),'PC40 Graphs'!$D53,IF(AND($X$139=5,$AA$142=0,$AB$142=0),'PC40 Graphs'!$F53,IF(AND($X$139=4,$AA$141=0,$AB$141=0),'PC32 Graphs'!$B53,IF(AND($X$139=3,$AA$140=0,$AB$140=0),'PC32 Graphs'!$D53,IF(AND($X$139=2,$AA$139=0,$AB$139=0),'PC25 Graphs'!$B54,IF(AND($X$139=1,$AA$138=0,$AB$138=0),'PC25 Graphs'!$D54)))))))","v":{"v":986.6666666666667,"d":"987"}},{"$f":"IF(AND($X$139=7,$AA$144=0,$AB$144=0),'PC40 Graphs'!$C53,IF(AND($X$139=6,$AA$143=0,$AB$143=0),'PC40 Graphs'!$E53,IF(AND($X$139=5,$AA$142=0,$AB$142=0),'PC40 Graphs'!$G53,IF(AND($X$139=4,$AA$141=0,$AB$141=0),'PC32 Graphs'!$C53,IF(AND($X$139=3,$AA$140=0,$AB$140=0),'PC32 Graphs'!$E53,IF(AND($X$139=2,$AA$139=0,$AB$139=0),'PC25 Graphs'!$C54,IF(AND($X$139=1,$AA$138=0,$AB$138=0),'PC25 Graphs'!$E54)))))))","v":0},{"$f":"IF(AND($X$139=7,$AA$144=0,$AB$144=0),'PC40 Graphs'!$B111,IF(AND($X$139=6,$AA$143=0,$AB$143=0),'PC40 Graphs'!$D111,IF(AND($X$139=5,$AA$142=0,$AB$142=0),'PC40 Graphs'!$F111,IF(AND($X$139=4,$AA$141=0,$AB$141=0),'PC32 Graphs'!$B110,IF(AND($X$139=3,$AA$140=0,$AB$140=0),'PC32 Graphs'!$D110,IF(AND($X$139=2,$AA$139=0,$AB$139=0),'PC25 Graphs'!$B111,IF(AND($X$139=1,$AA$138=0,$AB$138=0),'PC25 Graphs'!$D111)))))))","v":1000},{"$f":"IF(AND($X$139=7,$AA$144=0,$AB$144=0),'PC40 Graphs'!L111,IF(AND($X$139=6,$AA$143=0,$AB$143=0),'PC40 Graphs'!N111,IF(AND($X$139=5,$AA$142=0,$AB$142=0),'PC40 Graphs'!P111,IF(AND($X$139=4,$AA$141=0,$AB$141=0),'PC32 Graphs'!L110,IF(AND($X$139=3,$AA$140=0,$AB$140=0),'PC32 Graphs'!N110,IF(AND($X$139=2,$AA$139=0,$AB$139=0),'PC25 Graphs'!L111,IF(AND($X$139=1,$AA$138=0,$AB$138=0),'PC25 Graphs'!N111)))))))","v":0},{"v":986.6666666666667,"d":"987"},805,0,null,null,{"$f":"Calc!B134","v":7680},{"$f":"Calc!A134","v":0.7068000000000006},null,{"$f":"Calc!B68","v":8000},{"$f":"Calc!A68","v":0.20764589010988635},{"$nulls":8},{"$f":"IF($AK$139=2,U200,AQ196)","v":0.7},{"$f":"IF($AK$139=2,AA200,AR196)","v":8000},0,8000]
[{"$nulls":20},{"$f":"IF(AND($X$139=7,$AA$144=0,$AB$144=0),'PC40 Graphs'!$B54,IF(AND($X$139=6,$AA$143=0,$AB$143=0),'PC40 Graphs'!$D54,IF(AND($X$139=5,$AA$142=0,$AB$142=0),'PC40 Graphs'!$F54,IF(AND($X$139=4,$AA$141=0,$AB$141=0),'PC32 Graphs'!$B54,IF(AND($X$139=3,$AA$140=0,$AB$140=0),'PC32 Graphs'!$D54,IF(AND($X$139=2,$AA$139=0,$AB$139=0),'PC25 Graphs'!$B55,IF(AND($X$139=1,$AA$138=0,$AB$138=0),'PC25 Graphs'!$D55)))))))","v":{"v":986.6666666666667,"d":"987"}},{"$f":"IF(AND($X$139=7,$AA$144=0,$AB$144=0),'PC40 Graphs'!$C54,IF(AND($X$139=6,$AA$143=0,$AB$143=0),'PC40 Graphs'!$E54,IF(AND($X$139=5,$AA$142=0,$AB$142=0),'PC40 Graphs'!$G54,IF(AND($X$139=4,$AA$141=0,$AB$141=0),'PC32 Graphs'!$C54,IF(AND($X$139=3,$AA$140=0,$AB$140=0),'PC32 Graphs'!$E54,IF(AND($X$139=2,$AA$139=0,$AB$139=0),'PC25 Graphs'!$C55,IF(AND($X$139=1,$AA$138=0,$AB$138=0),'PC25 Graphs'!$E55)))))))","v":0},{"$f":"IF(AND($X$139=7,$AA$144=0,$AB$144=0),'PC40 Graphs'!$B112,IF(AND($X$139=6,$AA$143=0,$AB$143=0),'PC40 Graphs'!$D112,IF(AND($X$139=5,$AA$142=0,$AB$142=0),'PC40 Graphs'!$F112,IF(AND($X$139=4,$AA$141=0,$AB$141=0),'PC32 Graphs'!$B111,IF(AND($X$139=3,$AA$140=0,$AB$140=0),'PC32 Graphs'!$D111,IF(AND($X$139=2,$AA$139=0,$AB$139=0),'PC25 Graphs'!$B112,IF(AND($X$139=1,$AA$138=0,$AB$138=0),'PC25 Graphs'!$D112)))))))","v":1000},{"$f":"IF(AND($X$139=7,$AA$144=0,$AB$144=0),'PC40 Graphs'!L112,IF(AND($X$139=6,$AA$143=0,$AB$143=0),'PC40 Graphs'!N112,IF(AND($X$139=5,$AA$142=0,$AB$142=0),'PC40 Graphs'!P112,IF(AND($X$139=4,$AA$141=0,$AB$141=0),'PC32 Graphs'!L111,IF(AND($X$139=3,$AA$140=0,$AB$140=0),'PC32 Graphs'!N111,IF(AND($X$139=2,$AA$139=0,$AB$139=0),'PC25 Graphs'!L112,IF(AND($X$139=1,$AA$138=0,$AB$138=0),'PC25 Graphs'!N112)))))))","v":0},{"v":986.6666666666667,"d":"987"},805,0,null,null,{"$f":"Calc!B135","v":7840},{"$f":"Calc!A135","v":0.7028888888888896},null,{"$f":"Calc!B69","v":8000},{"$f":"Calc!A69","v":0.13902698901098556}]
[{"$nulls":20},{"$f":"IF(AND($X$139=7,$AA$144=0,$AB$144=0),'PC40 Graphs'!$B55,IF(AND($X$139=6,$AA$143=0,$AB$143=0),'PC40 Graphs'!$D55,IF(AND($X$139=5,$AA$142=0,$AB$142=0),'PC40 Graphs'!$F55,IF(AND($X$139=4,$AA$141=0,$AB$141=0),'PC32 Graphs'!$B55,IF(AND($X$139=3,$AA$140=0,$AB$140=0),'PC32 Graphs'!$D55,IF(AND($X$139=2,$AA$139=0,$AB$139=0),'PC25 Graphs'!$B56,IF(AND($X$139=1,$AA$138=0,$AB$138=0),'PC25 Graphs'!$D56)))))))","v":{"v":986.6666666666667,"d":"987"}},{"$f":"IF(AND($X$139=7,$AA$144=0,$AB$144=0),'PC40 Graphs'!$C55,IF(AND($X$139=6,$AA$143=0,$AB$143=0),'PC40 Graphs'!$E55,IF(AND($X$139=5,$AA$142=0,$AB$142=0),'PC40 Graphs'!$G55,IF(AND($X$139=4,$AA$141=0,$AB$141=0),'PC32 Graphs'!$C55,IF(AND($X$139=3,$AA$140=0,$AB$140=0),'PC32 Graphs'!$E55,IF(AND($X$139=2,$AA$139=0,$AB$139=0),'PC25 Graphs'!$C56,IF(AND($X$139=1,$AA$138=0,$AB$138=0),'PC25 Graphs'!$E56)))))))","v":0},{"$f":"IF(AND($X$139=7,$AA$144=0,$AB$144=0),'PC40 Graphs'!$B113,IF(AND($X$139=6,$AA$143=0,$AB$143=0),'PC40 Graphs'!$D113,IF(AND($X$139=5,$AA$142=0,$AB$142=0),'PC40 Graphs'!$F113,IF(AND($X$139=4,$AA$141=0,$AB$141=0),'PC32 Graphs'!$B112,IF(AND($X$139=3,$AA$140=0,$AB$140=0),'PC32 Graphs'!$D112,IF(AND($X$139=2,$AA$139=0,$AB$139=0),'PC25 Graphs'!$B113,IF(AND($X$139=1,$AA$138=0,$AB$138=0),'PC25 Graphs'!$D113)))))))","v":1000},{"$f":"IF(AND($X$139=7,$AA$144=0,$AB$144=0),'PC40 Graphs'!L113,IF(AND($X$139=6,$AA$143=0,$AB$143=0),'PC40 Graphs'!N113,IF(AND($X$139=5,$AA$142=0,$AB$142=0),'PC40 Graphs'!P113,IF(AND($X$139=4,$AA$141=0,$AB$141=0),'PC32 Graphs'!L112,IF(AND($X$139=3,$AA$140=0,$AB$140=0),'PC32 Graphs'!N112,IF(AND($X$139=2,$AA$139=0,$AB$139=0),'PC25 Graphs'!L113,IF(AND($X$139=1,$AA$138=0,$AB$138=0),'PC25 Graphs'!N113)))))))","v":0},{"v":986.6666666666667,"d":"987"},805,0,null,null,{"$f":"Calc!B136","v":8000},{"$f":"Calc!A136","v":0.7},null,{"$f":"Calc!B70","v":8000},{"$f":"Calc!A70","v":0.06981169230768883}]
[{"$nulls":20},{"$f":"IF(AND($X$139=7,$AA$144=0,$AB$144=0),'PC40 Graphs'!$B56,IF(AND($X$139=6,$AA$143=0,$AB$143=0),'PC40 Graphs'!$D56,IF(AND($X$139=5,$AA$142=0,$AB$142=0),'PC40 Graphs'!$F56,IF(AND($X$139=4,$AA$141=0,$AB$141=0),'PC32 Graphs'!$B56,IF(AND($X$139=3,$AA$140=0,$AB$140=0),'PC32 Graphs'!$D56,IF(AND($X$139=2,$AA$139=0,$AB$139=0),'PC25 Graphs'!$B57,IF(AND($X$139=1,$AA$138=0,$AB$138=0),'PC25 Graphs'!$D57)))))))","v":{"v":986.6666666666667,"d":"987"}},{"$f":"IF(AND($X$139=7,$AA$144=0,$AB$144=0),'PC40 Graphs'!$C56,IF(AND($X$139=6,$AA$143=0,$AB$143=0),'PC40 Graphs'!$E56,IF(AND($X$139=5,$AA$142=0,$AB$142=0),'PC40 Graphs'!$G56,IF(AND($X$139=4,$AA$141=0,$AB$141=0),'PC32 Graphs'!$C56,IF(AND($X$139=3,$AA$140=0,$AB$140=0),'PC32 Graphs'!$E56,IF(AND($X$139=2,$AA$139=0,$AB$139=0),'PC25 Graphs'!$C57,IF(AND($X$139=1,$AA$138=0,$AB$138=0),'PC25 Graphs'!$E57)))))))","v":0},{"$f":"IF(AND($X$139=7,$AA$144=0,$AB$144=0),'PC40 Graphs'!$B114,IF(AND($X$139=6,$AA$143=0,$AB$143=0),'PC40 Graphs'!$D114,IF(AND($X$139=5,$AA$142=0,$AB$142=0),'PC40 Graphs'!$F114,IF(AND($X$139=4,$AA$141=0,$AB$141=0),'PC32 Graphs'!$B113,IF(AND($X$139=3,$AA$140=0,$AB$140=0),'PC32 Graphs'!$D113,IF(AND($X$139=2,$AA$139=0,$AB$139=0),'PC25 Graphs'!$B114,IF(AND($X$139=1,$AA$138=0,$AB$138=0),'PC25 Graphs'!$D114)))))))","v":1000},{"$f":"IF(AND($X$139=7,$AA$144=0,$AB$144=0),'PC40 Graphs'!L114,IF(AND($X$139=6,$AA$143=0,$AB$143=0),'PC40 Graphs'!N114,IF(AND($X$139=5,$AA$142=0,$AB$142=0),'PC40 Graphs'!P114,IF(AND($X$139=4,$AA$141=0,$AB$141=0),'PC32 Graphs'!L113,IF(AND($X$139=3,$AA$140=0,$AB$140=0),'PC32 Graphs'!N113,IF(AND($X$139=2,$AA$139=0,$AB$139=0),'PC25 Graphs'!L114,IF(AND($X$139=1,$AA$138=0,$AB$138=0),'PC25 Graphs'!N114)))))))","v":0},{"v":986.6666666666667,"d":"987"},805,0,{"$nulls":5},{"$f":"Calc!B71","v":8000},{"$f":"Calc!A71","v":0}]
[]
[]
[]
[{"$nulls":13},"Motor ID","Voltage",null,"Motor Part number","Motor nbr"]
[{"$nulls":12},"Current Choice -->",{"$f":"LOOKUP(R205,R209:R246,N209:N246)","v":"004"},{"$f":"I209","v":240},null,{"$f":"LOOKUP(B209,Data!$R$209:$R$246,Data!$Q$209:$Q$246)","v":"AKM22E-ANCNR-00"},{"$f":"B209","v":5}]
[{"$nulls":11},"INFO",{"$nulls":4},"Sent to input","1= fits; 0= No fit"]
[{"$nulls":3},"Cont. torque (Stall) [Nm]","Peak torque [Nm]","Rated torque [Nm]",{"$f":"IF(OR($J$150=1,$J$150=4),\"Rated speed [rpm]\",IF($J$150=2,\"Max Speed [rpm]\"))","v":"Rated speed [rpm]"},"Inertia [kg cm²]","Input Voltage",null,"Voltage","AKM Servo","Model in Database","Motor ID","Fits PC","Winding","Motor Part number","Motor nbr","PC25",null,"PC32",null,"PC40"]
[null,"SERVO AKM",null,"Nm","Nm","Nm","rpm","kg cm²","VAC",{"$nulls":9},"LX","PA","LX","PA","LX","PA"]
[null,{"$f":"IF($J$170=2,VLOOKUP($C$150,$A$210:$B$223,2,FALSE),IF($J$170=1,VLOOKUP($C$150,$A$225:$B$238,2,FALSE),IF($J$170=3,VLOOKUP($C$150,$A$240:$B$249,2,FALSE))))","v":5},{"$f":"VLOOKUP($B$209,$B$210:$I$249,2)","v":"AKM22E"},{"$f":"VLOOKUP($B$209,$B$210:$I$249,3)","v":0.87},{"$f":"VLOOKUP($B$209,$B$210:$I$249,4)","v":2.76},{"$f":"VLOOKUP($B$209,$B$210:$I$249,5)","v":0.7},{"$f":"VLOOKUP($B$209,$B$210:$I$249,6)","v":8000},{"$f":"VLOOKUP($B$209,$B$210:$I$249,7)","v":0.16},{"$f":"VLOOKUP($B$209,$B$210:$I$249,8)","v":240},null,240,"AKM11B","AKM1xx-Axxxx-00","367","ALL","-ANC",{"$f":"CONCATENATE(L209,P209,$K$141,$O$141)","v":"AKM11B-ANCNR-00"},1,1,1,1,1,1,1]
[{"$f":"IF($J$150=1,C210,\" xx\")","v":"AKM11B"},1,"AKM11B",0.183,0.609,0.167,8000,0.017,240,null,240,"AKM12C","AKM1xx-Axxxx-00","367","ALL","-ANC","AKM12C-ANCNR-00",2,1,1,1,1,1,1]
["AKM12C",2,"AKM12C",0.31,1.08,0.279,8000,0.031,240,null,240,"AKM13C","AKM1xx-Axxxx-00","367","ALL","-ANC","AKM13C-ANCNR-00",3,1,1,1,1,1,1]
["AKM13C",3,"AKM13C",0.409,1.46,0.364,8000,0.045,240,null,240,"AKM21C","AKM2xx-Axxxx-00","004","ALL","-ANC","AKM21C-ANCNR-00",4,1,1,1,1,1,1]
["AKM21C",4,"AKM21C",0.48,1.47,0.39,8000,0.11,240,null,240,"AKM22E","AKM2xx-Axxxx-00","004","ALL","-ANC","AKM22E-ANCNR-00",5,1,1,1,1,1,1]
["AKM22E",5,"AKM22E",0.87,2.76,0.7,8000,0.16,240,null,240,"AKM23E","AKM2xx-Axxxx-00","004","ALL","-ANC","AKM23E-ANCNR-00",6,1,1,1,1,1,1]
["AKM23E",6,"AKM23E",1.16,3.86,0.98,6500,0.22,240,null,240,"AKM24E","AKM2xx-Axxxx-00","004","ALL","-ANC","AKM24E-ANCNR-00",7,1,1,1,1,1,1]
["AKM24E",7,"AKM24E",1.4,4.79,1.24,5500,0.27,240,null,240,"AKM31E","AKM3xx-Axxxx-00","001","PC32,PC40","-ANC","AKM31E-ANCNR-00",8,0,0,1,1,1,1]
["AKM31E",8,"AKM31E",1.2,4,0.95,6000,0.33,240,null,240,"AKM32E","AKM3xx-Axxxx-00","001","PC32,PC40","-ANC","AKM32E-ANCNR-00",9,0,0,1,1,1,1]
["AKM32E",9,"AKM32E",2.04,7.11,1.91,3000,0.59,240,null,240,"AKM33H","AKM3xx-Axxxx-00","001","PC32,PC40","-ANC","AKM33H-ANCNR-00",10,0,0,1,1,1,1]
["AKM33H",10,"AKM33H",2.88,10.22,2.27,5500,0.85,240,null,240,"AKM41H","AKM4xx-Hxxxx-00","023","32LX,PC40","-HNC","AKM41H-HNCNR-00",11,0,0,1,0,1,1]
["AKM41H",11,"AKM41H",2.06,6.36,1.62,6000,0.81,240,null,240,"AKM42J","AKM4xx-Hxxxx-00","023","32LX,PC40","-HNC","AKM42J-HNCNR-00",12,0,0,1,0,1,1]
["AKM42J",12,"AKM42J",3.56,11.6,2.38,6000,1.5,240,null,240,"AKM43L","AKM4xx-Hxxxx-00","023","32LX,PC40","-HNC","AKM43L-HNCNR-00",13,0,0,1,0,1,1]
["AKM43L",13,"AKM43L",4.73,16,2.53,6000,2.1,240,null,240,"AKM44J","AKM4xx-Hxxxx-00","023","32LX,PC40","-HNC","AKM44J-HNCNR-00",14,0,0,1,0,1,1]
["AKM44J",14,"AKM44J",6,20.4,3.84,4000,2.7,240,null,120,"AKM11C",null,"367","ALL","-ANC","AKM11C-ANCNR-00",15,1,1,1,1,1,1]
[{"$nulls":10},120,"AKM12E",null,"367","ALL","-ANC","AKM12E-ANCNR-00",16,1,1,1,1,1,1]
[{"$f":"IF($J$150=1,C225,\" xx\")","v":"AKM11C"},15,"AKM11C",0.185,0.614,0.176,6000,0.017,120,null,120,"AKM13D",null,"367","ALL","-ANC","AKM13D-ANCNR-00",17,1,1,1,1,1,1]
["AKM12E",16,"AKM12E",0.31,1.08,0.279,8000,0.031,120,null,120,"AKM21E",null,"004","ALL","-ANC","AKM21E-ANCNR-00",18,1,1,1,1,1,1]
["AKM13D",17,"AKM13D",0.401,1.44,0.365,7000,0.045,120,null,120,"AKM22G",null,"004","ALL","-ANC","AKM22G-ANCNR-00",19,1,1,1,1,1,1]
["AKM21E",18,"AKM21E",0.5,1.49,0.41,7000,0.11,120,null,120,"AKM23F",null,"004","ALL","-ANC","AKM23F-ANCNR-00",20,1,1,1,1,1,1]
["AKM22G",19,"AKM22G",0.88,2.79,0.74,7000,0.16,120,null,120,"AKM24F",null,"004","ALL","-ANC","AKM24F-ANCNR-00",21,1,1,1,1,1,1]
["AKM23F",20,"AKM23F",1.18,3.88,1.07,4500,0.22,120,null,120,"AKM31H",null,"001","PC32,PC40","-ANC","AKM31H-ANCNR-00",22,0,0,1,1,1,1]
["AKM24F",21,"AKM24F",1.42,4.82,1.33,3000,0.27,120,null,120,"AKM32H",null,"001","PC32,PC40","-ANC","AKM32H-ANCNR-00",23,0,0,1,1,1,1]
["AKM31H",22,"AKM31H",1.23,4.06,0.97,6000,0.33,120,null,120,"AKM33H",null,"001","PC32,PC40","-ANC","AKM33H-ANCNR-00",24,0,0,1,1,1,1]
["AKM32H",23,"AKM32H",2.1,7.26,1.96,3000,0.59,120,null,120,"AKM41H",null,"023","32LX,PC40","-HNC","AKM41H-HNCNR-00",25,0,0,1,0,1,1]
["AKM33H",24,"AKM33H",2.88,10.22,2.66,2500,0.85,120,null,120,"AKM42J",null,"023","32LX,PC40","-HNC","AKM42J-HNCNR-00",26,0,0,1,0,1,1]
["AKM41H",25,"AKM41H",2.06,6.36,1.86,3000,0.81,120,null,120,"AKM43L",null,"023","32LX,PC40","-HNC","AKM43L-HNCNR-00",27,0,0,1,0,1,1]
["AKM42J",26,"AKM42J",3.56,11.6,3.03,3000,1.5,120,null,120,"AKM44H",null,"023","32LX,PC40","-HNC","AKM44H-HNCNR-00",28,0,0,1,0,1,1]
["AKM43L",27,"AKM43L",4.73,16,3.78,3000,2.1,120,null,400,"AKM22C",null,"004","ALL","-ANC","AKM22C-ANCNR-00",29,1,1,1,1,1,1]
["AKM44H",28,"AKM44H",5.89,20.2,5.44,1000,2.7,120,null,400,"AKM23D",null,"004","ALL","-ANC","AKM23D-ANCNR-00",30,1,1,1,1,1,1]
[{"$nulls":10},400,"AKM24D",null,"004","ALL","-ANC","AKM24D-ANCNR-00",31,1,1,1,1,1,1]
[{"$f":"IF($J$150=1,C240,\" xx\")","v":"AKM22C"},29,"AKM22C",0.84,2.73,0.68,8000,0.16,400,null,400,"AKM31C",null,"001","PC32,PC40","-ANC","AKM31C-ANCNR-00",32,0,0,1,1,1,1]
["AKM23D",30,"AKM23D",1.16,0.92,0.92,8000,0.22,400,null,400,"AKM32E",null,"001","PC32,PC40","-ANC","AKM32E-ANCNR-00",33,0,0,1,1,1,1]
["AKM24D",31,"AKM24D",1.41,4.76,1.11,8000,0.27,400,null,400,"AKM33E",null,"001","PC32,PC40","-ANC","AKM33E-ANCNR-00",34,0,0,1,1,1,1]
["AKM31C",32,"AKM31C",1.15,3.88,1,5000,0.33,400,null,400,"AKM41E",null,"023","32LX,PC40","-HNC","AKM41E-HNCNR-00",35,0,0,1,0,1,1]
["AKM32E",33,"AKM32E",2.04,7.11,1.5,6500,0.59,400,null,400,"AKM42G",null,"023","32LX,PC40","-HNC","AKM42G-HNCNR-00",36,0,0,1,0,1,1]
["AKM33E",34,"AKM33E",2.79,9.96,2.34,4500,0.85,400,null,400,"AKM43H",null,"023","32LX,PC40","-HNC","AKM43H-HNCNR-00",37,0,0,1,0,1,1]
["AKM41E",35,"AKM41E",2.02,6.28,1.58,6000,0.81,400,null,400,"AKM44J",null,"023","32LX,PC40","-HNC","AKM44J-HNCNR-00",38,0,0,1,0,1,1]
["AKM42G",36,"AKM42G",3.53,11.5,2.35,6000,1.5,400]
["AKM43H",37,"AKM43H",4.82,16.1,2.81,5500,2.1,400]
["AKM44J",38,"AKM44J",6,20.4,2.75,6000,2.7,400]
[]
[]
[]
[]
[]
[]
[{"$f":"IF($J$150=2,O357,\"--\")","v":"--"}]
["--"]
["--"]
["--"]
["--"]
["--"]
["--"]
["--"]
["--"]
["--"]
["--"]
["--"]
["--"]
["--"]
["--"]
["--"]
["--"]
["--"]
["--"]
["--"]
["--"]
["--"]
["--"]
["--"]
{"$rows_empty":74}
[null,null,"NOT CURRENTLY USED",{"$nulls":12},"Nominal torque","Peak torque","Rated torque","Max speed","Inertia","Motor ID","Voltage",{"$nulls":12},"Kolla om dessa stämmer jämför med quote assistance"]
[{"$nulls":13},"STEPPER",null,"Nm","Nm","Nm","rpm","kg cm²",{"$nulls":4},"PMX Stepper",1,2,3,4,5,6,7,8,9,"Sent to input"]
[null,"PMX Options",{"$nulls":11},{"$f":"IF($J$170=1,VLOOKUP($C$150,$A$256:$I$263,2,FALSE),IF($J$170=2,VLOOKUP($C$150,$A$264:$I$271,2,FALSE),IF($J$170=3,VLOOKUP($C$150,$A$272:$I$279,2,FALSE))))","v":{"$error":"#N/A"}},{"$f":"VLOOKUP(N356,N357:T380,2)","v":{"$error":"#N/A"}},{"$f":"VLOOKUP(N356,N357:T380,3)","v":{"$error":"#N/A"}},{"$f":"VLOOKUP(N356,N357:T380,4)","v":{"$error":"#N/A"}},{"$f":"VLOOKUP(N356,N357:T380,5)","v":{"$error":"#N/A"}},{"$f":"VLOOKUP(N356,N357:T380,6)","v":{"$error":"#N/A"}},{"$f":"VLOOKUP(N356,N357:T380,7)","v":{"$error":"#N/A"}},null,{"$f":"K170","v":"240"},null,null,"Motor nbr","Motor Series","Size","Rotor Stack Lenght","Winding","Step Angle","Connection","Front shaft","Rear Shaft","Sealing option"]
[null,null,"Rear Shaft","Current Choice",null,"Sealing option","Current Choice",{"$nulls":6},1,"PMX2310-J10, 2.5A",0.51,0.51,0.51,900,0.12,121,12,null,null,1,"PMX",23,10,"-J",10,"-B","N",{"$f":"$D$358","v":"NA for PMX"},{"$f":"$G$358","v":"NA for PMX"},{"$f":"CONCATENATE(Z357,AA357,AB357,AC357,AD357,AE357,AF357,AG357,AH357)","v":"PMX2310-J10-BNNA for PMXNA for PMX"}]
[null,{"$f":"LOOKUP(C358,C359:C360,B359:B360)","v":{"$error":"#N/A"}},{"$f":"Input!B34","v":"No"},{"$f":"IF($J$150=2,IF(B358=1,\"0\",\"R\"),\"NA for PMX\")","v":"NA for PMX"},{"$f":"LOOKUP(F358,F359:F360,E359:E360)","v":1},{"$f":"Input!C34","v":"R-Resolver (standard)"},{"$f":"IF($J$150=2,\"-\"&IF(E358=1,\"00\",\"01\"),\"NA for PMX\")","v":"NA for PMX"},{"$nulls":6},2,"PMX2320-J10, 2.5A",1.02,1.02,1.02,500,0.301,121,12,null,null,2,"PMX",23,20,"-J",10,"-B","N","NA for PMX","NA for PMX","PMX2320-J10-BNNA for PMXNA for PMX"]
[null,1,"No shaft",null,1,"No Shaft Seal",{"$nulls":7},3,"PMX2330-J10, 2.4A",1.66,1.66,1.66,370,0.482,121,12,"Stepper calculation",null,3,"PMX",23,30,"-J",10,"-B","N","NA for PMX","NA for PMX","PMX2330-J10-BNNA for PMXNA for PMX"]
[null,2,"Rear Shaft",null,2,"Shaft seal",{"$nulls":7},4,"PMX2340-A10, 3.8A",1.91,1.91,1.91,470,0.521,121,12,"rpm","rated Nm",4,"PMX",23,40,"-A",10,"-B","N","NA for PMX","NA for PMX","PMX2340-A10-BNNA for PMXNA for PMX"]
[{"$nulls":13},5,"PMX3410-A10, 3.6A",2.47,2.47,2.47,260,1,"085",12,{"$f":"Input!F49","v":20},{"$f":"$R$356*(1-W361/$S$356)","v":{"$error":"#N/A"}},5,"PMX",34,10,"-A",10,"-B","N","NA for PMX","NA for PMX","PMX3410-A10-BNNA for PMXNA for PMX"]
[{"$nulls":13},6,"PMX3420-A10, 3.2A",3.5,3.5,3.5,200,1.41,"085",12,{"$f":"Input!F50","v":6},{"$error":"#N/A"},6,"PMX",34,20,"-A",10,"-B","N","NA for PMX","NA for PMX","PMX3420-A10-BNNA for PMXNA for PMX"]
[{"$nulls":13},7,"PMX3430-D10, 4.8A",6.35,6.35,6.35,110,2.7,"085",12,{"$f":"Input!F51","v":15},{"$error":"#N/A"},7,"PMX",34,30,"-D",10,"-B","N","NA for PMX","NA for PMX","PMX3430-D10-BNNA for PMXNA for PMX"]
[null,"INFO ONLY","DC motor",null,"PC25LX","PC25PA","PC32LX","PC32PA","PC40LX","PC40PA",{"$nulls":3},8,"PMX3440-D10, 4.4A",8.5,8.5,8.5,100,4.01,"085",12,{"$f":"Input!F52","v":6},{"$error":"#N/A"},8,"PMX",34,40,"-D",10,"-B","N","NA for PMX","NA for PMX","PMX3440-D10-BNNA for PMXNA for PMX"]
[null,1,"TC16 NIDEC 404 722",null,92,92,92,92,92,92,{"$nulls":3},9,"PMX2310-J10, 2.5A",0.51,0.51,0.51,1800,0.12,121,24,{"$f":"Input!F53","v":12},{"$error":"#N/A"},9,"PMX",23,10,"-J",10,"-B","N","NA for PMX","NA for PMX","PMX2310-J10-BNNA for PMXNA for PMX"]
[null,2,"Dunker GR 63x55 24V",null,"-","-",142,142,142,142,{"$nulls":3},10,"PMX2320-J10, 2.5A",1.02,1.02,1.02,1030,0.301,121,24,{"$f":"Input!F54","v":6},{"$error":"#N/A"},10,"PMX",23,20,"-J",10,"-B","N","NA for PMX","NA for PMX","PMX2320-J10-BNNA for PMXNA for PMX"]
[{"$nulls":13},11,"PMX2330-J10, 2.4A",1.66,1.66,1.66,700,0.482,121,24,{"$f":"Input!F55","v":3},{"$error":"#N/A"},11,"PMX",23,30,"-J",10,"-B","N","NA for PMX","NA for PMX","PMX2330-J10-BNNA for PMXNA for PMX"]
[{"$nulls":13},12,"PMX2340-A10, 3.8A",1.91,1.91,1.91,900,0.521,121,24,null,null,12,"PMX",23,40,"-A",10,"-B","N","NA for PMX","NA for PMX","PMX2340-A10-BNNA for PMXNA for PMX"]
[{"$nulls":13},13,"PMX3410-A10, 3.6A",2.47,2.47,2.47,510,1,"085",24,null,null,13,"PMX",34,10,"-A",10,"-B","N","NA for PMX","NA for PMX","PMX3410-A10-BNNA for PMXNA for PMX"]
[{"$nulls":13},14,"PMX3420-A10, 3.2A",3.5,3.5,3.5,300,1.41,"085",24,null,null,14,"PMX",34,20,"-A",10,"-B","N","NA for PMX","NA for PMX","PMX3420-A10-BNNA for PMXNA for PMX"]
[{"$nulls":13},15,"PMX3430-D10, 4.8A",6.35,6.35,6.35,240,2.7,"085",24,null,null,15,"PMX",34,30,"-D",10,"-B","N","NA for PMX","NA for PMX","PMX3430-D10-BNNA for PMXNA for PMX"]
[{"$nulls":13},16,"PMX3440-D10, 4.4A",8.5,8.5,8.5,200,4.01,"085",24,null,null,16,"PMX",34,40,"-D",10,"-B","N","NA for PMX","NA for PMX","PMX3440-D10-BNNA for PMXNA for PMX"]
[{"$nulls":13},17,"PMX2310-J10, 2.5A",0.51,0.51,0.51,3000,0.12,121,48,null,null,17,"PMX",23,10,"-J",10,"-B","N","NA for PMX","NA for PMX","PMX2310-J10-BNNA for PMXNA for PMX"]
[{"$nulls":13},18,"PMX2320-J10, 2.5A",1.02,1.02,1.02,1900,0.301,121,48,null,null,18,"PMX",23,20,"-J",10,"-B","N","NA for PMX","NA for PMX","PMX2320-J10-BNNA for PMXNA for PMX"]
[{"$nulls":13},19,"PMX2330-J10, 2.4A",1.66,1.66,1.66,1400,0.482,121,48,null,null,19,"PMX",23,30,"-J",10,"-B","N","NA for PMX","NA for PMX","PMX2330-J10-BNNA for PMXNA for PMX"]
[{"$nulls":3},"Nominal torque","Peak torque","Rated torque","Max speed","Inertia","Motor ID","Passar på",{"$nulls":3},20,"PMX2340-A10, 3.8A",1.91,1.91,1.91,1800,0.521,121,48,null,null,20,"PMX",23,40,"-A",10,"-B","N","NA for PMX","NA for PMX","PMX2340-A10-BNNA for PMXNA for PMX"]
[null,"DC",null,"Nm","Nm","Nm","rpm","kg cm²",{"$nulls":5},21,"PMX3410-A10, 3.6A",2.47,2.47,2.47,1050,1,"085",48,null,null,21,"PMX",34,10,"-A",10,"-B","N","NA for PMX","NA for PMX","PMX3410-A10-BNNA for PMXNA for PMX"]
[null,{"$f":"B150","v":5},{"$f":"VLOOKUP(B378,B379:H402,2)","v":5},{"$f":"VLOOKUP(B378,B379:H402,3)","v":0},{"$f":"VLOOKUP(B378,B379:H402,4)","v":0},{"$f":"VLOOKUP(B378,B378:I402,5)","v":0},{"$f":"VLOOKUP(B378,B379:H402,6)","v":0},{"$f":"VLOOKUP(B378,B379:H402,7)","v":0},{"$nulls":5},22,"PMX3420-A10, 3.2A",3.5,3.5,3.5,580,1.41,"085",48,null,null,22,"PMX",34,20,"-A",10,"-B","N","NA for PMX","NA for PMX","PMX3420-A10-BNNA for PMXNA for PMX"]
[null,1,1,{"$nulls":10},23,"PMX3430-D10, 4.8A",6.35,6.35,6.35,490,2.7,"085",48,null,null,23,"PMX",34,30,"-D",10,"-B","N","NA for PMX","NA for PMX","PMX3430-D10-BNNA for PMXNA for PMX"]
[null,2,2,{"$nulls":10},24,"PMX3440-D10, 4.4A",8.5,8.5,8.5,400,4.01,"085",48,null,null,24,"PMX",34,40,"-D",10,"-B","N","NA for PMX","NA for PMX","PMX3440-D10-BNNA for PMXNA for PMX"]
[null,3,3]
[null,4,4]
[null,5,5]
[null,6,6]
[null,7,7]
[null,8,8]
[null,9,9]
[null,10,10]
[null,11,11]
[null,12,12]
[null,13,13]
[null,14,14]
[null,15,15]
[null,16,16]
[null,17,17]
[null,18,18]
[null,19,19]
[null,20,20,{"$nulls":11},"PMX2310-J10, 2.5A",0.51,0.51,0.51,900,0.12,121,12]
[null,21,21,{"$nulls":11},"PMX2320-J10, 2.5A",1.02,1.02,1.02,500,0.301,121,12]
[null,22,22,{"$nulls":11},"PMX2330-J10, 2.4A",1.66,1.66,1.66,370,0.482,121,12]
[null,23,23,{"$nulls":11},"PMX2340-A10, 3.8A",1.91,1.91,1.91,470,0.521,121,12]
[null,24,24,{"$nulls":11},"PMX3410-A10, 3.6A",2.47,2.47,2.47,260,1,85,12]
[{"$nulls":14},"PMX3420-A10, 3.2A",3.5,3.5,3.5,200,1.41,85,12]
[{"$nulls":14},"PMX3430-D10, 4.8A",6.35,6.35,6.35,110,2.7,85,12]
[{"$nulls":14},"PMX3440-D10, 4.4A",8.5,8.5,8.5,100,4.01,85,12]
[{"$nulls":14},"PMX2310-J10, 2.5A",0.51,0.51,0.51,1800,0.12,121,24]
[{"$nulls":14},"PMX2320-J10, 2.5A",1.02,1.02,1.02,1030,0.301,121,24]
[{"$nulls":3},"Nominal torque","Peak torque","Rated torque","Max speed","Inertia",{"$nulls":6},"PMX2330-J10, 2.4A",1.66,1.66,1.66,700,0.482,121,24]
[null,"AC",null,"Nm","Nm","Nm","rpm","kg cm²",{"$nulls":6},"PMX2340-A10, 3.8A",1.91,1.91,1.91,900,0.521,121,24]
[null,{"$f":"B150","v":5},{"$f":"VLOOKUP(B410,B411:H434,2)","v":"IEC63-2 Brake 0,25 kW"},{"$f":"VLOOKUP(B410,B411:H434,3)","v":0.88},{"$f":"VLOOKUP(B410,B411:H434,4)","v":1.9360000000000002},{"$f":"VLOOKUP(B410,B411:H434,5)","v":0.88},{"$f":"VLOOKUP(B410,B411:H434,6)","v":2710},{"$f":"VLOOKUP(B410,B411:H434,7)","v":2.1},{"$nulls":6},"PMX3410-A10, 3.6A",2.47,2.47,2.47,510,1,85,24]
[null,1,"IEC56-2 0,12 kW",0.42,{"$f":"D411*2.2","v":0.924},{"$f":"D411","v":0.42},2730,1.2,{"$nulls":6},"PMX3420-A10, 3.2A",3.5,3.5,3.5,300,1.41,85,24]
[null,2,"IEC56-4 0,09 kW",0.64,{"$f":"D412*2.3","v":1.472},0.64,1320,2,{"$nulls":6},"PMX3440-D10, 4.4A",8.5,8.5,8.5,200,4.01,85,24]
[null,3,"IEC63-2 0,25 kW",0.88,{"$f":"D413*2.2","v":1.9360000000000002},0.88,2750,1.6,{"$nulls":6},"PMX3430-D10, 4.8A",6.35,6.35,6.35,240,2.7,85,24]
[null,4,"IEC63-4 0,18 kW",1.3,2.8600000000000003,1.3,1350,3.2,{"$nulls":6},"PMX2310-J10, 2.5A",0.51,0.51,0.51,3000,0.12,121,48]
[null,5,"IEC63-2 Brake 0,25 kW",0.88,1.9360000000000002,0.88,2710,2.1,{"$nulls":6},"PMX2320-J10, 2.5A",1.02,1.02,1.02,1900,0.301,121,48]
[null,6,"IEC63-4 Brake 0,18 kW",1.3,2.8600000000000003,1.3,1350,3.7,{"$nulls":6},"PMX2330-J10, 2.4A",1.66,1.66,1.66,1400,0.482,121,48]
[null,7,"IEC71-2 0,55 kW",1.9,4.18,1.9,2760,4.2,{"$nulls":6},"PMX2340-A10, 3.8A",1.91,1.91,1.91,1800,0.521,121,48]
[null,8,"IEC71-4 0,37 kW",2.6,5.720000000000001,2.6,1370,8.1,{"$nulls":6},"PMX3410-A10, 3.6A",2.47,2.47,2.47,1050,1,85,48]
[null,9,"IEC71-2 Brake 0,55 kW",1.9,4.18,1.9,2760,4.8,{"$nulls":6},"PMX3420-A10, 3.2A",3.5,3.5,3.5,580,1.41,85,48]
[null,10,"IEC71-4 Brake  0,37 kW",2.6,5.720000000000001,2.6,1370,9.1,{"$nulls":6},"PMX3430-D10, 4.8A",6.35,6.35,6.35,490,2.7,85,48]
[null,11,11,{"$nulls":11},"PMX3440-D10, 4.4A",8.5,8.5,8.5,400,4.01,85,48]
[null,12,12]
[null,13,13]
[null,14,14]
[null,15,15]
[null,16,16]
[null,17,17]
[null,18,18]
[null,19,19]
[null,20,20]
[null,21,21]
[null,22,22]
[null,23,23]
[null,24,24]

{"sheet":"Motor","index":4,"n_rows":1280,"n_cols":23,"rows_kept":1280,"hidden":true,"merged":[[0,0,7,0],[0,1,7,1],[0,2,7,2],[0,3,7,3],[0,4,7,4],[0,5,0,6],[0,7,0,8],[0,9,0,10],[0,11,0,12],[0,13,0,14],[0,15,7,15],[0,16,7,16],[0,17,7,17],[0,18,7,18],[0,19,7,19],[0,20,7,20],[0,22,7,22],[1,5,7,5],[1,6,7,6],[1,7,7,7],[1,8,7,8],[1,9,7,9],[1,10,7,10],[1,11,7,11],[1,12,7,12],[1,13,7,13],[1,14,7,14]]}
["Motortype","Peak Stall Torque\n[Nm]","Peak Current \n[A]","Cont Stall \nTorque [Nm]","Cont. Stall \nCurrent [A]","75VDC",null,"160VDC",null,"320VDC",null,"560VDC",null,"640VDC",null,"max Speed\n[1/min]","Inertia\n[kgcm2]","R \n[Ohm]","L\n[mH]","Ke\n[mV/prm]","Poles",null,"Ist ein SFD Feedback \nMöglich?"]
[{"$nulls":5},"Cont Rate \nTorque [Nm]","Rated Speed\n[1/min]","Cont Rate \nTorque [Nm]","Rated Speed\n[1/min]","Cont Rate \nTorque [Nm]","Rated Speed\n[1/min]","Cont Rate \nTorque [Nm]","Rated Speed\n[1/min]","Cont Rate \nTorque [Nm]","Rated Speed\n[1/min]"]
[]
[]
[]
[]
[]
[]
["6SM27M-4000",1.2,3.5,0.32,0.8,{"$nulls":6},{"v":0.3,"d":"0.30"},4000,null,null,9000,0.08,31,21,{"v":25,"d":"25.0"},6,null,"Nein"]
["6SM27LL-4500",3.2,3.7,0.8,0.82,{"$nulls":6},0.72,4500,null,null,9000,0.14,37,42,{"v":59,"d":"59.0"},6,null,"Nein"]
["6SM37S-6000",1.8,4,0.5,1,{"$nulls":6},{"v":0.4,"d":"0.40"},6000,null,null,9000,0.45,36,32,{"v":30,"d":"30.0"},6,null,"Nein"]
["6SM37M-6000",3.6,6.5,1,1.6,{"$nulls":6},{"v":0.8,"d":"0.80"},6000,null,null,9000,0.7,12.8,21,{"v":38,"d":"38.0"},6,null,"Nein"]
["6SM37L-4000",5.4,6.4,1.5,1.6,{"$nulls":6},{"v":1.2,"d":"1.20"},4000,null,null,9000,1,15.5,30,{"v":58,"d":"58.0"},6,null,"Nein"]
["6SM37VL-6000",10.8,15.2,3,3.8,{"$nulls":6},{"v":2,"d":"2.00"},6000,null,null,9000,1.6,3.65,8,{"v":48,"d":"48.0"},6,null,"Nein"]
["6SM47L-3000",10.6,9,3,2.3,{"$nulls":6},{"v":2.2,"d":"2.20"},3000,null,null,6000,1.6,11,25,{"v":81,"d":"81.0"},6,null,"Nein"]
["6SM57S-3000",16.3,11,4.6,2.8,{"$nulls":6},{"v":3,"d":"3.00"},3000,null,null,6000,3.1,6.3,35,{"v":97,"d":"97.0"},6,null,"Nein"]
["6SM57M-3000",28.5,17,8,4.3,{"$nulls":6},{"v":6,"d":"6.00"},3000,null,null,6000,4.5,3.9,24,{"v":112,"d":"112.0"},6,null,"Nein"]
["6SM77K-3000",39.6,24,11,6,{"$nulls":6},{"v":8.5,"d":"8.50"},3000,null,null,6000,12,2.2,18,{"v":112,"d":"112.0"},6,null,"Nein"]
["6SM77S-3000",61.2,40,17,10,{"$nulls":6},{"v":12,"d":"12.00"},3000,null,null,6000,18,1.1,8.3,{"v":103,"d":"103.0"},6,null,"Nein"]
["6SM107K-3000",100.2,70,26,16,{"$nulls":6},{"v":20,"d":"20.00"},3000,null,null,6000,82,0.45,4.4,{"v":97,"d":"97.0"},6,null,"Nein"]
["6SM107S-3000",120.7,85,32,20,{"$nulls":6},{"v":23,"d":"23.00"},3000,null,null,6000,104,0.37,3.6,{"v":97,"d":"97.0"},6,null,"Nein"]
["6SM45S-3000",2.8,4.7,0.85,1.3,{"$nulls":6},{"v":0.8,"d":"0.80"},3000,null,null,8000,1.5,25.4,54,{"v":41.012193308819754,"d":"41.0"},6,null,"Nein"]
["6SM45M-3000",6.5,5.6,1.7,1.3,{"$nulls":6},{"v":1.6,"d":"1.60"},3000,null,null,8000,2.1,34,99,{"v":82.02438661763951,"d":"82.0"},6,null,"Nein"]
["6SM45L-3000",11.5,9.6,3.2,2.4,{"$nulls":6},{"v":2.9,"d":"2.90"},3000,null,null,8000,3.4,11.9,47,{"v":82.02438661763951,"d":"82.0"},6,null,"Nein"]
["6SM56S-3000",14.8,12.4,3.8,2.8,{"$nulls":6},{"v":3.6,"d":"3.60"},3000,null,null,8000,5.2,9.4,54,{"v":80.61017305526642,"d":"80.6"},6,null,"Nein"]
["6SM56M-3000",25.6,19.6,7,4.8,{"$nulls":6},{"v":6.4,"d":"6.40"},3000,null,null,8000,10,4,30,{"v":87.68124086713189,"d":"87.7"},6,null,"Nein"]
["6SM56L-3000",34,28.3,10,7.6,{"$nulls":6},{"v":8.4,"d":"8.40"},3000,null,null,8000,15,1.8,15.8,{"v":79.90306627407986,"d":"79.9"},6,null,"Nein"]
["6SM71K-3000",37.8,32,10.5,8,{"$nulls":6},{"v":9.5,"d":"9.50"},3000,null,null,6000,20,1.65,19.6,{"v":79.19595949289332,"d":"79.2"},6,null,"Nein"]
["6SM71S-3000",54.4,44,16.5,12.3,{"$nulls":6},{"v":13.4,"d":"13.40"},3000,null,null,6000,31,0.8,12,{"v":81.31727983645295,"d":"81.3"},6,null,"Nein"]
["6SM71M-3000",67.4,51,22,15.6,{"$nulls":6},{"v":16.3,"d":"16.30"},3000,null,null,6000,42,0.57,9,{"v":85.55992052357225,"d":"85.6"},6,null,"Nein"]
["6SM100K-3000",87,72,25,18.8,{"$nulls":6},{"v":19.9,"d":"19.90"},3000,null,null,6000,74,0.46,10.5,{"v":80.61017305526642,"d":"80.6"},6,null,"Nein"]
["6SM100S-3000",135.4,113,36,26.7,{"$nulls":6},{"v":24.6,"d":"24.60"},3000,null,null,6000,108,0.22,7,{"v":82.02438661763951,"d":"82.0"},6,null,"Nein"]
["6SM100M-3000",174.6,150,46,35,{"$nulls":6},{"v":27.1,"d":"27.10"},3000,null,null,6000,141,0.16,5,{"v":79.90306627407986,"d":"79.9"},6,null,"Nein"]
["6SM100L-3000",216.4,180,57,42,{"$nulls":6},{"v":28,"d":"28.00"},3000,null,null,6000,175,0.12,4,{"v":81.31727983645295,"d":"81.3"},6,null,"Nein"]
["AKM11B",0.61,4.6,0.18,1.16,null,null,0.18,4000,0.17,8000,{"$nulls":4},8000,0.016999999999999998,20.2,12.5,10.2,6,null,"Ja"]
["AKM11C",0.61,5.8,0.19,1.45,null,null,0.18,6000,{"$nulls":6},8000,0.016999999999999998,13.1,8.3,8.3,6,null,"Ja"]
["AKM11E",0.61,11.6,0.19,2.91,0.18,6000,{"$nulls":8},8000,0.016999999999999998,3.3,2.04,4.1,6,null,"Ja"]
["AKM12C",1.08,6,0.31,1.5,null,null,{"v":0.3,"d":"0.30"},4000,0.28,8000,{"$nulls":4},8000,0.031,12.4,9.1,13.3,6,null,"Ja"]
["AKM12E",1.08,10.9,0.3,2.72,{"v":0.3,"d":"0.30"},3000,0.27,8000,{"$nulls":6},8000,0.031,3.9,2.7,7.2,6,null,"Ja"]
["AKM13C",1.16,5.9,0.41,1.48,{"$nulls":4},0.36,8000,{"$nulls":4},8000,0.045,13.5,10.3,17.9,6,null,"Ja"]
["AKM13D",1.44,9.6,0.4,2.4,{"v":0.4,"d":"0.40"},2000,0.36,7000,{"$nulls":6},8000,0.045,5.21,3.8,10.9,6,null,"Ja"]
["AKM21C",1.47,6.3,0.45,1.5,null,null,0.45,2500,0.39,8000,{"$nulls":4},8000,0.107,13,19,19.5,6,null,"Ja"]
["AKM21E",1.49,12.4,0.48,3,0.48,2000,0.41,7000,{"$nulls":6},8000,0.107,3.42,5.2,10.2,6,null,"Ja"]
["AKM21G",1.51,19.5,0.5,4.87,0.46,4000,{"$nulls":8},8000,0.107,1.44,2.18,6.6,6,null,"Ja"]
["AKM22C",2.73,5.6,0.84,1.39,null,null,0.83,1000,0.78,3500,0.68,8000,0.68,8000,8000,0.161,19.4,35.5,{"v":39,"d":"39.0"},6,null,"Ja"]
["AKM22E",2.76,11,0.87,2.73,0.85,1000,0.81,3500,{"v":0.7,"d":"0.70"},8000,{"$nulls":4},8000,0.161,5.09,9.7,22.4,6,null,"Ja"]
["AKM22G",2.79,19.3,0.88,4.82,0.84,2500,0.74,7000,{"$nulls":6},8000,0.161,1.69,3.19,11.7,6,null,"Ja"]
["AKM23C",3.77,5.6,1.13,1.41,null,null,1.11,1000,1.08,2500,0.99,5500,0.95,7000,8000,0.21600000000000003,20.3,40.7,51.8,6,null,"Ja"]
["AKM23D",3.84,8.8,1.16,2.19,null,null,1.12,1500,1.03,5000,0.92,8000,0.92,8000,8000,0.21600000000000003,8.36,17.3,33.8,6,null,"Ja"]
["AKM23E",3.88,11.3,1.16,2.78,null,null,{"v":1.1,"d":"1.10"},2500,0.98,6500,{"$nulls":4},8000,0.22,5.44,11.1,{"v":27,"d":"27.0"},6]
["AKM23F",3.88,17.2,1.18,4.31,1.15,1500,1.07,4500,0.94,8000,{"$nulls":4},8000,0.21600000000000003,2.23,4.68,17.6,6,null,"Ja"]
["AKM24C",4.67,5.7,1.38,1.42,{"$nulls":4},1.32,2000,1.25,4500,1.22,5500,8000,0.27,20.4,43.8,62.4,6,null,"Ja"]
["AKM24D",4.76,8.8,1.41,2.21,null,null,1.36,1500,1.29,4000,1.11,8000,1.11,8000,8000,0.27,8.4,18.7,40.8,6,null,"Ja"]
["AKM24E",4.76,9.5,1.4,2.79,null,null,1.34,2000,1.24,5500,{"$nulls":4},8000,0.27,5.44,11.8,32.4,6]
["AKM24F",4.82,15.6,1.42,3.89,1.39,1000,1.33,3000,1.12,8000,{"$nulls":4},8000,0.27,2.77,6.16,23.4,6,null,"Ja"]
["AKM31C",3.88,5.5,1.15,1.37,{"$nulls":4},1.12,2500,{"v":1,"d":"1.00"},5000,0.91,6000,8000,0.33,21.4,37.5,54.5,8,null,"Ja"]
["AKM31E",4,12,1.2,2.99,1.19,750,1.17,2500,0.95,6000,{"$nulls":4},8000,0.33,4.58,8.6,26.1,8,null,"Ja"]
["AKM31H",4.06,23.4,1.23,5.85,{"v":1.2,"d":"1.20"},2000,0.97,6000,{"$nulls":6},8000,0.33,1.25,2.4,13.7,8,null,"Ja"]
["AKM32C",6.92,5.8,2,1.44,{"$nulls":4},1.95,1500,1.86,3000,1.83,3500,8000,0.59,23,46.5,89.8,8,null,"Ja"]
["AKM32D",7.1,8.9,2.04,2.23,null,null,{"v":2,"d":"2.00"},1000,1.93,2500,1.65,5500,1.58,6000,8000,0.59,9.57,20.1,{"v":59,"d":"59.0"},8,null,"Ja"]
["AKM32E",7.11,11.3,2.04,2.82,{"$nulls":4},1.87,3500,1.41,7000,1.22,8000,8000,0.59,6.3,12.8,47.1,8]
["AKM32H",7.26,22,2.1,5.5,2.06,1200,1.96,3000,1.45,7000,{"$nulls":4},8000,0.59,1.64,3.55,24.8,8,null,"Ja"]
["AKM33C",9.76,5.9,2.71,1.47,{"$nulls":4},2.64,1000,2.54,2000,{"v":2.5,"d":"2.50"},2500,8000,0.85,25.4,53.6,{"v":120,"d":"120.0"},8,null,"Ja"]
["AKM33E",9.96,10.3,2.79,2.58,{"$nulls":4},2.62,2000,2.34,4500,2.27,5000,8000,0.85,8.36,18.5,70.6,8,null,"Ja"]
["AKM33H",10.22,22.5,2.88,5.62,2.82,800,2.66,2500,2.27,5500,{"$nulls":4},8000,0.85,1.82,4.1,33.4,8,null,"Ja"]
["AKM41C",6.12,5.8,1.95,1.46,{"$nulls":4},1.88,1200,1.77,3000,1.74,3500,6000,0.81,21.7,66.1,86.3,10,null,"Ja"]
["AKM41E",6.28,11.4,2.02,2.85,null,null,1.94,1200,1.82,3000,1.58,6000,1.58,6000,6000,0.81,5.7,18.4,45.6,10,null,"Ja"]
["AKM41H",6.36,22.4,2.06,5.6,1.99,1000,1.86,3000,1.62,6000,{"$nulls":4},6000,0.81,1.51,5,23.7,10,null,"Ja"]
["AKM42C",11.3,5.6,3.35,1.4,{"$nulls":6},{"v":3.1,"d":"3.10"},1500,3.02,2000,6000,1.45,27.52,97.4,{"v":154,"d":"154.0"},10,null,"Ja"]
["AKM42E",11.3,11,3.42,2.74,{"$nulls":4},3.12,1800,2.81,3500,2.72,4000,6000,1.45,7.22,26.8,80.9,10,null,"Ja"]
["AKM42G",11.5,19.2,3.53,4.8,{"$nulls":4},{"v":2.9,"d":"2.90"},3500,2.35,6000,2.35,6000,6000,1.45,2.38,9.2,47.5,10,null,"Ja"]
["AKM42H",11.5,24,3.54,6,null,null,{"v":3.2,"d":"3.20"},2000,2.72,4500,{"$nulls":4},6000,1.5,1.65,6,38.3,10]
["AKM42J",11.6,33.6,3.56,8.4,null,null,3.03,3000,2.38,6000,{"$nulls":4},6000,1.45,0.8,3.1,27.5,10,null,"Ja"]
["AKM43E",15.9,11,4.7,2.76,{"$nulls":4},4.24,1500,3.92,2500,3.76,3000,6000,2.09,8.04,32.6,{"v":111,"d":"111.0"},10,null,"Ja"]
["AKM43G",16.1,19.5,4.8,4.87,{"$nulls":4},{"v":4,"d":"4.00"},2500,3.01,5000,2.57,6000,6000,2.09,2.61,10.8,63.9,10,null,"Ja"]
["AKM43H",16.1,22,4.82,5.4,{"$nulls":4},3.86,3000,2.58,6000,null,null,6000,2.1,2.1,6.8,57.4,10]
["AKM43K",16.4,38.4,4.9,9.6,null,null,4.08,2500,2.62,6000,{"$nulls":4},6000,2.09,0.7,2.9,33.2,10,null,"Ja"]
["AKM43L",16.4,47.3,4.73,11.2,null,null,3.78,3000,2.53,6000,{"$nulls":4},6000,2.1,0.57,2,27.5,10]
["AKM44E",19.9,11.4,5.76,2.85,{"$nulls":4},{"v":5.2,"d":"5.20"},1200,{"v":4.8,"d":"4.80"},2000,4.56,2500,6000,2.73,8.08,33.9,{"v":132,"d":"132.0"},10,null,"Ja"]
["AKM44G",20.3,20,5.88,5,{"$nulls":4},{"v":4.9,"d":"4.90"},2000,3.76,4000,3.19,5000,6000,2.73,2.65,11.5,76.6,10,null,"Ja"]
["AKM44H",20.3,23.5,5.89,5.6,{"$nulls":4},4.66,2500,3.19,5000,{"v":2.7,"d":"2.70"},6000,6000,2.7,2.23,9.1,{"v":68,"d":"68.0"},10]
["AKM44J",20.4,35.2,6,8.8,null,null,{"v":5,"d":"5.00"},2000,3.84,4000,2.75,6000,2.75,6000,6000,2.73,0.88,3.8,44.2,10,null,"Ja"]
["AKM44K",20.4,42.7,5.88,10.1,null,null,{"v":4.9,"d":"4.90"},2000,3.18,5000,{"$nulls":4},6000,2.7,0.68,2.8,37.8,10]
["AKM51E",11.6,8.2,4.7,2.75,{"$nulls":4},4.41,1200,3.98,2500,{"v":3.8,"d":"3.80"},3000,6000,3.42,8.47,36.6,{"v":110,"d":"110.0"},10,null,"Ja"]
["AKM51G",11.7,14.5,4.75,4.84,{"$nulls":4},4.03,2500,2.62,5000,1.94,6000,6000,3.42,2.75,12.1,63.6,10,null,"Ja"]
["AKM51H",11.7,18,4.79,6,{"$nulls":4},3.87,3000,1.95,6000,1.95,6000,6000,3.4,1.97,7.9,51.3,10]
["AKM51I",11.8,22.5,4.83,7.5,null,null,4.35,1750,3.35,4000,1.97,6000,1.97,6000,6000,3.4,1.3,5.15,41.4,10]
["AKM51K",11.9,28.2,4.9,9.4,null,null,4.15,2500,2.35,5500,{"$nulls":4},6000,3.42,0.75,3.4,33.5,10,null,"Ja"]
["AKM51L",11.9,35,4.89,11.9,null,null,3.95,3000,{"v":2,"d":"2.00"},6000,{"$nulls":4},6000,3.4,0.56,2.1,26.6,10]
["AKM52E",21.3,9,8.34,2.99,{"$nulls":6},7.61,1500,7.28,2000,6000,6.22,8.59,44.7,{"v":179,"d":"179.0"},10,null,"Ja"]
["AKM52G",21.5,14.2,8.43,4.72,{"$nulls":4},7.69,1500,7.06,2500,6.66,3000,6000,6.22,3.47,18.5,{"v":115,"d":"115.0"},10,null,"Ja"]
["AKM52H",21.6,17.7,8.48,5.9,{"$nulls":4},7.53,1800,6.26,3500,5.77,4000,6000,6.2,2.35,11.9,92.7,10]
["AKM52I",21.6,22.2,8.53,7.4,{"$nulls":4},5.79,2250,5.16,4500,4.51,5000,6000,6.2,1.57,7.8,74.9,10]
["AKM52K",21.9,27.9,8.6,9.3,{"$nulls":4},{"v":6.8,"d":"6.80"},3000,{"v":3.9,"d":"3.90"},5500,3.25,6000,6000,6.22,0.93,5,60.1,10,null,"Ja"]
["AKM52L",21.9,35.7,8.67,11.6,{"$nulls":4},{"v":6.4,"d":"6.40"},3500,3.27,6000,3.27,6000,6000,6.2,0.61,3.24,48.3,10]
["AKM52M",21.9,39.4,8.6,13.1,{"$nulls":4},{"v":5.2,"d":"5.20"},4500,{"$nulls":4},6000,6.22,0.48,2.5,42.4,10,null,"Ja"]
["AKM53G",29.7,14.3,11.4,4.77,{"$nulls":4},{"v":10.7,"d":"10.70"},1000,9.85,2000,{"v":9.5,"d":"9.50"},2400,6000,9.12,3.75,21.3,{"v":154,"d":"154.0"},10,null,"Ja"]
["AKM53H",30,19.8,11.51,6.6,{"$nulls":6},8.83,3000,8.23,3500,6000,9.1,2.1,11.4,112.4,10]
["AKM53I",30,22.2,11.58,7.4,{"$nulls":4},10.28,1750,8.58,3250,7.63,4000,6000,9.1,1.66,9.11,100.6,10]
["AKM53K",30.3,28.2,11.6,9.4,{"$nulls":4},{"v":10.1,"d":"10.10"},2000,7.65,4000,6.85,4500,6000,9.12,1,5.7,79.8,10,null,"Ja"]
["AKM53L",30.3,37.6,11.6,11.8,{"$nulls":4},{"v":8.9,"d":"8.90"},3000,5.06,5500,4.05,6000,6000,9.1,0.69,3.64,63.6,10]
["AKM53M",29.7,40.2,11.4,13.4,{"$nulls":4},8.72,3000,{"$nulls":4},6000,9.12,0.51,2.7,54.7,10,null,"Ja"]
["AKM53P",29.8,57.4,11.4,19.1,{"$nulls":4},5.88,5000,{"$nulls":4},6000,9.12,0.27,1.3,38.4,10,null,"Ja"]
["AKM53Q",29.8,63.3,11.57,21.1,null,null,9.58,2500,4.99,5500,{"$nulls":4},6000,9.1,0.25,1.13,35.5,10]
["AKM54G",38,15,14.3,4.98,{"$nulls":6},{"v":12.9,"d":"12.90"},1500,{"v":12.3,"d":"12.30"},2000,6000,11.9,3.8,22.9,{"v":185,"d":"185.0"},10,null,"Ja"]
["AKM54H",37.5,16.5,14.19,5.5,{"$nulls":4},13.35,1000,{"v":12.6,"d":"12.60"},1800,12.22,2000,6000,12,3.2,18.3,165.6,10]
["AKM54I",38,23.1,14.42,7.7,{"$nulls":4},13.07,1500,11.71,2500,10.81,3000,6000,12,1.66,9.84,120.3,10]
["AKM54K",38.4,29.2,14.4,9.7,{"$nulls":4},{"v":12.7,"d":"12.70"},1800,{"v":10.1,"d":"10.10"},3500,9.25,4000,8000,11.9,1.02,6.2,96.6,10,null,"Ja"]
["AKM54L",37.5,37.5,14.1,12.5,{"$nulls":4},{"v":11.5,"d":"11.50"},2500,8.13,4500,null,null,6000,11.9,0.63,3.5,72.9,10,null,"Ja"]
["AKM54N",37.6,53.4,14.1,17.8,{"$nulls":4},9.85,3500,{"$nulls":4},8000,11.9,0.33,1.8,51.3,10,null,"Ja"]
["AKM54P",38,58.8,14.36,19.6,{"$nulls":4},9.23,4000,{"$nulls":4},6000,12,0.3,1.5,47.3,10]
["AKM62G",29.7,14.7,11.9,4.85,{"$nulls":6},{"v":10.7,"d":"10.70"},1800,{"v":10.2,"d":"10.20"},2000,6000,16.9,3.94,31.7,{"v":159,"d":"159.0"},10,null,"Ja"]
["AKM62H",29.7,16.4,11.9,5.4,{"$nulls":4},{"v":11.2,"d":"11.20"},1000,{"v":10.2,"d":"10.20"},2000,{"v":9.9,"d":"9.90"},2400,6000,17,3.3,25.4,142.1,10]
["AKM62I",29.9,22.8,12.1,7.6,{"$nulls":4},{"v":10.8,"d":"10.80"},1500,{"v":9.4,"d":"9.40"},3000,{"v":8.9,"d":"8.90"},3500,6000,17,1.75,13.4,103.2,10]
["AKM62K",30.2,28.8,12.2,9.6,{"$nulls":4},{"v":10.4,"d":"10.40"},2000,9.01,3500,8.02,4500,6000,16.9,1.05,8.5,82.1,10,null,"Ja"]
["AKM62L",30.2,36,12.2,12,{"$nulls":4},{"v":10,"d":"10.00"},2500,7.42,5000,5.74,6000,6000,17,0.74,5.4,65.5,10]
["AKM62M",30.2,40.3,12.2,13.4,{"$nulls":4},{"v":9.5,"d":"9.50"},3000,5.74,6000,5.74,6000,6000,16.9,0.55,4.4,58.8,10,null,"Ja"]
["AKM62P",30.3,56.4,12.3,18.8,{"$nulls":4},{"v":8.1,"d":"8.10"},4500,{"$nulls":4},6000,16.9,0.3,2.2,42.2,10,null,"Ja"]
["AKM62Q",30.3,67,12,21.8,{"$nulls":4},{"v":6.5,"d":"6.50"},5500,{"$nulls":4},6000,17,0.27,1.6,35.5,10]
["AKM63G",42.1,13.5,16.5,4.48,{"$nulls":6},{"v":15.3,"d":"15.30"},1200,{"v":14.6,"d":"14.60"},1500,6000,24.2,5.16,43.5,{"v":238,"d":"238.0"},10,null,"Ja"]
["AKM63H",42.2,17.5,16.6,5.6,{"$nulls":6},{"v":14.6,"d":"14.60"},1500,{"v":14.2,"d":"14.20"},1800,6000,24,3.43,28.1,191.5,10]
["AKM63I",42.2,24.2,16.8,7.9,{"$nulls":4},{"v":15.3,"d":"15.30"},1200,{"v":14.1,"d":"14.10"},2000,{"v":13.5,"d":"13.50"},2500,6000,24,1.5,14.6,138.2,10]
["AKM63K",42.6,29.7,16.8,9.9,{"$nulls":4},{"v":14.9,"d":"14.90"},1500,{"v":12.9,"d":"12.90"},3000,{"v":12,"d":"12.00"},3500,6000,24.2,1.09,9.3,{"v":110,"d":"110.0"},10,null,"Ja"]
["AKM63L",42.6,34.3,16.8,11.1,{"$nulls":4},{"v":14.4,"d":"14.40"},1800,{"v":12.9,"d":"12.90"},3000,{"v":12,"d":"12.00"},3500,6000,24,0.94,7.4,98.2,10]
["AKM63M",43,41.4,17,13.8,{"$nulls":4},{"v":14.3,"d":"14.30"},2000,{"v":11.3,"d":"11.30"},4000,{"v":10.5,"d":"10.50"},4500,6000,24.2,0.58,4.9,79.9,10,null,"Ja"]
["AKM63N",43,52.2,17,17.4,{"$nulls":4},{"v":13,"d":"13.00"},3000,{"v":9.6,"d":"9.60"},5000,{"v":7,"d":"7.00"},6000,6000,24.2,0.38,3.1,63.3,10,null,"Ja"]
["AKM63Q",43,70.3,16.7,22.4,{"$nulls":4},{"v":11.9,"d":"11.90"},3500,{"$nulls":4},6000,24,0.23,1.8,48.3,10]
["AKM64K",53.5,27.6,20.8,9.2,{"$nulls":4},{"v":19.2,"d":"19.20"},1200,{"v":17.2,"d":"17.20"},2000,{"v":16.3,"d":"16.30"},2500,6000,31.6,1.34,11.8,{"v":147,"d":"147.0"},10,null,"Ja"]
["AKM64L",54.1,38.4,21,12.8,{"$nulls":4},{"v":18.4,"d":"18.40"},1500,{"v":15.6,"d":"15.60"},3000,{"v":14.4,"d":"14.40"},3500,6000,31.6,0.71,6.2,{"v":107,"d":"107.0"},10,null,"Ja"]
["AKM64P",52.9,55.9,20.4,18.6,{"$nulls":4},{"v":16,"d":"16.00"},2500,{"v":11.9,"d":"11.90"},4500,9.02,5500,6000,31.6,0.36,2.8,{"v":71,"d":"71.0"},10,null,"Ja"]
["AKM64Q",53.2,62.1,20,20.7,{"$nulls":4},{"v":15.3,"d":"15.30"},3000,{"v":10.7,"d":"10.70"},5000,{"v":7.4,"d":"7.40"},6000,6000,32,0.32,2.3,64.4,10]
["AKM65K",64.5,29.4,24.8,9.8,{"$nulls":4},{"v":22.8,"d":"22.80"},1000,{"v":20.2,"d":"20.20"},2000,{"v":19.7,"d":"19.70"},2200,6000,40,1.27,11.4,{"v":164,"d":"164.0"},10,null,"Ja"]
["AKM65M",65.2,40.8,25,13.6,{"$nulls":4},{"v":21.9,"d":"21.90"},1500,{"v":19.2,"d":"19.20"},2500,{"v":18.1,"d":"18.10"},3000,6000,40,0.68,6.1,{"v":119,"d":"119.0"},10,null,"Ja"]
["AKM65N",63.7,53.4,24.3,17.8,{"$nulls":4},{"v":19.8,"d":"19.80"},2000,{"v":16,"d":"16.00"},3500,{"v":14.7,"d":"14.70"},4000,6000,40,0.42,3.4,88.8,10,null,"Ja"]
["AKM65L",63.7,38,25,12.2,{"$nulls":4},{"v":22.4,"d":"22.40"},1300,{"v":19.2,"d":"19.20"},2500,{"v":18.3,"d":"18.30"},2800,6000,40,0.9,7.6,133.2,10]
["AKM65P",64.1,59.3,24.5,19.8,{"$nulls":4},{"v":19.1,"d":"19.10"},2400,{"v":14.9,"d":"14.90"},4000,{"v":11.6,"d":"11.60"},5000,6000,40,0.37,2.8,80.5,10]
["AKM72K",79.4,27.9,29.7,9.3,{"$nulls":6},{"v":25.1,"d":"25.10"},1500,{"v":24,"d":"24.00"},1800,6000,64.5,1.22,20.7,{"v":208,"d":"208.0"},10,null,"Ja"]
["AKM72L",79.4,37.1,30,11.5,{"$nulls":6},{"v":24.3,"d":"24.30"},1800,{"v":23.6,"d":"23.60"},2000,6000,65,0.92,13.6,168.5,10]
["AKM72M",79.8,39,30,13,{"$nulls":6},{"v":23.6,"d":"23.60"},2000,{"v":22.1,"d":"22.10"},2500,6000,64.5,0.64,10.8,{"v":150,"d":"150.0"},10,null,"Ja"]
["AKM72P",78.5,56.1,29.4,18.7,{"$nulls":4},{"v":23.8,"d":"23.80"},1800,{"v":20.1,"d":"20.10"},3000,{"v":18.2,"d":"18.20"},3500,6000,64.5,0.33,5,{"v":102,"d":"102.0"},10,null,"Ja"]
["AKM72Q",78.4,70.5,29.5,23.5,{"$nulls":4},{"v":23.2,"d":"23.20"},2000,{"v":16.3,"d":"16.30"},4000,{"v":14.1,"d":"14.10"},4500,6000,65,0.26,3.2,81.2,10]
["AKM73L",112,39.4,42,12.1,{"$nulls":6},{"v":34.4,"d":"34.40"},1400,{"v":33.8,"d":"33.80"},1500,6000,92,0.95,15.7,224.7,10]
["AKM73M",112,40.8,42,13.6,{"$nulls":6},{"v":33.8,"d":"33.80"},1500,{"v":32.1,"d":"32.10"},1800,6000,92.1,0.68,12.4,{"v":200,"d":"200.0"},10,null,"Ja"]
["AKM73P",111,58.6,41.6,19.5,{"$nulls":4},{"v":34.7,"d":"34.70"},1300,{"v":28.5,"d":"28.50"},2400,{"v":26.3,"d":"26.30"},2800,6000,92.1,0.35,5.9,{"v":137,"d":"137.0"},10,null,"Ja"]
["AKM73Q",111,73.5,41.5,24.5,{"$nulls":4},{"v":33.4,"d":"33.40"},1500,{"v":25.2,"d":"25.20"},3000,{"v":22,"d":"22.00"},3500,6000,92,0.27,3.7,109.2,10]
["AKM74L",143,38.7,53,12.9,{"$nulls":6},{"v":45.5,"d":"45.50"},1200,{"v":41.5,"d":"41.50"},1400,6000,120,0.85,16.4,{"v":266,"d":"266.0"},10,null,"Ja"]
["AKM74P",142,55.5,52.5,18.5,{"$nulls":6},{"v":37.6,"d":"37.60"},1800,{"v":35.9,"d":"35.90"},2000,6000,120,0.43,7.7,{"v":183,"d":"183.0"},10,null,"Ja"]
["AKM74Q",141,78.3,52.2,26.1,{"$nulls":4},{"v":41.9,"d":"41.90"},1300,{"v":31.5,"d":"31.50"},2500,{"v":27.3,"d":"27.30"},3000,6000,120,0.26,3.8,{"v":129,"d":"129.0"},10]
["AKM82T",210,144,75,48,{"$nulls":6},{"v":47.5,"d":"47.50"},2500,{"v":38,"d":"38.00"},3000,4000,172,0.092,2.73,108.4,10]
["AKM83T",456,186,130,62,{"$nulls":6},{"v":70,"d":"70.00"},2200,{"v":60,"d":"60.00"},2500,4000,334,0.061,2.36,140.1,10]
["AKM84T",668,201,180,67,{"$nulls":6},{"v":105,"d":"105.00"},2000,{"v":93,"d":"93.00"},2000,4000,495,0.058,2.5,177.4,10]
["DBK4N00100",4,5,1,1.1,{"$nulls":6},{"v":0.9,"d":"0.90"},3000,0.88,3600,9000,0.79,38,70,{"v":56,"d":"56.0"},6,null,"Nein"]
["DBK4H00100",4,8.7,1,1.9,{"$nulls":4},{"v":0.9,"d":"0.90"},3000,{"$nulls":4},9000,0.79,13,24,{"v":32,"d":"32.0"},6,null,"Nein"]
["DBK4N00160",6.3,4.9,1.6,1.1,{"$nulls":6},{"v":1.4,"d":"1.40"},3000,1.35,3600,9000,1.28,25,68,{"v":90,"d":"90.0"},6,null,"Nein"]
["DBK4H00160",5.5,7.1,1.6,1.9,{"$nulls":4},{"v":1.4,"d":"1.40"},3000,{"$nulls":4},9000,1.28,7.6,18,{"v":51,"d":"51.0"},6,null,"Nein"]
["DBK5N00210",8.5,7,2.1,1.5,{"$nulls":6},{"v":1.9,"d":"1.90"},3000,{"v":1.8,"d":"1.80"},3600,9000,4.13,22,60,{"v":83,"d":"83.0"},6,null,"Nein"]
["DBK5H00210",7,14.6,2.1,4,{"$nulls":4},{"v":1.9,"d":"1.90"},3000,{"$nulls":4},9000,4.13,3.1,10,{"v":32,"d":"32.0"},6,null,"Nein"]
["DBK5N00430",16.9,13,4.3,2.9,{"$nulls":6},{"v":3.9,"d":"3.90"},3000,{"v":3.8,"d":"3.80"},3600,9000,5.78,7.1,32,{"v":90,"d":"90.0"},6,null,"Nein"]
["DBK5H00430",16.9,22.5,4.3,5,{"$nulls":4},{"v":3.9,"d":"3.90"},3000,{"$nulls":4},9000,5.78,2.2,10,{"v":53,"d":"53.0"},6,null,"Nein"]
["DBK6N00350",14.1,13,3.5,2.8,{"$nulls":6},{"v":3,"d":"3.00"},3000,{"v":2.9,"d":"2.90"},3600,9000,8,12,56,{"v":77,"d":"77.0"},6,null,"Nein"]
["DBK6N00700",28,23,7,5,{"$nulls":6},{"v":6,"d":"6.00"},3000,{"v":5.7,"d":"5.70"},3600,9000,11.35,4.4,34,{"v":84,"d":"84.0"},6,null,"Nein"]
["DBK7N00650",26.3,21,6.5,4.5,{"$nulls":6},{"v":5,"d":"5.00"},3000,{"v":4.7,"d":"4.70"},3600,9000,32.36,4.15,22,{"v":87,"d":"87.0"},6,null,"Nein"]
["DBK7N01200",48,34.5,12,7.5,{"$nulls":6},{"v":10,"d":"10.00"},3000,{"v":9.6,"d":"9.60"},3600,9000,53.11,1.65,11.5,{"v":98,"d":"98.0"},6,null,"Nein"]
["DBK7N01950",78.8,55,19.5,11.8,{"$nulls":6},{"v":15,"d":"15.00"},3000,{"v":14,"d":"14.00"},3600,9000,69.16,0.9,7,{"v":100,"d":"100.0"},6,null,"Nein"]
["DBL1X00010",0.4,2.8,0.1,0.6,{"$nulls":4},0.09,6000,{"$nulls":4},12000,0.06,38.2,6.5,{"v":10,"d":"10.0"},6,null,"Nein"]
["DBL1X00020",0.8,4.3,0.2,0.93,{"$nulls":4},0.18,6000,{"$nulls":4},12000,0.12,22,4.7,{"v":13,"d":"13.0"},6,null,"Nein"]
["DBL2H00040",1.6,4.3,0.4,0.93,{"$nulls":4},0.36,4500,0.34,6000,null,null,12000,0.08,26.5,20,{"v":26,"d":"26.0"},6,null,"Nein"]
["DBL2H00060",2.4,6.8,0.6,1.5,{"$nulls":4},0.55,4500,0.52,6000,null,null,12000,0.11,14.8,13.2,{"v":25,"d":"25.0"},6,null,"Nein"]
["DBL2M00080",3.2,3.8,0.8,0.83,{"$nulls":6},0.72,4500,null,null,12000,0.13,47.7,43,{"v":58,"d":"58.0"},6,null,"Nein"]
["DBL2H00080",3.2,6.8,0.8,1.49,{"$nulls":4},0.72,4500,0.69,6000,null,null,12000,0.13,14.7,13,{"v":33,"d":"33.0"},6,null,"Nein"]
["DBL3N00065",2.5,3,0.65,0.67,{"$nulls":6},{"v":0.6,"d":"0.60"},3000,0.58,3600,9000,0.5,79,82.8,{"v":59,"d":"59.0"},6,null,"Nein"]
["DBL3H00065",2.6,5,0.65,1.08,{"$nulls":4},{"v":0.6,"d":"0.60"},3000,0.48,6000,null,null,9000,0.5,30.3,31,36.5,6,null,"Nein"]
["DBL3N00130",5.1,4.5,1.3,1,{"$nulls":6},{"v":1.2,"d":"1.20"},3000,1.15,3600,9000,0.8,35.5,61,77.5,6,null,"Nein"]
["DBL3H00130",4.9,7.5,1.3,1.75,{"$nulls":4},{"v":1.2,"d":"1.20"},3000,{"v":1.1,"d":"1.10"},6000,null,null,9000,0.8,13,22,{"v":45,"d":"45.0"},6,null,"Nein"]
["DBL3M00190",7.6,6.9,1.9,1.5,{"$nulls":6},{"v":1.6,"d":"1.60"},3000,1.54,3600,9000,1,21.3,40,{"v":77,"d":"77.0"},6,null,"Nein"]
["DBL3H00250",10.1,13.9,2.5,3,{"$nulls":4},{"v":2.2,"d":"2.20"},3000,{"v":1.8,"d":"1.80"},6000,null,null,9000,1.4,5.1,11,{"v":50,"d":"50.0"},6,null,"Nein"]
["DBL3N00300",11.9,9.5,3,2.1,{"$nulls":6},{"v":2.6,"d":"2.60"},3000,{"v":2.5,"d":"2.50"},3600,9000,1.7,11.5,25,{"v":88,"d":"88.0"},6,null,"Nein"]
["DBL4N00260",10.3,8.6,2.6,1.9,{"$nulls":6},{"v":2.3,"d":"2.30"},3000,{"v":2.2,"d":"2.20"},3600,9000,2.1,9.5,40,{"v":82,"d":"82.0"},6,null,"Nein"]
["DBL4H00260",10,13,2.6,3,{"$nulls":4},{"v":2.3,"d":"2.30"},3000,{"$nulls":4},9000,2.1,3.8,15,{"v":52,"d":"52.0"},6,null,"Nein"]
["DBL4N00530",21.5,15,5.3,3.2,{"$nulls":6},{"v":4.6,"d":"4.60"},3000,{"v":4.4,"d":"4.40"},3600,9000,2.8,6.14,30,{"v":100,"d":"100.0"},6,null,"Nein"]
["DBL4H00530",21.3,30,5.3,6.5,{"$nulls":4},{"v":4.6,"d":"4.60"},3000,{"$nulls":4},9000,2.8,1.65,9.3,{"v":49,"d":"49.0"},6,null,"Nein"]
["DBL4N00750",30.2,19,7.5,4.1,{"$nulls":6},{"v":6.5,"d":"6.50"},3000,6.25,3600,9000,4.3,3.8,22.6,{"v":112,"d":"112.0"},6,null,"Nein"]
["DBL4H00750",29.9,42.6,7.5,9.3,{"$nulls":4},{"v":6.4,"d":"6.40"},3000,{"$nulls":4},9000,4.3,0.86,5.3,{"v":49,"d":"49.0"},6,null,"Nein"]
["DBL4N00950",37.5,27.5,9.5,6.1,{"$nulls":6},{"v":8,"d":"8.00"},3000,{"v":7.8,"d":"7.80"},3600,9000,6.5,1.61,10,{"v":94,"d":"94.0"},6,null,"Nein"]
["DBL5N01050",42.1,30,10.5,6.5,{"$nulls":6},{"v":8.5,"d":"8.50"},3000,{"v":8,"d":"8.00"},3600,9000,8.1,2.25,19.8,{"v":97,"d":"97.0"},6,null,"Nein"]
["DBL5H01050",44.8,71,10.5,14.1,{"$nulls":4},{"v":8.5,"d":"8.50"},3000,{"$nulls":4},9000,8.1,0.52,4.5,{"v":45,"d":"45.0"},6,null,"Nein"]
["DBL5N01350",54,40,13.5,8.7,{"$nulls":6},{"v":10.7,"d":"10.70"},3000,{"v":10,"d":"10.00"},3600,9000,9.1,1.71,16.5,{"v":94,"d":"94.0"},6,null,"Nein"]
["DBL5H01350",53.8,85,13.5,18.6,{"$nulls":4},{"v":10.7,"d":"10.70"},3000,{"$nulls":4},9000,9.1,0.38,3.1,{"v":44,"d":"44.0"},6,null,"Nein"]
["DBL5N01700",68.2,48,17,10.4,{"$nulls":6},{"v":14,"d":"14.00"},3000,{"v":13.4,"d":"13.40"},3600,9000,11.3,1.25,12.6,{"v":99,"d":"99.0"},6,null,"Nein"]
["DBL5H01700",67.5,91,17,20,{"$nulls":4},{"v":14,"d":"14.00"},3000,{"$nulls":4},9000,11.3,0.36,3.3,{"v":52,"d":"52.0"},6,null,"Nein"]
["DBL5N02200",88,63,22,13.7,{"$nulls":6},{"v":17,"d":"17.00"},3000,{"v":16,"d":"16.00"},3600,9000,13.1,0.94,9,{"v":97,"d":"97.0"},6,null,"Nein"]
["DBL6N02200",88.1,69.5,22,15.1,{"$nulls":6},{"v":16,"d":"16.00"},3000,{"v":14.8,"d":"14.80"},3600,9000,25.1,0.72,8.5,{"v":88,"d":"88.0"},6,null,"Nein"]
["DBL6N02900",116.6,81,29,17.5,{"$nulls":6},{"v":20,"d":"20.00"},3000,{"v":18.4,"d":"18.40"},3600,9000,38.2,0.55,6.5,{"v":100,"d":"100.0"},6,null,"Nein"]
["DBL7N02600",101.9,76,26,17,{"$nulls":6},{"v":20,"d":"20.00"},3000,{"v":18.8,"d":"18.80"},3600,9000,97.4,0.46,4.5,92.5,6,null,"Nein"]
["DBL7N03200",125.8,89.8,32,20,{"$nulls":6},{"v":23,"d":"23.00"},3000,{"v":21,"d":"21.00"},3600,9000,114.1,0.36,3.6,{"v":97,"d":"97.0"},6,null,"Nein"]
["DBL7N04000",144.5,94,40,23.4,{"$nulls":6},{"v":26,"d":"26.00"},3000,{"v":23.2,"d":"23.20"},3600,9000,139.4,0.3,2.9,103.5,6,null,"Nein"]
["DBL8N04000",128.8,80,40,23,{"$nulls":6},{"v":32,"d":"32.00"},3000,{"v":30.4,"d":"30.40"},3600,9000,71.1,0.35,7.5,{"v":105,"d":"105.0"},6,null,"Nein"]
["DBL8N06800",234.3,140,68,37,{"$nulls":6},{"v":50,"d":"50.00"},3000,{"v":45.6,"d":"45.60"},3600,9000,113.6,0.12,3.4,{"v":112,"d":"112.0"},6,null,"Nein"]
["DBL8L09300",299,118,93,34,{"$nulls":6},{"v":70,"d":"70.00"},2000,null,null,6000,153,0.16,4.4,{"v":164,"d":"164.0"},6,null,"Nein"]
["DBL8L11500",363.2,146,115,43,{"$nulls":6},{"v":85,"d":"85.00"},2000,null,null,6000,190,0.11,3.9,{"v":164,"d":"164.0"},6,null,"Nein"]
["SBK4-0100 (320V)",4,11,1,1.82,{"$nulls":4},{"v":0.9,"d":"0.90"},3000,{"$nulls":4},12000,0.79,13,24,33.5,6,null,"Nein"]
["SBK4-0100 (560V)",4,5,1,1.1,{"$nulls":6},{"v":0.9,"d":"0.90"},3000,null,null,12000,0.79,38,70,{"v":56,"d":"56.0"},6,null,"Nein"]
["SBK5-0210 (320V)",6.3,12,2.1,2.7,{"$nulls":4},{"v":1.9,"d":"1.90"},3000,{"$nulls":4},9000,4.1,6.5,21.5,47.5,6,null,"Nein"]
["SBK5-0210 (560V)",6.3,7,2.1,1.5,{"$nulls":6},{"v":1.9,"d":"1.90"},3000,null,null,9000,4.1,21,66,82.5,6,null,"Nein"]
["SBK5-0430 (320V)",12.9,22.5,4.3,5,{"$nulls":4},{"v":3.9,"d":"3.90"},3000,{"$nulls":4},9000,5.8,2.16,10,52.5,6,null,"Nein"]
["SBK5-0430 (560V)",12.9,13,4.3,2.9,{"$nulls":6},{"v":3.9,"d":"3.90"},3000,null,null,9000,5.8,7.1,32,{"v":90,"d":"90.0"},6,null,"Nein"]
["SBK6-0350 (320V)",10.5,21.5,3.5,5.2,{"$nulls":4},{"v":3,"d":"3.00"},3000,{"$nulls":4},6000,8,2.95,17.5,{"v":41,"d":"41.0"},6,null,"Nein"]
["SBK6-0350 (560V)",10.5,12.4,3.5,3.1,{"$nulls":6},{"v":3,"d":"3.00"},3000,null,null,6000,8,8.8,52,{"v":70,"d":"70.0"},6,null,"Nein"]
["SBK6-0700 (320V)",21,45.3,7,9.8,{"$nulls":4},{"v":6,"d":"6.00"},3000,{"$nulls":4},6000,11.4,1,7.3,{"v":43,"d":"43.0"},6,null,"Nein"]
["SBK6-0700 (560V)",21,25.3,7,5.5,{"$nulls":6},{"v":6,"d":"6.00"},3000,null,null,6000,11.4,3.3,23.3,{"v":77,"d":"77.0"},6,null,"Nein"]
["SBK7-0650 (320V)",19.5,39,6.5,8.5,{"$nulls":4},{"v":5,"d":"5.00"},3000,{"$nulls":4},6000,32.4,1.31,4.2,{"v":46,"d":"46.0"},6,null,"Nein"]
["SBK7-0650 (560V)",19.5,21,6.5,4.5,{"$nulls":6},{"v":5,"d":"5.00"},3000,null,null,6000,32.4,4.2,22,86.5,6,null,"Nein"]
["SBK7-1200 (320V)",36,59,12,12.7,{"$nulls":4},{"v":10,"d":"10.00"},3000,{"$nulls":4},6000,53.1,0.54,3.9,{"v":57,"d":"57.0"},6,null,"Nein"]
["SBK7-1200 (560V)",36,34.5,12,7.4,{"$nulls":6},{"v":10,"d":"10.00"},3000,null,null,6000,53.1,1.65,11.5,97.5,6,null,"Nein"]
["SBK7-1950 (320V)",58.5,100,19.5,21.8,{"$nulls":4},{"v":15,"d":"15.00"},3000,{"$nulls":4},6000,69.2,0.25,1.4,{"v":54,"d":"54.0"},6,null,"Nein"]
["SBK7-1950 (560V)",58.5,55,19.5,11.8,{"$nulls":6},{"v":15,"d":"15.00"},3000,null,null,6000,69.2,0.9,7,{"v":100,"d":"100.0"},6,null,"Nein"]
["SBL2-0020 (320V)",0.8,2.7,0.2,0.58,{"$nulls":4},0.19,4500,{"$nulls":4},12000,0.06,55,29.5,{"v":21,"d":"21.0"},6,null,"Nein"]
["SBL2-0020 (560V)",0.8,2,0.2,0.46,{"$nulls":6},0.19,4500,null,null,12000,0.06,105,52,26.5,6,null,"Nein"]
["SBL2-0040 (320V)",1.6,4.3,0.4,0.93,{"$nulls":4},0.36,4500,{"$nulls":4},12000,0.08,26.5,20,{"v":26,"d":"26.0"},6,null,"Nein"]
["SBL2-0040 (560V)",1.6,2.4,0.4,0.55,{"$nulls":6},0.36,4500,null,null,12000,0.08,78.7,59.5,{"v":44,"d":"44.0"},6,null,"Nein"]
["SBL2-0060 (320V)",2.4,5.3,0.6,1.17,{"$nulls":4},0.55,4500,{"$nulls":4},12000,0.11,19.7,17,{"v":31,"d":"31.0"},6,null,"Nein"]
["SBL2-0060 (560V)",2.4,3.3,0.6,0.73,{"$nulls":6},0.55,4500,null,null,12000,0.11,52,45,49.5,6,null,"Nein"]
["SBL2-0080 (320V)",3.2,6.8,0.8,1.5,{"$nulls":4},0.72,4500,{"$nulls":4},12000,0.13,14.7,13,{"v":33,"d":"33.0"},6,null,"Nein"]
["SBL2-0080 (560V)",3.2,4.2,0.8,1,{"$nulls":6},0.72,4500,null,null,12000,0.13,38,39,{"v":50,"d":"50.0"},6,null,"Nein"]
["SBL3-0065 (320V)",2.6,5,0.65,1.1,{"$nulls":4},{"v":0.6,"d":"0.60"},3000,{"$nulls":4},12000,0.5,28.5,33,36.5,6,null,"Nein"]
["SBL3-0065 (560V)",2.6,3,0.65,0.67,{"$nulls":6},{"v":0.6,"d":"0.60"},3000,null,null,12000,0.5,79,83,{"v":59,"d":"59.0"},6,null,"Nein"]
["SBL3-0130 (320V)",5.2,7.5,1.3,1.7,{"$nulls":4},1.15,3000,{"$nulls":4},12000,0.8,13,22,{"v":47,"d":"47.0"},6,null,"Nein"]
["SBL3-0130 (560V)",5.2,4.5,1.3,1,{"$nulls":6},1.15,3000,null,null,12000,0.8,35.5,61,77.5,6,null,"Nein"]
["SBL3-0190 (320V)",7.6,12.1,1.9,2.6,{"$nulls":4},{"v":1.6,"d":"1.60"},3000,{"$nulls":4},12000,1,6.8,13,43.5,6,null,"Nein"]
["SBL3-0190 (560V)",7.6,6.9,1.9,1.5,{"$nulls":6},{"v":1.6,"d":"1.60"},3000,null,null,12000,1,21.3,40,{"v":77,"d":"77.0"},6,null,"Nein"]
["SBL3-0250 (320V)",10,13.5,2.5,3,{"$nulls":4},2.15,3000,{"$nulls":4},12000,1.4,5.3,12,{"v":49,"d":"49.0"},6,null,"Nein"]
["SBL3-0250 (560V)",10,8.2,2.5,1.8,{"$nulls":6},2.15,3000,null,null,12000,1.4,14.8,31.4,{"v":83,"d":"83.0"},6,null,"Nein"]
["SBL3-0300 (320V)",12,17.4,3,3.8,{"$nulls":4},{"v":2.5,"d":"2.50"},3000,{"$nulls":4},12000,1.7,3.7,8.4,{"v":48,"d":"48.0"},6,null,"Nein"]
["SBL3-0300 (560V)",12,9.5,3,2.1,{"$nulls":6},{"v":2.5,"d":"2.50"},3000,null,null,12000,1.7,11.5,25,{"v":88,"d":"88.0"},6,null,"Nein"]
["SBL4-0260 (320V)",10.4,15.7,2.6,3.4,{"$nulls":4},{"v":2.3,"d":"2.30"},3000,{"$nulls":4},12000,2.1,3.1,1.7,{"v":46,"d":"46.0"},6,null,"Nein"]
["SBL4-0260 (560V)",10.4,8.6,2.6,1.9,{"$nulls":6},{"v":2.3,"d":"2.30"},3000,null,null,12000,2.1,9.5,40,8.2,6,null,"Nein"]
["SBL4-0530 (320V)",21.2,30,5.3,6.5,{"$nulls":4},{"v":4.6,"d":"4.60"},3000,{"$nulls":4},12000,2.8,1.65,9.3,{"v":49,"d":"49.0"},6,null,"Nein"]
["SBL4-0530 (560V)",21.2,18,5.3,4,{"$nulls":6},{"v":4.6,"d":"4.60"},3000,null,null,12000,2.8,4.1,20.7,{"v":80,"d":"80.0"},6,null,"Nein"]
["SBL4-0750 (320V)",30,43,7.5,9.3,{"$nulls":4},{"v":6.4,"d":"6.40"},3000,{"$nulls":4},12000,4.3,0.86,5.3,{"v":49,"d":"49.0"},6,null,"Nein"]
["SBL4-0750 (560V)",30,22,7.5,4.7,{"$nulls":6},{"v":6.4,"d":"6.40"},3000,null,null,12000,4.3,2.9,17,{"v":96,"d":"96.0"},6,null,"Nein"]
["SBL5-0660 (320V)",19.8,35,6.6,7.7,{"$nulls":4},{"v":5.6,"d":"5.60"},3000,{"$nulls":4},9000,8.9,1.2,7.2,{"v":52,"d":"52.0"},6,null,"Nein"]
["SBL5-0660 (560V)",19.8,21,6.6,4.6,{"$nulls":6},{"v":5.6,"d":"5.60"},3000,null,null,9000,8.9,3.55,17.3,87.5,6,null,"Nein"]
["SBL5-1050 (320V)",31.5,61,10.5,12.7,{"$nulls":4},{"v":8.5,"d":"8.50"},3000,{"$nulls":4},9000,11.9,0.58,4.3,{"v":50,"d":"50.0"},6,null,"Nein"]
["SBL5-1050 (560V)",31.5,34,10.5,7.1,{"$nulls":6},{"v":8.5,"d":"8.50"},3000,null,null,9000,11.9,1.7,11.5,{"v":90,"d":"90.0"},6,null,"Nein"]
["SBL5-1350 (320V)",40.5,80,13.5,16.8,{"$nulls":4},{"v":10.7,"d":"10.70"},3000,{"$nulls":4},9000,13.4,0.5,4.3,{"v":51,"d":"51.0"},6,null,"Nein"]
["SBL5-1350 (560V)",40.5,42,13.5,9.1,{"$nulls":6},{"v":10.7,"d":"10.70"},3000,null,null,9000,13.4,1.36,11,{"v":90,"d":"90.0"},6,null,"Nein"]
["SBL5-1700 (320V)",51,95,17,20.6,{"$nulls":4},{"v":14,"d":"14.00"},3000,{"$nulls":4},9000,17.2,0.31,2.3,{"v":50,"d":"50.0"},6,null,"Nein"]
["SBL5-1700 (560V)",51,52,17,10.7,{"$nulls":6},{"v":14,"d":"14.00"},3000,null,null,9000,17.2,1.1,8,{"v":96,"d":"96.0"},6,null,"Nein"]
["SBL5-2200 (320V)",66,117,22,24.6,{"$nulls":4},{"v":17,"d":"17.00"},3000,{"$nulls":4},9000,19.9,0.27,2.8,{"v":54,"d":"54.0"},6,null,"Nein"]
["SBL5-2200 (560V)",66,70,22,14.8,{"$nulls":6},{"v":17,"d":"17.00"},3000,null,null,9000,19.9,0.75,7.7,{"v":90,"d":"90.0"},6,null,"Nein"]
["SBL6-1350 (320V)",40.5,84,13.5,18.3,{"$nulls":4},{"v":10,"d":"10.00"},3000,{"$nulls":4},6000,15.9,0.52,4.8,44.5,6,null,"Nein"]
["SBL6-1350 (560V)",40.5,50,13.5,10.9,{"$nulls":6},{"v":10,"d":"10.00"},3000,null,null,6000,15.9,1.47,13.5,{"v":75,"d":"75.0"},6,null,"Nein"]
["SBL6-1900 (320V)",57,112,19,23,{"$nulls":4},{"v":14,"d":"14.00"},3000,{"$nulls":4},6000,22,0.31,3.4,{"v":50,"d":"50.0"},6,null,"Nein"]
["SBL6-1900 (560V)",57,63,19,13.5,{"$nulls":6},{"v":14,"d":"14.00"},3000,null,null,6000,22,0.88,10,{"v":85,"d":"85.0"},6,null,"Nein"]
["SBL6-2200 (320V)",66,120,22,26.1,{"$nulls":4},{"v":16,"d":"16.00"},3000,{"$nulls":4},6000,25.1,0.24,2.8,{"v":51,"d":"51.0"},6,null,"Nein"]
["SBL6-2200 (560V)",66,70,22,15.1,{"$nulls":6},{"v":16,"d":"16.00"},3000,null,null,6000,25.1,0.72,8.5,{"v":88,"d":"88.0"},6,null,"Nein"]
["SBL6-2900 (320V)",87,156,29,37.3,{"$nulls":4},{"v":22,"d":"22.00"},3000,{"$nulls":4},6000,38.2,0.12,1.4,{"v":47,"d":"47.0"},6,null,"Nein"]
["SBL6-2900 (560V)",87,94,29,20.4,{"$nulls":6},{"v":22,"d":"22.00"},3000,null,null,6000,38.2,0.33,4.5,{"v":86,"d":"86.0"},6,null,"Nein"]
["SBL7-2600 (320V)",78,137,26,30.5,{"$nulls":4},{"v":20,"d":"20.00"},3000,{"$nulls":4},4500,97,0.14,1.3,51.5,6,null,"Nein"]
["SBL7-2600 (560V)",78,66,26,17,{"$nulls":6},{"v":20,"d":"20.00"},3000,null,null,4500,97,0.48,4.5,92.5,6,null,"Nein"]
["SBL7-3200 (320V)",96,168,32,37.6,{"$nulls":4},{"v":23,"d":"23.00"},3000,{"$nulls":4},4500,114,0.11,1,51.5,6,null,"Nein"]
["SBL7-3200 (560V)",96,96,32,21.4,{"$nulls":6},{"v":23,"d":"23.00"},3000,null,null,4500,114,0.31,3.1,90.5,6,null,"Nein"]
["SBL7-4000 (320V)",120,160,40,40,{"$nulls":4},{"v":26,"d":"26.00"},3000,{"$nulls":4},4500,139,0.09,1,60.5,6,null,"Nein"]
["SBL7-4000 (560V)",120,92,40,24.2,{"$nulls":6},{"v":26,"d":"26.00"},3000,null,null,4500,139,0.28,3.1,{"v":100,"d":"100.0"},6,null,"Nein"]
["SBL8-4000 (320V)",120,150,40,38.4,{"$nulls":4},{"v":30,"d":"30.00"},3000,{"$nulls":4},3600,76,0.08,1.9,{"v":63,"d":"63.0"},6,null,"Nein"]
["SBL8-4000 (560V)",120,86,40,22,{"$nulls":6},{"v":30,"d":"30.00"},3000,null,null,3600,76,0.26,5.6,{"v":110,"d":"110.0"},6,null,"Nein"]
["SBL8-6800 (320V)",204,253,68,65,{"$nulls":4},{"v":50,"d":"50.00"},3000,{"$nulls":4},3600,114,0.04,1.05,63.5,6,null,"Nein"]
["SBL8-6800 (560V)",204,139,68,36,{"$nulls":6},{"v":50,"d":"50.00"},3000,null,null,3600,114,0.13,3.2,{"v":115,"d":"115.0"},6,null,"Nein"]
["SBL8-9300 (320V)",279,236,93,60,{"$nulls":4},{"v":70,"d":"70.00"},2000,{"$nulls":4},3600,153,0.05,1.5,{"v":93,"d":"93.0"},6,null,"Nein"]
["SBL8-9300 (560V)",279,130,93,34,{"$nulls":6},{"v":70,"d":"70.00"},2000,null,null,3600,153,0.15,4.7,{"v":168,"d":"168.0"},6,null,"Nein"]
["SBL8-11500 (320V)",345,288,115,74,{"$nulls":4},{"v":85,"d":"85.00"},2000,{"$nulls":4},3600,190,0.04,1.1,{"v":94,"d":"94.0"},6,null,"Nein"]
["SBL8-11500 (560V)",345,165,115,42,{"$nulls":6},{"v":85,"d":"85.00"},2000,null,null,3600,190,0.11,3.2,{"v":164,"d":"164.0"},6,null,"Nein"]
["C041A (240 V)",12.3,8.19,4.57,2.73,{"$nulls":4},{"v":4.234430943062084,"d":"4.23"},1750,{"$nulls":4},1750,0.5860000000000001,8.47,34.4,{"v":102,"d":"102.0"},10,null,"Nein"]
["C041B (240 V)",12.2,14.1,4.51,4.69,{"$nulls":4},{"v":4.010704565915763,"d":"4.01"},2500,{"$nulls":4},2500,0.5860000000000001,2.87,11.4,58.7,10,null,"Nein"]
["C042A (240 V)",22.2,14,8.26,4.68,{"$nulls":4},{"v":7.493389202985473,"d":"7.49"},1700,{"$nulls":4},1700,0.887,3.7,18.3,{"v":108,"d":"108.0"},10,null,"Nein"]
["C042B (240 V)",22.8,27.6,8.46,9.19,{"$nulls":4},{"v":7.261285123624633,"d":"7.26"},2500,{"$nulls":4},2500,0.887,0.96,5,56.1,10,null,"Nein"]
["C043A (240 V)",30,14.2,11.1,4.73,{"$nulls":4},{"v":10.259764251475941,"d":"10.26"},1250,{"$nulls":4},1250,1.1900000000000002,3.97,20.6,{"v":143,"d":"143.0"},10,null,"Nein"]
["C043B (240 V)",30.2,27.5,11.2,9.15,{"$nulls":4},{"v":9.22844022024046,"d":"9.23"},2500,{"$nulls":4},2500,1.1900000000000002,1.06,5.5,74.5,10,null,"Nein"]
["C044A (240 V)",38.1,15,14.1,5,{"$nulls":4},{"v":13.159840151655576,"d":"13.16"},1050,{"$nulls":4},1050,1.49,4.08,22.1,{"v":173,"d":"173.0"},10,null,"Nein"]
["C044B (240 V)",38.8,29.3,14.4,9.53,{"$nulls":4},{"v":12.080970563998754,"d":"12.08"},2150,{"$nulls":4},2100,1.49,1.08,6,{"v":90,"d":"90.0"},10,null,"Nein"]
["C051A (240 V)",30,12.8,11.7,4.75,{"$nulls":4},{"v":10.941902337567806,"d":"10.94"},1200,{"$nulls":4},1200,2.7399999999999998,4.13,24,{"v":151,"d":"151.0"},10,null,"Nein"]
["C051B (240 V)",30.5,25.1,11.8,9.29,{"$nulls":4},{"v":10.161231101401743,"d":"10.16"},2450,{"$nulls":4},2450,2.7399999999999998,1.08,6.4,{"v":78,"d":"78.0"},10,null,"Nein"]
["C052A (240 V)",26.6,43.1,16.8,9.84,{"$nulls":4},{"v":14.907226237277634,"d":"14.91"},1850,{"$nulls":4},1850,3.59,1.14,7,{"v":105,"d":"105.0"},10,null,"Nein"]
["C052B (240 V)",42.4,36.5,16.5,13.5,{"$nulls":4},{"v":13.819742018555456,"d":"13.82"},2500,{"$nulls":4},2500,3.59,0.61,3.7,75.4,10,null,"Nein"]
["C052C (240 V)",43.1,15.5,16.9,5.74,{"$nulls":4},{"v":5.626342312545922,"d":"5.63"},1850,{"$nulls":4},950,3.59,3.36,90,{"v":181,"d":"181.0"},10,null,"Nein"]
["C052D (240 V)",42.3,29.6,16.5,10.9,{"$nulls":4},{"v":14.207490041861877,"d":"14.21"},2050,{"$nulls":4},2050,3.59,0.94,5.59,92.7,10,null,"Nein"]
["C053A (240 V)",53.7,24.9,20.9,9.21,{"$nulls":4},{"v":18.971269216553925,"d":"18.97"},1350,{"$nulls":4},1350,4.43,1.41,9.1,{"v":139,"d":"139.0"},10,null,"Nein"]
["C053B (240 V)",51.4,49.2,20,18.2,{"$nulls":4},{"v":16.123032354981365,"d":"16.12"},2500,{"$nulls":4},2500,4.43,0.36,2.2,67.4,10,null,"Nein"]
["C054A (240 V)",63.5,26.4,24.8,9.79,{"$nulls":4},{"v":22.63183290766752,"d":"22.63"},1200,{"$nulls":4},1200,5.28,1.35,9,{"v":156,"d":"156.0"},10,null,"Nein"]
["C054B (240 V)",60.9,46.8,24,17.4,{"$nulls":4},{"v":18.69224012483537,"d":"18.69"},2350,{"$nulls":4},2300,5.28,0.43,2.7,84.3,10,null,"Nein"]
["C061A (240 V)",85.7,26.7,33.4,9.89,{"$nulls":4},{"v":31.300472141406086,"d":"31.30"},900,{"$nulls":4},900,9.41,1.36,18.1,{"v":206,"d":"206.0"},10,null,"Nein"]
["C061B (240 V)",83,52.7,32.3,19.5,{"$nulls":4},{"v":26.9632958973531,"d":"26.96"},1950,{"$nulls":4},1950,9.41,0.35,4.3,{"v":101,"d":"101.0"},10,null,"Nein"]
["C062A (240 V)",121.5,39.3,47.3,14.6,{"$nulls":4},{"v":43.63525945022638,"d":"43.64"},950,{"$nulls":4},950,12.6,0.76,11.1,{"v":198,"d":"198.0"},10,null,"Nein"]
["C062B (240 V)",117.8,55.5,46,20.6,{"$nulls":4},{"v":39.843616787833106,"d":"39.84"},1450,{"$nulls":4},1450,12.6,0.38,5.2,{"v":136,"d":"136.0"},10,null,"Nein"]
["C062C (240 V)",124.2,31.8,48.4,11.8,{"$nulls":4},{"v":44.7452754292643,"d":"44.75"},700,{"$nulls":4},700,12.6,1.19,17.8,250.4,10,null,"Nein"]
["C063A (240 V)",154.4,37.5,60.2,13.9,{"$nulls":4},{"v":56.231715036410804,"d":"56.23"},700,{"$nulls":4},700,15.7,0.93,14.4,{"v":264,"d":"264.0"},10,null,"Nein"]
["C063B (240 V)",149,52.8,59,19.8,{"$nulls":4},{"v":52.31353781629256,"d":"52.31"},1150,{"$nulls":4},1150,15.7,0.47,7.1,{"v":181,"d":"181.0"},10,null,"Nein"]
["C063C (240 V)",158.9,30.5,61.8,11.3,{"$nulls":4},{"v":58.163897384492664,"d":"58.16"},550,{"$nulls":4},550,15.7,1.45,23.1,333.8,10,null,"Nein"]
["C091A (230 V)",120,40,50,12.8,{"$nulls":4},{"v":42.01690497626037,"d":"42.02"},600,{"$nulls":4},600,28,0.916,7.8,{"v":244,"d":"244.0"},38,null,"Nein"]
["C092A (230 V)",227,40,101,15.3,{"$nulls":4},{"v":89.52465548919112,"d":"89.52"},400,{"$nulls":4},400,47,0.921,11,{"v":441,"d":"441.0"},38,null,"Nein"]
["C092C (230 V)",231.2,48,101.6,18.1,{"$nulls":4},{"v":87.00470222356947,"d":"87.00"},450,{"$nulls":4},450,47,0.64,7.35,{"v":343,"d":"343.0"},38,null,"Nein"]
["C093A (230 V)",309,40,145,15.5,{"$nulls":4},{"v":132.09860276627313,"d":"132.10"},300,{"$nulls":4},300,66,0.867,11,{"v":517,"d":"517.0"},38,null,"Nein"]
["C093C (230 V)",316.6,48,139.4,20,{"$nulls":4},{"v":128.50624833648465,"d":"128.51"},350,{"$nulls":4},350,66,0.59,7.54,{"v":426,"d":"426.0"},38,null,"Nein"]
["C131A (230 V)",389,40,188,13.8,{"$nulls":4},{"v":168.91644626819826,"d":"168.92"},225,{"$nulls":4},225,123,0.93,13,{"v":738,"d":"738.0"},46,null,"Nein"]
["C131B (230 V)",396,75.4,190,25.9,{"$nulls":4},{"v":133.26573901561372,"d":"133.27"},450,{"$nulls":4},450,123,0.261,3.6,{"v":398,"d":"398.0"},46,null,"Nein"]
["C131C (230 V)",394.5,48,188.8,18.8,{"$nulls":4},{"v":166.15776058793875,"d":"166.16"},250,{"$nulls":4},250,123,0.65,8.67,{"v":617,"d":"617.0"},46,null,"Nein"]
["C132A (230 V)",836,40,361,12.4,{"$nulls":4},{"v":340.30220559285254,"d":"340.30"},110,{"$nulls":4},110,225,1.66,29,{"v":1584,"d":"1584.0"},46,null,"Nein"]
["C132B (230 V)",742,75.4,361,26.3,{"$nulls":4},{"v":307.2751434627526,"d":"307.28"},225,{"$nulls":4},225,225,0.369,6.5,{"v":746,"d":"746.0"},46,null,"Nein"]
["C132C (230 V)",818.3,48,361.7,16.9,{"$nulls":4},{"v":337.40847935481816,"d":"337.41"},120,{"$nulls":4},120,225,1.14,19.9,{"v":1313,"d":"1313.0"},46,null,"Nein"]
["C133A (230 V)",1016,40,504,16.8,{"$nulls":4},{"v":475.3427633677941,"d":"475.34"},90,{"$nulls":4},90,302,1.41,26,{"v":1837,"d":"1837.0"},46,null,"Nein"]
["C133B (230 V)",1017,77.1,510,32.7,{"$nulls":4},{"v":443.0873615678367,"d":"443.09"},175,{"$nulls":4},175,302,0.37,7,{"v":954,"d":"954.0"},46,null,"Nein"]
["C133C (230 V)",1072.6,48,498.7,20,{"$nulls":4},{"v":481.2845479098915,"d":"481.28"},100,{"$nulls":4},100,302,0.94,18.1,{"v":1536,"d":"1536.0"},46,null,"Nein"]
["CH041A (400 V)",12.3,8.19,4.57,2.73,{"$nulls":6},{"v":4.079459501331462,"d":"4.08"},2500,null,null,2500,0.5860000000000001,8.47,34.4,{"v":102,"d":"102.0"},10,null,"Nein"]
["CH041A (480 V)",12.3,8.19,4.57,2.73,{"$nulls":8},{"v":4.079459501331462,"d":"4.08"},2500,2500,0.5860000000000001,8.47,34.4,{"v":102,"d":"102.0"},10,null,"Nein"]
["CH042A (400 V)",22.2,14,8.26,4.68,{"$nulls":6},{"v":7.1008569409880025,"d":"7.10"},2500,null,null,2500,0.887,3.7,18.3,{"v":108,"d":"108.0"},10,null,"Nein"]
["CH042A (480 V)",22.2,14,8.26,4.68,{"$nulls":8},{"v":7.1008569409880025,"d":"7.10"},2500,2500,0.887,3.7,18.3,{"v":108,"d":"108.0"},10,null,"Nein"]
["CH043A (400 V)",30,14.2,11.1,4.73,{"$nulls":6},{"v":9.392263708329716,"d":"9.39"},2250,null,null,2250,1.1900000000000002,3.97,20.6,{"v":143,"d":"143.0"},10,null,"Nein"]
["CH043A (480 V)",30,14.2,11.1,4.73,{"$nulls":8},{"v":9.174964159361583,"d":"9.17"},2500,2500,1.1900000000000002,3.97,20.6,{"v":143,"d":"143.0"},10,null,"Nein"]
["CH044A (400 V)",38.1,15,14.1,5,{"$nulls":6},{"v":12.31601170434364,"d":"12.32"},1850,null,null,1850,1.49,4.08,22.1,{"v":173,"d":"173.0"},10,null,"Nein"]
["CH044A (480 V)",38.1,15,14.2,5,{"$nulls":8},{"v":11.756245129721334,"d":"11.76"},2250,2250,1.49,4.08,22.1,{"v":173,"d":"173.0"},10,null,"Nein"]
["CH051A (400 V)",30,12.8,11.7,4.75,{"$nulls":6},{"v":10.27231475555976,"d":"10.27"},2100,null,null,2100,2.7399999999999998,4.13,24,{"v":151,"d":"151.0"},10,null,"Nein"]
["CH051A (480 V)",30,12.8,11.7,4.75,{"$nulls":8},{"v":10.030581133423611,"d":"10.03"},2500,2500,2.7399999999999998,4.13,24,{"v":151,"d":"151.0"},10,null,"Nein"]
["CH052A (400 V)",26.6,43.1,16.8,9.84,{"$nulls":6},{"v":14.090942041584047,"d":"14.09"},2500,null,null,2500,3.59,1.14,7,{"v":105,"d":"105.0"},10,null,"Nein"]
["CH052A (480 V)",26.6,43.1,16.8,9.84,{"$nulls":8},{"v":14.090942041584047,"d":"14.09"},2500,2500,3.59,1.14,7,{"v":105,"d":"105.0"},10,null,"Nein"]
["CH052C (400 V)",43.1,15.5,16.9,5.74,{"$nulls":6},{"v":10.504226244065093,"d":"10.50"},2500,null,null,1750,3.59,3.36,90,{"v":181,"d":"181.0"},10,null,"Nein"]
["CH052C (480 V)",43.1,15.5,16.9,5.74,{"$nulls":8},{"v":12.108508070431398,"d":"12.11"},2500,2100,3.59,3.36,90,{"v":181,"d":"181.0"},10,null,"Nein"]
["CH053A (400 V)",53.7,24.9,20.9,9.21,{"$nulls":6},{"v":16.93679496528561,"d":"16.94"},2350,null,null,2350,4.43,1.41,9.1,{"v":139,"d":"139.0"},10,null,"Nein"]
["CH053A (480 V)",53.7,24.9,20.9,9.21,{"$nulls":8},{"v":16.810581709138354,"d":"16.81"},2500,2500,4.43,1.41,9.1,{"v":139,"d":"139.0"},10,null,"Nein"]
["CH054A (400 V)",63.5,26.4,24.8,9.79,{"$nulls":6},{"v":20.326359874879206,"d":"20.33"},2100,null,null,2100,5.28,1.35,9,155.5,10,null,"Nein"]
["CH054A (480 V)",63.5,26.4,24.8,9.79,{"$nulls":8},{"v":19.251381916395662,"d":"19.25"},2500,2500,5.28,1.35,9,{"v":156,"d":"156.0"},10,null,"Nein"]
["CH061A (400 V)",85.7,26.7,33.4,9.89,{"$nulls":6},{"v":29.13132289618279,"d":"29.13"},1600,null,null,1600,9.41,1.36,18.1,{"v":206,"d":"206.0"},10,null,"Nein"]
["CH061A (480 V)",85.7,26.7,33.4,9.89,{"$nulls":8},{"v":27.893997920842708,"d":"27.89"},1900,1900,9.41,1.36,18.1,{"v":206,"d":"206.0"},10,null,"Nein"]
["CH062A (400 V)",121.5,39.3,47.3,14.6,{"$nulls":6},{"v":39.7019239858328,"d":"39.70"},1650,null,null,1650,12.6,0.76,11.1,{"v":198,"d":"198.0"},10,null,"Nein"]
["CH062A (480 V)",121.5,39.3,47.3,14.6,{"$nulls":8},{"v":37.54305952594719,"d":"37.54"},2000,2000,12.6,0.76,11.1,{"v":198,"d":"198.0"},10,null,"Nein"]
["CH062C (400 V)",124.2,31.8,48.4,11.8,{"$nulls":6},{"v":40.48901752257817,"d":"40.49"},1250,null,null,1250,12.6,1.19,17.8,250.4,10,null,"Nein"]
["CH062C (480 V)",124.2,31.8,48.4,11.8,{"$nulls":8},{"v":37.889144516715724,"d":"37.89"},1550,1550,12.6,1.19,17.8,250.4,10,null,"Nein"]
["CH063A (400 V)",154.4,37.5,60.2,13.9,{"$nulls":6},{"v":52.43709741037294,"d":"52.44"},1250,null,null,1250,15.7,0.93,14.4,{"v":264,"d":"264.0"},10,null,"Nein"]
["CH063A (480 V)",154.4,37.5,60.2,13.9,{"$nulls":8},{"v":50.67493388045948,"d":"50.67"},1500,1500,15.7,0.93,14.4,{"v":264,"d":"264.0"},10,null,"Nein"]
["CH063B (400 V)",149,52.8,58,19.5,{"$nulls":6},{"v":45.80049113689905,"d":"45.80"},1850,null,null,1850,15.7,0.47,7.1,{"v":181,"d":"181.0"},10,null,"Nein"]
["CH063B (480 V)",149,52.8,58,19.5,{"$nulls":8},{"v":41.73910725740906,"d":"41.74"},2200,2200,15.7,0.47,7.1,{"v":181,"d":"181.0"},10,null,"Nein"]
["CH063C (400 V)",158.9,30.5,61.8,11.3,{"$nulls":6},{"v":54.07917434743559,"d":"54.08"},950,null,null,950,15.7,1.45,23.1,333.8,10,null,"Nein"]
["CH063C (480 V)",158.9,30.5,61.8,11.3,{"$nulls":8},{"v":51.89835100822674,"d":"51.90"},1150,1150,15.7,1.45,23.1,333.8,10,null,"Nein"]
["CH091A (400 V)",120,40,50,12.8,{"$nulls":6},{"v":28.84233244719642,"d":"28.84"},884,null,null,1200,28,0.916,7.8,{"v":244,"d":"244.0"},38,null,"Nein"]
["CH091A (480 V)",120,40,50,12.8,{"$nulls":8},{"v":28.84233244719642,"d":"28.84"},884,1500,28,0.916,7.8,{"v":244,"d":"244.0"},38,null,"Nein"]
["CH092A (400 V)",227,40,101,15.3,{"$nulls":6},{"v":69.43702802894978,"d":"69.44"},700,null,null,700,47,0.921,11,{"v":441,"d":"441.0"},38,null,"Nein"]
["CH092A (480 V)",227,40,101,15.3,{"$nulls":8},{"v":67.9443709898549,"d":"67.94"},721,800,47,0.921,11,{"v":441,"d":"441.0"},38,null,"Nein"]
["CH092C (400 V)",231.2,48,101.6,18.1,{"$nulls":6},{"v":60.04120228141751,"d":"60.04"},800,null,null,800,47,0.59,7.35,{"v":343,"d":"343.0"},38,null,"Nein"]
["CH092C (480 V)",231.2,48,101.6,18.1,{"$nulls":8},{"v":42.20789090797064,"d":"42.21"},1000,1000,47,0.64,7.35,{"v":343,"d":"343.0"},38,null,"Nein"]
["CH093A (400 V)",309,40,145,15.5,{"$nulls":6},{"v":109.38285179770261,"d":"109.38"},550,null,null,550,66,0.867,11,{"v":517,"d":"517.0"},38,null,"Nein"]
["CH093A (480 V)",309,40,145,15.5,{"$nulls":8},{"v":96.52771935511548,"d":"96.53"},646,650,66,0.867,11,{"v":517,"d":"517.0"},38,null,"Nein"]
["CH093C (400 V)",316.6,48,139.4,20,{"$nulls":6},{"v":87.85352858672624,"d":"87.85"},700,null,null,700,66,0.65,7.54,{"v":426,"d":"426.0"},38,null,"Nein"]
["CH093C (480 V)",316.6,48,139.4,20,{"$nulls":8},{"v":67.32254092787173,"d":"67.32"},800,800,66,0.59,7.54,{"v":426,"d":"426.0"},38,null,"Nein"]
["CH131A (400 V)",389,40,188,13.8,{"$nulls":6},{"v":142.7619839534301,"d":"142.76"},400,null,null,400,123,0.93,13,{"v":738,"d":"738.0"},46,null,"Nein"]
["CH131A (480 V)",389,40,188,13.8,{"$nulls":8},{"v":121.08508070431398,"d":"121.09"},500,500,123,0.93,13,{"v":738,"d":"738.0"},46,null,"Nein"]
["CH131B (400 V)",396,75.4,190,25.9,{"$nulls":6},{"v":123.9498696799681,"d":"123.95"},500,null,null,800,123,0.261,3.6,{"v":398,"d":"398.0"},46,null,"Nein"]
["CH131B (480 V)",396,75.4,190,25.9,{"$nulls":8},{"v":123.9498696799681,"d":"123.95"},500,1000,123,0.261,3.6,{"v":398,"d":"398.0"},46,null,"Nein"]
["CH131C (400 V)",394.5,48,188.8,18.8,{"$nulls":6},{"v":121.27606663602425,"d":"121.28"},500,null,null,500,123,1.14,8.67,{"v":617,"d":"617.0"},46,null,"Nein"]
["CH131C (480 V)",394.5,48,188.8,18.8,{"$nulls":8},{"v":91.35493733474793,"d":"91.35"},600,600,123,0.65,8.67,{"v":617,"d":"617.0"},46,null,"Nein"]
["CH132A (400 V)",836,40,361,12.4,{"$nulls":6},{"v":315.6042521512284,"d":"315.60"},200,null,null,200,225,1.66,29,{"v":1584,"d":"1584.0"},46,null,"Nein"]
["CH132A (480 V)",836,40,361,12.4,{"$nulls":8},{"v":298.7019971948692,"d":"298.70"},250,250,225,1.66,29,{"v":1584,"d":"1584.0"},46,null,"Nein"]
["CH132B (400 V)",742,75.4,361,26.3,{"$nulls":6},{"v":232.08417017957396,"d":"232.08"},395,null,null,400,225,0.369,6.5,{"v":746,"d":"746.0"},46,null,"Nein"]
["CH132B (480 V)",742,75.4,361,26.3,{"$nulls":8},{"v":232.08417017957396,"d":"232.08"},395,500,225,0.369,6.5,{"v":746,"d":"746.0"},46,null,"Nein"]
["CH132C (400 V)",818.3,48,361.7,16.9,{"$nulls":6},{"v":298.7019971948692,"d":"298.70"},250,null,null,250,225,0.94,19.9,{"v":1313,"d":"1313.0"},46,null,"Nein"]
["CH132C (480 V)",818.3,48,361.7,16.9,{"$nulls":8},{"v":279.1577701831844,"d":"279.16"},300,300,225,1.14,19.9,{"v":1313,"d":"1313.0"},46,null,"Nein"]
["CH133A (400 V)",1016,40,504,16.8,{"$nulls":6},{"v":445.23595329957726,"d":"445.24"},160,null,null,160,302,1.41,26,{"v":1837,"d":"1837.0"},46,null,"Nein"]
["CH133A (480 V)",1016,40,504,16.8,{"$nulls":8},{"v":424.9436980553605,"d":"424.94"},200,200,302,1.41,26,{"v":1837,"d":"1837.0"},46,null,"Nein"]
["CH133B (400 V)",1017,77.1,510,32.7,{"$nulls":6},{"v":326.6864621359957,"d":"326.69"},342,null,null,350,302,0.37,7,{"v":954,"d":"954.0"},46,null,"Nein"]
["CH133B (480 V)",1017,77.1,510,32.7,{"$nulls":8},{"v":326.6864621359957,"d":"326.69"},342,400,302,0.37,7,{"v":954,"d":"954.0"},46,null,"Nein"]
["CH133C (400 V)",1072.6,48,498.7,20,{"$nulls":6},{"v":433.5380649823229,"d":"433.54"},200,null,null,200,302,0.94,18.1,{"v":1536,"d":"1536.0"},46,null,"Nein"]
["CH133C (480 V)",1072.6,48,498.7,20,{"$nulls":8},{"v":377.0062291960817,"d":"377.01"},250,250,302,0.94,18.1,{"v":1536,"d":"1536.0"},46,null,"Nein"]
["KBM-10H01-A (120 V)",1.17,4.33,0.487,1.73,null,null,{"v":0.44870188775305436,"d":"0.45"},4150,{"$nulls":6},6565,0.004920000000000001,13,19,{"v":17.3821,"d":"17.4"},6,null,"Nein"]
["KBM-10H01-A (240 V)",1.17,4.33,0.487,1.73,{"$nulls":4},{"v":0.414767427451606,"d":"0.41"},9900,{"$nulls":4},13766,0.004920000000000001,13,19,{"v":17.3821,"d":"17.4"},6,null,"Nein"]
["KBM-10H01-A (400 V)",1.17,4.33,0.487,1.73,{"$nulls":6},{"v":0.368045805900008,"d":"0.37"},14400,null,null,16000,0.004920000000000001,13,19,{"v":17.3821,"d":"17.4"},6,null,"Nein"]
["KBM-10H01-B (120 V)",1.19,8.7,0.509,3.37,null,null,{"v":0.4297183463481174,"d":"0.43"},9000,{"$nulls":6},12319,0.004920000000000001,3.42,5.2,{"v":9.304111,"d":"9.3"},6,null,"Nein"]
["KBM-10H01-B (240 V)",1.19,8.7,0.509,3.37,{"$nulls":4},{"v":0.3097069162869315,"d":"0.31"},18500,{"$nulls":4},20000,0.004920000000000001,3.42,5.2,{"v":9.304111,"d":"9.3"},6,null,"Nein"]
["KBM-10H01-C (120 V)",1.23,13.8,0.492,5.21,null,null,{"v":0.3450068443798505,"d":"0.35"},15500,{"$nulls":6},19702,0.004920000000000001,1.44,2.2,{"v":5.834904,"d":"5.8"},6,null,"Nein"]
["KBM-10H01-C (240 V)",1.23,13.8,0.492,5.21,{"$nulls":4},{"v":0.2952067492833543,"d":"0.30"},18600,{"$nulls":4},20000,0.004920000000000001,1.44,2.2,{"v":5.834904,"d":"5.8"},6,null,"Nein"]
["KBM-10H02-A (120 V)",2.33,4.33,0.876,1.53,null,null,{"v":0.8534395499130619,"d":"0.85"},2070,{"$nulls":6},3359,0.0103,20,36,35.4,6,null,"Nein"]
["KBM-10H02-A (240 V)",2.33,4.33,0.876,1.53,{"$nulls":4},{"v":0.7940994002690357,"d":"0.79"},4750,{"$nulls":4},6753,0.0103,20,36,35.4,6,null,"Nein"]
["KBM-10H02-A (400 V)",2.33,4.33,0.876,1.53,{"$nulls":6},{"v":0.7083269445298638,"d":"0.71"},9100,null,null,11291,0.0103,20,36,35.4,6,null,"Nein"]
["KBM-10H02-A (480 V)",2.33,4.33,0.876,1.53,{"$nulls":8},{"v":0.6424072248436504,"d":"0.64"},11000,13564,0.0103,20,36,35.4,6,null,"Nein"]
["KBM-10H02-B (120 V)",2.48,8.65,0.899,2.99,null,null,{"v":0.8232152228891139,"d":"0.82"},4350,{"$nulls":6},6174,0.0103,5.22,9.7,{"v":18.5361,"d":"18.5"},6,null,"Nein"]
["KBM-10H02-B (240 V)",2.48,8.65,0.899,2.99,{"$nulls":4},{"v":0.7066479473280153,"d":"0.71"},10000,{"$nulls":4},12944,0.0103,5.22,9.7,{"v":18.5361,"d":"18.5"},6,null,"Nein"]
["KBM-10H02-B (400 V)",2.48,8.65,0.899,2.99,{"$nulls":6},{"v":0.49317090918607037,"d":"0.49"},15200,null,null,16000,0.0103,5.22,9.7,{"v":18.536,"d":"18.5"},6,null,"Nein"]
["KBM-10H02-C (120 V)",2.24,15.5,0.868,5.14,null,null,{"v":0.7021541606995383,"d":"0.70"},8500,{"$nulls":6},11008,0.0103,1.77,3.2,{"v":10.46,"d":"10.5"},6,null,"Nein"]
["KBM-10H02-C (240 V)",2.24,15.5,0.868,5.14,{"$nulls":4},{"v":0.2503464239986029,"d":"0.25"},18500,{"$nulls":4},20000,0.0103,1.77,3.2,{"v":10.46,"d":"10.5"},6,null,"Nein"]
["KBM-10H03-A (120 V)",3.46,4.86,1.158,1.54,null,null,{"v":1.0725659208366858,"d":"1.07"},1380,{"$nulls":6},2455,0.0155,21.2,41,46.4,6,null,"Nein"]
["KBM-10H03-A (240 V)",3.46,4.86,1.158,1.54,{"$nulls":4},{"v":1.0203357995480415,"d":"1.02"},3650,{"$nulls":4},5155,0.0155,21.2,41,46.4,6,null,"Nein"]
["KBM-10H03-A (400 V)",3.46,4.86,1.158,1.54,{"$nulls":6},{"v":0.9895285592235233,"d":"0.99"},6900,null,null,8619,0.0155,21.2,41,46.4,6,null,"Nein"]
["KBM-10H03-A (480 V)",3.46,4.86,1.158,1.54,{"$nulls":8},{"v":0.8762883925530238,"d":"0.88"},8500,10354,0.0155,21.2,41,46.4,6,null,"Nein"]
["KBM-10H03-B (120 V)",3.57,7.73,1.17,2.4,null,null,{"v":1.0672743242632983,"d":"1.07"},2550,{"$nulls":6},3799,0.0155,8.77,17,{"v":30,"d":"30.0"},6,null,"Nein"]
["KBM-10H03-B (240 V)",3.57,7.73,1.17,2.4,{"$nulls":4},{"v":0.981851390218658,"d":"0.98"},6030,{"$nulls":4},7967,0.0155,8.77,17,{"v":30,"d":"30.0"},6,null,"Nein"]
["KBM-10H03-B (400 V)",3.57,7.73,1.17,2.4,{"$nulls":6},{"v":0.7339197375766002,"d":"0.73"},11450,null,null,13319,0.0155,8.77,17,{"v":30,"d":"30.0"},6,null,"Nein"]
["KBM-10H03-B (480 V)",3.57,7.73,1.17,2.4,{"$nulls":8},{"v":0.49415940372588485,"d":"0.49"},14300,16000,0.0155,8.77,17,{"v":30,"d":"30.0"},6,null,"Nein"]
["KBM-10H03-C (120 V)",3.58,9.72,1.19,3.05,null,null,{"v":1.0724594626807715,"d":"1.07"},3250,{"$nulls":6},4762,0.0155,5.44,11,{"v":24,"d":"24.0"},6,null,"Nein"]
["KBM-10H03-C (240 V)",3.58,9.72,1.19,3.05,{"$nulls":4},{"v":0.9423647946230644,"d":"0.94"},7600,{"$nulls":4},9983,0.0155,5.44,11,{"v":24,"d":"24.0"},6,null,"Nein"]
["KBM-10H03-C (400 V)",3.58,9.72,1.19,3.05,{"$nulls":6},{"v":0.477464829275686,"d":"0.48"},14500,null,null,16000,0.0155,5.44,11,{"v":24,"d":"24.0"},6,null,"Nein"]
["KBM-10H03-D (120 V)",15.5,17.2,1.18,4.66,null,null,{"v":1.0070167308359925,"d":"1.01"},5500,{"$nulls":6},7333,0.0155,2.34,4.7,15.7,6,null,"Nein"]
["KBM-10H03-D (240 V)",15.5,17.2,1.18,4.66,{"$nulls":4},{"v":0.6243770844374356,"d":"0.62"},13000,{"$nulls":4},15373,0.0155,2.34,4.7,15.7,6,null,"Nein"]
["KBM-10H04-A (120 V)",4.66,5.46,1.44,1.6,null,null,{"v":1.3285977858106046,"d":"1.33"},1150,{"$nulls":6},2022,0.0201,20.4,44,56.2,6,null,"Nein"]
["KBM-10H04-A (240 V)",4.66,5.46,1.44,1.6,{"$nulls":4},{"v":1.2891550390443522,"d":"1.29"},3000,{"$nulls":4},4251,0.0201,20.4,44,56.2,6,null,"Nein"]
["KBM-10H04-A (400 V)",4.66,5.46,1.44,1.6,{"$nulls":6},{"v":1.1791305349069114,"d":"1.18"},5750,null,null,7109,0.0201,20.4,44,56.2,6,null,"Nein"]
["KBM-10H04-A (480 V)",4.66,5.46,1.44,1.6,{"$nulls":8},{"v":1.1106983262583334,"d":"1.11"},7050,8541,0.0201,20.4,44,56.2,6,null,"Nein"]
["KBM-10H04-B (120 V)",4.75,8.7,1.41,2.4,null,null,{"v":1.2732395447351628,"d":"1.27"},2100,{"$nulls":6},3131,0.0201,9.02,19,36.4,6,null,"Nein"]
["KBM-10H04-B (240 V)",4.75,8.7,1.41,2.4,{"$nulls":4},{"v":1.18886824960211,"d":"1.19"},4980,{"$nulls":4},6571,0.0201,9.02,19,36.4,6,null,"Nein"]
["KBM-10H04-B (400 V)",4.75,8.7,1.41,2.4,{"$nulls":6},{"v":0.9046702028381419,"d":"0.90"},9500,null,null,10987,0.0201,9.02,19,36.4,6,null,"Nein"]
["KBM-10H04-B (480 V)",4.75,8.7,1.41,2.4,{"$nulls":8},{"v":0.7141213098731999,"d":"0.71"},11500,13200,0.0201,9.02,19,36.4,6,null,"Nein"]
["KBM-10H04-C (120 V)",4.8,10.9,1.44,3.1,null,null,{"v":1.308607309866695,"d":"1.31"},2700,{"$nulls":6},3944,0.0201,5.44,11.8,{"v":29,"d":"29.0"},6,null,"Nein"]
["KBM-10H04-C (240 V)",4.8,10.9,1.44,3.1,{"$nulls":4},{"v":1.1519786357127662,"d":"1.15"},6300,{"$nulls":4},8273,0.0201,5.44,11.8,{"v":29,"d":"29.0"},6,null,"Nein"]
["KBM-10H04-C (400 V)",4.8,10.9,1.44,3.1,{"$nulls":6},{"v":0.6684507609859605,"d":"0.67"},12000,null,null,13833,0.0201,5.44,11.8,{"v":29,"d":"29.0"},6,null,"Nein"]
["KBM-10H04-D (120 V)",4.91,15.5,1.41,4.21,null,null,{"v":1.2277667038517641,"d":"1.23"},4200,{"$nulls":6},5489,0.0201,2.94,6.2,20.9,6,null,"Nein"]
["KBM-10H04-D (240 V)",4.91,15.5,1.41,4.21,{"$nulls":4},{"v":0.909696148409465,"d":"0.91"},9500,{"$nulls":4},11509,0.0201,2.94,6.2,20.9,6,null,"Nein"]
["KBM-14H01-A (120 V)",3.28,4.32,1.2,1.53,null,null,{"v":1.1018419137131217,"d":"1.10"},1300,{"$nulls":6},2308,0.0241,21.4,38,49.3,8,null,"Nein"]
["KBM-14H01-A (240 V)",3.28,4.32,1.2,1.53,{"$nulls":4},{"v":1.083203791789616,"d":"1.08"},3350,{"$nulls":4},4849,0.0241,21.4,38,49.3,8,null,"Nein"]
["KBM-14H01-A (400 V)",3.28,4.32,1.2,1.53,{"$nulls":6},{"v":0.9698504344662372,"d":"0.97"},6400,null,null,8109,0.0241,21.4,38,49.3,8,null,"Nein"]
["KBM-14H01-A (480 V)",3.28,4.32,1.2,1.53,{"$nulls":8},{"v":0.8944910725671079,"d":"0.89"},7900,9741,0.0241,21.4,38,49.3,8,null,"Nein"]
["KBM-14H01-B (120 V)",3.43,9.63,1.25,3.25,null,null,{"v":1.1186318857316073,"d":"1.12"},3500,{"$nulls":6},5022,0.0241,4.74,9,23.7,8,null,"Nein"]
["KBM-14H01-B (240 V)",3.43,9.63,1.25,3.25,{"$nulls":4},{"v":0.9369121178239876,"d":"0.94"},7950,{"$nulls":4},10088,0.0241,4.74,9,23.7,8,null,"Nein"]
["KBM-14H01-B (400 V)",3.43,9.63,1.25,3.25,{"$nulls":6},{"v":0.5610211743989311,"d":"0.56"},12000,null,null,12000,0.0241,4.74,9,23.7,8,null,"Nein"]
["KBM-14H01-C (120 V)",3.59,19.4,1.21,6.25,null,null,{"v":0.9103662744856413,"d":"0.91"},7500,{"$nulls":6},9539,0.0241,1.29,2.4,12.1,8,null,"Nein"]
["KBM-14H01-C (240 V)",3.59,19.4,1.21,6.25,{"$nulls":4},{"v":0.6472301019070411,"d":"0.65"},13500,{"$nulls":4},12000,0.0241,1.29,2.4,12.1,8,null,"Nein"]
["KBM-14H02-A (120 V)",6.67,5.39,2.08,1.59,null,null,{"v":1.9757165349338732,"d":"1.98"},725,{"$nulls":6},1461,0.0488,23.8,47,80.8,8,null,"Nein"]
["KBM-14H02-A (240 V)",6.67,5.39,2.08,1.59,{"$nulls":4},{"v":1.8621128341751756,"d":"1.86"},2000,{"$nulls":4},2944,0.0488,23.8,47,80.8,8,null,"Nein"]
["KBM-14H02-A (400 V)",6.67,5.39,2.08,1.59,{"$nulls":6},{"v":1.7384616860807027,"d":"1.74"},3900,null,null,4924,0.0488,23.8,47,80.8,8,null,"Nein"]
["KBM-14H02-A (480 V)",6.67,5.39,2.08,1.59,{"$nulls":8},{"v":1.6370222718023522,"d":"1.64"},4900,5915,0.0488,23.8,47,80.8,8,null,"Nein"]
["KBM-14H02-B (120 V)",6.83,8.57,2.08,2.42,null,null,{"v":1.909859317102744,"d":"1.91"},1350,{"$nulls":6},2139,0.0488,10.3,20,53.4,8,null,"Nein"]
["KBM-14H02-B (240 V)",6.83,8.57,2.08,2.42,{"$nulls":4},{"v":1.7941102675813656,"d":"1.79"},3300,{"$nulls":4},4489,0.0488,10.3,20,53.4,8,null,"Nein"]
["KBM-14H02-B (400 V)",6.83,8.57,2.08,2.42,{"$nulls":6},{"v":1.382510102678852,"d":"1.38"},6700,null,null,7505,0.0488,10.3,20,53.4,8,null,"Nein"]
["KBM-14H02-B (480 V)",6.83,8.57,2.08,2.42,{"$nulls":8},{"v":1.2401683877290546,"d":"1.24"},7700,9016,0.0488,10.3,20,53.4,8,null,"Nein"]
["KBM-14H02-C (120 V)",6.98,10.9,2.11,3.1,null,null,{"v":1.9098593171027443,"d":"1.91"},1800,{"$nulls":6},2704,0.0488,6.3,12.8,42.3,8,null,"Nein"]
["KBM-14H02-C (240 V)",6.98,10.9,2.11,3.1,{"$nulls":4},{"v":1.7301078519636623,"d":"1.73"},4250,{"$nulls":4},5671,0.0488,6.3,12.8,42.3,8,null,"Nein"]
["KBM-14H02-C (400 V)",6.98,10.9,2.11,3.1,{"$nulls":6},{"v":1.2055986939211072,"d":"1.21"},8000,null,null,9481,0.0488,6.3,12.8,42.3,8,null,"Nein"]
["KBM-14H02-C (480 V)",6.98,10.9,2.11,3.1,{"$nulls":8},{"v":0.5496668278490825,"d":"0.55"},10250,11390,0.0488,6.3,12.8,42.3,8,null,"Nein"]
["KBM-14H02-D (120 V)",7.31,21.8,2.175,5.97,null,null,{"v":1.8608885653821607,"d":"1.86"},3900,{"$nulls":6},5084,0.0488,1.69,3.6,22.6,8,null,"Nein"]
["KBM-14H02-D (240 V)",7.31,21.8,2.175,5.97,{"$nulls":4},{"v":1.1051433127055206,"d":"1.11"},8900,{"$nulls":4},10660,0.0488,1.69,3.6,22.6,8,null,"Nein"]
["KBM-14H03-A (120 V)",10.4,5.9,2.82,1.64,null,null,{"v":2.5783100780887045,"d":"2.58"},500,{"$nulls":6},1051,0.0731,26.6,54,{"v":108,"d":"108.0"},8,null,"Nein"]
["KBM-14H03-A (240 V)",10.4,5.9,2.82,1.64,{"$nulls":4},{"v":2.5464790894703255,"d":"2.55"},1500,{"$nulls":4},2217,0.0731,26.6,54,{"v":108,"d":"108.0"},8,null,"Nein"]
["KBM-14H03-A (400 V)",10.4,5.9,2.82,1.64,{"$nulls":6},{"v":2.4124538742350454,"d":"2.41"},2850,null,null,3710,0.0731,26.6,54,{"v":108,"d":"108.0"},8,null,"Nein"]
["KBM-14H03-A (480 V)",10.4,5.9,2.82,1.64,{"$nulls":8},{"v":2.3210095867568072,"d":"2.32"},3600,4458,0.0731,26.6,54,{"v":108,"d":"108.0"},8,null,"Nein"]
["KBM-14H03-B (120 V)",10.4,10.3,2.87,2.81,null,null,{"v":2.6571955716212092,"d":"2.66"},1150,{"$nulls":6},1789,0.0731,9.01,19,63.7,8,null,"Nein"]
["KBM-14H03-B (240 V)",10.4,10.3,2.87,2.81,{"$nulls":4},{"v":2.4794664818526857,"d":"2.48"},2850,{"$nulls":4},3757,0.0731,9.01,19,63.7,8,null,"Nein"]
["KBM-14H03-B (400 V)",10.4,10.3,2.87,2.81,{"$nulls":6},{"v":1.961016263096568,"d":"1.96"},5600,null,null,6283,0.0731,9.01,19,63.7,8,null,"Nein"]
["KBM-14H03-B (480 V)",10.4,10.3,2.87,2.81,{"$nulls":8},{"v":1.7923295129733443,"d":"1.79"},6500,7549,0.0731,9.01,19,63.7,8,null,"Nein"]
["KBM-14H03-C (120 V)",10.4,22.5,2.92,6.04,null,null,{"v":2.482817112233567,"d":"2.48"},3000,{"$nulls":6},3806,0.0731,1.96,4.1,{"v":30,"d":"30.0"},8,null,"Nein"]
["KBM-14H03-C (240 V)",10.4,22.5,2.92,6.04,{"$nulls":4},{"v":1.7796416363911933,"d":"1.78"},6600,{"$nulls":4},7980,0.0731,1.96,4.1,{"v":30,"d":"30.0"},8,null,"Nein"]
["KBM-17H01-A (120 V)",5.95,5.45,2.08,1.65,null,null,{"v":1.909859317102744,"d":"1.91"},750,{"$nulls":6},1460,0.051199999999999996,21.3,66,77.9,10,null,"Nein"]
["KBM-17H01-A (240 V)",5.95,5.45,2.08,1.65,{"$nulls":4},{"v":1.8853739412424524,"d":"1.89"},1950,{"$nulls":4},3068,0.051199999999999996,21.3,66,77.9,10,null,"Nein"]
["KBM-17H01-A (400 V)",5.95,5.45,2.08,1.65,{"$nulls":6},{"v":1.7590809499630535,"d":"1.76"},3800,null,null,5132,0.051199999999999996,21.3,66,77.9,10,null,"Nein"]
["KBM-17H01-A (480 V)",5.95,5.45,2.08,1.65,{"$nulls":8},{"v":1.6634258568314222,"d":"1.66"},4650,6166,0.051199999999999996,21.3,66,77.9,10,null,"Nein"]
["KBM-17H01-B (120 V)",6.14,10.9,2.07,3.11,null,null,{"v":1.8568076694054458,"d":"1.86"},1800,{"$nulls":6},2782,0.051199999999999996,6.02,18,41.2,10,null,"Nein"]
["KBM-17H01-B (240 V)",6.14,10.9,2.07,3.11,{"$nulls":4},{"v":1.7052315331274501,"d":"1.71"},4200,{"$nulls":4},5838,0.051199999999999996,6.02,18,41.2,10,null,"Nein"]
["KBM-17H01-B (400 V)",6.14,10.9,2.07,3.11,{"$nulls":6},{"v":1.0653261508694498,"d":"1.07"},8650,null,null,9600,0.051199999999999996,6.02,18,41.2,10,null,"Nein"]
["KBM-17H01-B (480 V)",6.14,10.9,2.07,3.11,{"$nulls":8},{"v":0.716197243913529,"d":"0.72"},9600,9600,0.051199999999999996,6.02,18,41.2,10,null,"Nein"]
["KBM-17H01-C (120 V)",6.35,21.8,2.07,6.1,null,null,{"v":1.7384616860807027,"d":"1.74"},3900,{"$nulls":6},5468,0.051199999999999996,1.56,5,21.5,10,null,"Nein"]
["KBM-17H01-C (240 V)",6.35,21.8,2.07,6.1,{"$nulls":4},{"v":0.9018780108540735,"d":"0.90"},9000,{"$nulls":4},9600,0.051199999999999996,1.56,5,21.5,10,null,"Nein"]
["KBM-17H02-A (120 V)",12.2,6.08,3.58,1.59,null,null,{"v":3.310422816311423,"d":"3.31"},375,{"$nulls":6},812,0.0954,27.5,97,{"v":140,"d":"140.0"},10,null,"Nein"]
["KBM-17H02-A (240 V)",12.2,6.08,3.58,1.59,{"$nulls":4},{"v":3.2293984816464585,"d":"3.23"},1100,{"$nulls":4},1710,0.0954,27.5,97,{"v":140,"d":"140.0"},10,null,"Nein"]
["KBM-17H02-A (400 V)",12.2,6.08,3.58,1.59,{"$nulls":6},{"v":3.1376260209545084,"d":"3.14"},2100,null,null,2861,0.0954,27.5,97,{"v":140,"d":"140.0"},10,null,"Nein"]
["KBM-17H02-A (480 V)",12.2,6.08,3.58,1.59,{"$nulls":8},{"v":3.066793326501522,"d":"3.07"},2600,3438,0.0954,27.5,97,{"v":140,"d":"140.0"},10,null,"Nein"]
["KBM-17H02-B (120 V)",12.3,12.2,3.52,2.99,null,null,{"v":3.246760839074665,"d":"3.25"},1000,{"$nulls":6},1565,0.0954,7.78,27,72.8,10,null,"Nein"]
["KBM-17H02-B (240 V)",12.3,12.2,3.52,2.99,{"$nulls":4},{"v":3.0516230392837325,"d":"3.05"},2300,{"$nulls":4},3285,0.0954,7.78,27,72.8,10,null,"Nein"]
["KBM-17H02-B (400 V)",12.3,12.2,3.52,2.99,{"$nulls":6},{"v":2.6043536142310146,"d":"2.60"},4400,null,null,5495,0.0954,7.78,27,72.8,10,null,"Nein"]
["KBM-17H02-B (480 V)",12.3,12.2,3.52,2.99,{"$nulls":8},{"v":2.2252489291013626,"d":"2.23"},5450,6602,0.0954,7.78,27,72.8,10,null,"Nein"]
["KBM-17H02-C (120 V)",12.7,21.9,3.64,5.27,null,null,{"v":3.2166051656467265,"d":"3.22"},1900,{"$nulls":6},2797,0.0954,2.51,9.2,{"v":43,"d":"43.0"},10,null,"Nein"]
["KBM-17H02-C (240 V)",12.7,21.9,3.64,5.27,{"$nulls":4},{"v":2.6891697281044387,"d":"2.69"},4350,{"$nulls":4},5622,0.0954,2.51,9.2,{"v":43,"d":"43.0"},10,null,"Nein"]
["KBM-17H02-C (400 V)",12.7,21.9,3.64,5.27,{"$nulls":6},{"v":0.9978762304968042,"d":"1.00"},7560,null,null,9375,0.0954,2.51,9.2,{"v":43,"d":"43.0"},10,null,"Nein"]
["KBM-17H02-D (120 V)",12.8,24.5,3.58,6.5,null,null,{"v":3.083627022405472,"d":"3.08"},2400,{"$nulls":6},3365,0.0954,1.65,3.1,34.2,10,null,"Nein"]
["KBM-17H02-D (240 V)",12.8,24.5,3.58,6.5,{"$nulls":4},{"v":2.199748677734411,"d":"2.20"},5600,{"$nulls":4},7054,0.0954,1.65,3.1,34.2,10,null,"Nein"]
["KBM-17H02-E (120 V)",12.9,39,3.75,9.33,null,null,{"v":3.0012074983043124,"d":"3.00"},3500,{"$nulls":6},4633,0.0954,0.8,3.1,24.8,10,null,"Nein"]
["KBM-17H02-E (240 V)",12.9,39,3.75,9.33,{"$nulls":4},{"v":1.1013522061959158,"d":"1.10"},7500,{"$nulls":4},9600,0.0954,0.8,3.1,24.8,10,null,"Nein"]
["KBM-17H03-A (120 V)",18.5,13.8,4.88,3,null,null,{"v":4.501811247456469,"d":"4.50"},700,{"$nulls":6},1136,0.14200000000000002,8.61,33,{"v":100,"d":"100.0"},10,null,"Nein"]
["KBM-17H03-A (240 V)",18.5,13.8,4.88,3,{"$nulls":4},{"v":4.297183463481175,"d":"4.30"},1700,{"$nulls":4},2389,0.14200000000000002,8.61,33,{"v":100,"d":"100.0"},10,null,"Nein"]
["KBM-17H03-A (400 V)",18.5,13.8,4.88,3,{"$nulls":6},{"v":3.5950293027816365,"d":"3.60"},3400,null,null,3997,0.14200000000000002,8.61,33,{"v":100,"d":"100.0"},10,null,"Nein"]
["KBM-17H03-A (480 V)",18.5,13.8,4.88,3,{"$nulls":8},{"v":3.481262552693609,"d":"3.48"},3950,4803,0.14200000000000002,8.61,33,{"v":100,"d":"100.0"},10,null,"Nein"]
["KBM-17H03-B (120 V)",18.8,24.4,4.89,5.32,null,null,{"v":4.365392724806273,"d":"4.37"},1400,{"$nulls":6},1998,0.14200000000000002,2.81,11,{"v":57,"d":"57.0"},10,null,"Nein"]
["KBM-17H03-B (240 V)",18.8,24.4,4.89,5.32,{"$nulls":4},{"v":3.850033861461087,"d":"3.85"},3150,{"$nulls":4},4194,0.14200000000000002,2.81,11,{"v":57,"d":"57.0"},10,null,"Nein"]
["KBM-17H03-B (400 V)",18.8,24.4,4.89,5.32,{"$nulls":6},{"v":1.8011681364546206,"d":"1.80"},6150,null,null,7006,0.14200000000000002,2.81,11,{"v":57,"d":"57.0"},10,null,"Nein"]
["KBM-17H03-C (120 V)",18.8,27.2,5.05,6.14,null,null,{"v":4.4762327744595565,"d":"4.48"},1600,{"$nulls":6},2239,0.14200000000000002,2.1,8.8,{"v":51.34,"d":"51.3"},10,null,"Nein"]
["KBM-17H03-C (240 V)",18.8,27.2,5.05,6.14,{"$nulls":4},{"v":3.8063629746453294,"d":"3.81"},3575,{"$nulls":4},4700,0.14200000000000002,2.1,8.8,{"v":51.34,"d":"51.3"},10,null,"Nein"]
["KBM-17H03-C (400 V)",18.8,27.2,5.05,6.14,{"$nulls":6},{"v":1.429447174066097,"d":"1.43"},6480,null,null,7200,0.14200000000000002,2.1,8.8,{"v":51.34,"d":"51.3"},10,null,"Nein"]
["KBM-17H03-D (120 V)",19,48,5,10.38,null,null,{"v":4.013941615605767,"d":"4.01"},2950,{"$nulls":6},3838,0.14200000000000002,0.74,2.9,{"v":30,"d":"30.0"},10,null,"Nein"]
["KBM-17H03-D (240 V)",19,48,5,10.38,{"$nulls":4},{"v":1.4103576495527956,"d":"1.41"},6500,{"$nulls":4},8030,0.14200000000000002,0.74,2.9,{"v":30,"d":"30.0"},10,null,"Nein"]
["KBM-17H04-A (120 V)",23.7,14.5,5.98,3.15,null,null,{"v":5.490845536670389,"d":"5.49"},600,{"$nulls":6},960,0.203,8.64,34,{"v":118,"d":"118.0"},10,null,"Nein"]
["KBM-17H04-A (240 V)",23.7,14.5,5.98,3.15,{"$nulls":4},{"v":5.286217752695096,"d":"5.29"},1400,{"$nulls":4},2018,0.203,8.64,34,{"v":118,"d":"118.0"},10,null,"Nein"]
["KBM-17H04-A (400 V)",23.7,14.5,5.98,3.15,{"$nulls":6},{"v":4.703912762493796,"d":"4.70"},2700,null,null,3377,0.203,8.64,34,{"v":118,"d":"118.0"},10,null,"Nein"]
["KBM-17H04-A (480 V)",23.7,14.5,5.98,3.15,{"$nulls":8},{"v":4.332815167158464,"d":"4.33"},3350,4058,0.203,8.64,34,{"v":118,"d":"118.0"},10,null,"Nein"]
["KBM-17H04-B (120 V)",23.7,25,6.12,5.53,null,null,{"v":5.451056800897415,"d":"5.45"},1200,{"$nulls":6},1660,0.203,2.8,12,69.3,10,null,"Nein"]
["KBM-17H04-B (240 V)",23.7,25,6.12,5.53,{"$nulls":4},{"v":4.864735996393782,"d":"4.86"},2650,{"$nulls":4},3485,0.203,2.8,12,69.3,10,null,"Nein"]
["KBM-17H04-B (400 V)",23.7,25,6.12,5.53,{"$nulls":6},{"v":2.902986161996171,"d":"2.90"},5000,null,null,5822,0.203,2.8,12,69.3,10,null,"Nein"]
["KBM-17H04-B (480 V)",23.7,25,6.12,5.53,{"$nulls":8},{"v":1.800963829724079,"d":"1.80"},5700,6987,0.203,2.8,12,69.3,10,null,"Nein"]
["KBM-17H04-C (120 V)",23.7,28.1,6.1,6.2,null,null,{"v":5.405262218215313,"d":"5.41"},1325,{"$nulls":6},1868,0.203,2.23,9.1,61.4,10,null,"Nein"]
["KBM-17H04-C (240 V)",23.7,28.1,6.1,6.2,{"$nulls":4},{"v":4.647324338283344,"d":"4.65"},3000,{"$nulls":4},3922,0.203,2.23,9.1,61.4,10,null,"Nein"]
["KBM-17H04-C (400 V)",23.7,28.1,6.1,6.2,{"$nulls":6},{"v":1.6122189040477708,"d":"1.61"},5775,null,null,6548,0.203,2.23,9.1,61.4,10,null,"Nein"]
["KBM-17H04-D (120 V)",24,44,6.07,9.56,null,null,{"v":5.599360270596682,"d":"5.60"},2200,{"$nulls":6},2881,0.203,0.94,3.8,{"v":40,"d":"40.0"},10,null,"Nein"]
["KBM-17H04-D (240 V)",24,44,6.07,9.56,{"$nulls":4},{"v":3.962958082988194,"d":"3.96"},5000,{"$nulls":4},6037,0.203,0.94,3.8,{"v":40,"d":"40.0"},10,null,"Nein"]
["KBM-25H01-A (120 V)",14.37,10.86,4.9,3.1,null,null,{"v":4.433601986131371,"d":"4.43"},700,{"$nulls":6},1132,0.266,8.98,37,100.3,10,null,"Nein"]
["KBM-25H01-A (240 V)",14.37,10.86,4.9,3.1,{"$nulls":4},{"v":4.109091258008934,"d":"4.11"},1650,{"$nulls":4},2379,0.266,8.98,37,100.3,10,null,"Nein"]
["KBM-25H01-A (400 V)",14.37,10.86,4.9,3.1,{"$nulls":6},{"v":3.304359770860303,"d":"3.30"},3150,null,null,3979,0.266,8.98,37,100.3,10,null,"Nein"]
["KBM-25H01-A (480 V)",14.37,10.86,4.9,3.1,{"$nulls":8},{"v":2.7893997920842706,"d":"2.79"},3800,4779,0.266,8.98,37,100.3,10,null,"Nein"]
["KBM-25H01-B (120 V)",14.64,19.3,4.96,5.34,null,null,{"v":4.263078832818626,"d":"4.26"},1400,{"$nulls":6},1989,0.266,2.87,12,57.5,10,null,"Nein"]
["KBM-25H01-B (240 V)",14.64,19.3,4.96,5.34,{"$nulls":4},{"v":3.334674998115902,"d":"3.33"},3150,{"$nulls":4},4173,0.266,2.87,12,57.5,10,null,"Nein"]
["KBM-25H01-B (400 V)",14.64,19.3,4.96,5.34,{"$nulls":6},{"v":1.4226503076377583,"d":"1.42"},4900,null,null,6970,0.266,2.87,12,57.5,10,null,"Nein"]
["KBM-25H01-C (120 V)",15.1,27.6,4.85,6.45,null,null,{"v":3.983420861385724,"d":"3.98"},1750,{"$nulls":6},2470,0.266,1.97,7.9,46.3,10,null,"Nein"]
["KBM-25H01-C (240 V)",15.1,27.6,4.85,6.45,{"$nulls":4},{"v":2.316693254473743,"d":"2.32"},4225,{"$nulls":4},5178,0.266,1.97,7.9,46.3,10,null,"Nein"]
["KBM-25H01-D (120 V)",15.2,34.3,4.75,7.95,null,null,{"v":3.6744032513824534,"d":"3.67"},2300,{"$nulls":6},3097,0.266,1.3,5.2,37.1,10,null,"Nein"]
["KBM-25H01-D (240 V)",15.2,34.3,4.75,7.95,{"$nulls":4},{"v":1.3252085057447611,"d":"1.33"},4900,{"$nulls":4},6489,0.266,1.3,5.2,37.1,10,null,"Nein"]
["KBM-25H01-E (120 V)",15.32,39,5.09,10.44,null,null,{"v":3.6221469807121007,"d":"3.62"},2900,{"$nulls":6},3815,0.266,0.75,3.4,{"v":30,"d":"30.0"},10,null,"Nein"]
["KBM-25H01-E (240 V)",15.32,39,5.09,10.44,{"$nulls":4},{"v":1.4421386680163577,"d":"1.44"},4900,{"$nulls":4},6918,0.266,0.75,3.4,{"v":30,"d":"30.0"},10,null,"Nein"]
["KBM-25H01-F (120 V)",15.73,43.7,4.63,12,null,null,{"v":2.4658943081579734,"d":"2.47"},3950,{"$nulls":6},4765,0.266,0.56,2.1,23.7,10,null,"Nein"]
["KBM-25H02-A (120 V)",29.4,15,8.7,3.33,null,null,{"v":8.080174033896226,"d":"8.08"},390,{"$nulls":6},707,0.515,8.96,45,{"v":162,"d":"162.0"},10,null,"Nein"]
["KBM-25H02-A (240 V)",29.4,15,8.7,3.33,{"$nulls":4},{"v":8.069155614759094,"d":"8.07"},1000,{"$nulls":4},1484,0.515,8.96,45,{"v":162,"d":"162.0"},10,null,"Nein"]
["KBM-25H02-A (400 V)",29.4,15,8.7,3.33,{"$nulls":6},{"v":7.517010389109518,"d":"7.52"},1950,null,null,2482,0.515,8.96,45,{"v":162,"d":"162.0"},10,null,"Nein"]
["KBM-25H02-A (480 V)",29.4,15,8.7,3.33,{"$nulls":8},{"v":7.440493589546107,"d":"7.44"},2400,2982,0.515,8.96,45,{"v":162,"d":"162.0"},10,null,"Nein"]
["KBM-25H02-B (120 V)",29.7,23.6,8.75,5.18,null,null,{"v":8.021409131831525,"d":"8.02"},750,{"$nulls":6},1098,0.515,3.7,19,{"v":104,"d":"104.0"},10,null,"Nein"]
["KBM-25H02-B (240 V)",29.7,23.6,8.75,5.18,{"$nulls":4},{"v":7.69560960126694,"d":"7.70"},1700,{"$nulls":4},2303,0.515,3.7,19,{"v":104,"d":"104.0"},10,null,"Nein"]
["KBM-25H02-B (400 V)",29.7,23.6,8.75,5.18,{"$nulls":6},{"v":6.7906109052542005,"d":"6.79"},3150,null,null,3845,0.515,3.7,19,{"v":104,"d":"104.0"},10,null,"Nein"]
["KBM-25H02-B (480 V)",29.7,23.6,8.75,5.18,{"$nulls":8},{"v":6.087676573264997,"d":"6.09"},4000,4614,0.515,3.7,19,{"v":104,"d":"104.0"},10,null,"Nein"]
["KBM-25H02-C (120 V)",29.7,29.5,8.75,6.5,null,null,{"v":7.991253458403587,"d":"7.99"},950,{"$nulls":6},1380,0.515,2.35,12,83.4,10,null,"Nein"]
["KBM-25H02-C (240 V)",29.7,29.5,8.75,6.5,{"$nulls":4},{"v":7.461775936587466,"d":"7.46"},2150,{"$nulls":4},2895,0.515,2.35,12,83.4,10,null,"Nein"]
["KBM-25H02-C (400 V)",29.7,29.5,8.75,6.5,{"$nulls":6},{"v":6.039930090337428,"d":"6.04"},4000,null,null,4826,0.515,2.35,12,83.4,10,null,"Nein"]
["KBM-25H02-C (480 V)",29.7,29.5,8.75,6.5,{"$nulls":8},{"v":4.841493368855456,"d":"4.84"},5000,5791,0.515,2.35,12,83.4,10,null,"Nein"]
["KBM-25H02-D (120 V)",29.8,37,8.62,8,null,null,{"v":7.795344151439772,"d":"7.80"},1225,{"$nulls":6},1717,0.515,1.57,7.8,{"v":67,"d":"67.0"},10,null,"Nein"]
["KBM-25H02-D (240 V)",29.8,37,8.62,8,{"$nulls":4},{"v":6.973614754191671,"d":"6.97"},2725,{"$nulls":4},3597,0.515,1.57,7.8,{"v":67,"d":"67.0"},10,null,"Nein"]
["KBM-25H02-D (400 V)",29.8,37,8.62,8,{"$nulls":6},{"v":4.461254389371275,"d":"4.46"},5180,null,null,5995,0.515,1.57,7.8,{"v":67,"d":"67.0"},10,null,"Nein"]
["KBM-25H02-D (480 V)",29.8,37,8.62,8,{"$nulls":8},{"v":2.8488734813449264,"d":"2.85"},6000,7193,0.515,1.57,7.8,{"v":67,"d":"67.0"},10,null,"Nein"]
["KBM-25H02-E (120 V)",29.8,46.5,8.85,10.2,null,null,{"v":7.818486579389358,"d":"7.82"},1600,{"$nulls":6},2143,0.515,0.96,5,{"v":54,"d":"54.0"},10,null,"Nein"]
["KBM-25H02-E (240 V)",29.8,46.5,8.85,10.2,{"$nulls":4},{"v":6.512089754843385,"d":"6.51"},3600,{"$nulls":4},4480,0.515,0.96,5,{"v":54,"d":"54.0"},10,null,"Nein"]
["KBM-25H02-E (400 V)",29.8,43.3,8.85,10.2,{"$nulls":6},{"v":2.9443664472000637,"d":"2.94"},6000,null,null,7430,0.515,0.96,5,{"v":54,"d":"54.0"},10,null,"Nein"]
["KBM-25H02-F (120 V)",30.1,58,8.93,12.74,null,null,{"v":7.639437268410977,"d":"7.64"},2100,{"$nulls":6},2666,0.515,0.61,3.2,43.3,10,null,"Nein"]
["KBM-25H02-F (240 V)",30.1,58,8.93,12.74,{"$nulls":4},{"v":5.602253996834715,"d":"5.60"},4500,{"$nulls":4},5564,0.515,0.61,3.2,43.3,10,null,"Nein"]
["KBM-25H02-G (120 V)",30,65.5,8.74,14.37,null,null,{"v":7.341021750113673,"d":"7.34"},2400,{"$nulls":6},3027,0.515,0.49,2.5,38.2,10,null,"Nein"]
["KBM-25H02-G (240 V)",30,65.5,8.74,14.37,{"$nulls":4},{"v":4.369253626390711,"d":"4.37"},5300,{"$nulls":4},6316,0.515,0.49,2.5,38.2,10,null,"Nein"]
["KBM-25H03-A (120 V)",42.2,23.9,11.86,5.3,null,null,{"v":11.285532328334398,"d":"11.29"},550,{"$nulls":6},827,0.766,3.97,21,{"v":139,"d":"139.0"},10,null,"Nein"]
["KBM-25H03-A (240 V)",42.2,23.9,11.86,5.3,{"$nulls":4},{"v":11.018419137131216,"d":"11.02"},1300,{"$nulls":4},1735,0.766,3.97,21,{"v":139,"d":"139.0"},10,null,"Nein"]
["KBM-25H03-A (400 V)",42.2,23.9,11.86,5.3,{"$nulls":6},{"v":9.986972679016432,"d":"9.99"},2400,null,null,2899,0.766,3.97,21,{"v":139,"d":"139.0"},10,null,"Nein"]
["KBM-25H03-A (480 V)",42.2,23.9,11.86,5.3,{"$nulls":8},{"v":9.384653540935897,"d":"9.38"},2900,3479,0.766,3.97,21,{"v":139,"d":"139.0"},10,null,"Nein"]
["KBM-25H03-B (120 V)",42.3,33,11.84,7.27,null,null,{"v":10.742958658702936,"d":"10.74"},800,{"$nulls":6},1144,0.766,2.1,11.4,{"v":100,"d":"100.0"},10,null,"Nein"]
["KBM-25H03-B (240 V)",42.3,33,11.84,7.27,{"$nulls":4},{"v":10.02022080068974,"d":"10.02"},1825,{"$nulls":4},2399,0.766,2.1,11.4,{"v":100,"d":"100.0"},10,null,"Nein"]
["KBM-25H03-B (400 V)",42.3,33,11.84,7.27,{"$nulls":6},{"v":5.266156205246538,"d":"5.27"},3400,null,null,4000,0.766,2.1,11.4,{"v":100,"d":"100.0"},10,null,"Nein"]
["KBM-25H03-B (480 V)",42.3,33,11.84,7.27,{"$nulls":8},{"v":6.649992080032447,"d":"6.65"},4150,4800,0.766,2.1,11.4,{"v":100,"d":"100.0"},10,null,"Nein"]
["KBM-25H03-C (120 V)",42.4,37,11.9,8.2,null,null,{"v":10.769484482551585,"d":"10.77"},900,{"$nulls":6},1276,0.766,1.66,9.1,{"v":90,"d":"90.0"},10,null,"Nein"]
["KBM-25H03-C (240 V)",42.4,37,11.9,8.2,{"$nulls":4},{"v":9.875370127458092,"d":"9.88"},2050,{"$nulls":4},2676,0.766,1.66,9.1,{"v":90,"d":"90.0"},10,null,"Nein"]
["KBM-25H03-C (400 V)",42.4,37,11.9,8.2,{"$nulls":6},{"v":7.4635291734146705,"d":"7.46"},3800,null,null,4459,0.766,1.66,9.1,{"v":90,"d":"90.0"},10,null,"Nein"]
["KBM-25H03-C (480 V)",42.4,37,11.9,8.2,{"$nulls":8},{"v":5.224324163714914,"d":"5.22"},4725,5351,0.766,1.66,9.1,{"v":90,"d":"90.0"},10,null,"Nein"]
["KBM-25H03-D (120 V)",42.6,47,11.9,10.24,null,null,{"v":10.663381187156988,"d":"10.66"},1200,{"$nulls":6},1595,0.766,1.06,5.7,72.1,10,null,"Nein"]
["KBM-25H03-D (240 V)",42.6,47,11.9,10.24,{"$nulls":4},{"v":9.195618934198396,"d":"9.20"},2700,{"$nulls":4},3338,0.766,1.06,5.7,72.1,10,null,"Nein"]
["KBM-25H03-D (400 V)",42.6,47,11.9,10.2,{"$nulls":6},{"v":5.001074912825742,"d":"5.00"},4850,null,null,5560,0.766,1.06,5.7,72.1,10,null,"Nein"]
["KBM-25H03-E (120 V)",42.6,59,11.8,12.7,null,null,{"v":10.269407475568853,"d":"10.27"},1525,{"$nulls":6},2006,0.766,0.69,3.6,57.4,10,null,"Nein"]
["KBM-25H03-E (240 V)",42.6,59,11.8,12.7,{"$nulls":4},{"v":8.074772848044692,"d":"8.07"},3400,{"$nulls":4},4193,0.766,0.69,3.6,57.4,10,null,"Nein"]
["KBM-25H03-F (120 V)",42,67,11.75,14.79,null,null,{"v":9.936430230872384,"d":"9.94"},1850,{"$nulls":6},2347,0.766,0.51,2.7,49.4,10,null,"Nein"]
["KBM-25H03-F (240 V)",42,67,11.75,14.79,{"$nulls":4},{"v":6.742735028063956,"d":"6.74"},4100,{"$nulls":4},4902,0.766,0.51,2.7,49.4,10,null,"Nein"]
["KBM-25H03-G (120 V)",42,96,11.2,20,null,null,{"v":8.54227985467773,"d":"8.54"},2750,{"$nulls":6},3324,0.766,0.28,1.3,34.6,10,null,"Nein"]
["KBM-25H03-G (240 V)",42,96,11.2,20,{"$nulls":4},{"v":3.5388569699256727,"d":"3.54"},5100,{"$nulls":4},6937,0.766,0.28,1.3,34.6,10,null,"Nein"]
["KBM-25H03-H (120 V)",42.6,105,11,21.1,null,null,{"v":7.9793274858614645,"d":"7.98"},2950,{"$nulls":6},3642,0.766,0.25,1.1,31.8,10,null,"Nein"]
["KBM-25H03-H (240 V)",42.6,105,11,21.1,{"$nulls":4},{"v":3.0300652627110845,"d":"3.03"},5200,{"$nulls":4},7600,0.766,0.25,1.1,31.8,10,null,"Nein"]
["KBM-25H04-A (120 V)",54.4,25,14.82,5.5,null,null,{"v":13.687325105903,"d":"13.69"},450,{"$nulls":6},685,1.02,4.08,23,{"v":167,"d":"167.0"},10,null,"Nein"]
["KBM-25H04-A (240 V)",54.4,25,14.82,5.5,{"$nulls":4},{"v":13.187123856185615,"d":"13.19"},1050,{"$nulls":4},1437,1.02,4.08,23,{"v":167,"d":"167.0"},10,null,"Nein"]
["KBM-25H04-A (400 V)",54.4,25,14.82,5.5,{"$nulls":6},{"v":12.032113697747288,"d":"12.03"},2000,null,null,2400,1.02,4.08,23,{"v":167,"d":"167.0"},10,null,"Nein"]
["KBM-25H04-A (480 V)",54.4,25,14.82,5.5,{"$nulls":8},{"v":11.399472798957003,"d":"11.40"},2400,2888,1.02,4.08,23,{"v":167,"d":"167.0"},10,null,"Nein"]
["KBM-25H04-B (120 V)",53.8,27.5,14.9,6.2,null,null,{"v":13.641852265019601,"d":"13.64"},525,{"$nulls":6},772,1.02,3.2,18,{"v":148,"d":"148.0"},10,null,"Nein"]
["KBM-25H04-B (240 V)",53.8,27.5,14.9,6.2,{"$nulls":4},{"v":13.130282805081366,"d":"13.13"},1200,{"$nulls":4},1618,1.02,3.2,18,{"v":148,"d":"148.0"},10,null,"Nein"]
["KBM-25H04-B (400 V)",53.8,27.5,14.9,6.2,{"$nulls":6},{"v":11.735024470642415,"d":"11.74"},2250,null,null,2704,1.02,3.2,18,{"v":148,"d":"148.0"},10,null,"Nein"]
["KBM-25H04-B (480 V)",53.8,27.5,14.9,6.2,{"$nulls":8},{"v":10.92863942564348,"d":"10.93"},2700,3245,1.02,3.2,18,{"v":148,"d":"148.0"},10,null,"Nein"]
["KBM-25H04-C (120 V)",54.4,38.5,15.1,8.63,null,null,{"v":13.687325105903,"d":"13.69"},750,{"$nulls":6},1060,1.02,1.66,9.6,{"v":108,"d":"108.0"},10,null,"Nein"]
["KBM-25H04-C (240 V)",54.4,38.5,15.1,8.63,{"$nulls":4},{"v":12.638774892591691,"d":"12.64"},1700,{"$nulls":4},2223,1.02,1.66,9.6,{"v":108,"d":"108.0"},10,null,"Nein"]
["KBM-25H04-C (400 V)",54.4,38.5,15.1,8.63,{"$nulls":6},{"v":10.064655448858906,"d":"10.06"},3150,null,null,3707,1.02,1.66,9.6,{"v":108,"d":"108.0"},10,null,"Nein"]
["KBM-25H04-C (480 V)",54.4,38.5,15.1,8.63,{"$nulls":8},{"v":8.085897887993436,"d":"8.09"},3850,4450,1.02,1.66,9.6,{"v":108,"d":"108.0"},10,null,"Nein"]
["KBM-25H04-D (120 V)",54.8,48.5,15,10.7,null,null,{"v":13.36901521971921,"d":"13.37"},1000,{"$nulls":6},1325,1.02,1.08,6.2,{"v":87,"d":"87.0"},10,null,"Nein"]
["KBM-25H04-D (240 V)",54.8,48.5,15,10.7,{"$nulls":4},{"v":11.777465788800255,"d":"11.78"},2250,{"$nulls":4},2776,1.02,1.08,6.2,{"v":87,"d":"87.0"},10,null,"Nein"]
["KBM-25H04-D (400 V)",54.8,48.5,15,10.7,{"$nulls":6},{"v":6.937621495258764,"d":"6.94"},4150,null,null,4626,1.02,1.08,6.2,{"v":87,"d":"87.0"},10,null,"Nein"]
["KBM-25H04-D (480 V)",54.8,48.5,15,10.7,{"$nulls":8},{"v":4.043212809611129,"d":"4.04"},4700,5551,1.02,1.08,6.2,{"v":87,"d":"87.0"},10,null,"Nein"]
["KBM-25H04-E (120 V)",53.8,62.5,14.6,13.8,null,null,{"v":12.584608714480584,"d":"12.58"},1400,{"$nulls":6},1837,1.02,0.65,3.5,65.5,10,null,"Nein"]
["KBM-25H04-E (240 V)",53.8,62.5,14.6,13.8,{"$nulls":4},{"v":9.97197036880695,"d":"9.97"},3050,{"$nulls":4},3681,1.02,0.65,3.5,65.5,10,null,"Nein"]
["KBM-25H04-E (400 V)",53.8,62.5,14.6,13.8,{"$nulls":6},{"v":4.567054888723954,"d":"4.57"},4600,null,null,6135,1.02,0.65,3.5,65.5,10,null,"Nein"]
["KBM-25H04-F (120 V)",54.1,89,14.5,19.4,null,null,{"v":11.793381283109445,"d":"11.79"},2000,{"$nulls":6},2495,1.02,0.33,1.8,46.3,10,null,"Nein"]
["KBM-25H04-F (240 V)",54.1,89,14.5,19.4,{"$nulls":4},{"v":4.848104420337735,"d":"4.85"},4550,{"$nulls":4},5206,1.02,0.33,1.8,46.3,10,null,"Nein"]
["KBM-25H04-G (120 V)",54.5,98,14,20.3,null,null,{"v":11.77006323330761,"d":"11.77"},2150,{"$nulls":6},2701,1.02,0.3,1.5,42.8,10,null,"Nein"]
["KBM-25H04-G (240 V)",54.5,98,14,20.3,{"$nulls":4},{"v":4.847305984168377,"d":"4.85"},4600,{"$nulls":4},5637,1.02,0.3,1.5,42.8,10,null,"Nein"]
["KBM-35H01-A (120 V)",40.8,21.9,12.6,5.41,null,null,{"v":11.650141834326739,"d":"11.65"},500,{"$nulls":6},798,1.52,4.13,32,{"v":144,"d":"144.0"},10,null,"Nein"]
["KBM-35H01-A (240 V)",40.8,21.9,12.6,5.41,{"$nulls":4},{"v":11.459155902616464,"d":"11.46"},1200,{"$nulls":4},1675,1.52,4.13,32,{"v":144,"d":"144.0"},10,null,"Nein"]
["KBM-35H01-A (400 V)",40.8,21.9,12.6,5.41,{"$nulls":6},{"v":10.926171907145932,"d":"10.93"},2150,null,null,2795,1.52,4.13,32,{"v":144,"d":"144.0"},10,null,"Nein"]
["KBM-35H01-A (480 V)",40.8,21.9,12.6,5.41,{"$nulls":8},{"v":10.504226244065093,"d":"10.50"},2700,3353,1.52,4.13,32,{"v":144,"d":"144.0"},10,null,"Nein"]
["KBM-35H01-B (120 V)",41.4,24.5,12.45,6.1,null,null,{"v":11.632779476898532,"d":"11.63"},550,{"$nulls":6},901,1.52,3.3,25,{"v":127,"d":"127.0"},10,null,"Nein"]
["KBM-35H01-B (240 V)",41.4,24.5,12.45,6.1,{"$nulls":4},{"v":11.275515583664278,"d":"11.28"},1300,{"$nulls":4},1892,1.52,3.3,25,{"v":127,"d":"127.0"},10,null,"Nein"]
["KBM-35H01-B (400 V)",41.4,24.5,12.45,6.1,{"$nulls":6},{"v":10.646449810232319,"d":"10.65"},2350,null,null,3153,1.52,3.3,25,{"v":127,"d":"127.0"},10,null,"Nein"]
["KBM-35H01-B (480 V)",41.4,24.5,12.45,6.1,{"$nulls":8},{"v":10.207868763825012,"d":"10.21"},2900,3783,1.52,3.3,25,{"v":127,"d":"127.0"},10,null,"Nein"]
["KBM-35H01-C (120 V)",40.8,34.7,12.45,8.32,null,null,{"v":11.482589759268032,"d":"11.48"},815,{"$nulls":6},1242,1.52,1.75,13.4,{"v":93,"d":"93.0"},10,null,"Nein"]
["KBM-35H01-C (240 V)",40.8,34.7,12.45,8.32,{"$nulls":4},{"v":10.976501238239955,"d":"10.98"},1840,{"$nulls":4},2600,1.52,1.75,13.4,{"v":93,"d":"93.0"},10,null,"Nein"]
["KBM-35H01-C (400 V)",40.8,34.7,12.45,8.32,{"$nulls":6},{"v":9.687692188202327,"d":"9.69"},3450,null,null,4334,1.52,1.75,13.4,{"v":93,"d":"93.0"},10,null,"Nein"]
["KBM-35H01-C (480 V)",40.8,34.7,12.45,8.32,{"$nulls":8},{"v":8.833099341600192,"d":"8.83"},4200,5201,1.52,1.75,13.4,{"v":93,"d":"93.0"},10,null,"Nein"]
["KBM-35H01-D (120 V)",41.2,43.5,12.65,10.57,null,null,{"v":11.589373583328015,"d":"11.59"},1100,{"$nulls":6},1556,1.52,1.08,8.5,{"v":74,"d":"74.0"},10,null,"Nein"]
["KBM-35H01-D (240 V)",41.2,43.5,12.65,10.57,{"$nulls":4},{"v":10.757574928986886,"d":"10.76"},2450,{"$nulls":4},3252,1.52,1.08,8.5,{"v":74,"d":"74.0"},10,null,"Nein"]
["KBM-35H01-D (400 V)",41.2,43.5,12.65,10.57,{"$nulls":6},{"v":8.499923334358366,"d":"8.50"},4550,null,null,5420,1.52,1.08,8.5,{"v":74,"d":"74.0"},10,null,"Nein"]
["KBM-35H01-D (480 V)",41.2,43.5,12.65,10.57,{"$nulls":8},{"v":6.174114171668354,"d":"6.17"},5800,6505,1.52,1.08,8.5,{"v":74,"d":"74.0"},10,null,"Nein"]
["KBM-35H01-E (120 V)",41.1,55.4,12.2,12.8,null,null,{"v":10.777063289365486,"d":"10.78"},1400,{"$nulls":6},1996,1.52,0.74,5.4,57.8,10,null,"Nein"]
["KBM-35H01-E (240 V)",41.1,55.4,12.2,12.8,{"$nulls":4},{"v":9.595502859314593,"d":"9.60"},3100,{"$nulls":4},4166,1.52,0.74,5.4,57.8,10,null,"Nein"]
["KBM-35H01-E (400 V)",41.1,55.4,12.2,12.8,{"$nulls":6},{"v":5.126876445501218,"d":"5.13"},6100,null,null,6943,1.52,0.74,5.4,57.8,10,null,"Nein"]
["KBM-35H01-F (120 V)",41.1,62.1,12.4,14.58,null,null,{"v":11.07121572882997,"d":"11.07"},1600,{"$nulls":6},2288,1.52,0.57,4.4,52.6,10,null,"Nein"]
["KBM-35H01-F (240 V)",41.1,62.1,12.4,14.58,{"$nulls":4},{"v":9.496244937816423,"d":"9.50"},3600,{"$nulls":4},4576,1.52,0.57,4.4,52.6,10,null,"Nein"]
["KBM-35H01-F (400 V)",41.1,62.1,12.4,14.58,{"$nulls":6},{"v":3.7039695846841094,"d":"3.70"},6600,null,null,7200,1.52,0.57,4.4,52.6,10,null,"Nein"]
["KBM-35H01-G (120 V)",41.2,87.4,12.4,20.1,null,null,{"v":10.605814505613111,"d":"10.61"},2350,{"$nulls":6},3026,1.52,0.3,2.2,38.1,10,null,"Nein"]
["KBM-35H01-G (240 V)",41.2,87.4,12.4,20.1,{"$nulls":4},{"v":7.125937357680521,"d":"7.13"},5300,{"$nulls":4},6316,1.52,0.3,2.2,38.1,10,null,"Nein"]
["KBM-35H01-H (120 V)",41.4,98,12.2,21.2,null,null,{"v":10.313240312354818,"d":"10.31"},2500,{"$nulls":6},3237,1.52,0.27,1.6,35.7,10,null,"Nein"]
["KBM-35H01-H (240 V)",41.4,98,12.2,21.2,{"$nulls":4},{"v":6.36051361856539,"d":"6.36"},5600,{"$nulls":4},6756,1.52,0.27,1.6,35.7,10,null,"Nein"]
["KBM-35H02-A (120 V)",58.8,22.5,17.3,4.97,null,null,{"v":16.16034806779245,"d":"16.16"},325,{"$nulls":6},531,2.28,5.5,44,{"v":215,"d":"215.0"},10,null,"Nein"]
["KBM-35H02-A (240 V)",58.8,22.5,17.3,4.97,{"$nulls":4},{"v":15.875705573416559,"d":"15.88"},800,{"$nulls":4},1114,2.28,5.5,44,{"v":215,"d":"215.0"},10,null,"Nein"]
["KBM-35H02-A (400 V)",58.8,22.5,17.3,4.97,{"$nulls":6},{"v":15.311803145737517,"d":"15.31"},1450,null,null,1863,2.28,5.5,44,{"v":215,"d":"215.0"},10,null,"Nein"]
["KBM-35H02-A (480 V)",58.8,22.5,17.3,4.97,{"$nulls":8},{"v":15.006037491521562,"d":"15.01"},1750,2235,2.28,5.5,44,{"v":215,"d":"215.0"},10,null,"Nein"]
["KBM-35H02-B (120 V)",58.8,28,17.6,6.3,null,null,{"v":16.47253661001117,"d":"16.47"},400,{"$nulls":6},661,2.28,3.43,28,{"v":174,"d":"174.0"},10,null,"Nein"]
["KBM-35H02-B (240 V)",58.8,28,17.6,6.3,{"$nulls":4},{"v":16.083025828233634,"d":"16.08"},950,{"$nulls":4},1386,2.28,3.43,28,{"v":174,"d":"174.0"},10,null,"Nein"]
["KBM-35H02-B (400 V)",58.8,28,17.6,6.3,{"$nulls":6},{"v":15.305400360670603,"d":"15.31"},1800,null,null,2313,2.28,3.43,28,{"v":174,"d":"174.0"},10,null,"Nein"]
["KBM-35H02-B (480 V)",58.8,28,17.6,6.3,{"$nulls":8},{"v":14.823112654331526,"d":"14.82"},2200,2776,2.28,3.43,28,{"v":174,"d":"174.0"},10,null,"Nein"]
["KBM-35H02-C (120 V)",59.2,39.2,17.5,8.7,null,null,{"v":16.11921263634716,"d":"16.12"},625,{"$nulls":6},923,2.28,1.8,14.6,{"v":124,"d":"124.0"},10,null,"Nein"]
["KBM-35H02-C (240 V)",59.2,39.2,17.5,8.7,{"$nulls":4},{"v":15.48350232079725,"d":"15.48"},1400,{"$nulls":4},1935,2.28,1.8,14.6,{"v":124,"d":"124.0"},10,null,"Nein"]
["KBM-35H02-C (400 V)",59.2,39.2,17.5,8.7,{"$nulls":6},{"v":14.15542787970269,"d":"14.16"},2550,null,null,3224,2.28,1.8,14.6,{"v":124,"d":"124.0"},10,null,"Nein"]
["KBM-35H02-C (480 V)",59.2,39.2,17.5,8.7,{"$nulls":8},{"v":13.100441253251635,"d":"13.10"},3200,3869,2.28,1.8,14.6,{"v":124,"d":"124.0"},10,null,"Nein"]
["KBM-35H02-D (120 V)",59.4,49.5,17.45,10.92,null,null,{"v":15.95294253109351,"d":"15.95"},850,{"$nulls":6},1165,2.28,1.14,9.3,{"v":99,"d":"99.0"},10,null,"Nein"]
["KBM-35H02-D (240 V)",59.4,49.5,17.45,10.92,{"$nulls":4},{"v":15.020785439916175,"d":"15.02"},1850,{"$nulls":4},2437,2.28,1.14,9.3,{"v":99,"d":"99.0"},10,null,"Nein"]
["KBM-35H02-D (400 V)",59.4,49.5,17.45,10.92,{"$nulls":6},{"v":12.441369265697876,"d":"12.44"},3500,null,null,4061,2.28,1.14,9.3,{"v":99,"d":"99.0"},10,null,"Nein"]
["KBM-35H02-D (480 V)",59.4,49.5,17.45,10.92,{"$nulls":8},{"v":10.548641577020971,"d":"10.55"},4300,4873,2.28,1.14,9.3,{"v":99,"d":"99.0"},10,null,"Nein"]
["KBM-35H02-E (120 V)",59.4,55.4,17.1,12,null,null,{"v":15.580431271101332,"d":"15.58"},950,{"$nulls":6},1305,2.28,0.94,7.4,88.4,10,null,"Nein"]
["KBM-35H02-E (240 V)",59.4,55.4,17.1,12,{"$nulls":4},{"v":14.533563583806249,"d":"14.53"},2050,{"$nulls":4},2728,2.28,0.94,7.4,88.4,10,null,"Nein"]
["KBM-35H02-E (400 V)",59.4,55.4,17.1,12,{"$nulls":6},{"v":11.496360954248335,"d":"11.50"},3850,null,null,4547,2.28,0.94,7.4,88.4,10,null,"Nein"]
["KBM-35H02-E (480 V)",59.4,55.4,17.1,12,{"$nulls":8},{"v":9.122625887012044,"d":"9.12"},4700,5457,2.28,0.94,7.4,88.4,10,null,"Nein"]
["KBM-35H02-F (120 V)",59.4,69,17.3,14.92,null,null,{"v":15.597184423005743,"d":"15.60"},1200,{"$nulls":6},1607,2.28,0.61,4.9,72.1,10,null,"Nein"]
["KBM-35H02-F (240 V)",59.4,69,17.3,14.92,{"$nulls":4},{"v":13.87350636008597,"d":"13.87"},2650,{"$nulls":4},3356,2.28,0.61,4.9,72.1,10,null,"Nein"]
["KBM-35H02-F (400 V)",59.4,69,17.3,14.92,{"$nulls":6},{"v":7.6956096012669395,"d":"7.70"},5100,null,null,5593,2.28,0.61,4.9,72.1,10,null,"Nein"]
["KBM-35H02-F (480 V)",59.4,69,17.3,14.92,{"$nulls":8},{"v":6.268936369564099,"d":"6.27"},5400,6711,2.28,0.61,4.9,72.1,10,null,"Nein"]
["KBM-35H02-G (120 V)",59.4,86.5,17.1,18.64,null,null,{"v":15.094049441618461,"d":"15.09"},1550,{"$nulls":6},2032,2.28,0.39,3.1,{"v":57,"d":"57.0"},10,null,"Nein"]
["KBM-35H02-G (240 V)",59.4,86.5,17.1,18.64,{"$nulls":4},{"v":12.44217172759582,"d":"12.44"},3400,{"$nulls":4},4241,2.28,0.39,3.1,{"v":57,"d":"57.0"},10,null,"Nein"]
["KBM-35H02-G (400 V)",59.4,86.5,17.1,18.64,{"$nulls":6},{"v":3.6056826762543186,"d":"3.61"},5800,null,null,7068,2.28,0.39,3.1,{"v":57,"d":"57.0"},10,null,"Nein"]
["KBM-35H03-A (120 V)",76.1,46.1,21.8,10.2,null,null,{"v":20.567715722644937,"d":"20.57"},650,{"$nulls":6},867,3.04,1.41,12,{"v":132,"d":"132.0"},10,null,"Nein"]
["KBM-35H03-A (240 V)",76.1,46.1,21.8,10.2,{"$nulls":4},{"v":19.64426726162823,"d":"19.64"},1400,{"$nulls":4},1818,3.04,1.41,12,{"v":132,"d":"132.0"},10,null,"Nein"]
["KBM-35H03-A (400 V)",76.1,46.1,21.8,10.2,{"$nulls":6},{"v":17.188733853924695,"d":"17.19"},2550,null,null,3029,3.04,1.41,12,{"v":132,"d":"132.0"},10,null,"Nein"]
["KBM-35H03-A (480 V)",76.1,46.1,21.8,10.2,{"$nulls":8},{"v":15.586916362161105,"d":"15.59"},3100,3635,3.04,1.41,12,{"v":132,"d":"132.0"},10,null,"Nein"]
["KBM-35H03-B (120 V)",76.6,64,21.7,14,null,null,{"v":19.629109648000426,"d":"19.63"},900,{"$nulls":6},1197,3.04,0.75,6.2,96.2,10,null,"Nein"]
["KBM-35H03-B (240 V)",76.6,64,21.7,14,{"$nulls":4},{"v":17.91075383965866,"d":"17.91"},2050,{"$nulls":4},2504,3.04,0.75,6.2,96.2,10,null,"Nein"]
["KBM-35H03-B (400 V)",76.6,64,21.7,14,{"$nulls":6},{"v":13.105153077224749,"d":"13.11"},3800,null,null,4173,3.04,0.75,6.2,96.2,10,null,"Nein"]
["KBM-35H03-B (480 V)",76.6,64,21.7,14,{"$nulls":8},{"v":10.26549382942725,"d":"10.27"},4800,5007,3.04,0.75,6.2,96.2,10,null,"Nein"]
["KBM-35H03-C (120 V)",75.2,93,20.7,20.2,null,null,{"v":18.044877685729375,"d":"18.04"},1450,{"$nulls":6},1813,3.04,0.36,2.8,63.6,10,null,"Nein"]
["KBM-35H03-C (240 V)",75.2,93,20.7,20.2,{"$nulls":4},{"v":14.724399251211478,"d":"14.72"},3100,{"$nulls":4},3783,3.04,0.36,2.8,63.6,10,null,"Nein"]
["KBM-35H03-C (400 V)",75.2,93,20.7,20.2,{"$nulls":6},{"v":5.700930061551691,"d":"5.70"},5000,null,null,6305,3.04,0.36,2.8,63.6,10,null,"Nein"]
["KBM-35H03-D (120 V)",75.7,104,20,21.5,null,null,{"v":17.188733853924695,"d":"17.19"},1550,{"$nulls":6},1996,3.04,0.32,2.3,57.8,10,null,"Nein"]
["KBM-35H03-D (240 V)",75.7,104,20,21.5,{"$nulls":4},{"v":13.298799803649256,"d":"13.30"},3400,{"$nulls":4},4166,3.04,0.32,2.3,57.8,10,null,"Nein"]
["KBM-35H04-A (120 V)",92.3,49,25.6,10.86,null,null,{"v":23.78642967664327,"d":"23.79"},550,{"$nulls":6},778,3.81,1.35,11,{"v":147,"d":"147.0"},10,null,"Nein"]
["KBM-35H04-A (240 V)",92.3,49,25.6,10.86,{"$nulls":4},{"v":22.61273431449649,"d":"22.61"},1250,{"$nulls":4},1633,3.81,1.35,11,{"v":147,"d":"147.0"},10,null,"Nein"]
["KBM-35H04-A (400 V)",92.3,49,25.6,10.86,{"$nulls":6},{"v":20.136560191191975,"d":"20.14"},2300,null,null,2721,3.81,1.35,11,{"v":147,"d":"147.0"},10,null,"Nein"]
["KBM-35H04-A (480 V)",92.3,49,25.6,10.86,{"$nulls":8},{"v":18.416500557776462,"d":"18.42"},2800,3266,3.81,1.35,11,{"v":147,"d":"147.0"},10,null,"Nein"]
["KBM-35H04-B (120 V)",93,61,25.9,13.3,null,null,{"v":23.708598419206478,"d":"23.71"},725,{"$nulls":6},948,3.81,0.9,7.6,{"v":122,"d":"122.0"},10,null,"Nein"]
["KBM-35H04-B (240 V)",93,61,25.9,13.3,{"$nulls":4},{"v":22.117403059351133,"d":"22.12"},1550,{"$nulls":4},1984,3.81,0.9,7.6,{"v":122,"d":"122.0"},10,null,"Nein"]
["KBM-35H04-B (400 V)",93,61,25.9,13.3,{"$nulls":6},{"v":18.32794818342458,"d":"18.33"},2850,null,null,3307,3.81,0.9,7.6,{"v":122,"d":"122.0"},10,null,"Nein"]
["KBM-35H04-B (480 V)",93,61,25.9,13.3,{"$nulls":8},{"v":16.149545696089383,"d":"16.15"},3400,3968,3.81,0.9,7.6,{"v":122,"d":"122.0"},10,null,"Nein"]
["KBM-35H04-C (120 V)",93,68,25.3,14.7,null,null,{"v":22.977994908892388,"d":"22.98"},800,{"$nulls":6},1080,3.81,0.73,6.1,{"v":107,"d":"107.0"},10,null,"Nein"]
["KBM-35H04-C (240 V)",93,68,25.3,14.7,{"$nulls":4},{"v":21.088029959676135,"d":"21.09"},1800,{"$nulls":4},2260,3.81,0.73,6.1,{"v":107,"d":"107.0"},10,null,"Nein"]
["KBM-35H04-C (400 V)",93,68,25.3,14.7,{"$nulls":6},{"v":16.14699240823229,"d":"16.15"},3300,null,null,3766,3.81,0.73,6.1,{"v":107,"d":"107.0"},10,null,"Nein"]
["KBM-35H04-C (480 V)",93,68,25.3,14.7,{"$nulls":8},{"v":11.206042017217307,"d":"11.21"},4150,4520,3.81,0.73,6.1,{"v":107,"d":"107.0"},10,null,"Nein"]
["KBM-35H04-D (120 V)",91.5,89,24.7,19.2,null,null,{"v":21.838826104261813,"d":"21.84"},1150,{"$nulls":6},1443,3.81,0.43,3.4,{"v":80,"d":"80.0"},10,null,"Nein"]
["KBM-35H04-D (240 V)",91.5,89,24.7,19.2,{"$nulls":4},{"v":18.65932552809381,"d":"18.66"},2500,{"$nulls":4},3015,3.81,0.43,3.4,{"v":80,"d":"80.0"},10,null,"Nein"]
["KBM-35H04-D (400 V)",91.5,89,24.7,19.2,{"$nulls":6},{"v":10.111019914073351,"d":"10.11"},4250,null,null,5025,3.81,0.43,3.4,{"v":80,"d":"80.0"},10,null,"Nein"]
["KBM-35H04-E (120 V)",92.1,98.8,24.7,20.7,null,null,{"v":22.042959618227506,"d":"22.04"},1200,{"$nulls":6},1536,3.81,0.37,2.8,{"v":75,"d":"75.0"},10,null,"Nein"]
["KBM-35H04-E (240 V)",92.1,98.8,24.7,20.7,{"$nulls":4},{"v":18.65785640554219,"d":"18.66"},2600,{"$nulls":4},3208,3.81,0.37,2.8,{"v":75,"d":"75.0"},10,null,"Nein"]
["KBM-35H04-E (400 V)",92.1,98.8,24.7,20.7,{"$nulls":6},{"v":6.840202662884285,"d":"6.84"},4600,null,null,5347,3.81,0.37,2.8,{"v":75,"d":"75.0"},10,null,"Nein"]
["KBM-45H01-A (120 V)",118,46.5,30.7,10.24,null,null,{"v":28.329579870357374,"d":"28.33"},450,{"$nulls":6},617,6.1000000000000005,1.36,21,{"v":187,"d":"187.0"},10,null,"Nein"]
["KBM-45H01-A (240 V)",118,46.5,30.7,10.24,{"$nulls":4},{"v":27.341143907997175,"d":"27.34"},950,{"$nulls":4},1293,6.1000000000000005,1.36,21,{"v":187,"d":"187.0"},10,null,"Nein"]
["KBM-45H01-A (400 V)",118,46.5,30.7,10.24,{"$nulls":6},{"v":24.99187334951591,"d":"24.99"},1750,null,null,2155,6.1000000000000005,1.36,21,{"v":187,"d":"187.0"},10,null,"Nein"]
["KBM-45H01-A (480 V)",118,46.5,30.7,10.24,{"$nulls":8},{"v":23.64587725936731,"d":"23.65"},2100,2586,6.1000000000000005,1.36,21,{"v":187,"d":"187.0"},10,null,"Nein"]
["KBM-45H01-B (120 V)",118,57.5,30.2,12.5,null,null,{"v":27.73843293887319,"d":"27.74"},525,{"$nulls":6},763,6.1000000000000005,0.92,14,{"v":150,"d":"150.0"},10,null,"Nein"]
["KBM-45H01-B (240 V)",118,57.5,30.2,12.5,{"$nulls":4},{"v":26.101410667070837,"d":"26.10"},1200,{"$nulls":4},1596,6.1000000000000005,0.92,14,{"v":150,"d":"150.0"},10,null,"Nein"]
["KBM-45H01-B (400 V)",118,57.5,30.2,12.5,{"$nulls":6},{"v":23.09597313705644,"d":"23.10"},2150,null,null,2660,6.1000000000000005,0.92,14,{"v":150,"d":"150.0"},10,null,"Nein"]
["KBM-45H01-B (480 V)",118,57.5,30.2,12.5,{"$nulls":8},{"v":20.720171836492035,"d":"20.72"},2650,3192,6.1000000000000005,0.92,14,{"v":150,"d":"150.0"},10,null,"Nein"]
["KBM-45H01-C (120 V)",119,65,31.3,14.3,null,null,{"v":28.427521373798537,"d":"28.43"},650,{"$nulls":6},854,6.1000000000000005,0.69,11,{"v":135,"d":"135.0"},10,null,"Nein"]
["KBM-45H01-C (240 V)",119,65,31.3,14.3,{"$nulls":4},{"v":26.601611916788226,"d":"26.60"},1400,{"$nulls":4},1783,6.1000000000000005,0.69,11,{"v":135,"d":"135.0"},10,null,"Nein"]
["KBM-45H01-C (400 V)",119,65,31.3,14.3,{"$nulls":6},{"v":22.23076245107594,"d":"22.23"},2500,null,null,2972,6.1000000000000005,0.69,11,{"v":135,"d":"135.0"},10,null,"Nein"]
["KBM-45H01-C (480 V)",119,65,31.3,14.3,{"$nulls":8},{"v":18.621128341751753,"d":"18.62"},3100,3567,6.1000000000000005,0.69,11,{"v":135,"d":"135.0"},10,null,"Nein"]
["KBM-45H01-D (120 V)",118,93.5,29.7,20.2,null,null,{"v":26.335954793732576,"d":"26.34"},950,{"$nulls":6},1263,6.1000000000000005,0.35,5,91.2,10,null,"Nein"]
["KBM-45H01-D (240 V)",118,93.5,29.7,20.2,{"$nulls":4},{"v":22.804629703024432,"d":"22.80"},2100,{"$nulls":4},2635,6.1000000000000005,0.35,5,91.2,10,null,"Nein"]
["KBM-45H01-D (400 V)",118,93.5,29.7,20.2,{"$nulls":6},{"v":12.723792477454767,"d":"12.72"},3700,null,null,4392,6.1000000000000005,0.35,5,91.2,10,null,"Nein"]
["KBM-45H01-E (120 V)",118,105,31.2,23.4,null,null,{"v":27.345712949425653,"d":"27.35"},1100,{"$nulls":6},1394,6.1000000000000005,0.26,3.2,82.7,10,null,"Nein"]
["KBM-45H01-E (240 V)",118,105,31.2,23.4,{"$nulls":4},{"v":23.167423890072417,"d":"23.17"},2300,{"$nulls":4},2909,6.1000000000000005,0.26,3.2,82.7,10,null,"Nein"]
["KBM-45H02-A (120 V)",171,60.5,43.7,13.3,null,null,{"v":40.226411866476546,"d":"40.23"},400,{"$nulls":6},568,9.22,0.95,16,{"v":202,"d":"202.0"},10,null,"Nein"]
["KBM-45H02-A (240 V)",171,60.5,43.7,13.3,{"$nulls":4},{"v":38.46847317687061,"d":"38.47"},880,{"$nulls":4},1188,9.22,0.95,16,{"v":202,"d":"202.0"},10,null,"Nein"]
["KBM-45H02-A (400 V)",171,60.5,43.7,13.3,{"$nulls":6},{"v":34.85493253712508,"d":"34.85"},1600,null,null,1980,9.22,0.95,16,{"v":202,"d":"202.0"},10,null,"Nein"]
["KBM-45H02-A (480 V)",171,60.5,43.7,13.3,{"$nulls":8},{"v":32.56554989418781,"d":"32.57"},1950,2376,9.22,0.95,16,{"v":202,"d":"202.0"},10,null,"Nein"]
["KBM-45H02-B (120 V)",171,68,43.5,14.9,null,null,{"v":39.894839068368434,"d":"39.89"},450,{"$nulls":6},638,9.22,0.76,12,{"v":180,"d":"180.0"},10,null,"Nein"]
["KBM-45H02-B (240 V)",171,68,43.5,14.9,{"$nulls":4},{"v":37.515093728803905,"d":"37.52"},1050,{"$nulls":4},1334,9.22,0.76,12,{"v":180,"d":"180.0"},10,null,"Nein"]
["KBM-45H02-B (400 V)",171,68,43.5,14.9,{"$nulls":6},{"v":32.76916512502603,"d":"32.77"},1900,null,null,2223,9.22,0.76,12,{"v":180,"d":"180.0"},10,null,"Nein"]
["KBM-45H02-B (480 V)",171,68,43.5,14.9,{"$nulls":8},{"v":29.25741932582927,"d":"29.26"},2350,2667,9.22,0.76,12,{"v":180,"d":"180.0"},10,null,"Nein"]
["KBM-45H02-C (120 V)",168,97.2,41.8,21.1,null,null,{"v":37.242256683503506,"d":"37.24"},750,{"$nulls":6},941,9.22,0.38,5.9,{"v":123,"d":"123.0"},10,null,"Nein"]
["KBM-45H02-C (240 V)",168,97.2,41.8,21.1,{"$nulls":4},{"v":33.24348873831964,"d":"33.24"},1600,{"$nulls":4},1964,9.22,0.38,5.9,{"v":123,"d":"123.0"},10,null,"Nein"]
["KBM-45H02-C (400 V)",168,97.2,41.8,21.1,{"$nulls":6},{"v":22.65488293390841,"d":"22.65"},2900,null,null,3274,9.22,0.38,5.9,{"v":123,"d":"123.0"},10,null,"Nein"]
["KBM-45H02-C (480 V)",168,97.2,41.8,21.1,{"$nulls":8},{"v":12.34587629984274,"d":"12.35"},3500,3929,9.22,0.38,5.9,{"v":123,"d":"123.0"},10,null,"Nein"]
["KBM-45H03-A (120 V)",218,64.5,54.6,14.1,null,null,{"v":50.20201633527214,"d":"50.20"},350,{"$nulls":6},480,12.200000000000001,0.93,16,{"v":240,"d":"240.0"},10,null,"Nein"]
["KBM-45H03-A (240 V)",218,64.5,54.6,14.1,{"$nulls":4},{"v":47.7464829275686,"d":"47.75"},800,{"$nulls":4},1005,12.200000000000001,0.93,16,{"v":240,"d":"240.0"},10,null,"Nein"]
["KBM-45H03-A (400 V)",218,64.5,54.6,14.1,{"$nulls":6},{"v":43.688031878725276,"d":"43.69"},1400,null,null,1676,12.200000000000001,0.93,16,{"v":240,"d":"240.0"},10,null,"Nein"]
["KBM-45H03-A (480 V)",218,64.5,54.6,14.1,{"$nulls":8},{"v":40.83728598628515,"d":"40.84"},1700,2011,12.200000000000001,0.93,16,{"v":240,"d":"240.0"},10,null,"Nein"]
["KBM-45H03-B (120 V)",216,92.5,53,19.9,null,null,{"v":49.48271867038928,"d":"49.48"},550,{"$nulls":6},699,12.200000000000001,0.47,7.7,{"v":165,"d":"165.0"},10,null,"Nein"]
["KBM-45H03-B (240 V)",216,92.5,53,19.9,{"$nulls":4},{"v":45.50447416401321,"d":"45.50"},1150,{"$nulls":4},1459,12.200000000000001,0.47,7.7,{"v":165,"d":"165.0"},10,null,"Nein"]
["KBM-45H03-B (400 V)",216,92.5,53,19.9,{"$nulls":6},{"v":33.533576381687716,"d":"33.53"},2150,null,null,2432,12.200000000000001,0.47,7.7,{"v":165,"d":"165.0"},10,null,"Nein"]
["KBM-45H03-B (480 V)",216,92.5,53,19.9,{"$nulls":8},{"v":24.69962289906914,"d":"24.70"},2600,2918,12.200000000000001,0.47,7.7,{"v":165,"d":"165.0"},10,null,"Nein"]
["KBM-43H01-A (400 V)",18,18,6.12,5.12,{"$nulls":6},{"v":4.82490774847009,"d":"4.82"},4750,null,null,5478,1.9400000000000002,2.9,6.8,72.8,16,null,"Nein"]
["KBM-43H02-A (400 V)",34.5,18,11.6,5.12,{"$nulls":6},{"v":9.978040513842908,"d":"9.98"},2450,null,null,2866,2.85,3.55,12,{"v":139,"d":"139.0"},16,null,"Nein"]
["KBM-43H02-A (480 V)",34.5,18,11.6,5.12,{"$nulls":8},{"v":6.875493541569878,"d":"6.88"},3000,3439,2.85,3.55,12,{"v":139,"d":"139.0"},16,null,"Nein"]
["KBM-43H03-A (400 V)",64.5,18,21,4.78,{"$nulls":6},{"v":18.636530433018713,"d":"18.64"},1240,null,null,1491,4.75,4.83,19,{"v":268,"d":"268.0"},16,null,"Nein"]
["KBM-43H03-A (480 V)",64.5,18,21,4.78,{"$nulls":8},{"v":16.182532804310163,"d":"16.18"},1490,1790,4.75,4.83,19,{"v":268,"d":"268.0"},16,null,"Nein"]
["KBM-43S01-A (240 V)",18,18,6.12,5.12,{"$nulls":4},{"v":4.9618894022767375,"d":"4.96"},2550,{"$nulls":4},3284,1.9400000000000002,2.9,6.8,72.8,16,null,"Nein"]
["KBM-43S02-A (240 V)",34.5,18,11.6,5.12,{"$nulls":4},{"v":10.136945606160719,"d":"10.14"},1300,{"$nulls":4},1717,2.85,3.55,12,{"v":139,"d":"139.0"},16,null,"Nein"]
["KBM-43S03-A (240 V)",64.5,18,21,4.78,{"$nulls":4},{"v":18.81353954160912,"d":"18.81"},670,{"$nulls":4},893,4.75,4.83,19,{"v":268,"d":"268.0"},16,null,"Nein"]
["KBM-57H01-A (400 V)",46.1,18,18.8,5.67,{"$nulls":6},{"v":13.22210296455746,"d":"13.22"},1625,null,null,1975,6.56,3.39,13,{"v":203,"d":"203.0"},24,null,"Nein"]
["KBM-57H01-A (480 V)",46.1,18,18.8,5.67,{"$nulls":8},{"v":10.71384494960076,"d":"10.71"},2050,2370,6.56,3.39,13,{"v":203,"d":"203.0"},24,null,"Nein"]
["KBM-57H02-A (400 V)",115,23.4,33.5,5.22,{"$nulls":6},{"v":26.795904964199107,"d":"26.80"},825,null,null,1023,11.799999999999999,4.4,22,{"v":390,"d":"390.0"},24,null,"Nein"]
["KBM-57H02-A (480 V)",115,23.4,33.5,5.22,{"$nulls":8},{"v":24.931661036070302,"d":"24.93"},1015,1228,11.799999999999999,4.4,22,{"v":390,"d":"390.0"},24,null,"Nein"]
["KBM-57H03-A (400 V)",218,26.1,59.9,5.47,{"$nulls":6},{"v":51.264644827494706,"d":"51.26"},475,null,null,597,22.1,5.92,35,{"v":669,"d":"669.0"},24,null,"Nein"]
["KBM-57H03-A (480 V)",218,26.1,59.9,5.47,{"$nulls":8},{"v":49.392913373346836,"d":"49.39"},580,717,22.1,5.92,35,{"v":669,"d":"669.0"},24,null,"Nein"]
["KBM-57S01-A (240 V)",46.1,18,18.8,5.67,{"$nulls":4},{"v":16.00592325412811,"d":"16.01"},880,{"$nulls":4},1183,6.56,3.39,13,{"v":203,"d":"203.0"},24,null,"Nein"]
["KBM-57S02-A (240 V)",115,23.4,33.5,5.22,{"$nulls":4},{"v":29.506253494564866,"d":"29.51"},445,{"$nulls":4},612,11.799999999999999,4.4,22,{"v":390,"d":"390.0"},24,null,"Nein"]
["KBM-57S03-A (240 V)",218,26.1,59.9,5.47,{"$nulls":4},{"v":53.85803274229739,"d":"53.86"},250,{"$nulls":4},357,22.1,5.92,35,{"v":669,"d":"669.0"},24,null,"Nein"]
["KBM-79H01-A (400 V)",152,20.8,43.4,4.95,{"$nulls":6},{"v":35.57112978103861,"d":"35.57"},600,null,null,744,32.5,6.26,23,{"v":534,"d":"534.0"},32,null,"Nein"]
["KBM-79H01-A (480 V)",152,20.8,43.4,4.95,{"$nulls":8},{"v":33.814974895278034,"d":"33.81"},730,894,32.5,6.26,23,{"v":534,"d":"534.0"},32,null,"Nein"]
["KBM-79H02-A (400 V)",319,26.1,79.31,5.39,{"$nulls":6},{"v":67.25433166654665,"d":"67.25"},350,null,null,443,59.7,6.4,32,{"v":901,"d":"901.0"},32,null,"Nein"]
["KBM-79H02-A (480 V)",319,26.1,79.31,5.39,{"$nulls":8},{"v":64.84638611558155,"d":"64.85"},430,532,59.7,6.4,32,{"v":901,"d":"901.0"},32,null,"Nein"]
["KBM-79H03-A (400 V)",637,36.7,143,6.76,{"$nulls":6},{"v":122.7482498596243,"d":"122.75"},240,null,null,307,114,5.75,34,{"v":1300,"d":"1300.0"},32,null,"Nein"]
["KBM-79H03-A (480 V)",637,36.7,143,6.76,{"$nulls":8},{"v":119.2070523758296,"d":"119.21"},300,369,114,5.75,34,{"v":1300,"d":"1300.0"},32,null,"Nein"]
["KBM-79S01-A (240 V)",152,20.8,43.4,4.95,{"$nulls":4},{"v":38.50522816739404,"d":"38.51"},310,{"$nulls":4},445,32.5,6.26,23,{"v":534,"d":"534.0"},32,null,"Nein"]
["KBM-79S02-A (240 V)",319,26.1,79.31,5.39,{"$nulls":4},{"v":71.35446615286641,"d":"71.35"},180,{"$nulls":4},265,59.7,6.4,32,{"v":901,"d":"901.0"},32,null,"Nein"]
["KBM-79S03-A (240 V)",637,36.7,143,6.76,{"$nulls":4},{"v":128.72451797272495,"d":"128.72"},125,{"$nulls":4},184,114,5.75,34,{"v":1300,"d":"1300.0"},32,null,"Nein"]
["KBM-118H01-A (400 V)",994,151,325,43.7,{"$nulls":6},{"v":109.48238123518914,"d":"109.48"},785,null,null,872,267,0.276,2.5,{"v":648,"d":"648.0"},38,null,"Nein"]
["KBM-118H02-A (400 V)",1451,171,445,46.5,{"$nulls":6},{"v":239.54167706034417,"d":"239.54"},590,null,null,685,396,0.292,2.7,{"v":585,"d":"585.0"},38,null,"Nein"]
["KBM-118H02-A (480 V)",1451,171,445,46.5,{"$nulls":8},{"v":139.13728616498514,"d":"139.14"},710,822,396,0.292,2.7,{"v":585,"d":"585.0"},38,null,"Nein"]
["KBM-118H03-A (400 V)",1932,171,560,44,{"$nulls":6},{"v":374.8373314888432,"d":"374.84"},435,null,null,516,542,0.373,4.3,{"v":775,"d":"775.0"},38,null,"Nein"]
["KBM-118H03-A (480 V)",1932,171,560,44,{"$nulls":8},{"v":302.72162633703306,"d":"302.72"},535,619,542,0.373,4.3,{"v":775,"d":"775.0"},38,null,"Nein"]
["KBM-118H04-A (400 V)",2400,171,672,42.8,{"$nulls":6},{"v":502.3210865644497,"d":"502.32"},340,null,null,413,648,0.455,4.5,{"v":970,"d":"970.0"},38,null,"Nein"]
["KBM-118H04-A (480 V)",2400,171,672,42.8,{"$nulls":8},{"v":450.7495352566893,"d":"450.75"},420,495,648,0.455,4.5,{"v":970,"d":"970.0"},38,null,"Nein"]
["KBM-118S01-A (240 V)",994,151,325,43.7,{"$nulls":4},{"v":252.45952847951898,"d":"252.46"},400,{"$nulls":4},523,267,0.276,2.5,{"v":648,"d":"648.0"},38,null,"Nein"]
["KBM-118S02-A (240 V)",1451,171,445,46.5,{"$nulls":4},{"v":356.9049598835753,"d":"356.90"},320,{"$nulls":4},411,396,0.292,2.7,{"v":585,"d":"585.0"},38,null,"Nein"]
["KBM-118S03-A (240 V)",1932,171,560,44,{"$nulls":4},{"v":467.30600312088416,"d":"467.31"},235,{"$nulls":4},309,542,0.373,4.3,{"v":775,"d":"775.0"},38,null,"Nein"]
["KBM-118S04-A (240 V)",2400,171,672,42.8,{"$nulls":4},{"v":577.0872206813157,"d":"577.09"},185,{"$nulls":4},247,648,0.455,4.5,{"v":970,"d":"970.0"},38,null,"Nein"]
["KBM-60H01-A (400 V)",127,40,54,13.7,{"$nulls":6},{"v":34.759439571269944,"d":"34.76"},1250,null,null,1639,16.299999999999997,0.916,7.8,{"v":245,"d":"245.0"},38,null,"Nein"]
["KBM-60H01-A (480 V)",127,40,54,13.7,{"$nulls":8},{"v":24.8580126741654,"d":"24.86"},1600,1895,16.299999999999997,0.916,7.8,{"v":245,"d":"245.0"},38,null,"Nein"]
["KBM-60H02-A (400 V)",255,50.4,108,16.4,{"$nulls":6},{"v":88.64381520069978,"d":"88.64"},725,null,null,974,31.7,0.921,11,{"v":411,"d":"411.0"},38,null,"Nein"]
["KBM-60H02-A (480 V)",255,50.4,108,16.4,{"$nulls":8},{"v":84.0014394556207,"d":"84.00"},885,1169,31.7,0.921,11,{"v":411,"d":"411.0"},38,null,"Nein"]
["KBM-60H03-A (400 V)",393,63.3,154,18.7,{"$nulls":6},{"v":119.77083853017209,"d":"119.77"},590,null,null,778,47.5,0.867,11,{"v":515,"d":"515.0"},38,null,"Nein"]
["KBM-60H03-A (480 V)",393,63.3,154,18.7,{"$nulls":8},{"v":110.74531456811052,"d":"110.75"},720,930,47.5,0.867,11,{"v":515,"d":"515.0"},38,null,"Nein"]
["KBM-60S01-A (240 V)",127,40,54,13.7,{"$nulls":4},{"v":44.708070377632424,"d":"44.71"},660,{"$nulls":4},983,16.299999999999997,0.916,7.8,{"v":245,"d":"245.0"},38,null,"Nein"]
["KBM-60S02-A (240 V)",255,50.4,108,16.4,{"$nulls":4},{"v":95.98903321022883,"d":"95.99"},385,{"$nulls":4},584,31.7,0.921,11,{"v":411,"d":"411.0"},38,null,"Nein"]
["KBM-60S03-A (240 V)",393,63.3,154,18.7,{"$nulls":4},{"v":133.3869999246361,"d":"133.39"},315,{"$nulls":4},467,47.5,0.867,11,{"v":515,"d":"515.0"},38,null,"Nein"]
["KBM-88H01-A (400 V)",414,40,205,17,{"$nulls":6},{"v":162.33804195373327,"d":"162.34"},425,null,null,542,98.4,0.93,13,{"v":738,"d":"738.0"},46,null,"Nein"]
["KBM-88H01-A (480 V)",414,40,205,17,{"$nulls":8},{"v":151.31962281660205,"d":"151.32"},520,651,98.4,0.93,13,{"v":738,"d":"738.0"},46,null,"Nein"]
["KBM-88H01-B (400 V)",414,75.4,205,32,{"$nulls":6},{"v":66.9982733700214,"d":"67.00"},935,null,null,1006,98.4,0.261,3.7,{"v":397,"d":"397.0"},46,null,"Nein"]
["KBM-88H01-B (480 V)",414,75.4,205,32,{"$nulls":8},{"v":67.04825262169207,"d":"67.05"},940,1068,98.4,0.261,3.7,{"v":397,"d":"397.0"},46,null,"Nein"]
["KBM-88H02-A (400 V)",789,40,385,15,{"$nulls":6},{"v":331.7124077073187,"d":"331.71"},190,null,null,257,198,1.66,29,{"v":1560,"d":"1560.0"},46,null,"Nein"]
["KBM-88H02-A (480 V)",789,40,385,15,{"$nulls":8},{"v":323.0506717226982,"d":"323.05"},235,309,198,1.66,29,{"v":1560,"d":"1560.0"},46,null,"Nein"]
["KBM-88H02-B (400 V)",789,75.4,385,31.7,{"$nulls":6},{"v":273.02307055855135,"d":"273.02"},440,null,null,545,198,0.369,6.4,{"v":733,"d":"733.0"},46,null,"Nein"]
["KBM-88H02-B (480 V)",789,75.4,385,31.7,{"$nulls":8},{"v":233.08964847367582,"d":"233.09"},550,654,198,0.369,6.4,{"v":733,"d":"733.0"},46,null,"Nein"]
["KBM-88H03-A (400 V)",1200,53.1,538,18.1,{"$nulls":6},{"v":462.41745283790686,"d":"462.42"},165,null,null,221,298,1.41,26,{"v":1812,"d":"1812.0"},46,null,"Nein"]
["KBM-88H03-A (480 V)",1200,53.1,538,18.1,{"$nulls":8},{"v":443.08736156783664,"d":"443.09"},225,265,298,1.41,26,{"v":1812,"d":"1812.0"},46,null,"Nein"]
["KBM-88H03-B (400 V)",1200,106,545,35.5,{"$nulls":6},{"v":400.5168741808218,"d":"400.52"},345,null,null,426,298,0.37,7,{"v":940,"d":"940.0"},46,null,"Nein"]
["KBM-88H03-B (480 V)",1200,106,545,35.5,{"$nulls":8},{"v":359.5029302781636,"d":"359.50"},425,511,298,0.37,7,{"v":940,"d":"940.0"},46,null,"Nein"]
["KBM-88S01-A (240 V)",414,40,205,17,{"$nulls":4},{"v":179.31456921686876,"d":"179.31"},225,{"$nulls":4},325,98.4,0.93,13,{"v":738,"d":"738.0"},46,null,"Nein"]
["KBM-88S01-B (240 V)",414,75.4,205,32,{"$nulls":4},{"v":156.0355062072942,"d":"156.04"},500,{"$nulls":4},604,98.4,0.261,3.7,{"v":397,"d":"397.0"},46,null,"Nein"]
["KBM-88S02-A (240 V)",789,40,385,15,{"$nulls":4},{"v":346.63946605414804,"d":"346.64"},100,{"$nulls":4},154,198,1.66,29,{"v":1560,"d":"1560.0"},46,null,"Nein"]
["KBM-88S02-B (240 V)",789,75.4,385,31.7,{"$nulls":4},{"v":323.4570247688903,"d":"323.46"},235,{"$nulls":4},327,198,0.369,6.4,{"v":733,"d":"733.0"},46,null,"Nein"]
["KBM-88S03-A (240 V)",1200,53.1,538,18.1,{"$nulls":4},{"v":482.76999404541584,"d":"482.77"},90,{"$nulls":4},132,298,1.41,26,{"v":1812,"d":"1812.0"},46,null,"Nein"]
["KBM-88S03-B (240 V)",1200,106,545,35.5,{"$nulls":4},{"v":463.67140087438844,"d":"463.67"},180,{"$nulls":4},255,298,0.37,7,{"v":940,"d":"940.0"},46,null,"Nein"]
["KBM-163H01-A (400 V)",1966,140,776,43.2,{"$nulls":6},{"v":534.6014538456765,"d":"534.60"},300,null,null,365,1060,0.37,4.2,{"v":1100,"d":"1100.0"},56,null,"Nein"]
["KBM-163H01-A (480 V)",1966,140,776,43.2,{"$nulls":8},{"v":440.5408824783663,"d":"440.54"},375,438,1060,0.37,4.2,{"v":1100,"d":"1100.0"},56,null,"Nein"]
["KBM-163H02-A (400 V)",2915,140,1090,40.6,{"$nulls":6},{"v":843.6803533301371,"d":"843.68"},200,null,null,243,1570,0.509,6.3,{"v":1645,"d":"1645.0"},56,null,"Nein"]
["KBM-163H02-A (480 V)",2915,140,1090,40.6,{"$nulls":8},{"v":781.8730183894091,"d":"781.87"},245,291,1570,0.509,6.3,{"v":1645,"d":"1645.0"},56,null,"Nein"]
["KBM-163H03-A (400 V)",3930,140,1375,38.6,{"$nulls":6},{"v":1115.3578411880026,"d":"1115.36"},150,null,null,183,1680,0.64,8.4,{"v":2190,"d":"2190.0"},56,null,"Nein"]
["KBM-163H03-A (480 V)",3930,140,1375,38.6,{"$nulls":8},{"v":1063.9507945693204,"d":"1063.95"},180,220,1680,0.64,8.4,{"v":2190,"d":"2190.0"},56,null,"Nein"]
["KBM-163S01-A (240 V)",1966,140,776,43.2,{"$nulls":4},{"v":580.7708559735163,"d":"580.77"},165,{"$nulls":4},219,1060,0.37,4.2,{"v":1100,"d":"1100.0"},56,null,"Nein"]
["KBM-163S02-A (240 V)",2915,140,1090,40.6,{"$nulls":4},{"v":945.3803619658582,"d":"945.38"},110,{"$nulls":4},146,1570,0.509,6.3,{"v":1645,"d":"1645.0"},56,null,"Nein"]
["KBM-163S03-A (240 V)",3930,140,1375,38.6,{"$nulls":4},{"v":1209.179680140675,"d":"1209.18"},80,{"$nulls":4},110,1680,0.64,8.4,{"v":2190,"d":"2190.0"},56,null,"Nein"]
["KBM-260H01-A (400 V)",6494,147,1932,33.1,{"$nulls":6},{"v":1710.4475354640751,"d":"1710.45"},85,null,null,111,4880,1.06,16,{"v":3584,"d":"3584.0"},58,null,"Nein"]
["KBM-260H01-A (480 V)",6494,147,1932,33.1,{"$nulls":8},{"v":1680.6761990504149,"d":"1680.68"},105,134,4880,1.06,16,{"v":3584,"d":"3584.0"},58,null,"Nein"]
["KBM-260H02-A (400 V)",9741,147,2706,31,{"$nulls":6},{"v":2428.9938042061262,"d":"2428.99"},55,null,null,74,7190,1.48,24,{"v":5380,"d":"5380.0"},58,null,"Nein"]
["KBM-260H02-A (480 V)",9741,147,2706,31,{"$nulls":8},{"v":2406.2823087173174,"d":"2406.28"},68,89,7190,1.48,24,{"v":5380,"d":"5380.0"},58,null,"Nein"]
["KBM-260H03-A (400 V)",12812,147,3444,29.5,{"$nulls":6},{"v":3366.1270463935866,"d":"3366.13"},40,null,null,55,9560,1.9,32,{"v":7180,"d":"7180.0"},58,null,"Nein"]
["KBM-260H03-A (480 V)",12812,147,3444,29.5,{"$nulls":8},{"v":3288.7777440509253,"d":"3288.78"},50,67,9560,1.9,32,{"v":7180,"d":"7180.0"},58,null,"Nein"]
["KBM-260S01-A (240 V)",6494,147,1932,33.1,{"$nulls":4},{"v":1761.3147035503084,"d":"1761.31"},45,{"$nulls":4},67,4880,1.06,16,{"v":3584,"d":"3584.0"},58,null,"Nein"]
["KBM-260S02-A (240 V)",9741,147,2706,31,{"$nulls":4},{"v":2482.817112233567,"d":"2482.82"},28,{"$nulls":4},44,7190,1.48,24,{"v":5380,"d":"5380.0"},58,null,"Nein"]
["KBM-260S03-A (240 V)",12812,147,3444,29.5,{"$nulls":4},{"v":3317.1240770731874,"d":"3317.12"},19,{"$nulls":4},33,9560,1.9,32,{"v":7180,"d":"7180.0"},58,null,"Nein"]
["KBMS-10H01-A (120 V)",1.17,4.33,0.487,1.73,null,null,{"v":0.44870188775305436,"d":"0.45"},4150,{"$nulls":6},6565,0.0102,13,19,{"v":17.3821,"d":"17.4"},6,null,"Nein"]
["KBMS-10H01-A (240 V)",1.17,4.33,0.487,1.73,{"$nulls":4},{"v":0.414767427451606,"d":"0.41"},9900,{"$nulls":4},13766,0.0102,13,19,{"v":17.3821,"d":"17.4"},6,null,"Nein"]
["KBMS-10H01-A (400 V)",1.17,4.33,0.487,1.73,{"$nulls":6},{"v":0.368045805900008,"d":"0.37"},14400,null,null,16000,0.0102,13,19,{"v":17.3821,"d":"17.4"},6,null,"Nein"]
["KBMS-10H01-B (120 V)",1.19,8.7,0.509,3.37,null,null,{"v":0.4297183463481174,"d":"0.43"},9000,{"$nulls":6},12319,0.0102,3.42,5.2,{"v":9.304111,"d":"9.3"},6,null,"Nein"]
["KBMS-10H01-B (240 V)",1.19,8.7,0.509,3.37,{"$nulls":4},{"v":0.3097069162869315,"d":"0.31"},18500,{"$nulls":4},20000,0.0102,3.42,5.2,{"v":9.304111,"d":"9.3"},6,null,"Nein"]
["KBMS-10H01-C (120 V)",1.23,13.8,0.492,5.21,null,null,{"v":0.3450068443798505,"d":"0.35"},15500,{"$nulls":6},19702,0.0102,1.44,2.2,{"v":5.834904,"d":"5.8"},6,null,"Nein"]
["KBMS-10H01-C (240 V)",1.23,13.8,0.492,5.21,{"$nulls":4},{"v":0.2952067492833543,"d":"0.30"},18600,{"$nulls":4},20000,0.0102,1.44,2.2,{"v":5.834904,"d":"5.8"},6,null,"Nein"]
["KBMS-10H02-A (120 V)",2.33,4.33,0.876,1.53,null,null,{"v":0.8534395499130619,"d":"0.85"},2070,{"$nulls":6},3359,0.0149,20,36,35.4,6,null,"Nein"]
["KBMS-10H02-A (240 V)",2.33,4.33,0.876,1.53,{"$nulls":4},{"v":0.7940994002690357,"d":"0.79"},4750,{"$nulls":4},6753,0.0149,20,36,35.4,6,null,"Nein"]
["KBMS-10H02-A (400 V)",2.33,4.33,0.876,1.53,{"$nulls":6},{"v":0.7083269445298638,"d":"0.71"},9100,null,null,11291,0.0149,20,36,35.4,6,null,"Nein"]
["KBMS-10H02-A (480 V)",2.33,4.33,0.876,1.53,{"$nulls":8},{"v":0.6424072248436504,"d":"0.64"},11000,13564,0.0149,20,36,35.4,6,null,"Nein"]
["KBMS-10H02-B (120 V)",2.48,8.65,0.899,2.99,null,null,{"v":0.8232152228891139,"d":"0.82"},4350,{"$nulls":6},6174,0.0149,5.22,9.7,{"v":18.5361,"d":"18.5"},6,null,"Nein"]
["KBMS-10H02-B (240 V)",2.48,8.65,0.899,2.99,{"$nulls":4},{"v":0.7066479473280153,"d":"0.71"},10000,{"$nulls":4},12944,0.0149,5.22,9.7,{"v":18.5361,"d":"18.5"},6,null,"Nein"]
["KBMS-10H02-B (400 V)",2.48,8.65,0.899,2.99,{"$nulls":6},{"v":0.49317090918607037,"d":"0.49"},15200,null,null,16000,0.0149,5.22,9.7,{"v":18.536,"d":"18.5"},6,null,"Nein"]
["KBMS-10H02-C (120 V)",2.24,15.5,0.868,5.14,null,null,{"v":0.7021541606995383,"d":"0.70"},8500,{"$nulls":6},11008,0.0149,1.77,3.2,{"v":10.46,"d":"10.5"},6,null,"Nein"]
["KBMS-10H02-C (240 V)",2.24,15.5,0.868,5.14,{"$nulls":4},{"v":0.2503464239986029,"d":"0.25"},18500,{"$nulls":4},20000,0.0149,1.77,3.2,{"v":10.46,"d":"10.5"},6,null,"Nein"]
["KBMS-10H03-A (120 V)",3.46,4.86,1.158,1.54,null,null,{"v":1.0725659208366858,"d":"1.07"},1380,{"$nulls":6},2455,0.0202,21.2,41,46.4,6,null,"Nein"]
["KBMS-10H03-A (240 V)",3.46,4.86,1.158,1.54,{"$nulls":4},{"v":1.0203357995480415,"d":"1.02"},3650,{"$nulls":4},5155,0.0202,21.2,41,46.4,6,null,"Nein"]
["KBMS-10H03-A (400 V)",3.46,4.86,1.158,1.54,{"$nulls":6},{"v":0.9895285592235233,"d":"0.99"},6900,null,null,8619,0.0202,21.2,41,46.4,6,null,"Nein"]
["KBMS-10H03-A (480 V)",3.46,4.86,1.158,1.54,{"$nulls":8},{"v":0.8762883925530238,"d":"0.88"},8500,10354,0.0202,21.2,41,46.4,6,null,"Nein"]
["KBMS-10H03-B (120 V)",3.57,7.73,1.17,2.4,null,null,{"v":1.0672743242632983,"d":"1.07"},2550,{"$nulls":6},3799,0.0202,8.77,17,{"v":30,"d":"30.0"},6,null,"Nein"]
["KBMS-10H03-B (240 V)",3.57,7.73,1.17,2.4,{"$nulls":4},{"v":0.981851390218658,"d":"0.98"},6030,{"$nulls":4},7967,0.0202,8.77,17,{"v":30,"d":"30.0"},6,null,"Nein"]
["KBMS-10H03-B (400 V)",3.57,7.73,1.17,2.4,{"$nulls":6},{"v":0.7339197375766002,"d":"0.73"},11450,null,null,13319,0.0202,8.77,17,{"v":30,"d":"30.0"},6,null,"Nein"]
["KBMS-10H03-B (480 V)",3.57,7.73,1.17,2.4,{"$nulls":8},{"v":0.49415940372588485,"d":"0.49"},14300,16000,0.0202,8.77,17,{"v":30,"d":"30.0"},6,null,"Nein"]
["KBMS-10H03-C (120 V)",3.58,9.72,1.19,3.05,null,null,{"v":1.0724594626807715,"d":"1.07"},3250,{"$nulls":6},4762,0.0202,5.44,11,{"v":24,"d":"24.0"},6,null,"Nein"]
["KBMS-10H03-C (240 V)",3.58,9.72,1.19,3.05,{"$nulls":4},{"v":0.9423647946230644,"d":"0.94"},7600,{"$nulls":4},9983,0.0202,5.44,11,{"v":24,"d":"24.0"},6,null,"Nein"]
["KBMS-10H03-C (400 V)",3.58,9.72,1.19,3.05,{"$nulls":6},{"v":0.477464829275686,"d":"0.48"},14500,null,null,16000,0.0202,5.44,11,{"v":24,"d":"24.0"},6,null,"Nein"]
["KBMS-10H03-D (120 V)",15.5,17.2,1.18,4.66,null,null,{"v":1.0070167308359925,"d":"1.01"},5500,{"$nulls":6},7333,0.0202,2.34,4.7,15.7,6,null,"Nein"]
["KBMS-10H03-D (240 V)",15.5,17.2,1.18,4.66,{"$nulls":4},{"v":0.6243770844374356,"d":"0.62"},13000,{"$nulls":4},15373,0.0202,2.34,4.7,15.7,6,null,"Nein"]
["KBMS-10H04-A (120 V)",4.66,5.46,1.44,1.6,null,null,{"v":1.3285977858106046,"d":"1.33"},1150,{"$nulls":6},2022,0.0255,20.4,44,56.2,6,null,"Nein"]
["KBMS-10H04-A (240 V)",4.66,5.46,1.44,1.6,{"$nulls":4},{"v":1.2891550390443522,"d":"1.29"},3000,{"$nulls":4},4251,0.0255,20.4,44,56.2,6,null,"Nein"]
["KBMS-10H04-A (400 V)",4.66,5.46,1.44,1.6,{"$nulls":6},{"v":1.1791305349069114,"d":"1.18"},5750,null,null,7109,0.0255,20.4,44,56.2,6,null,"Nein"]
["KBMS-10H04-A (480 V)",4.66,5.46,1.44,1.6,{"$nulls":8},{"v":1.1106983262583334,"d":"1.11"},7050,8541,0.0255,20.4,44,56.2,6,null,"Nein"]
["KBMS-10H04-B (120 V)",4.75,8.7,1.41,2.4,null,null,{"v":1.2732395447351628,"d":"1.27"},2100,{"$nulls":6},3131,0.0255,9.02,19,36.4,6,null,"Nein"]
["KBMS-10H04-B (240 V)",4.75,8.7,1.41,2.4,{"$nulls":4},{"v":1.18886824960211,"d":"1.19"},4980,{"$nulls":4},6571,0.0255,9.02,19,36.4,6,null,"Nein"]
["KBMS-10H04-B (400 V)",4.75,8.7,1.41,2.4,{"$nulls":6},{"v":0.9046702028381419,"d":"0.90"},9500,null,null,10987,0.0255,9.02,19,36.4,6,null,"Nein"]
["KBMS-10H04-B (480 V)",4.75,8.7,1.41,2.4,{"$nulls":8},{"v":0.7141213098731999,"d":"0.71"},11500,13200,0.0255,9.02,19,36.4,6,null,"Nein"]
["KBMS-10H04-C (120 V)",4.8,10.9,1.44,3.1,null,null,{"v":1.308607309866695,"d":"1.31"},2700,{"$nulls":6},3944,0.0255,5.44,11.8,{"v":29,"d":"29.0"},6,null,"Nein"]
["KBMS-10H04-C (240 V)",4.8,10.9,1.44,3.1,{"$nulls":4},{"v":1.1519786357127662,"d":"1.15"},6300,{"$nulls":4},8273,0.0255,5.44,11.8,{"v":29,"d":"29.0"},6,null,"Nein"]
["KBMS-10H04-C (400 V)",4.8,10.9,1.44,3.1,{"$nulls":6},{"v":0.6684507609859605,"d":"0.67"},12000,null,null,13833,0.0255,5.44,11.8,{"v":29,"d":"29.0"},6,null,"Nein"]
["KBMS-10H04-D (120 V)",4.91,15.5,1.41,4.21,null,null,{"v":1.2277667038517641,"d":"1.23"},4200,{"$nulls":6},5489,0.0255,2.94,6.2,20.9,6,null,"Nein"]
["KBMS-10H04-D (240 V)",4.91,15.5,1.41,4.21,{"$nulls":4},{"v":0.909696148409465,"d":"0.91"},9500,{"$nulls":4},11509,0.0255,2.94,6.2,20.9,6,null,"Nein"]
["KBMS-14H01-A (120 V)",3.28,4.32,1.2,1.53,null,null,{"v":1.1018419137131217,"d":"1.10"},1300,{"$nulls":6},2308,0.0336,21.4,38,49.3,8,null,"Nein"]
["KBMS-14H01-A (240 V)",3.28,4.32,1.2,1.53,{"$nulls":4},{"v":1.083203791789616,"d":"1.08"},3350,{"$nulls":4},4849,0.0336,21.4,38,49.3,8,null,"Nein"]
["KBMS-14H01-A (400 V)",3.28,4.32,1.2,1.53,{"$nulls":6},{"v":0.9698504344662372,"d":"0.97"},6400,null,null,8109,0.0336,21.4,38,49.3,8,null,"Nein"]
["KBMS-14H01-A (480 V)",3.28,4.32,1.2,1.53,{"$nulls":8},{"v":0.8944910725671079,"d":"0.89"},7900,9741,0.0336,21.4,38,49.3,8,null,"Nein"]
["KBMS-14H01-B (120 V)",3.43,9.63,1.25,3.25,null,null,{"v":1.1186318857316073,"d":"1.12"},3500,{"$nulls":6},5022,0.0336,4.74,9,23.7,8,null,"Nein"]
["KBMS-14H01-B (240 V)",3.43,9.63,1.25,3.25,{"$nulls":4},{"v":0.9369121178239876,"d":"0.94"},7950,{"$nulls":4},10088,0.0336,4.74,9,23.7,8,null,"Nein"]
["KBMS-14H01-B (400 V)",3.43,9.63,1.25,3.25,{"$nulls":6},{"v":0.5610211743989311,"d":"0.56"},12000,null,null,12000,0.0336,4.74,9,23.7,8,null,"Nein"]
["KBMS-14H01-C (120 V)",3.59,19.4,1.21,6.25,null,null,{"v":0.9103662744856413,"d":"0.91"},7500,{"$nulls":6},9539,0.0336,1.29,2.4,12.1,8,null,"Nein"]
["KBMS-14H01-C (240 V)",3.59,19.4,1.21,6.25,{"$nulls":4},{"v":0.6472301019070411,"d":"0.65"},13500,{"$nulls":4},12000,0.0336,1.29,2.4,12.1,8,null,"Nein"]
["KBMS-14H02-A (120 V)",6.67,5.39,2.08,1.59,null,null,{"v":1.9757165349338732,"d":"1.98"},725,{"$nulls":6},1461,0.055600000000000004,23.8,47,80.8,8,null,"Nein"]
["KBMS-14H02-A (240 V)",6.67,5.39,2.08,1.59,{"$nulls":4},{"v":1.8621128341751756,"d":"1.86"},2000,{"$nulls":4},2944,0.055600000000000004,23.8,47,80.8,8,null,"Nein"]
["KBMS-14H02-A (400 V)",6.67,5.39,2.08,1.59,{"$nulls":6},{"v":1.7384616860807027,"d":"1.74"},3900,null,null,4924,0.055600000000000004,23.8,47,80.8,8,null,"Nein"]
["KBMS-14H02-A (480 V)",6.67,5.39,2.08,1.59,{"$nulls":8},{"v":1.6370222718023522,"d":"1.64"},4900,5915,0.055600000000000004,23.8,47,80.8,8,null,"Nein"]
["KBMS-14H02-B (120 V)",6.83,8.57,2.08,2.42,null,null,{"v":1.909859317102744,"d":"1.91"},1350,{"$nulls":6},2139,0.055600000000000004,10.3,20,53.4,8,null,"Nein"]
["KBMS-14H02-B (240 V)",6.83,8.57,2.08,2.42,{"$nulls":4},{"v":1.7941102675813656,"d":"1.79"},3300,{"$nulls":4},4489,0.055600000000000004,10.3,20,53.4,8,null,"Nein"]
["KBMS-14H02-B (400 V)",6.83,8.57,2.08,2.42,{"$nulls":6},{"v":1.382510102678852,"d":"1.38"},6700,null,null,7505,0.055600000000000004,10.3,20,53.4,8,null,"Nein"]
["KBMS-14H02-B (480 V)",6.83,8.57,2.08,2.42,{"$nulls":8},{"v":1.2401683877290546,"d":"1.24"},7700,9016,0.055600000000000004,10.3,20,53.4,8,null,"Nein"]
["KBMS-14H02-C (120 V)",6.98,10.9,2.11,3.1,null,null,{"v":1.9098593171027443,"d":"1.91"},1800,{"$nulls":6},2704,0.055600000000000004,6.3,12.8,42.3,8,null,"Nein"]
["KBMS-14H02-C (240 V)",6.98,10.9,2.11,3.1,{"$nulls":4},{"v":1.7301078519636623,"d":"1.73"},4250,{"$nulls":4},5671,0.055600000000000004,6.3,12.8,42.3,8,null,"Nein"]
["KBMS-14H02-C (400 V)",6.98,10.9,2.11,3.1,{"$nulls":6},{"v":1.2055986939211072,"d":"1.21"},8000,null,null,9481,0.055600000000000004,6.3,12.8,42.3,8,null,"Nein"]
["KBMS-14H02-C (480 V)",6.98,10.9,2.11,3.1,{"$nulls":8},{"v":0.5496668278490825,"d":"0.55"},10250,11390,0.055600000000000004,6.3,12.8,42.3,8,null,"Nein"]
["KBMS-14H02-D (120 V)",7.31,21.8,2.175,5.97,null,null,{"v":1.8608885653821607,"d":"1.86"},3900,{"$nulls":6},5084,0.055600000000000004,1.69,3.6,22.6,8,null,"Nein"]
["KBMS-14H02-D (240 V)",7.31,21.8,2.175,5.97,{"$nulls":4},{"v":1.1051433127055206,"d":"1.11"},8900,{"$nulls":4},10660,0.055600000000000004,1.69,3.6,22.6,8,null,"Nein"]
["KBMS-14H03-A (120 V)",10.4,5.9,2.82,1.64,null,null,{"v":2.5783100780887045,"d":"2.58"},500,{"$nulls":6},1051,0.0881,26.6,54,{"v":108,"d":"108.0"},8,null,"Nein"]
["KBMS-14H03-A (240 V)",10.4,5.9,2.82,1.64,{"$nulls":4},{"v":2.5464790894703255,"d":"2.55"},1500,{"$nulls":4},2217,0.0881,26.6,54,{"v":108,"d":"108.0"},8,null,"Nein"]
["KBMS-14H03-A (400 V)",10.4,5.9,2.82,1.64,{"$nulls":6},{"v":2.4124538742350454,"d":"2.41"},2850,null,null,3710,0.0881,26.6,54,{"v":108,"d":"108.0"},8,null,"Nein"]
["KBMS-14H03-A (480 V)",10.4,5.9,2.82,1.64,{"$nulls":8},{"v":2.3210095867568072,"d":"2.32"},3600,4458,0.0881,26.6,54,{"v":108,"d":"108.0"},8,null,"Nein"]
["KBMS-14H03-B (120 V)",10.4,10.3,2.87,2.81,null,null,{"v":2.6571955716212092,"d":"2.66"},1150,{"$nulls":6},1789,0.0881,9.01,19,63.7,8,null,"Nein"]
["KBMS-14H03-B (240 V)",10.4,10.3,2.87,2.81,{"$nulls":4},{"v":2.4794664818526857,"d":"2.48"},2850,{"$nulls":4},3757,0.0881,9.01,19,63.7,8,null,"Nein"]
["KBMS-14H03-B (400 V)",10.4,10.3,2.87,2.81,{"$nulls":6},{"v":1.961016263096568,"d":"1.96"},5600,null,null,6283,0.0881,9.01,19,63.7,8,null,"Nein"]
["KBMS-14H03-B (480 V)",10.4,10.3,2.87,2.81,{"$nulls":8},{"v":1.7923295129733443,"d":"1.79"},6500,7549,0.0881,9.01,19,63.7,8,null,"Nein"]
["KBMS-14H03-C (120 V)",10.4,22.5,2.92,6.04,null,null,{"v":2.482817112233567,"d":"2.48"},3000,{"$nulls":6},3806,0.0881,1.96,4.1,{"v":30,"d":"30.0"},8,null,"Nein"]
["KBMS-14H03-C (240 V)",10.4,22.5,2.92,6.04,{"$nulls":4},{"v":1.7796416363911933,"d":"1.78"},6600,{"$nulls":4},7980,0.0881,1.96,4.1,{"v":30,"d":"30.0"},8,null,"Nein"]
["KBMS-17H01-A (120 V)",5.95,5.45,2.08,1.65,null,null,{"v":1.909859317102744,"d":"1.91"},750,{"$nulls":6},1460,0.0862,21.3,66,77.9,10,null,"Nein"]
["KBMS-17H01-A (240 V)",5.95,5.45,2.08,1.65,{"$nulls":4},{"v":1.8853739412424524,"d":"1.89"},1950,{"$nulls":4},3068,0.0862,21.3,66,77.9,10,null,"Nein"]
["KBMS-17H01-A (400 V)",5.95,5.45,2.08,1.65,{"$nulls":6},{"v":1.7590809499630535,"d":"1.76"},3800,null,null,5132,0.0862,21.3,66,77.9,10,null,"Nein"]
["KBMS-17H01-A (480 V)",5.95,5.45,2.08,1.65,{"$nulls":8},{"v":1.6634258568314222,"d":"1.66"},4650,6166,0.0862,21.3,66,77.9,10,null,"Nein"]
["KBMS-17H01-B (120 V)",6.14,10.9,2.07,3.11,null,null,{"v":1.8568076694054458,"d":"1.86"},1800,{"$nulls":6},2782,0.0862,6.02,18,41.2,10,null,"Nein"]
["KBMS-17H01-B (240 V)",6.14,10.9,2.07,3.11,{"$nulls":4},{"v":1.7052315331274501,"d":"1.71"},4200,{"$nulls":4},5838,0.0862,6.02,18,41.2,10,null,"Nein"]
["KBMS-17H01-B (400 V)",6.14,10.9,2.07,3.11,{"$nulls":6},{"v":1.0653261508694498,"d":"1.07"},8650,null,null,9600,0.0862,6.02,18,41.2,10,null,"Nein"]
["KBMS-17H01-B (480 V)",6.14,10.9,2.07,3.11,{"$nulls":8},{"v":0.716197243913529,"d":"0.72"},9600,9600,0.0862,6.02,18,41.2,10,null,"Nein"]
["KBMS-17H01-C (120 V)",6.35,21.8,2.07,6.1,null,null,{"v":1.7384616860807027,"d":"1.74"},3900,{"$nulls":6},5468,0.0862,1.56,5,21.5,10,null,"Nein"]
["KBMS-17H01-C (240 V)",6.35,21.8,2.07,6.1,{"$nulls":4},{"v":0.9018780108540735,"d":"0.90"},9000,{"$nulls":4},9600,0.0862,1.56,5,21.5,10,null,"Nein"]
["KBMS-17H02-A (120 V)",12.2,6.08,3.58,1.59,null,null,{"v":3.310422816311423,"d":"3.31"},375,{"$nulls":6},812,0.128,27.5,97,{"v":140,"d":"140.0"},10,null,"Nein"]
["KBMS-17H02-A (240 V)",12.2,6.08,3.58,1.59,{"$nulls":4},{"v":3.2293984816464585,"d":"3.23"},1100,{"$nulls":4},1710,0.128,27.5,97,{"v":140,"d":"140.0"},10,null,"Nein"]
["KBMS-17H02-A (400 V)",12.2,6.08,3.58,1.59,{"$nulls":6},{"v":3.1376260209545084,"d":"3.14"},2100,null,null,2861,0.128,27.5,97,{"v":140,"d":"140.0"},10,null,"Nein"]
["KBMS-17H02-A (480 V)",12.2,6.08,3.58,1.59,{"$nulls":8},{"v":3.066793326501522,"d":"3.07"},2600,3438,0.128,27.5,97,{"v":140,"d":"140.0"},10,null,"Nein"]
["KBMS-17H02-B (120 V)",12.3,12.2,3.52,2.99,null,null,{"v":3.246760839074665,"d":"3.25"},1000,{"$nulls":6},1565,0.128,7.78,27,72.8,10,null,"Nein"]
["KBMS-17H02-B (240 V)",12.3,12.2,3.52,2.99,{"$nulls":4},{"v":3.0516230392837325,"d":"3.05"},2300,{"$nulls":4},3285,0.128,7.78,27,72.8,10,null,"Nein"]
["KBMS-17H02-B (400 V)",12.3,12.2,3.52,2.99,{"$nulls":6},{"v":2.6043536142310146,"d":"2.60"},4400,null,null,5495,0.128,7.78,27,72.8,10,null,"Nein"]
["KBMS-17H02-B (480 V)",12.3,12.2,3.52,2.99,{"$nulls":8},{"v":2.2252489291013626,"d":"2.23"},5450,6602,0.128,7.78,27,72.8,10,null,"Nein"]
["KBMS-17H02-C (120 V)",12.7,21.9,3.64,5.27,null,null,{"v":3.2166051656467265,"d":"3.22"},1900,{"$nulls":6},2797,0.128,2.51,9.2,{"v":43,"d":"43.0"},10,null,"Nein"]
["KBMS-17H02-C (240 V)",12.7,21.9,3.64,5.27,{"$nulls":4},{"v":2.6891697281044387,"d":"2.69"},4350,{"$nulls":4},5622,0.128,2.51,9.2,{"v":43,"d":"43.0"},10,null,"Nein"]
["KBMS-17H02-C (400 V)",12.7,21.9,3.64,5.27,{"$nulls":6},{"v":0.9978762304968042,"d":"1.00"},7560,null,null,9375,0.128,2.51,9.2,{"v":43,"d":"43.0"},10,null,"Nein"]
["KBMS-17H02-D (120 V)",12.8,24.5,3.58,6.5,null,null,{"v":3.083627022405472,"d":"3.08"},2400,{"$nulls":6},3365,0.128,1.65,3.1,34.2,10,null,"Nein"]
["KBMS-17H02-D (240 V)",12.8,24.5,3.58,6.5,{"$nulls":4},{"v":2.199748677734411,"d":"2.20"},5600,{"$nulls":4},7054,0.128,1.65,3.1,34.2,10,null,"Nein"]
["KBMS-17H02-E (120 V)",12.9,39,3.75,9.33,null,null,{"v":3.0012074983043124,"d":"3.00"},3500,{"$nulls":6},4633,0.128,0.8,3.1,24.8,10,null,"Nein"]
["KBMS-17H02-E (240 V)",12.9,39,3.75,9.33,{"$nulls":4},{"v":1.1013522061959158,"d":"1.10"},7500,{"$nulls":4},9600,0.128,0.8,3.1,24.8,10,null,"Nein"]
["KBMS-17H03-A (120 V)",18.5,13.8,4.88,3,null,null,{"v":4.501811247456469,"d":"4.50"},700,{"$nulls":6},1136,0.175,8.61,33,{"v":100,"d":"100.0"},10,null,"Nein"]
["KBMS-17H03-A (240 V)",18.5,13.8,4.88,3,{"$nulls":4},{"v":4.297183463481175,"d":"4.30"},1700,{"$nulls":4},2389,0.175,8.61,33,{"v":100,"d":"100.0"},10,null,"Nein"]
["KBMS-17H03-A (400 V)",18.5,13.8,4.88,3,{"$nulls":6},{"v":3.5950293027816365,"d":"3.60"},3400,null,null,3997,0.175,8.61,33,{"v":100,"d":"100.0"},10,null,"Nein"]
["KBMS-17H03-A (480 V)",18.5,13.8,4.88,3,{"$nulls":8},{"v":3.481262552693609,"d":"3.48"},3950,4803,0.175,8.61,33,{"v":100,"d":"100.0"},10,null,"Nein"]
["KBMS-17H03-B (120 V)",18.8,24.4,4.89,5.32,null,null,{"v":4.365392724806273,"d":"4.37"},1400,{"$nulls":6},1998,0.175,2.81,11,{"v":57,"d":"57.0"},10,null,"Nein"]
["KBMS-17H03-B (240 V)",18.8,24.4,4.89,5.32,{"$nulls":4},{"v":3.850033861461087,"d":"3.85"},3150,{"$nulls":4},4194,0.175,2.81,11,{"v":57,"d":"57.0"},10,null,"Nein"]
["KBMS-17H03-B (400 V)",18.8,24.4,4.89,5.32,{"$nulls":6},{"v":1.8011681364546206,"d":"1.80"},6150,null,null,7006,0.175,2.81,11,{"v":57,"d":"57.0"},10,null,"Nein"]
["KBMS-17H03-C (120 V)",18.8,27.2,5.05,6.14,null,null,{"v":4.4762327744595565,"d":"4.48"},1600,{"$nulls":6},2239,0.175,2.1,8.8,{"v":51.34,"d":"51.3"},10,null,"Nein"]
["KBMS-17H03-C (240 V)",18.8,27.2,5.05,6.14,{"$nulls":4},{"v":3.8063629746453294,"d":"3.81"},3575,{"$nulls":4},4700,0.175,2.1,8.8,{"v":51.34,"d":"51.3"},10,null,"Nein"]
["KBMS-17H03-C (400 V)",18.8,27.2,5.05,6.14,{"$nulls":6},{"v":1.429447174066097,"d":"1.43"},6480,null,null,7200,0.175,2.1,8.8,{"v":51.34,"d":"51.3"},10,null,"Nein"]
["KBMS-17H03-D (120 V)",19,48,5,10.38,null,null,{"v":4.013941615605767,"d":"4.01"},2950,{"$nulls":6},3838,0.175,0.74,2.9,{"v":30,"d":"30.0"},10,null,"Nein"]
["KBMS-17H03-D (240 V)",19,48,5,10.38,{"$nulls":4},{"v":1.4103576495527956,"d":"1.41"},6500,{"$nulls":4},8030,0.175,0.74,2.9,{"v":30,"d":"30.0"},10,null,"Nein"]
["KBMS-17H04-A (120 V)",23.7,14.5,5.98,3.15,null,null,{"v":5.490845536670389,"d":"5.49"},600,{"$nulls":6},960,0.24000000000000002,8.64,34,{"v":118,"d":"118.0"},10,null,"Nein"]
["KBMS-17H04-A (240 V)",23.7,14.5,5.98,3.15,{"$nulls":4},{"v":5.286217752695096,"d":"5.29"},1400,{"$nulls":4},2018,0.24000000000000002,8.64,34,{"v":118,"d":"118.0"},10,null,"Nein"]
["KBMS-17H04-A (400 V)",23.7,14.5,5.98,3.15,{"$nulls":6},{"v":4.703912762493796,"d":"4.70"},2700,null,null,3377,0.24000000000000002,8.64,34,{"v":118,"d":"118.0"},10,null,"Nein"]
["KBMS-17H04-A (480 V)",23.7,14.5,5.98,3.15,{"$nulls":8},{"v":4.332815167158464,"d":"4.33"},3350,4058,0.24000000000000002,8.64,34,{"v":118,"d":"118.0"},10,null,"Nein"]
["KBMS-17H04-B (120 V)",23.7,25,6.12,5.53,null,null,{"v":5.451056800897415,"d":"5.45"},1200,{"$nulls":6},1660,0.24000000000000002,2.8,12,69.3,10,null,"Nein"]
["KBMS-17H04-B (240 V)",23.7,25,6.12,5.53,{"$nulls":4},{"v":4.864735996393782,"d":"4.86"},2650,{"$nulls":4},3485,0.24000000000000002,2.8,12,69.3,10,null,"Nein"]
["KBMS-17H04-B (400 V)",23.7,25,6.12,5.53,{"$nulls":6},{"v":2.902986161996171,"d":"2.90"},5000,null,null,5822,0.24000000000000002,2.8,12,69.3,10,null,"Nein"]
["KBMS-17H04-B (480 V)",23.7,25,6.12,5.53,{"$nulls":8},{"v":1.800963829724079,"d":"1.80"},5700,6987,0.24000000000000002,2.8,12,69.3,10,null,"Nein"]
["KBMS-17H04-C (120 V)",23.7,28.1,6.1,6.2,null,null,{"v":5.405262218215313,"d":"5.41"},1325,{"$nulls":6},1868,0.24000000000000002,2.23,9.1,61.4,10,null,"Nein"]
["KBMS-17H04-C (240 V)",23.7,28.1,6.1,6.2,{"$nulls":4},{"v":4.647324338283344,"d":"4.65"},3000,{"$nulls":4},3922,0.24000000000000002,2.23,9.1,61.4,10,null,"Nein"]
["KBMS-17H04-C (400 V)",23.7,28.1,6.1,6.2,{"$nulls":6},{"v":1.6122189040477708,"d":"1.61"},5775,null,null,6548,0.24000000000000002,2.23,9.1,61.4,10,null,"Nein"]
["KBMS-17H04-D (120 V)",24,44,6.07,9.56,null,null,{"v":5.599360270596682,"d":"5.60"},2200,{"$nulls":6},2881,0.24000000000000002,0.94,3.8,{"v":40,"d":"40.0"},10,null,"Nein"]
["KBMS-17H04-D (240 V)",24,44,6.07,9.56,{"$nulls":4},{"v":3.962958082988194,"d":"3.96"},5000,{"$nulls":4},6037,0.24000000000000002,0.94,3.8,{"v":40,"d":"40.0"},10,null,"Nein"]
["KBMS-25H01-A (120 V)",14.37,10.86,4.9,3.1,null,null,{"v":4.433601986131371,"d":"4.43"},700,{"$nulls":6},1132,0.434,8.98,37,100.3,10,null,"Nein"]
["KBMS-25H01-A (240 V)",14.37,10.86,4.9,3.1,{"$nulls":4},{"v":4.109091258008934,"d":"4.11"},1650,{"$nulls":4},2379,0.434,8.98,37,100.3,10,null,"Nein"]
["KBMS-25H01-A (400 V)",14.37,10.86,4.9,3.1,{"$nulls":6},{"v":3.304359770860303,"d":"3.30"},3150,null,null,3979,0.434,8.98,37,100.3,10,null,"Nein"]
["KBMS-25H01-A (480 V)",14.37,10.86,4.9,3.1,{"$nulls":8},{"v":2.7893997920842706,"d":"2.79"},3800,4779,0.434,8.98,37,100.3,10,null,"Nein"]
["KBMS-25H01-B (120 V)",14.64,19.3,4.96,5.34,null,null,{"v":4.263078832818626,"d":"4.26"},1400,{"$nulls":6},1989,0.434,2.87,12,57.5,10,null,"Nein"]
["KBMS-25H01-B (240 V)",14.64,19.3,4.96,5.34,{"$nulls":4},{"v":3.334674998115902,"d":"3.33"},3150,{"$nulls":4},4173,0.434,2.87,12,57.5,10,null,"Nein"]
["KBMS-25H01-B (400 V)",14.64,19.3,4.96,5.34,{"$nulls":6},{"v":1.4226503076377583,"d":"1.42"},4900,null,null,6970,0.434,2.87,12,57.5,10,null,"Nein"]
["KBMS-25H01-C (120 V)",15.1,27.6,4.85,6.45,null,null,{"v":3.983420861385724,"d":"3.98"},1750,{"$nulls":6},2470,0.434,1.97,7.9,46.3,10,null,"Nein"]
["KBMS-25H01-C (240 V)",15.1,27.6,4.85,6.45,{"$nulls":4},{"v":2.316693254473743,"d":"2.32"},4225,{"$nulls":4},5178,0.434,1.97,7.9,46.3,10,null,"Nein"]
["KBMS-25H01-D (120 V)",15.2,34.3,4.75,7.95,null,null,{"v":3.6744032513824534,"d":"3.67"},2300,{"$nulls":6},3097,0.434,1.3,5.2,37.1,10,null,"Nein"]
["KBMS-25H01-D (240 V)",15.2,34.3,4.75,7.95,{"$nulls":4},{"v":1.3252085057447611,"d":"1.33"},4900,{"$nulls":4},6489,0.434,1.3,5.2,37.1,10,null,"Nein"]
["KBMS-25H01-E (120 V)",15.32,39,5.09,10.44,null,null,{"v":3.6221469807121007,"d":"3.62"},2900,{"$nulls":6},3815,0.434,0.75,3.4,{"v":30,"d":"30.0"},10,null,"Nein"]
["KBMS-25H01-E (240 V)",15.32,39,5.09,10.44,{"$nulls":4},{"v":1.4421386680163577,"d":"1.44"},4900,{"$nulls":4},6918,0.434,0.75,3.4,{"v":30,"d":"30.0"},10,null,"Nein"]
["KBMS-25H01-F (120 V)",15.73,43.7,4.63,12,null,null,{"v":2.4658943081579734,"d":"2.47"},3950,{"$nulls":6},4765,0.434,0.56,2.1,23.7,10,null,"Nein"]
["KBMS-25H02-A (120 V)",29.4,15,8.7,3.33,null,null,{"v":8.080174033896226,"d":"8.08"},390,{"$nulls":6},707,0.678,8.96,45,{"v":162,"d":"162.0"},10,null,"Nein"]
["KBMS-25H02-A (240 V)",29.4,15,8.7,3.33,{"$nulls":4},{"v":8.069155614759094,"d":"8.07"},1000,{"$nulls":4},1484,0.678,8.96,45,{"v":162,"d":"162.0"},10,null,"Nein"]
["KBMS-25H02-A (400 V)",29.4,15,8.7,3.33,{"$nulls":6},{"v":7.517010389109518,"d":"7.52"},1950,null,null,2482,0.678,8.96,45,{"v":162,"d":"162.0"},10,null,"Nein"]
["KBMS-25H02-A (480 V)",29.4,15,8.7,3.33,{"$nulls":8},{"v":7.440493589546107,"d":"7.44"},2400,2982,0.678,8.96,45,{"v":162,"d":"162.0"},10,null,"Nein"]
["KBMS-25H02-B (120 V)",29.7,23.6,8.75,5.18,null,null,{"v":8.021409131831525,"d":"8.02"},750,{"$nulls":6},1098,0.678,3.7,19,{"v":104,"d":"104.0"},10,null,"Nein"]
["KBMS-25H02-B (240 V)",29.7,23.6,8.75,5.18,{"$nulls":4},{"v":7.69560960126694,"d":"7.70"},1700,{"$nulls":4},2303,0.678,3.7,19,{"v":104,"d":"104.0"},10,null,"Nein"]
["KBMS-25H02-B (400 V)",29.7,23.6,8.75,5.18,{"$nulls":6},{"v":6.7906109052542005,"d":"6.79"},3150,null,null,3845,0.678,3.7,19,{"v":104,"d":"104.0"},10,null,"Nein"]
["KBMS-25H02-B (480 V)",29.7,23.6,8.75,5.18,{"$nulls":8},{"v":6.087676573264997,"d":"6.09"},4000,4614,0.678,3.7,19,{"v":104,"d":"104.0"},10,null,"Nein"]
["KBMS-25H02-C (120 V)",29.7,29.5,8.75,6.5,null,null,{"v":7.991253458403587,"d":"7.99"},950,{"$nulls":6},1380,0.678,2.35,12,83.4,10,null,"Nein"]
["KBMS-25H02-C (240 V)",29.7,29.5,8.75,6.5,{"$nulls":4},{"v":7.461775936587466,"d":"7.46"},2150,{"$nulls":4},2895,0.678,2.35,12,83.4,10,null,"Nein"]
["KBMS-25H02-C (400 V)",29.7,29.5,8.75,6.5,{"$nulls":6},{"v":6.039930090337428,"d":"6.04"},4000,null,null,4826,0.678,2.35,12,83.4,10,null,"Nein"]
["KBMS-25H02-C (480 V)",29.7,29.5,8.75,6.5,{"$nulls":8},{"v":4.841493368855456,"d":"4.84"},5000,5791,0.678,2.35,12,83.4,10,null,"Nein"]
["KBMS-25H02-D (120 V)",29.8,37,8.62,8,null,null,{"v":7.795344151439772,"d":"7.80"},1225,{"$nulls":6},1717,0.678,1.57,7.8,{"v":67,"d":"67.0"},10,null,"Nein"]
["KBMS-25H02-D (240 V)",29.8,37,8.62,8,{"$nulls":4},{"v":6.973614754191671,"d":"6.97"},2725,{"$nulls":4},3597,0.678,1.57,7.8,{"v":67,"d":"67.0"},10,null,"Nein"]
["KBMS-25H02-D (400 V)",29.8,37,8.62,8,{"$nulls":6},{"v":4.461254389371275,"d":"4.46"},5180,null,null,5995,0.678,1.57,7.8,{"v":67,"d":"67.0"},10,null,"Nein"]
["KBMS-25H02-D (480 V)",29.8,37,8.62,8,{"$nulls":8},{"v":2.8488734813449264,"d":"2.85"},6000,7193,0.678,1.57,7.8,{"v":67,"d":"67.0"},10,null,"Nein"]
["KBMS-25H02-E (120 V)",29.8,46.5,8.85,10.2,null,null,{"v":7.818486579389358,"d":"7.82"},1600,{"$nulls":6},2143,0.678,0.96,5,{"v":54,"d":"54.0"},10,null,"Nein"]
["KBMS-25H02-E (240 V)",29.8,46.5,8.85,10.2,{"$nulls":4},{"v":6.512089754843385,"d":"6.51"},3600,{"$nulls":4},4480,0.678,0.96,5,{"v":54,"d":"54.0"},10,null,"Nein"]
["KBMS-25H02-E (400 V)",29.8,43.3,8.85,10.2,{"$nulls":6},{"v":2.9443664472000637,"d":"2.94"},6000,null,null,6100,0.678,0.96,5,{"v":54,"d":"54.0"},10,null,"Nein"]
["KBMS-25H02-F (120 V)",30.1,58,8.93,12.74,null,null,{"v":7.639437268410977,"d":"7.64"},2100,{"$nulls":6},2666,0.678,0.61,3.2,43.3,10,null,"Nein"]
["KBMS-25H02-F (240 V)",30.1,58,8.93,12.74,{"$nulls":4},{"v":5.602253996834715,"d":"5.60"},4500,{"$nulls":4},5564,0.678,0.61,3.2,43.3,10,null,"Nein"]
["KBMS-25H02-G (120 V)",30,65.5,8.74,14.37,null,null,{"v":7.341021750113673,"d":"7.34"},2400,{"$nulls":6},3027,0.678,0.49,2.5,38.2,10,null,"Nein"]
["KBMS-25H02-G (240 V)",30,65.5,8.74,14.37,{"$nulls":4},{"v":4.369253626390711,"d":"4.37"},5300,{"$nulls":4},6316,0.678,0.49,2.5,38.2,10,null,"Nein"]
["KBMS-25H03-A (120 V)",42.2,23.9,11.86,5.3,null,null,{"v":11.285532328334398,"d":"11.29"},550,{"$nulls":6},827,0.9309999999999999,3.97,21,{"v":139,"d":"139.0"},10,null,"Nein"]
["KBMS-25H03-A (240 V)",42.2,23.9,11.86,5.3,{"$nulls":4},{"v":11.018419137131216,"d":"11.02"},1300,{"$nulls":4},1735,0.9309999999999999,3.97,21,{"v":139,"d":"139.0"},10,null,"Nein"]
["KBMS-25H03-A (400 V)",42.2,23.9,11.86,5.3,{"$nulls":6},{"v":9.986972679016432,"d":"9.99"},2400,null,null,2899,0.9309999999999999,3.97,21,{"v":139,"d":"139.0"},10,null,"Nein"]
["KBMS-25H03-A (480 V)",42.2,23.9,11.86,5.3,{"$nulls":8},{"v":9.384653540935897,"d":"9.38"},2900,3479,0.9309999999999999,3.97,21,{"v":139,"d":"139.0"},10,null,"Nein"]
["KBMS-25H03-B (120 V)",42.3,33,11.84,7.27,null,null,{"v":10.742958658702936,"d":"10.74"},800,{"$nulls":6},1144,0.9309999999999999,2.1,11.4,{"v":100,"d":"100.0"},10,null,"Nein"]
["KBMS-25H03-B (240 V)",42.3,33,11.84,7.27,{"$nulls":4},{"v":10.02022080068974,"d":"10.02"},1825,{"$nulls":4},2399,0.9309999999999999,2.1,11.4,{"v":100,"d":"100.0"},10,null,"Nein"]
["KBMS-25H03-B (400 V)",42.3,33,11.84,7.27,{"$nulls":6},{"v":5.266156205246538,"d":"5.27"},3400,null,null,4000,0.9309999999999999,2.1,11.4,{"v":100,"d":"100.0"},10,null,"Nein"]
["KBMS-25H03-B (480 V)",42.3,33,11.84,7.27,{"$nulls":8},{"v":6.649992080032447,"d":"6.65"},4150,4800,0.9309999999999999,2.1,11.4,{"v":100,"d":"100.0"},10,null,"Nein"]
["KBMS-25H03-C (120 V)",42.4,37,11.9,8.2,null,null,{"v":10.769484482551585,"d":"10.77"},900,{"$nulls":6},1276,0.9309999999999999,1.66,9.1,{"v":90,"d":"90.0"},10,null,"Nein"]
["KBMS-25H03-C (240 V)",42.4,37,11.9,8.2,{"$nulls":4},{"v":9.875370127458092,"d":"9.88"},2050,{"$nulls":4},2676,0.9309999999999999,1.66,9.1,{"v":90,"d":"90.0"},10,null,"Nein"]
["KBMS-25H03-C (400 V)",42.4,37,11.9,8.2,{"$nulls":6},{"v":7.4635291734146705,"d":"7.46"},3800,null,null,4459,0.9309999999999999,1.66,9.1,{"v":90,"d":"90.0"},10,null,"Nein"]
["KBMS-25H03-C (480 V)",42.4,37,11.9,8.2,{"$nulls":8},{"v":5.224324163714914,"d":"5.22"},4725,5351,0.9309999999999999,1.66,9.1,{"v":90,"d":"90.0"},10,null,"Nein"]
["KBMS-25H03-D (120 V)",42.6,47,11.9,10.24,null,null,{"v":10.663381187156988,"d":"10.66"},1200,{"$nulls":6},1595,0.9309999999999999,1.06,5.7,72.1,10,null,"Nein"]
["KBMS-25H03-D (240 V)",42.6,47,11.9,10.24,{"$nulls":4},{"v":9.195618934198396,"d":"9.20"},2700,{"$nulls":4},3338,0.9309999999999999,1.06,5.7,72.1,10,null,"Nein"]
["KBMS-25H03-D (400 V)",42.6,47,11.9,10.2,{"$nulls":6},{"v":5.001074912825742,"d":"5.00"},4850,null,null,5560,0.9309999999999999,1.06,5.7,72.1,10,null,"Nein"]
["KBMS-25H03-E (120 V)",42.6,59,11.8,12.7,null,null,{"v":10.269407475568853,"d":"10.27"},1525,{"$nulls":6},2006,0.9309999999999999,0.69,3.6,57.4,10,null,"Nein"]
["KBMS-25H03-E (240 V)",42.6,59,11.8,12.7,{"$nulls":4},{"v":8.074772848044692,"d":"8.07"},3400,{"$nulls":4},4193,0.9309999999999999,0.69,3.6,57.4,10,null,"Nein"]
["KBMS-25H03-F (120 V)",42,67,11.75,14.79,null,null,{"v":9.936430230872384,"d":"9.94"},1850,{"$nulls":6},2347,0.9309999999999999,0.51,2.7,49.4,10,null,"Nein"]
["KBMS-25H03-F (240 V)",42,67,11.75,14.79,{"$nulls":4},{"v":6.742735028063956,"d":"6.74"},4100,{"$nulls":4},4902,0.9309999999999999,0.51,2.7,49.4,10,null,"Nein"]
["KBMS-25H03-G (120 V)",42,96,11.2,20,null,null,{"v":8.54227985467773,"d":"8.54"},2750,{"$nulls":6},3324,0.9309999999999999,0.28,1.3,34.6,10,null,"Nein"]
["KBMS-25H03-G (240 V)",42,96,11.2,20,{"$nulls":4},{"v":3.5388569699256727,"d":"3.54"},5100,{"$nulls":4},6937,0.9309999999999999,0.28,1.3,34.6,10,null,"Nein"]
["KBMS-25H03-H (120 V)",42.6,105,11,21.1,null,null,{"v":7.9793274858614645,"d":"7.98"},2950,{"$nulls":6},3642,0.9309999999999999,0.25,1.1,31.8,10,null,"Nein"]
["KBMS-25H03-H (240 V)",42.6,105,11,21.1,{"$nulls":4},{"v":3.0300652627110845,"d":"3.03"},5200,{"$nulls":4},7600,0.9309999999999999,0.25,1.1,31.8,10,null,"Nein"]
["KBMS-25H04-A (120 V)",54.4,25,14.82,5.5,null,null,{"v":13.687325105903,"d":"13.69"},450,{"$nulls":6},685,1.1800000000000002,4.08,23,{"v":167,"d":"167.0"},10,null,"Nein"]
["KBMS-25H04-A (240 V)",54.4,25,14.82,5.5,{"$nulls":4},{"v":13.187123856185615,"d":"13.19"},1050,{"$nulls":4},1437,1.1800000000000002,4.08,23,{"v":167,"d":"167.0"},10,null,"Nein"]
["KBMS-25H04-A (400 V)",54.4,25,14.82,5.5,{"$nulls":6},{"v":12.032113697747288,"d":"12.03"},2000,null,null,2400,1.1800000000000002,4.08,23,{"v":167,"d":"167.0"},10,null,"Nein"]
["KBMS-25H04-A (480 V)",54.4,25,14.82,5.5,{"$nulls":8},{"v":11.399472798957003,"d":"11.40"},2400,2888,1.1800000000000002,4.08,23,{"v":167,"d":"167.0"},10,null,"Nein"]
["KBMS-25H04-B (120 V)",53.8,27.5,14.9,6.2,null,null,{"v":13.641852265019601,"d":"13.64"},525,{"$nulls":6},772,1.1800000000000002,3.2,18,{"v":148,"d":"148.0"},10,null,"Nein"]
["KBMS-25H04-B (240 V)",53.8,27.5,14.9,6.2,{"$nulls":4},{"v":13.130282805081366,"d":"13.13"},1200,{"$nulls":4},1618,1.1800000000000002,3.2,18,{"v":148,"d":"148.0"},10,null,"Nein"]
["KBMS-25H04-B (400 V)",53.8,27.5,14.9,6.2,{"$nulls":6},{"v":11.735024470642415,"d":"11.74"},2250,null,null,2704,1.1800000000000002,3.2,18,{"v":148,"d":"148.0"},10,null,"Nein"]
["KBMS-25H04-B (480 V)",53.8,27.5,14.9,6.2,{"$nulls":8},{"v":10.92863942564348,"d":"10.93"},2700,3245,1.1800000000000002,3.2,18,{"v":148,"d":"148.0"},10,null,"Nein"]
["KBMS-25H04-C (120 V)",54.4,38.5,15.1,8.63,null,null,{"v":13.687325105903,"d":"13.69"},750,{"$nulls":6},1060,1.1800000000000002,1.66,9.6,{"v":108,"d":"108.0"},10,null,"Nein"]
["KBMS-25H04-C (240 V)",54.4,38.5,15.1,8.63,{"$nulls":4},{"v":12.638774892591691,"d":"12.64"},1700,{"$nulls":4},2223,1.1800000000000002,1.66,9.6,{"v":108,"d":"108.0"},10,null,"Nein"]
["KBMS-25H04-C (400 V)",54.4,38.5,15.1,8.63,{"$nulls":6},{"v":10.064655448858906,"d":"10.06"},3150,null,null,3707,1.1800000000000002,1.66,9.6,{"v":108,"d":"108.0"},10,null,"Nein"]
["KBMS-25H04-C (480 V)",54.4,38.5,15.1,8.63,{"$nulls":8},{"v":8.085897887993436,"d":"8.09"},3850,4450,1.1800000000000002,1.66,9.6,{"v":108,"d":"108.0"},10,null,"Nein"]
["KBMS-25H04-D (120 V)",54.8,48.5,15,10.7,null,null,{"v":13.36901521971921,"d":"13.37"},1000,{"$nulls":6},1325,1.1800000000000002,1.08,6.2,{"v":87,"d":"87.0"},10,null,"Nein"]
["KBMS-25H04-D (240 V)",54.8,48.5,15,10.7,{"$nulls":4},{"v":11.777465788800255,"d":"11.78"},2250,{"$nulls":4},2776,1.1800000000000002,1.08,6.2,{"v":87,"d":"87.0"},10,null,"Nein"]
["KBMS-25H04-D (400 V)",54.8,48.5,15,10.7,{"$nulls":6},{"v":6.937621495258764,"d":"6.94"},4150,null,null,4626,1.1800000000000002,1.08,6.2,{"v":87,"d":"87.0"},10,null,"Nein"]
["KBMS-25H04-D (480 V)",54.8,48.5,15,10.7,{"$nulls":8},{"v":4.043212809611129,"d":"4.04"},4700,5551,1.1800000000000002,1.08,6.2,{"v":87,"d":"87.0"},10,null,"Nein"]
["KBMS-25H04-E (120 V)",53.8,62.5,14.6,13.8,null,null,{"v":12.584608714480584,"d":"12.58"},1400,{"$nulls":6},1837,1.1800000000000002,0.65,3.5,65.5,10,null,"Nein"]
["KBMS-25H04-E (240 V)",53.8,62.5,14.6,13.8,{"$nulls":4},{"v":9.97197036880695,"d":"9.97"},3050,{"$nulls":4},3681,1.1800000000000002,0.65,3.5,65.5,10,null,"Nein"]
["KBMS-25H04-E (400 V)",53.8,62.5,14.6,13.8,{"$nulls":6},{"v":4.567054888723954,"d":"4.57"},4600,null,null,6135,1.1800000000000002,0.65,3.5,65.5,10,null,"Nein"]
["KBMS-25H04-F (120 V)",54.1,89,14.5,19.4,null,null,{"v":11.793381283109445,"d":"11.79"},2000,{"$nulls":6},2495,1.1800000000000002,0.33,1.8,46.3,10,null,"Nein"]
["KBMS-25H04-F (240 V)",54.1,89,14.5,19.4,{"$nulls":4},{"v":4.848104420337735,"d":"4.85"},4550,{"$nulls":4},5206,1.1800000000000002,0.33,1.8,46.3,10,null,"Nein"]
["KBMS-25H04-G (120 V)",54.5,98,14,20.3,null,null,{"v":11.77006323330761,"d":"11.77"},2150,{"$nulls":6},2701,1.1800000000000002,0.3,1.5,42.8,10,null,"Nein"]
["KBMS-25H04-G (240 V)",54.5,98,14,20.3,{"$nulls":4},{"v":4.847305984168377,"d":"4.85"},4600,{"$nulls":4},5637,1.1800000000000002,0.3,1.5,42.8,10,null,"Nein"]
["KBMS-35H01-A (120 V)",40.8,21.9,12.6,5.41,null,null,{"v":11.650141834326739,"d":"11.65"},500,{"$nulls":6},798,2.17,4.13,32,{"v":144,"d":"144.0"},10,null,"Nein"]
["KBMS-35H01-A (240 V)",40.8,21.9,12.6,5.41,{"$nulls":4},{"v":11.459155902616464,"d":"11.46"},1200,{"$nulls":4},1675,2.17,4.13,32,{"v":144,"d":"144.0"},10,null,"Nein"]
["KBMS-35H01-A (400 V)",40.8,21.9,12.6,5.41,{"$nulls":6},{"v":10.926171907145932,"d":"10.93"},2150,null,null,2795,2.17,4.13,32,{"v":144,"d":"144.0"},10,null,"Nein"]
["KBMS-35H01-A (480 V)",40.8,21.9,12.6,5.41,{"$nulls":8},{"v":10.504226244065093,"d":"10.50"},2700,3353,2.17,4.13,32,{"v":144,"d":"144.0"},10,null,"Nein"]
["KBMS-35H01-B (120 V)",41.4,24.5,12.45,6.1,null,null,{"v":11.632779476898532,"d":"11.63"},550,{"$nulls":6},901,2.17,3.3,25,{"v":127,"d":"127.0"},10,null,"Nein"]
["KBMS-35H01-B (240 V)",41.4,24.5,12.45,6.1,{"$nulls":4},{"v":11.275515583664278,"d":"11.28"},1300,{"$nulls":4},1892,2.17,3.3,25,{"v":127,"d":"127.0"},10,null,"Nein"]
["KBMS-35H01-B (400 V)",41.4,24.5,12.45,6.1,{"$nulls":6},{"v":10.646449810232319,"d":"10.65"},2350,null,null,3153,2.17,3.3,25,{"v":127,"d":"127.0"},10,null,"Nein"]
["KBMS-35H01-B (480 V)",41.4,24.5,12.45,6.1,{"$nulls":8},{"v":10.207868763825012,"d":"10.21"},2900,3783,2.17,3.3,25,{"v":127,"d":"127.0"},10,null,"Nein"]
["KBMS-35H01-C (120 V)",40.8,34.7,12.45,8.32,null,null,{"v":11.482589759268032,"d":"11.48"},815,{"$nulls":6},1242,2.17,1.75,13.4,{"v":93,"d":"93.0"},10,null,"Nein"]
["KBMS-35H01-C (240 V)",40.8,34.7,12.45,8.32,{"$nulls":4},{"v":10.976501238239955,"d":"10.98"},1840,{"$nulls":4},2600,2.17,1.75,13.4,{"v":93,"d":"93.0"},10,null,"Nein"]
["KBMS-35H01-C (400 V)",40.8,34.7,12.45,8.32,{"$nulls":6},{"v":9.687692188202327,"d":"9.69"},3450,null,null,4334,2.17,1.75,13.4,{"v":93,"d":"93.0"},10,null,"Nein"]
["KBMS-35H01-C (480 V)",40.8,34.7,12.45,8.32,{"$nulls":8},{"v":8.833099341600192,"d":"8.83"},4200,5201,2.17,1.75,13.4,{"v":93,"d":"93.0"},10,null,"Nein"]
["KBMS-35H01-D (120 V)",41.2,43.5,12.65,10.57,null,null,{"v":11.589373583328015,"d":"11.59"},1100,{"$nulls":6},1556,2.17,1.08,8.5,{"v":74,"d":"74.0"},10,null,"Nein"]
["KBMS-35H01-D (240 V)",41.2,43.5,12.65,10.57,{"$nulls":4},{"v":10.757574928986886,"d":"10.76"},2450,{"$nulls":4},3252,2.17,1.08,8.5,{"v":74,"d":"74.0"},10,null,"Nein"]
["KBMS-35H01-D (400 V)",41.2,43.5,12.65,10.57,{"$nulls":6},{"v":8.499923334358366,"d":"8.50"},4550,null,null,5420,2.17,1.08,8.5,{"v":74,"d":"74.0"},10,null,"Nein"]
["KBMS-35H01-D (480 V)",41.2,43.5,12.65,10.57,{"$nulls":8},{"v":6.174114171668354,"d":"6.17"},5800,6505,2.17,1.08,8.5,{"v":74,"d":"74.0"},10,null,"Nein"]
["KBMS-35H01-E (120 V)",41.1,55.4,12.2,12.8,null,null,{"v":10.777063289365486,"d":"10.78"},1400,{"$nulls":6},1996,2.17,0.74,5.4,57.8,10,null,"Nein"]
["KBMS-35H01-E (240 V)",41.1,55.4,12.2,12.8,{"$nulls":4},{"v":9.595502859314593,"d":"9.60"},3100,{"$nulls":4},4166,2.17,0.74,5.4,57.8,10,null,"Nein"]
["KBMS-35H01-E (400 V)",41.1,55.4,12.2,12.8,{"$nulls":6},{"v":5.126876445501218,"d":"5.13"},6100,null,null,6943,2.17,0.74,5.4,57.8,10,null,"Nein"]
["KBMS-35H01-F (120 V)",41.1,62.1,12.4,14.58,null,null,{"v":11.07121572882997,"d":"11.07"},1600,{"$nulls":6},2288,2.17,0.57,4.4,52.6,10,null,"Nein"]
["KBMS-35H01-F (240 V)",41.1,62.1,12.4,14.58,{"$nulls":4},{"v":9.496244937816423,"d":"9.50"},3600,{"$nulls":4},4576,2.17,0.57,4.4,52.6,10,null,"Nein"]
["KBMS-35H01-F (400 V)",41.1,62.1,12.4,14.58,{"$nulls":6},{"v":3.7039695846841094,"d":"3.70"},6600,null,null,7200,2.17,0.57,4.4,52.6,10,null,"Nein"]
["KBMS-35H01-G (120 V)",41.2,87.4,12.4,20.1,null,null,{"v":10.605814505613111,"d":"10.61"},2350,{"$nulls":6},3026,2.17,0.3,2.2,38.1,10,null,"Nein"]
["KBMS-35H01-G (240 V)",41.2,87.4,12.4,20.1,{"$nulls":4},{"v":7.125937357680521,"d":"7.13"},5300,{"$nulls":4},6316,2.17,0.3,2.2,38.1,10,null,"Nein"]
["KBMS-35H01-H (120 V)",41.4,98,12.2,21.2,null,null,{"v":10.313240312354818,"d":"10.31"},2500,{"$nulls":6},3237,2.17,0.27,1.6,35.7,10,null,"Nein"]
["KBMS-35H01-H (240 V)",41.4,98,12.2,21.2,{"$nulls":4},{"v":6.36051361856539,"d":"6.36"},5600,{"$nulls":4},6756,2.17,0.27,1.6,35.7,10,null,"Nein"]
["KBMS-35H02-A (120 V)",58.8,22.5,17.3,4.97,null,null,{"v":16.16034806779245,"d":"16.16"},325,{"$nulls":6},531,2.94,5.5,44,{"v":215,"d":"215.0"},10,null,"Nein"]
["KBMS-35H02-A (240 V)",58.8,22.5,17.3,4.97,{"$nulls":4},{"v":15.875705573416559,"d":"15.88"},800,{"$nulls":4},1114,2.94,5.5,44,{"v":215,"d":"215.0"},10,null,"Nein"]
["KBMS-35H02-A (400 V)",58.8,22.5,17.3,4.97,{"$nulls":6},{"v":15.311803145737517,"d":"15.31"},1450,null,null,1863,2.94,5.5,44,{"v":215,"d":"215.0"},10,null,"Nein"]
["KBMS-35H02-A (480 V)",58.8,22.5,17.3,4.97,{"$nulls":8},{"v":15.006037491521562,"d":"15.01"},1750,2235,2.94,5.5,44,{"v":215,"d":"215.0"},10,null,"Nein"]
["KBMS-35H02-B (120 V)",58.8,28,17.6,6.3,null,null,{"v":16.47253661001117,"d":"16.47"},400,{"$nulls":6},661,2.94,3.43,28,{"v":174,"d":"174.0"},10,null,"Nein"]
["KBMS-35H02-B (240 V)",58.8,28,17.6,6.3,{"$nulls":4},{"v":16.083025828233634,"d":"16.08"},950,{"$nulls":4},1386,2.94,3.43,28,{"v":174,"d":"174.0"},10,null,"Nein"]
["KBMS-35H02-B (400 V)",58.8,28,17.6,6.3,{"$nulls":6},{"v":15.305400360670603,"d":"15.31"},1800,null,null,2313,2.94,3.43,28,{"v":174,"d":"174.0"},10,null,"Nein"]
["KBMS-35H02-B (480 V)",58.8,28,17.6,6.3,{"$nulls":8},{"v":14.823112654331526,"d":"14.82"},2200,2776,2.94,3.43,28,{"v":174,"d":"174.0"},10,null,"Nein"]
["KBMS-35H02-C (120 V)",59.2,39.2,17.5,8.7,null,null,{"v":16.11921263634716,"d":"16.12"},625,{"$nulls":6},923,2.94,1.8,14.6,{"v":124,"d":"124.0"},10,null,"Nein"]
["KBMS-35H02-C (240 V)",59.2,39.2,17.5,8.7,{"$nulls":4},{"v":15.48350232079725,"d":"15.48"},1400,{"$nulls":4},1935,2.94,1.8,14.6,{"v":124,"d":"124.0"},10,null,"Nein"]
["KBMS-35H02-C (400 V)",59.2,39.2,17.5,8.7,{"$nulls":6},{"v":14.15542787970269,"d":"14.16"},2550,null,null,3224,2.94,1.8,14.6,{"v":124,"d":"124.0"},10,null,"Nein"]
["KBMS-35H02-C (480 V)",59.2,39.2,17.5,8.7,{"$nulls":8},{"v":13.100441253251635,"d":"13.10"},3200,3869,2.94,1.8,14.6,{"v":124,"d":"124.0"},10,null,"Nein"]
["KBMS-35H02-D (120 V)",59.4,49.5,17.45,10.92,null,null,{"v":15.95294253109351,"d":"15.95"},850,{"$nulls":6},1165,2.94,1.14,9.3,{"v":99,"d":"99.0"},10,null,"Nein"]
["KBMS-35H02-D (240 V)",59.4,49.5,17.45,10.92,{"$nulls":4},{"v":15.020785439916175,"d":"15.02"},1850,{"$nulls":4},2437,2.94,1.14,9.3,{"v":99,"d":"99.0"},10,null,"Nein"]
["KBMS-35H02-D (400 V)",59.4,49.5,17.45,10.92,{"$nulls":6},{"v":12.441369265697876,"d":"12.44"},3500,null,null,4061,2.94,1.14,9.3,{"v":99,"d":"99.0"},10,null,"Nein"]
["KBMS-35H02-D (480 V)",59.4,49.5,17.45,10.92,{"$nulls":8},{"v":10.548641577020971,"d":"10.55"},4300,4873,2.94,1.14,9.3,{"v":99,"d":"99.0"},10,null,"Nein"]
["KBMS-35H02-E (120 V)",59.4,55.4,17.1,12,null,null,{"v":15.580431271101332,"d":"15.58"},950,{"$nulls":6},1305,2.94,0.94,7.4,88.4,10,null,"Nein"]
["KBMS-35H02-E (240 V)",59.4,55.4,17.1,12,{"$nulls":4},{"v":14.533563583806249,"d":"14.53"},2050,{"$nulls":4},2728,2.94,0.94,7.4,88.4,10,null,"Nein"]
["KBMS-35H02-E (400 V)",59.4,55.4,17.1,12,{"$nulls":6},{"v":11.496360954248335,"d":"11.50"},3850,null,null,4547,2.94,0.94,7.4,88.4,10,null,"Nein"]
["KBMS-35H02-E (480 V)",59.4,55.4,17.1,12,{"$nulls":8},{"v":9.122625887012044,"d":"9.12"},4700,5457,2.94,0.94,7.4,88.4,10,null,"Nein"]
["KBMS-35H02-F (120 V)",59.4,69,17.3,14.92,null,null,{"v":15.597184423005743,"d":"15.60"},1200,{"$nulls":6},1607,2.94,0.61,4.9,72.1,10,null,"Nein"]
["KBMS-35H02-F (240 V)",59.4,69,17.3,14.92,{"$nulls":4},{"v":13.87350636008597,"d":"13.87"},2650,{"$nulls":4},3356,2.94,0.61,4.9,72.1,10,null,"Nein"]
["KBMS-35H02-F (400 V)",59.4,69,17.3,14.92,{"$nulls":6},{"v":7.6956096012669395,"d":"7.70"},5100,null,null,5593,2.94,0.61,4.9,72.1,10,null,"Nein"]
["KBMS-35H02-F (480 V)",59.4,69,17.3,14.92,{"$nulls":8},{"v":6.268936369564099,"d":"6.27"},5400,6711,2.94,0.61,4.9,72.1,10,null,"Nein"]
["KBMS-35H02-G (120 V)",59.4,86.5,17.1,18.64,null,null,{"v":15.094049441618461,"d":"15.09"},1550,{"$nulls":6},2032,2.94,0.39,3.1,{"v":57,"d":"57.0"},10,null,"Nein"]
["KBMS-35H02-G (240 V)",59.4,86.5,17.1,18.64,{"$nulls":4},{"v":12.44217172759582,"d":"12.44"},3400,{"$nulls":4},4241,2.94,0.39,3.1,{"v":57,"d":"57.0"},10,null,"Nein"]
["KBMS-35H02-G (400 V)",59.4,86.5,17.1,18.64,{"$nulls":6},{"v":3.6056826762543186,"d":"3.61"},5800,null,null,7068,2.94,0.39,3.1,{"v":57,"d":"57.0"},10,null,"Nein"]
["KBMS-35H03-A (120 V)",76.1,46.1,21.8,10.2,null,null,{"v":20.567715722644937,"d":"20.57"},650,{"$nulls":6},867,3.7,1.41,12,{"v":132,"d":"132.0"},10,null,"Nein"]
["KBMS-35H03-A (240 V)",76.1,46.1,21.8,10.2,{"$nulls":4},{"v":19.64426726162823,"d":"19.64"},1400,{"$nulls":4},1818,3.7,1.41,12,{"v":132,"d":"132.0"},10,null,"Nein"]
["KBMS-35H03-A (400 V)",76.1,46.1,21.8,10.2,{"$nulls":6},{"v":17.188733853924695,"d":"17.19"},2550,null,null,3029,3.7,1.41,12,{"v":132,"d":"132.0"},10,null,"Nein"]
["KBMS-35H03-A (480 V)",76.1,46.1,21.8,10.2,{"$nulls":8},{"v":15.586916362161105,"d":"15.59"},3100,3635,3.7,1.41,12,{"v":132,"d":"132.0"},10,null,"Nein"]
["KBMS-35H03-B (120 V)",76.6,64,21.7,14,null,null,{"v":19.629109648000426,"d":"19.63"},900,{"$nulls":6},1197,3.7,0.75,6.2,96.2,10,null,"Nein"]
["KBMS-35H03-B (240 V)",76.6,64,21.7,14,{"$nulls":4},{"v":17.91075383965866,"d":"17.91"},2050,{"$nulls":4},2504,3.7,0.75,6.2,96.2,10,null,"Nein"]
["KBMS-35H03-B (400 V)",76.6,64,21.7,14,{"$nulls":6},{"v":13.105153077224749,"d":"13.11"},3800,null,null,4173,3.7,0.75,6.2,96.2,10,null,"Nein"]
["KBMS-35H03-B (480 V)",76.6,64,21.7,14,{"$nulls":8},{"v":10.26549382942725,"d":"10.27"},4800,5007,3.7,0.75,6.2,96.2,10,null,"Nein"]
["KBMS-35H03-C (120 V)",75.2,93,20.7,20.2,null,null,{"v":18.044877685729375,"d":"18.04"},1450,{"$nulls":6},1813,3.7,0.36,2.8,63.6,10,null,"Nein"]
["KBMS-35H03-C (240 V)",75.2,93,20.7,20.2,{"$nulls":4},{"v":14.724399251211478,"d":"14.72"},3100,{"$nulls":4},3783,3.7,0.36,2.8,63.6,10,null,"Nein"]
["KBMS-35H03-C (400 V)",75.2,93,20.7,20.2,{"$nulls":6},{"v":5.700930061551691,"d":"5.70"},5000,null,null,6305,3.7,0.36,2.8,63.6,10,null,"Nein"]
["KBMS-35H03-D (120 V)",75.7,104,20,21.5,null,null,{"v":17.188733853924695,"d":"17.19"},1550,{"$nulls":6},1996,3.7,0.32,2.3,57.8,10,null,"Nein"]
["KBMS-35H03-D (240 V)",75.7,104,20,21.5,{"$nulls":4},{"v":13.298799803649256,"d":"13.30"},3400,{"$nulls":4},4166,3.7,0.32,2.3,57.8,10,null,"Nein"]
["KBMS-35H04-A (120 V)",92.3,49,25.6,10.86,null,null,{"v":23.78642967664327,"d":"23.79"},550,{"$nulls":6},778,4.460000000000001,1.35,11,{"v":147,"d":"147.0"},10,null,"Nein"]
["KBMS-35H04-A (240 V)",92.3,49,25.6,10.86,{"$nulls":4},{"v":22.61273431449649,"d":"22.61"},1250,{"$nulls":4},1633,4.460000000000001,1.35,11,{"v":147,"d":"147.0"},10,null,"Nein"]
["KBMS-35H04-A (400 V)",92.3,49,25.6,10.86,{"$nulls":6},{"v":20.136560191191975,"d":"20.14"},2300,null,null,2721,4.460000000000001,1.35,11,{"v":147,"d":"147.0"},10,null,"Nein"]
["KBMS-35H04-A (480 V)",92.3,49,25.6,10.86,{"$nulls":8},{"v":18.416500557776462,"d":"18.42"},2800,3266,4.460000000000001,1.35,11,{"v":147,"d":"147.0"},10,null,"Nein"]
["KBMS-35H04-B (120 V)",93,61,25.9,13.3,null,null,{"v":23.708598419206478,"d":"23.71"},725,{"$nulls":6},948,4.460000000000001,0.9,7.6,{"v":122,"d":"122.0"},10,null,"Nein"]
["KBMS-35H04-B (240 V)",93,61,25.9,13.3,{"$nulls":4},{"v":22.117403059351133,"d":"22.12"},1550,{"$nulls":4},1984,4.460000000000001,0.9,7.6,{"v":122,"d":"122.0"},10,null,"Nein"]
["KBMS-35H04-B (400 V)",93,61,25.9,13.3,{"$nulls":6},{"v":18.32794818342458,"d":"18.33"},2850,null,null,3307,4.460000000000001,0.9,7.6,{"v":122,"d":"122.0"},10,null,"Nein"]
["KBMS-35H04-B (480 V)",93,61,25.9,13.3,{"$nulls":8},{"v":16.149545696089383,"d":"16.15"},3400,3968,4.460000000000001,0.9,7.6,{"v":122,"d":"122.0"},10,null,"Nein"]
["KBMS-35H04-C (120 V)",93,68,25.3,14.7,null,null,{"v":22.977994908892388,"d":"22.98"},800,{"$nulls":6},1080,4.460000000000001,0.73,6.1,{"v":107,"d":"107.0"},10,null,"Nein"]
["KBMS-35H04-C (240 V)",93,68,25.3,14.7,{"$nulls":4},{"v":21.088029959676135,"d":"21.09"},1800,{"$nulls":4},2260,4.460000000000001,0.73,6.1,{"v":107,"d":"107.0"},10,null,"Nein"]
["KBMS-35H04-C (400 V)",93,68,25.3,14.7,{"$nulls":6},{"v":16.14699240823229,"d":"16.15"},3300,null,null,3766,4.460000000000001,0.73,6.1,{"v":107,"d":"107.0"},10,null,"Nein"]
["KBMS-35H04-C (480 V)",93,68,25.3,14.7,{"$nulls":8},{"v":11.206042017217307,"d":"11.21"},4150,4520,4.460000000000001,0.73,6.1,{"v":107,"d":"107.0"},10,null,"Nein"]
["KBMS-35H04-D (120 V)",91.5,89,24.7,19.2,null,null,{"v":21.838826104261813,"d":"21.84"},1150,{"$nulls":6},1443,4.460000000000001,0.43,3.4,{"v":80,"d":"80.0"},10,null,"Nein"]
["KBMS-35H04-D (240 V)",91.5,89,24.7,19.2,{"$nulls":4},{"v":18.65932552809381,"d":"18.66"},2500,{"$nulls":4},3015,4.460000000000001,0.43,3.4,{"v":80,"d":"80.0"},10,null,"Nein"]
["KBMS-35H04-D (400 V)",91.5,89,24.7,19.2,{"$nulls":6},{"v":10.111019914073351,"d":"10.11"},4250,null,null,5025,4.460000000000001,0.43,3.4,{"v":80,"d":"80.0"},10,null,"Nein"]
["KBMS-35H04-E (120 V)",92.1,98.8,24.7,20.7,null,null,{"v":22.042959618227506,"d":"22.04"},1200,{"$nulls":6},1536,4.460000000000001,0.37,2.8,{"v":75,"d":"75.0"},10,null,"Nein"]
["KBMS-35H04-E (240 V)",92.1,98.8,24.7,20.7,{"$nulls":4},{"v":18.65785640554219,"d":"18.66"},2600,{"$nulls":4},3208,4.460000000000001,0.37,2.8,{"v":75,"d":"75.0"},10,null,"Nein"]
["KBMS-35H04-E (400 V)",92.1,98.8,24.7,20.7,{"$nulls":6},{"v":6.840202662884285,"d":"6.84"},4600,null,null,5347,4.460000000000001,0.37,2.8,{"v":75,"d":"75.0"},10,null,"Nein"]
["KBMS-45H01-A (120 V)",118,46.5,30.7,10.24,null,null,{"v":28.329579870357374,"d":"28.33"},450,{"$nulls":6},617,8.35,1.36,21,{"v":187,"d":"187.0"},10,null,"Nein"]
["KBMS-45H01-A (240 V)",118,46.5,30.7,10.24,{"$nulls":4},{"v":27.341143907997175,"d":"27.34"},950,{"$nulls":4},1293,8.35,1.36,21,{"v":187,"d":"187.0"},10,null,"Nein"]
["KBMS-45H01-A (400 V)",118,46.5,30.7,10.24,{"$nulls":6},{"v":24.99187334951591,"d":"24.99"},1750,null,null,2155,8.35,1.36,21,{"v":187,"d":"187.0"},10,null,"Nein"]
["KBMS-45H01-A (480 V)",118,46.5,30.7,10.24,{"$nulls":8},{"v":23.64587725936731,"d":"23.65"},2100,2586,8.35,1.36,21,{"v":187,"d":"187.0"},10,null,"Nein"]
["KBMS-45H01-B (120 V)",118,57.5,30.2,12.5,null,null,{"v":27.73843293887319,"d":"27.74"},525,{"$nulls":6},763,8.35,0.92,14,{"v":150,"d":"150.0"},10,null,"Nein"]
["KBMS-45H01-B (240 V)",118,57.5,30.2,12.5,{"$nulls":4},{"v":26.101410667070837,"d":"26.10"},1200,{"$nulls":4},1596,8.35,0.92,14,{"v":150,"d":"150.0"},10,null,"Nein"]
["KBMS-45H01-B (400 V)",118,57.5,30.2,12.5,{"$nulls":6},{"v":23.09597313705644,"d":"23.10"},2150,null,null,2660,8.35,0.92,14,{"v":150,"d":"150.0"},10,null,"Nein"]
["KBMS-45H01-B (480 V)",118,57.5,30.2,12.5,{"$nulls":8},{"v":20.720171836492035,"d":"20.72"},2650,3192,8.35,0.92,14,{"v":150,"d":"150.0"},10,null,"Nein"]
["KBMS-45H01-C (120 V)",119,65,31.3,14.3,null,null,{"v":28.427521373798537,"d":"28.43"},650,{"$nulls":6},854,8.35,0.69,11,{"v":135,"d":"135.0"},10,null,"Nein"]
["KBMS-45H01-C (240 V)",119,65,31.3,14.3,{"$nulls":4},{"v":26.601611916788226,"d":"26.60"},1400,{"$nulls":4},1783,8.35,0.69,11,{"v":135,"d":"135.0"},10,null,"Nein"]
["KBMS-45H01-C (400 V)",119,65,31.3,14.3,{"$nulls":6},{"v":22.23076245107594,"d":"22.23"},2500,null,null,2972,8.35,0.69,11,{"v":135,"d":"135.0"},10,null,"Nein"]
["KBMS-45H01-C (480 V)",119,65,31.3,14.3,{"$nulls":8},{"v":18.621128341751753,"d":"18.62"},3100,3567,8.35,0.69,11,{"v":135,"d":"135.0"},10,null,"Nein"]
["KBMS-45H01-D (120 V)",118,93.5,29.7,20.2,null,null,{"v":26.335954793732576,"d":"26.34"},950,{"$nulls":6},1263,8.35,0.35,5,91.2,10,null,"Nein"]
["KBMS-45H01-D (240 V)",118,93.5,29.7,20.2,{"$nulls":4},{"v":22.804629703024432,"d":"22.80"},2100,{"$nulls":4},2635,8.35,0.35,5,91.2,10,null,"Nein"]
["KBMS-45H01-D (400 V)",118,93.5,29.7,20.2,{"$nulls":6},{"v":12.723792477454767,"d":"12.72"},3700,null,null,4392,8.35,0.35,5,91.2,10,null,"Nein"]
["KBMS-45H01-E (120 V)",118,105,31.2,23.4,null,null,{"v":27.345712949425653,"d":"27.35"},1100,{"$nulls":6},1394,8.35,0.26,3.2,82.7,10,null,"Nein"]
["KBMS-45H01-E (240 V)",118,105,31.2,23.4,{"$nulls":4},{"v":23.167423890072417,"d":"23.17"},2300,{"$nulls":4},2909,8.35,0.26,3.2,82.7,10,null,"Nein"]
["KBMS-45H02-A (120 V)",171,60.5,43.7,13.3,null,null,{"v":40.226411866476546,"d":"40.23"},400,{"$nulls":6},568,11.5,0.95,16,{"v":202,"d":"202.0"},10,null,"Nein"]
["KBMS-45H02-A (240 V)",171,60.5,43.7,13.3,{"$nulls":4},{"v":38.46847317687061,"d":"38.47"},880,{"$nulls":4},1188,11.5,0.95,16,{"v":202,"d":"202.0"},10,null,"Nein"]
["KBMS-45H02-A (400 V)",171,60.5,43.7,13.3,{"$nulls":6},{"v":34.85493253712508,"d":"34.85"},1600,null,null,1980,11.5,0.95,16,{"v":202,"d":"202.0"},10,null,"Nein"]
["KBMS-45H02-A (480 V)",171,60.5,43.7,13.3,{"$nulls":8},{"v":32.56554989418781,"d":"32.57"},1950,2376,11.5,0.95,16,{"v":202,"d":"202.0"},10,null,"Nein"]
["KBMS-45H02-B (120 V)",171,68,43.5,14.9,null,null,{"v":39.894839068368434,"d":"39.89"},450,{"$nulls":6},638,11.5,0.76,12,{"v":180,"d":"180.0"},10,null,"Nein"]
["KBMS-45H02-B (240 V)",171,68,43.5,14.9,{"$nulls":4},{"v":37.515093728803905,"d":"37.52"},1050,{"$nulls":4},1334,11.5,0.76,12,{"v":180,"d":"180.0"},10,null,"Nein"]
["KBMS-45H02-B (400 V)",171,68,43.5,14.9,{"$nulls":6},{"v":32.76916512502603,"d":"32.77"},1900,null,null,2223,11.5,0.76,12,{"v":180,"d":"180.0"},10,null,"Nein"]
["KBMS-45H02-B (480 V)",171,68,43.5,14.9,{"$nulls":8},{"v":29.25741932582927,"d":"29.26"},2350,2667,11.5,0.76,12,{"v":180,"d":"180.0"},10,null,"Nein"]
["KBMS-45H02-C (120 V)",168,97.2,41.8,21.1,null,null,{"v":37.242256683503506,"d":"37.24"},750,{"$nulls":6},941,11.5,0.38,5.9,{"v":123,"d":"123.0"},10,null,"Nein"]
["KBMS-45H02-C (240 V)",168,97.2,41.8,21.1,{"$nulls":4},{"v":33.24348873831964,"d":"33.24"},1600,{"$nulls":4},1964,11.5,0.38,5.9,{"v":123,"d":"123.0"},10,null,"Nein"]
["KBMS-45H02-C (400 V)",168,97.2,41.8,21.1,{"$nulls":6},{"v":22.65488293390841,"d":"22.65"},2900,null,null,3274,11.5,0.38,5.9,{"v":123,"d":"123.0"},10,null,"Nein"]
["KBMS-45H02-C (480 V)",168,97.2,41.8,21.1,{"$nulls":8},{"v":12.34587629984274,"d":"12.35"},3500,3929,11.5,0.38,5.9,{"v":123,"d":"123.0"},10,null,"Nein"]
["KBMS-45H03-A (120 V)",218,64.5,54.6,14.1,null,null,{"v":50.20201633527214,"d":"50.20"},350,{"$nulls":6},480,14.5,0.93,16,{"v":240,"d":"240.0"},10,null,"Nein"]
["KBMS-45H03-A (240 V)",218,64.5,54.6,14.1,{"$nulls":4},{"v":47.7464829275686,"d":"47.75"},800,{"$nulls":4},1005,14.5,0.93,16,{"v":240,"d":"240.0"},10,null,"Nein"]
["KBMS-45H03-A (400 V)",218,64.5,54.6,14.1,{"$nulls":6},{"v":43.688031878725276,"d":"43.69"},1400,null,null,1676,14.5,0.93,16,{"v":240,"d":"240.0"},10,null,"Nein"]
["KBMS-45H03-A (480 V)",218,64.5,54.6,14.1,{"$nulls":8},{"v":40.83728598628515,"d":"40.84"},1700,2011,14.5,0.93,16,{"v":240,"d":"240.0"},10,null,"Nein"]
["KBMS-45H03-B (120 V)",216,92.5,53,19.9,null,null,{"v":49.48271867038928,"d":"49.48"},550,{"$nulls":6},699,14.5,0.47,7.7,{"v":165,"d":"165.0"},10,null,"Nein"]
["KBMS-45H03-B (240 V)",216,92.5,53,19.9,{"$nulls":4},{"v":45.50447416401321,"d":"45.50"},1150,{"$nulls":4},1459,14.5,0.47,7.7,{"v":165,"d":"165.0"},10,null,"Nein"]
["KBMS-45H03-B (400 V)",216,92.5,53,19.9,{"$nulls":6},{"v":33.533576381687716,"d":"33.53"},2150,null,null,2432,14.5,0.47,7.7,{"v":165,"d":"165.0"},10,null,"Nein"]
["KBMS-45H03-B (480 V)",216,92.5,53,19.9,{"$nulls":8},{"v":24.69962289906914,"d":"24.70"},2600,2918,14.5,0.47,7.7,{"v":165,"d":"165.0"},10,null,"Nein"]
["KBMS-43H01-A (400 V)",18,18,6.12,5.12,{"$nulls":6},{"v":4.82490774847009,"d":"4.82"},4750,null,null,5478,2.85,2.9,6.8,72.8,16,null,"Nein"]
["KBMS-43H02-A (400 V)",34.5,18,11.6,5.12,{"$nulls":6},{"v":9.978040513842908,"d":"9.98"},2450,null,null,2866,3.73,3.55,12,{"v":139,"d":"139.0"},16,null,"Nein"]
["KBMS-43H02-A (480 V)",34.5,18,11.6,5.12,{"$nulls":8},{"v":6.875493541569878,"d":"6.88"},3000,3439,3.73,3.55,12,{"v":139,"d":"139.0"},16,null,"Nein"]
["KBMS-43H03-A (400 V)",64.5,18,21,4.78,{"$nulls":6},{"v":18.636530433018713,"d":"18.64"},1240,null,null,1491,5.6899999999999995,4.83,19,{"v":268,"d":"268.0"},16,null,"Nein"]
["KBMS-43H03-A (480 V)",64.5,18,21,4.78,{"$nulls":8},{"v":16.182532804310163,"d":"16.18"},1490,1790,5.6899999999999995,4.83,19,{"v":268,"d":"268.0"},16,null,"Nein"]
["KBMS-43S01-A (240 V)",18,18,6.12,5.12,{"$nulls":4},{"v":4.9618894022767375,"d":"4.96"},2550,{"$nulls":4},3284,2.85,2.9,6.8,72.8,16,null,"Nein"]
["KBMS-43S02-A (240 V)",34.5,18,11.6,5.12,{"$nulls":4},{"v":10.136945606160719,"d":"10.14"},1300,{"$nulls":4},1717,3.73,3.55,12,{"v":139,"d":"139.0"},16,null,"Nein"]
["KBMS-43S03-A (240 V)",64.5,18,21,4.78,{"$nulls":4},{"v":18.81353954160912,"d":"18.81"},670,{"$nulls":4},893,5.6899999999999995,4.83,19,{"v":268,"d":"268.0"},16,null,"Nein"]
["KBMS-57H01-A (400 V)",46.1,18,18.8,5.67,{"$nulls":6},{"v":13.22210296455746,"d":"13.22"},1625,null,null,1975,9.49,3.39,13,{"v":203,"d":"203.0"},24,null,"Nein"]
["KBMS-57H01-A (480 V)",46.1,18,18.8,5.67,{"$nulls":8},{"v":10.71384494960076,"d":"10.71"},2050,2370,9.49,3.39,13,{"v":203,"d":"203.0"},24,null,"Nein"]
["KBMS-57H02-A (400 V)",115,23.4,33.5,5.22,{"$nulls":6},{"v":26.795904964199107,"d":"26.80"},825,null,null,1023,14.9,4.4,22,{"v":390,"d":"390.0"},24,null,"Nein"]
["KBMS-57H02-A (480 V)",115,23.4,33.5,5.22,{"$nulls":8},{"v":24.931661036070302,"d":"24.93"},1015,1228,14.9,4.4,22,{"v":390,"d":"390.0"},24,null,"Nein"]
["KBMS-57H03-A (400 V)",218,26.1,59.9,5.47,{"$nulls":6},{"v":51.264644827494706,"d":"51.26"},475,null,null,597,25.2,5.92,35,{"v":669,"d":"669.0"},24,null,"Nein"]
["KBMS-57H03-A (480 V)",218,26.1,59.9,5.47,{"$nulls":8},{"v":49.392913373346836,"d":"49.39"},580,717,25.2,5.92,35,{"v":669,"d":"669.0"},24,null,"Nein"]
["KBMS-57S01-A (240 V)",46.1,18,18.8,5.67,{"$nulls":4},{"v":16.00592325412811,"d":"16.01"},880,{"$nulls":4},1183,9.49,3.39,13,{"v":203,"d":"203.0"},24,null,"Nein"]
["KBMS-57S02-A (240 V)",115,23.4,33.5,5.22,{"$nulls":4},{"v":29.506253494564866,"d":"29.51"},445,{"$nulls":4},612,14.9,4.4,22,{"v":390,"d":"390.0"},24,null,"Nein"]
["KBMS-57S03-A (240 V)",218,26.1,59.9,5.47,{"$nulls":4},{"v":53.85803274229739,"d":"53.86"},250,{"$nulls":4},357,25.2,5.92,35,{"v":669,"d":"669.0"},24,null,"Nein"]
["KBMS-79H01-A (400 V)",152,20.8,43.4,4.95,{"$nulls":6},{"v":35.57112978103861,"d":"35.57"},600,null,null,744,44.5,6.26,23,{"v":534,"d":"534.0"},32,null,"Nein"]
["KBMS-79H01-A (480 V)",152,20.8,43.4,4.95,{"$nulls":8},{"v":33.814974895278034,"d":"33.81"},730,894,44.5,6.26,23,{"v":534,"d":"534.0"},32,null,"Nein"]
["KBMS-79H02-A (400 V)",319,26.1,79.31,5.39,{"$nulls":6},{"v":67.25433166654665,"d":"67.25"},350,null,null,443,71.5,6.4,32,{"v":901,"d":"901.0"},32,null,"Nein"]
["KBMS-79H02-A (480 V)",319,26.1,79.31,5.39,{"$nulls":8},{"v":64.84638611558155,"d":"64.85"},430,532,71.5,6.4,32,{"v":901,"d":"901.0"},32,null,"Nein"]
["KBMS-79H03-A (400 V)",637,36.7,143,6.76,{"$nulls":6},{"v":122.7482498596243,"d":"122.75"},240,null,null,307,125,5.75,34,{"v":1300,"d":"1300.0"},32,null,"Nein"]
["KBMS-79H03-A (480 V)",637,36.7,143,6.76,{"$nulls":8},{"v":119.2070523758296,"d":"119.21"},300,369,125,5.75,34,{"v":1300,"d":"1300.0"},32,null,"Nein"]
["KBMS-79S01-A (240 V)",152,20.8,43.4,4.95,{"$nulls":4},{"v":38.50522816739404,"d":"38.51"},310,{"$nulls":4},445,44.5,6.26,23,{"v":534,"d":"534.0"},32,null,"Nein"]
["KBMS-79S02-A (240 V)",319,26.1,79.31,5.39,{"$nulls":4},{"v":71.35446615286641,"d":"71.35"},180,{"$nulls":4},265,71.5,6.4,32,{"v":901,"d":"901.0"},32,null,"Nein"]
["KBMS-79S03-A (240 V)",637,36.7,143,6.76,{"$nulls":4},{"v":128.72451797272495,"d":"128.72"},125,{"$nulls":4},184,125,5.75,34,{"v":1300,"d":"1300.0"},32,null,"Nein"]
["KBMS-118H01-A (400 V)",994,151,325,43.7,{"$nulls":6},{"v":109.48238123518914,"d":"109.48"},785,null,null,872,315,0.276,2.5,{"v":648,"d":"648.0"},38,null,"Nein"]
["KBMS-118H02-A (400 V)",1451,171,445,46.5,{"$nulls":6},{"v":239.54167706034417,"d":"239.54"},590,null,null,685,403,0.292,2.7,{"v":585,"d":"585.0"},38,null,"Nein"]
["KBMS-118H02-A (480 V)",1451,171,445,46.5,{"$nulls":8},{"v":139.13728616498514,"d":"139.14"},710,822,403,0.292,2.7,{"v":585,"d":"585.0"},38,null,"Nein"]
["KBMS-118H03-A (400 V)",1932,171,560,44,{"$nulls":6},{"v":374.8373314888432,"d":"374.84"},435,null,null,516,591,0.373,4.3,{"v":775,"d":"775.0"},38,null,"Nein"]
["KBMS-118H03-A (480 V)",1932,171,560,44,{"$nulls":8},{"v":302.72162633703306,"d":"302.72"},535,619,591,0.373,4.3,{"v":775,"d":"775.0"},38,null,"Nein"]
["KBMS-118H04-A (400 V)",2400,171,672,42.8,{"$nulls":6},{"v":502.3210865644497,"d":"502.32"},340,null,null,413,698,0.455,4.5,{"v":970,"d":"970.0"},38,null,"Nein"]
["KBMS-118H04-A (480 V)",2400,171,672,42.8,{"$nulls":8},{"v":450.7495352566893,"d":"450.75"},420,495,698,0.455,4.5,{"v":970,"d":"970.0"},38,null,"Nein"]
["KBMS-118S01-A (240 V)",994,151,325,43.7,{"$nulls":4},{"v":252.45952847951898,"d":"252.46"},400,{"$nulls":4},523,315,0.276,2.5,{"v":648,"d":"648.0"},38,null,"Nein"]
["KBMS-118S02-A (240 V)",1451,171,445,46.5,{"$nulls":4},{"v":356.9049598835753,"d":"356.90"},320,{"$nulls":4},411,403,0.292,2.7,{"v":585,"d":"585.0"},38,null,"Nein"]
["KBMS-118S03-A (240 V)",1932,171,560,44,{"$nulls":4},{"v":467.30600312088416,"d":"467.31"},235,{"$nulls":4},309,591,0.373,4.3,{"v":775,"d":"775.0"},38,null,"Nein"]
["KBMS-118S04-A (240 V)",2400,171,672,42.8,{"$nulls":4},{"v":577.0872206813157,"d":"577.09"},185,{"$nulls":4},247,698,0.455,4.5,{"v":970,"d":"970.0"},38,null,"Nein"]
["KBMS-60H01-A (400 V)",127,40,54,13.7,{"$nulls":6},{"v":34.759439571269944,"d":"34.76"},1250,null,null,1639,25.6,0.916,7.8,{"v":245,"d":"245.0"},38,null,"Nein"]
["KBMS-60H01-A (480 V)",127,40,54,13.7,{"$nulls":8},{"v":24.8580126741654,"d":"24.86"},1600,1895,25.6,0.916,7.8,{"v":245,"d":"245.0"},38,null,"Nein"]
["KBMS-60H02-A (400 V)",255,50.4,108,16.4,{"$nulls":6},{"v":88.64381520069978,"d":"88.64"},725,null,null,974,42,0.921,11,{"v":411,"d":"411.0"},38,null,"Nein"]
["KBMS-60H02-A (480 V)",255,50.4,108,16.4,{"$nulls":8},{"v":84.0014394556207,"d":"84.00"},885,1169,42,0.921,11,{"v":411,"d":"411.0"},38,null,"Nein"]
["KBMS-60H03-A (400 V)",393,63.3,154,18.7,{"$nulls":6},{"v":119.77083853017209,"d":"119.77"},590,null,null,778,52.900000000000006,0.867,11,{"v":515,"d":"515.0"},38,null,"Nein"]
["KBMS-60H03-A (480 V)",393,63.3,154,18.7,{"$nulls":8},{"v":110.74531456811052,"d":"110.75"},720,930,52.900000000000006,0.867,11,{"v":515,"d":"515.0"},38,null,"Nein"]
["KBMS-60S01-A (240 V)",127,40,54,13.7,{"$nulls":4},{"v":44.708070377632424,"d":"44.71"},660,{"$nulls":4},983,25.6,0.916,7.8,{"v":245,"d":"245.0"},38,null,"Nein"]
["KBMS-60S02-A (240 V)",255,50.4,108,16.4,{"$nulls":4},{"v":95.98903321022883,"d":"95.99"},385,{"$nulls":4},584,42,0.921,11,{"v":411,"d":"411.0"},38,null,"Nein"]
["KBMS-60S03-A (240 V)",393,63.3,154,18.7,{"$nulls":4},{"v":133.3869999246361,"d":"133.39"},315,{"$nulls":4},467,52.900000000000006,0.867,11,{"v":515,"d":"515.0"},38,null,"Nein"]
["KBMS-88H01-A (400 V)",414,40,205,17,{"$nulls":6},{"v":162.33804195373327,"d":"162.34"},425,null,null,542,146,0.93,13,{"v":738,"d":"738.0"},46,null,"Nein"]
["KBMS-88H01-A (480 V)",414,40,205,17,{"$nulls":8},{"v":151.31962281660205,"d":"151.32"},520,651,146,0.93,13,{"v":738,"d":"738.0"},46,null,"Nein"]
["KBMS-88H01-B (400 V)",414,75.4,205,32,{"$nulls":6},{"v":66.9982733700214,"d":"67.00"},935,null,null,1006,146,0.261,3.7,{"v":397,"d":"397.0"},46,null,"Nein"]
["KBMS-88H01-B (480 V)",414,75.4,205,32,{"$nulls":8},{"v":67.04825262169207,"d":"67.05"},940,1068,146,0.261,3.7,{"v":397,"d":"397.0"},46,null,"Nein"]
["KBMS-88H02-A (400 V)",789,40,385,15,{"$nulls":6},{"v":331.7124077073187,"d":"331.71"},190,null,null,257,247,1.66,29,{"v":1560,"d":"1560.0"},46,null,"Nein"]
["KBMS-88H02-A (480 V)",789,40,385,15,{"$nulls":8},{"v":323.0506717226982,"d":"323.05"},235,309,247,1.66,29,{"v":1560,"d":"1560.0"},46,null,"Nein"]
["KBMS-88H02-B (400 V)",789,75.4,385,31.7,{"$nulls":6},{"v":273.02307055855135,"d":"273.02"},440,null,null,545,247,0.369,6.4,{"v":733,"d":"733.0"},46,null,"Nein"]
["KBMS-88H02-B (480 V)",789,75.4,385,31.7,{"$nulls":8},{"v":233.08964847367582,"d":"233.09"},550,654,247,0.369,6.4,{"v":733,"d":"733.0"},46,null,"Nein"]
["KBMS-88H03-A (400 V)",1200,53.1,538,18.1,{"$nulls":6},{"v":462.41745283790686,"d":"462.42"},165,null,null,221,315,1.41,26,{"v":1812,"d":"1812.0"},46,null,"Nein"]
["KBMS-88H03-A (480 V)",1200,53.1,538,18.1,{"$nulls":8},{"v":443.08736156783664,"d":"443.09"},225,265,315,1.41,26,{"v":1812,"d":"1812.0"},46,null,"Nein"]
["KBMS-88H03-B (400 V)",1200,106,545,35.5,{"$nulls":6},{"v":400.5168741808218,"d":"400.52"},345,null,null,426,315,0.37,7,{"v":940,"d":"940.0"},46,null,"Nein"]
["KBMS-88H03-B (480 V)",1200,106,545,35.5,{"$nulls":8},{"v":359.5029302781636,"d":"359.50"},425,511,315,0.37,7,{"v":940,"d":"940.0"},46,null,"Nein"]
["KBMS-88S01-A (240 V)",414,40,205,17,{"$nulls":4},{"v":179.31456921686876,"d":"179.31"},225,{"$nulls":4},325,146,0.93,13,{"v":738,"d":"738.0"},46,null,"Nein"]
["KBMS-88S01-B (240 V)",414,75.4,205,32,{"$nulls":4},{"v":156.0355062072942,"d":"156.04"},500,{"$nulls":4},604,146,0.261,3.7,{"v":397,"d":"397.0"},46,null,"Nein"]
["KBMS-88S02-A (240 V)",789,40,385,15,{"$nulls":4},{"v":346.63946605414804,"d":"346.64"},100,{"$nulls":4},154,247,1.66,29,{"v":1560,"d":"1560.0"},46,null,"Nein"]
["KBMS-88S02-B (240 V)",789,75.4,385,31.7,{"$nulls":4},{"v":323.4570247688903,"d":"323.46"},235,{"$nulls":4},327,247,0.369,6.4,{"v":733,"d":"733.0"},46,null,"Nein"]
["KBMS-88S03-A (240 V)",1200,53.1,538,18.1,{"$nulls":4},{"v":482.76999404541584,"d":"482.77"},90,{"$nulls":4},132,315,1.41,26,{"v":1812,"d":"1812.0"},46,null,"Nein"]
["KBMS-88S03-B (240 V)",1200,106,545,35.5,{"$nulls":4},{"v":463.67140087438844,"d":"463.67"},180,{"$nulls":4},255,315,0.37,7,{"v":940,"d":"940.0"},46,null,"Nein"]
["KBMS-163H01-A (400 V)",1966,140,776,43.2,{"$nulls":6},{"v":534.6014538456765,"d":"534.60"},300,null,null,365,1230,0.37,4.2,{"v":1100,"d":"1100.0"},56,null,"Nein"]
["KBMS-163H01-A (480 V)",1966,140,776,43.2,{"$nulls":8},{"v":440.5408824783663,"d":"440.54"},375,438,1230,0.37,4.2,{"v":1100,"d":"1100.0"},56,null,"Nein"]
["KBMS-163H02-A (400 V)",2915,140,1090,40.6,{"$nulls":6},{"v":843.6803533301371,"d":"843.68"},200,null,null,243,1720,0.509,6.3,{"v":1645,"d":"1645.0"},56,null,"Nein"]
["KBMS-163H02-A (480 V)",2915,140,1090,40.6,{"$nulls":8},{"v":781.8730183894091,"d":"781.87"},245,291,1720,0.509,6.3,{"v":1645,"d":"1645.0"},56,null,"Nein"]
["KBMS-163H03-A (400 V)",3930,140,1375,38.6,{"$nulls":6},{"v":1115.3578411880026,"d":"1115.36"},150,null,null,183,1830,0.64,8.4,{"v":2190,"d":"2190.0"},56,null,"Nein"]
["KBMS-163H03-A (480 V)",3930,140,1375,38.6,{"$nulls":8},{"v":1063.9507945693204,"d":"1063.95"},180,220,1830,0.64,8.4,{"v":2190,"d":"2190.0"},56,null,"Nein"]
["KBMS-163S01-A (240 V)",1966,140,776,43.2,{"$nulls":4},{"v":580.7708559735163,"d":"580.77"},165,{"$nulls":4},219,1230,0.37,4.2,{"v":1100,"d":"1100.0"},56,null,"Nein"]
["KBMS-163S02-A (240 V)",2915,140,1090,40.6,{"$nulls":4},{"v":945.3803619658582,"d":"945.38"},110,{"$nulls":4},146,1720,0.509,6.3,{"v":1645,"d":"1645.0"},56,null,"Nein"]
["KBMS-163S03-A (240 V)",3930,140,1375,38.6,{"$nulls":4},{"v":1209.179680140675,"d":"1209.18"},80,{"$nulls":4},110,1830,0.64,8.4,{"v":2190,"d":"2190.0"},56,null,"Nein"]
["KBMS-260H01-A (400 V)",6494,147,1932,33.1,{"$nulls":6},{"v":1710.4475354640751,"d":"1710.45"},85,null,null,111,5450,1.06,16,{"v":3584,"d":"3584.0"},58,null,"Nein"]
["KBMS-260H01-A (480 V)",6494,147,1932,33.1,{"$nulls":8},{"v":1680.6761990504149,"d":"1680.68"},105,134,5450,1.06,16,{"v":3584,"d":"3584.0"},58,null,"Nein"]
["KBMS-260H02-A (400 V)",9741,147,2706,31,{"$nulls":6},{"v":2428.9938042061262,"d":"2428.99"},55,null,null,74,7860,1.48,24,{"v":5380,"d":"5380.0"},58,null,"Nein"]
["KBMS-260H02-A (480 V)",9741,147,2706,31,{"$nulls":8},{"v":2406.2823087173174,"d":"2406.28"},68,89,7860,1.48,24,{"v":5380,"d":"5380.0"},58,null,"Nein"]
["KBMS-260H03-A (400 V)",12812,147,3444,29.5,{"$nulls":6},{"v":3366.1270463935866,"d":"3366.13"},40,null,null,55,10200,1.9,32,{"v":7180,"d":"7180.0"},58,null,"Nein"]
["KBMS-260H03-A (480 V)",12812,147,3444,29.5,{"$nulls":8},{"v":3288.7777440509253,"d":"3288.78"},50,67,10200,1.9,32,{"v":7180,"d":"7180.0"},58,null,"Nein"]
["KBMS-260S01-A (240 V)",6494,147,1932,33.1,{"$nulls":4},{"v":1761.3147035503084,"d":"1761.31"},45,{"$nulls":4},67,5450,1.06,16,{"v":3584,"d":"3584.0"},58,null,"Nein"]
["KBMS-260S02-A (240 V)",9741,147,2706,31,{"$nulls":4},{"v":2482.817112233567,"d":"2482.82"},28,{"$nulls":4},44,7860,1.48,24,{"v":5380,"d":"5380.0"},58,null,"Nein"]
["KBMS-260S03-A (240 V)",12812,147,3444,29.5,{"$nulls":4},{"v":3317.1240770731874,"d":"3317.12"},19,{"$nulls":4},33,10200,1.9,32,{"v":7180,"d":"7180.0"},58,null,"Nein"]
["AKMH21C",1.57,7.9,0.317,1.33,{"$nulls":4},{"v":0.255,"d":"0.26"},8000,{"v":0.255,"d":"0.26"},8000,{"v":0.255,"d":"0.26"},8000,8000,0.107,13,19,19.5,6,null,"Ja"]
["AKMH22C",3.03,7,0.633,1.18,{"$nulls":4},{"v":0.583,"d":"0.58"},3500,{"v":0.4,"d":"0.40"},8000,{"v":0.4,"d":"0.40"},8000,8000,0.161,20,35.5,{"v":39,"d":"39.0"},6,null,"Ja"]
["AKMH22E",3.07,13.7,0.654,2.31,{"$nulls":4},0.41,8000,0.41,8000,0.41,8000,8000,0.161,5.24,9.7,20.4,6,null,"Ja"]
["AKMH23D",4.35,11,0.897,1.89,{"$nulls":4},{"v":0.765,"d":"0.77"},5000,0.58,8000,0.58,8000,8000,0.216,8.79,17.3,33.8,6,null,"Ja"]
["AKMH23E",4.37,13.9,0.904,2.36,{"$nulls":4},{"v":0.688,"d":"0.69"},6500,0.58,8000,0.58,8000,8000,0.216,5.46,11.1,{"v":27,"d":"27.0"},6,null,"Ja"]
["AKMH23F",4.41,21.6,0.917,3.71,{"$nulls":4},{"v":0.593,"d":"0.59"},8000,0.59,8000,0.58,8000,8000,0.216,2.36,4.68,17.6,6,null,"Ja"]
["AKMH24D",5.5,11.1,1.12,2.41,{"$nulls":4},1.04,4000,0.83,8000,0.83,8000,8000,0.27,9.04,18.7,40.8,6,null,"Ja"]
["AKMH24E",5.51,14,1.12,2.41,{"$nulls":4},{"v":0.981,"d":"0.98"},5500,0.83,8000,0.83,8000,8000,0.27,5.46,11.8,32.4,6,null,"Ja"]
["AKMH24F",5.53,19.5,1.13,3.38,{"$nulls":4},{"v":0.839,"d":"0.84"},8000,0.84,8000,0.83,8000,8000,0.27,2.96,6.16,23.4,6,null,"Ja"]
["AKMH31C",4.41,6.9,1,1.29,{"$nulls":4},0.95,2500,0.82,6000,0.82,6000,8000,0.33,21.4,37.5,54.5,8,null,"Ja"]
["AKMH31E",4.52,15,1.04,2.76,{"$nulls":4},0.86,6000,0.74,8000,0.74,8000,8000,0.33,4.76,8.6,26.1,8,null,"Ja"]
["AKMH31H",4.59,29.3,1.08,5.59,{"$nulls":4},0.76,8000,0.76,8000,0.76,8000,8000,0.33,1.31,2.4,13.7,8,null,"Ja"]
["AKMH32C",8.1,7.2,1.72,1.3,{"$nulls":4},1.66,1500,1.57,3000,1.52,3500,8000,0.59,23.8,46.5,89.8,8,null,"Ja"]
["AKMH32E",8.24,14.1,1.77,2.56,{"$nulls":4},1.57,3500,{"v":1.1,"d":"1.10"},7000,0.92,8000,8000,0.59,6.32,12.8,47.1,8,null,"Ja"]
["AKMH32H",8.39,27.5,1.82,4.92,{"$nulls":4},1.13,7000,0.95,8000,0.95,8000,8000,0.59,1.71,3.53,24.8,8,null,"Ja"]
["AKMH33C",11.5,7.4,2.25,1.27,{"$nulls":4},2.22,1000,2.14,2000,2.09,2500,8000,0.85,26.6,53.6,{"v":120,"d":"120.0"},8,null,"Ja"]
["AKMH33E",11.7,12.9,2.32,2.2,{"$nulls":4},{"v":2.2,"d":"2.20"},2000,1.82,4500,1.72,5000,8000,0.85,9.03,18.5,70.6,8,null,"Ja"]
["AKMH33H",11.9,28.1,2.38,4.78,{"$nulls":4},1.64,5500,0.88,8000,0.88,8000,8000,0.85,1.98,4.1,33.4,8,null,"Ja"]
["AKMH41C",6.82,7.3,1.85,1.39,{"$nulls":4},1.78,1200,1.68,3000,1.65,3500,6000,0.81,21.3,66.1,86.3,10,null,"Ja"]
["AKMH41E",6.95,14.3,1.92,2.71,{"$nulls":4},1.74,3000,1.44,6000,1.44,6000,6000,0.81,6.04,18.4,45.6,10,null,"Ja"]
["AKMH41H",7,28,1.96,5.32,{"$nulls":4},1.47,6000,1.47,6000,1.47,6000,6000,0.81,1.58,5,23.7,10,null,"Ja"]
["AKMH42C",12.6,7,3.22,1.35,{"$nulls":6},2.98,1500,2.91,2000,6000,1.45,27.5,97.4,{"v":154,"d":"154.0"},10,null,"Ja"]
["AKMH42E",12.8,13.7,3.28,2.63,{"$nulls":4},2.99,1800,2.72,3500,2.61,4000,6000,1.45,7.8,26.8,80.9,10,null,"Ja"]
["AKMH42H",13.1,30,3.4,5.76,{"$nulls":4},2.63,4500,2.21,6000,2.21,6000,6000,1.45,1.67,6,38.3,10,null,"Ja"]
["AKMH42J",13.1,42,3.42,8.06,{"$nulls":4},2.23,6000,2.23,6000,2.23,6000,6000,1.45,0.82,3.1,27.5,10,null,"Ja"]
["AKMH43E",18.3,13.7,4.56,2.68,{"$nulls":4},4.15,1500,3.83,2500,3.68,3000,6000,2.09,8.63,32.6,{"v":111,"d":"111.0"},10,null,"Ja"]
["AKMH43H",18.7,27.2,4.68,5.24,{"$nulls":4},3.77,3000,2.44,6000,2.44,6000,6000,2.09,2.12,8.8,57.4,10,null,"Ja"]
["AKMH43L",18.4,55.8,4.59,10.9,{"$nulls":4},2.39,6000,2.39,6000,2.39,6000,6000,2.09,0.57,2,27.5,10,null,"Ja"]
["AKMH44E",23.5,14.5,5.64,2.79,{"$nulls":4},5.13,1200,4.76,2000,4.52,2500,6000,2.73,8.66,33.9,{"v":132,"d":"132.0"},10,null,"Ja"]
["AKMH44H",23.5,28.1,5.77,5.49,{"$nulls":4},4.59,2500,3.31,5000,2.58,6000,6000,2.73,2.25,9.1,{"v":68,"d":"68.0"},10,null,"Ja"]
["AKMH44K",23.5,50.5,5.76,9.9,{"$nulls":4},{"v":3.1,"d":"3.10"},5000,2.55,6000,2.55,6000,6000,2.73,0.7,2.8,37.8,10,null,"Ja"]
["AKMH51E",15,13.8,3.47,2.38,{"$nulls":4},3.28,1200,2.98,2500,2.82,3000,6000,3.42,9,36.6,{"v":110,"d":"110.0"},10,null,"Ja"]
["AKMH51H",15,30,3.39,5.02,{"$nulls":4},2.75,3000,1.41,5500,1.41,5500,6000,3.42,2,7.9,51.3,10,null,"Ja"]
["AKMH51L",15.2,59.5,3.47,10,{"$nulls":4},1.45,5500,1.45,5500,1.45,5500,6000,3.42,0.58,2.1,26.6,10,null,"Ja"]
["AKMH52E",28.9,15,6.15,2.43,{"$nulls":6},5.39,1500,5.08,2000,6000,6.22,8.98,44.7,{"v":179,"d":"179.0"},10,null,"Ja"]
["AKMH52H",29.1,29.5,6.29,4.81,{"$nulls":4},5.32,1800,3.44,3500,2.44,4000,6000,6.22,2.37,11.9,92.7,10,null,"Ja"]
["AKMH52L",29.5,58,6.45,9.5,{"$nulls":4},3.53,3500,1.19,4500,1.19,4500,6000,6.22,0.63,3.24,48.3,10,null,"Ja"]
["AKMH52M",29.4,65.5,6.39,10.7,{"$nulls":4},1.18,4500,1.18,4500,1.18,4500,6000,6.22,0.51,2.5,42.4,10,null,"Ja"]
["AKMH53H",41.8,33,8.6,5.29,{"$nulls":6},4.06,3000,2.12,3500,6000,9.12,2.12,11.4,{"v":112,"d":"112.0"},10,null,"Ja"]
["AKMH53L",42,59,8.68,9.43,{"$nulls":4},4.09,3000,2.14,3500,2.14,3500,6000,9.12,0.71,3.64,63.9,10,null,"Ja"]
["AKMH53P",41.7,95.5,8.49,15.2,{"$nulls":4},2.09,3500,2.09,3500,2.09,3500,6000,9.12,0.3,1.3,38.4,10,null,"Ja"]
["AKMH54H",53.3,27.5,10.5,4.12,{"$nulls":4},9.31,1000,7.62,1800,7.09,2000,6000,11.92,3.22,18.3,{"v":166,"d":"166.0"},10,null,"Ja"]
["AKMH54L",53.3,62.5,10.4,9.29,{"$nulls":4},5.13,2500,2.47,3000,2.47,3000,6000,11.92,0.67,3.5,72.9,10,null,"Ja"]
["AKMH54P",55.1,98,10.6,14.5,{"$nulls":4},2.52,3000,2.52,3000,2.52,3000,6000,11.92,0.32,1.5,47.3,10,null,"Ja"]
["AKMH62H",39.8,27.1,10.6,5.3,{"$nulls":4},{"v":10.5,"d":"10.50"},1000,9.93,1800,9.86,2000,6000,16.9,3.32,25.4,142.1,10,null,"Ja"]
["AKMH62L",40.1,60,10.8,11.9,{"$nulls":4},{"v":9.6,"d":"9.60"},2500,4.95,5000,3.31,5500,6000,16.9,0.757,5.4,65.5,10,null,"Ja"]
["AKMH62M",40.2,67,10.9,13.1,{"$nulls":4},{"v":9.1,"d":"9.10"},3000,3.33,5500,3.33,5500,6000,16.9,0.587,4.4,58.8,10,null,"Ja"]
["AKMH63H",57.9,28,14.6,5.2,{"$nulls":6},{"v":13.6,"d":"13.60"},1500,{"v":13.2,"d":"13.20"},1800,6000,24.2,3.45,28.1,194.5,10,null,"Ja"]
["AKMH63L",58.4,55.4,14.8,10.6,{"$nulls":4},{"v":13.4,"d":"13.40"},1800,{"v":11.1,"d":"11.10"},3000,{"v":9.6,"d":"9.60"},3500,6000,24.2,0.957,7.4,98.2,10,null,"Ja"]
["AKMH63M",58.8,69,15,13,{"$nulls":4},{"v":13.3,"d":"13.30"},2000,{"v":7.9,"d":"7.90"},4000,{"v":5.7,"d":"5.70"},4500,6000,24.2,0.627,4.9,79.9,10,null,"Ja"]
["AKMH64K",75.1,46,18.7,8.7,{"$nulls":4},{"v":17.1,"d":"17.10"},1200,{"v":15.6,"d":"15.60"},2000,{"v":14.2,"d":"14.20"},2500,6000,31.6,1.43,11.8,{"v":147,"d":"147.0"},10,null,"Ja"]
["AKMH64L",75.6,64,19,12.1,{"$nulls":4},{"v":16.8,"d":"16.80"},1500,{"v":12.5,"d":"12.50"},3000,{"v":10,"d":"10.00"},3500,6000,31.6,0.767,6.2,{"v":107,"d":"107.0"},10,null,"Ja"]
["AKMH65K",91.4,49,21.9,9.1,{"$nulls":4},{"v":20.1,"d":"20.10"},1000,{"v":17.7,"d":"17.70"},2000,{"v":17.1,"d":"17.10"},2200,6000,40,1.35,11.4,{"v":164,"d":"164.0"},10,null,"Ja"]
["AKMH65L",92,61,22.2,11.1,{"$nulls":4},{"v":19.7,"d":"19.70"},1300,{"v":16,"d":"16.00"},2500,{"v":14.5,"d":"14.50"},2800,6000,40,1.07,7.6,{"v":133,"d":"133.0"},10,null,"Ja"]
["AKMH65M",92,68,22.2,12.6,{"$nulls":4},{"v":19.4,"d":"19.40"},1500,{"v":16.1,"d":"16.10"},2500,{"v":13.5,"d":"13.50"},3000,6000,40,0.747,6.1,{"v":119,"d":"119.0"},10,null,"Ja"]
["VLM21C",1.66,6,0.48,1.49,null,null,0.44,3500,0.41,6000,{"$nulls":4},6000,0.429,10.4,12.1,20.8,6,null,"Ja"]
["VLM21E",1.65,12,0.47,2.99,0.44,3000,0.41,6000,{"$nulls":6},6000,0.429,2.6,3,10.4,6,null,"Ja"]
["VLM22C",2.91,6.8,0.81,1.69,null,null,0.69,2500,0.51,6000,{"$nulls":4},6000,0.633,8.8,12.1,31.2,6,null,"Ja"]
["VLM22E",2.94,13.3,0.83,3.34,0.73,2000,0.52,6000,{"$nulls":6},6000,0.633,2.3,3.2,16.1,6,null,"Ja"]
["VLM23D",4.2,9.8,1.18,2.45,null,null,0.94,3000,{"v":0.6,"d":"0.60"},6000,{"$nulls":4},6000,0.819,4.7,7.7,31.2,6,null,"Ja"]
["VLM23G",4.2,19.6,1.18,4.91,{"v":1,"d":"1.00"},2500,{"v":0.6,"d":"0.60"},6000,{"$nulls":6},6000,0.819,1.2,1.9,15.6,6,null,"Ja"]
["VLM31E",6.4,11.3,1.96,2.84,null,null,{"v":1.8,"d":"1.80"},2000,1.63,4000,{"$nulls":4},6000,1.79,4.3,11.7,45.9,6,null,"Ja"]
["VLM31H",6.4,22.9,1.95,5.72,1.82,1750,1.62,4000,{"$nulls":6},6000,1.79,1.1,2.8,22.6,6,null,"Ja"]
["VLM32H",12,21.1,3.55,5.26,null,null,3.26,2000,2.86,4500,{"$nulls":4},6000,3.37,1.6,5,45.2,6,null,"Ja"]
["VLM32J",11.9,33.7,3.51,8.43,3.32,1500,{"v":3,"d":"3.00"},3500,{"$nulls":6},6000,3.37,0.7,1.9,27.9,6,null,"Ja"]
["VLM33J",15.9,28.9,4.53,7.23,null,null,3.93,2250,2.37,5000,{"$nulls":4},6000,4.84,0.85,2.7,41.9,6,null,"Ja"]
["tbd",{"$nulls":21},"Nein"]
["tbd",{"$nulls":21},"Nein"]
["tbd",{"$nulls":21},"Nein"]
["tbd",{"$nulls":21},"Nein"]
["tbd",{"$nulls":21},"Nein"]
["tbd",{"$nulls":21},"Nein"]
["tbd",{"$nulls":21},"Nein"]
["tbd",{"$nulls":21},"Nein"]
["tbd",{"$nulls":21},"Nein"]
["tbd",{"$nulls":21},"Nein"]
["tbd",{"$nulls":21},"Nein"]
["tbd",{"$nulls":21},"Nein"]
["tbd",{"$nulls":21},"Nein"]
["tbd",{"$nulls":21},"Nein"]
["tbd",{"$nulls":21},"Nein"]
["tbd",{"$nulls":21},"Nein"]
["tbd",{"$nulls":21},"Nein"]
["tbd",{"$nulls":21},"Nein"]
["tbd",{"$nulls":21},"Nein"]
["tbd",{"$nulls":21},"Nein"]
["tbd",{"$nulls":21},"Nein"]
["tbd",{"$nulls":21},"Nein"]

{"sheet":"Calc","index":5,"n_rows":194,"n_cols":80,"rows_kept":194,"hidden":true,"merged":[[80,20,80,46],[80,49,80,66],[98,15,98,16],[137,21,137,55],[137,57,137,79]]}
["Motor Nr","Drive Nr","DC-Voltage","2. Motor",null,"AC","DC",{"$nulls":3},"Drives","AC-Voltage","Icont","Ipeak","SFD \nUnterstützung?"]
[{"$f":"Data!C149","v":"AKM22E"},"max.",{"$f":"Data!L170","v":320},false,2,{"$f":"75/SQRT(2)","v":53.03300858899106},{"$f":"IF($C$13>F2,75,\"\")","v":75},{"$nulls":3},"Servostar 303",{"v":230,"d":"230 V"},{"v":3,"d":"3.0 Arms"},{"v":9,"d":"9.0 Arms"},"Nein"]
[{"$nulls":5},{"$f":"160/SQRT(2)","v":113.1370849898476},{"$f":"IF($C$13>F3,160,\"\")","v":160},{"$nulls":3},"Servostar 306",{"v":230,"d":"230 V"},{"v":6,"d":"6.0 Arms"},{"v":15,"d":"15.0 Arms"},"Nein"]
[{"$nulls":5},{"$f":"320/SQRT(2)","v":226.2741699796952},{"$f":"IF($C$13>F4,320,\"\")","v":320},{"$nulls":3},"Servostar 310",{"v":230,"d":"230 V"},{"v":10,"d":"10.0 Arms"},{"v":20,"d":"20.0 Arms"},"Nein"]
[{"$nulls":5},{"$f":"560/SQRT(2)","v":395.97979746446657},{"$f":"IF($C$13>F5,560,\"\")","v":560},{"$nulls":3},"Servostar 341",{"v":480,"d":"480 V"},{"v":1.5,"d":"1.5 Arms"},{"v":4.5,"d":"4.5 Arms"},"Nein"]
[{"$nulls":5},{"$f":"640/SQRT(2)","v":452.5483399593904},{"$f":"IF($C$13>F6,640,\"\")","v":640},{"$nulls":3},"Servostar 343",{"v":480,"d":"480 V"},{"v":3,"d":"3.0 Arms"},{"v":7.5,"d":"7.5 Arms"},"Nein"]
[{"$nulls":10},"Servostar 346",{"v":480,"d":"480 V"},{"v":6,"d":"6.0 Arms"},{"v":12,"d":"12.0 Arms"},"Nein"]
["Motor",{"$nulls":9},"Servostar 403M/A",{"v":230,"d":"230 V"},{"v":3,"d":"3.0 Arms"},{"v":9,"d":"9.0 Arms"},"Nein"]
["r","l","ke","Ipeak ","poles","nmax","Mo","Io","Mpeak",null,"Servostar 406M/A",{"v":230,"d":"230 V"},{"v":6,"d":"6.0 Arms"},{"v":12,"d":"12.0 Arms"},"Nein"]
[{"$f":"VLOOKUP($A$2,Motor!$A$9:$U$1280,18,FALSE)","v":5.09},{"$f":"VLOOKUP($A$2,Motor!$A$9:$U$1280,19,FALSE)","v":9.7},{"$f":"VLOOKUP($A$2,Motor!$A$9:$U$1280,20,FALSE)","v":22.4},{"$f":"VLOOKUP($A$2,Motor!$A$9:$U$1280,3,FALSE)","v":11},{"$f":"VLOOKUP($A$2,Motor!$A$9:$U$1280,21,FALSE)","v":6},{"$f":"VLOOKUP($A$2,Motor!$A$9:$U$1280,16,FALSE)","v":8000},{"$f":"VLOOKUP($A$2,Motor!$A$9:$U$1280,4,FALSE)","v":0.87},{"$f":"VLOOKUP($A$2,Motor!$A$9:$U$1280,5,FALSE)","v":2.73},{"$f":"VLOOKUP($A$2,Motor!$A$9:$U$1280,2,FALSE)","v":2.76},null,"Servostar 443M/403A",{"v":400,"d":"400 V"},{"v":3,"d":"3.0 Arms"},{"v":9,"d":"9.0 Arms"},"Nein"]
["Drive",{"$nulls":5},{"$f":"G10/H10","v":0.31868131868131866},null,{"$f":"I10/D10","v":0.2509090909090909},null,"Servostar 446M/406A",{"v":400,"d":"400 V"},{"v":6,"d":"6.0 Arms"},{"v":12,"d":"12.0 Arms"},"Nein"]
["I peak","I rms","AC-Voltage",{"$nulls":7},"Servostar 601",{"v":480,"d":"480 V"},{"v":1.5,"d":"1.5 Arms"},{"v":3,"d":"3.0 Arms"},"Nein"]
[{"$f":"VALUE(VLOOKUP($B$2,$K$2:$N$43,4,FALSE))","v":1000},{"$f":"VALUE(VLOOKUP($B$2,$K$2:$N$43,3,FALSE))","v":1000},{"$f":"VALUE(VLOOKUP($B$2,$K$2:$N$45,2,FALSE))","v":480},{"$nulls":7},"Servostar 603",{"v":480,"d":"480 V"},{"v":3,"d":"3.0 Arms"},{"v":6,"d":"6.0 Arms"},"Nein"]
[{"$f":"VALUE(VLOOKUP($B$2,$K$2:$N$43,4,FALSE))","v":1000},{"$nulls":9},"Servostar 606",{"v":480,"d":"480 V"},{"v":6,"d":"6.0 Arms"},{"v":12,"d":"12.0 Arms"},"Nein"]
[{"$nulls":10},"Servostar 610",{"v":480,"d":"480 V"},{"v":10,"d":"10.0 Arms"},{"v":20,"d":"20.0 Arms"},"Nein"]
[{"$nulls":10},"Servostar 610/30",{"v":480,"d":"480 V"},{"v":10,"d":"10.0 Arms"},{"v":30,"d":"30.0 Arms"},"Nein"]
[{"$nulls":10},"Servostar 614",{"v":480,"d":"480 V"},{"v":14,"d":"14.0 Arms"},{"v":28,"d":"28.0 Arms"},"Nein"]
["Cyclic duty",{"$nulls":9},"Servostar 620",{"v":480,"d":"480 V"},{"v":20,"d":"20.0 Arms"},{"v":40,"d":"40.0 Arms"},"Nein"]
["M","n","a","b","c","speed","Ipeak","Kt",null,null,"Servostar 640",{"v":480,"d":"480 V"},{"v":40,"d":"40.0 Arms"},{"v":80,"d":"80.0 Arms"},"Nein"]
[{"$f":"A21","v":2.7600000000000002},0,{"$nulls":8},"Servostar 670",{"v":480,"d":"480 V"},{"v":70,"d":"70.0 Arms"},{"v":140,"d":"140.0 Arms"},"Nein"]
[{"$f":"G21*($G$10/$H$10-($G$10/$H$10-$I$10/$D$10)/$D$10*G21)","v":2.7600000000000002},{"$f":"MAX(MIN(F21,$F$10),0)","v":5148.4},{"$f":"($C$10^2)/1000000+(($B$10/1000)^2*G21^2*PI()*PI()*($E$10/2)^2)/1200","v":1.3444927033743864E-3},{"$f":"SQRT(3)*$C$10*$A$10*G21/1000","v":2.172296553633504},{"$f":"0.75*$A$10^2*G21^2-($C$2/SQRT(2)*0.98)^2","v":-46821.319924999996},{"$f":"ROUND((-D21/2/C21+SQRT((D21/2/C21)^2-E21/C21)),1)","v":5148.4},{"$f":"MIN($D$10,$A$13)*1","v":11},{"$f":"A21/G21","v":0.2509090909090909},null,null,"Servostar S20260",{"v":230,"d":"230 V"},{"v":1.5,"d":"1.5 Arms"},{"v":4.5,"d":"4.5 Arms"},"Ja"]
[2.719411692307692,5224.8,1.3111204883207606E-3,2.128850622560834,-46914.42586397,5224.8,{"$f":"MIN($D$10,$A$13)*0.98","v":10.78},0.2522645354645355,null,null,"Servostar S20360",{"v":230,"d":"230 V"},{"v":3,"d":"3.0 Arms"},{"v":9,"d":"9.0 Arms"},"Ja"]
[2.678226989010989,5302.7,1.2784224594298342E-3,2.0854046914881637,-47005.65087488,5302.7,{"$f":"MIN($D$10,$A$13)*0.96","v":10.559999999999999},0.25361998001998004,null,null,"Servostar S20330",{"v":50,"d":"50 V"},{"v":3,"d":"3.0 Arms"},{"v":9,"d":"9.0 Arms"},"Ja"]
[2.6364458901098904,5382.1,1.2463986167016079E-3,2.0419587604154934,-47094.99495773,5382.1,{"$f":"MIN($D$10,$A$13)*0.94","v":10.34},0.2549754245754246,null,null,"Servostar S20630",{"v":50,"d":"50 V"},{"v":6,"d":"6.0 Arms"},{"v":18,"d":"18.0 Arms"},"Ja"]
[2.5940683956043955,5463.1,1.2150489601360807E-3,1.9985128293428238,-47182.45811252,5463.1,{"$f":"MIN($D$10,$A$13)*0.92","v":10.120000000000001},0.2563308691308691,null,null,"S 701",{"v":480,"d":"480 V"},{"v":1.5,"d":"1.5 Arms"},{"v":4.5,"d":"4.5 Arms"},"Nein"]
[2.5510945054945053,5545.7,1.1843734897332531E-3,1.9550668982701536,-47268.040339249994,5545.7,{"$f":"MIN($D$10,$A$13)*0.9","v":9.9},0.2576863136863137,null,null,"S 703",{"v":480,"d":"480 V"},{"v":3,"d":"3.0 Arms"},{"v":9,"d":"9.0 Arms"},"Nein"]
[2.5075242197802194,5630,1.154372205493125E-3,1.9116209671974835,-47351.74163791999,5630,{"$f":"MIN($D$10,$A$13)*0.88","v":9.68},0.25904175824175824,null,null,"S 706",{"v":480,"d":"480 V"},{"v":6,"d":"6.0 Arms"},{"v":18,"d":"18.0 Arms"},"Nein"]
[2.4633575384615383,5715.8,1.125045107415696E-3,1.8681750361248133,-47433.562008529996,5715.8,{"$f":"MIN($D$10,$A$13)*0.86","v":9.459999999999999},0.2603972027972028,null,null,"S 712",{"v":480,"d":"480 V"},{"v":12,"d":"12.0 Arms"},{"v":24,"d":"24.0 Arms"},"Nein"]
[2.418594461538462,5803.3,1.096392195500967E-3,1.8247291050521433,-47513.501451079996,5803.3,{"$f":"MIN($D$10,$A$13)*0.84","v":9.24},0.26175264735264736,null,null,"S 712P",{"v":480,"d":"480 V"},{"v":12,"d":"12.0 Arms"},{"v":30,"d":"30.0 Arms"},"Nein"]
[2.373234989010989,5892.4,1.0684134697489375E-3,1.781283173979473,-47591.55996557,5892.4,{"$f":"MIN($D$10,$A$13)*0.82","v":9.02},0.2631080919080919,null,null,"S 724",{"v":480,"d":"480 V"},{"v":24,"d":"24.0 Arms"},{"v":48,"d":"48.0 Arms"},"Nein"]
[2.3272791208791213,5983.2,1.0411089301596075E-3,1.7378372429068034,-47667.737552,5983.2,{"$f":"MIN($D$10,$A$13)*0.8","v":8.8},0.2644635364635365,null,null,"S 724P",{"v":480,"d":"480 V"},{"v":24,"d":"24.0 Arms"},{"v":72,"d":"72.0 Arms"},"Nein"]
[2.2807268571428576,6075.6,1.0144785767329766E-3,1.6943913118341332,-47742.034210369995,6075.6,{"$f":"MIN($D$10,$A$13)*0.78","v":8.58},0.26581898101898105,null,null,"S 748",{"v":480,"d":"480 V"},{"v":48,"d":"48.0 Arms"},{"v":96,"d":"96.0 Arms"},"Nein"]
[2.2335781978021974,6169.7,9.885224094690454E-4,1.650945380761463,-47814.449940679995,6169.7,{"$f":"MIN($D$10,$A$13)*0.76","v":8.36},0.26717442557442556,null,null,"S 772",{"v":480,"d":"480 V"},{"v":72,"d":"72.0 Arms"},{"v":140,"d":"140.0 Arms"},"Nein"]
[2.1858331428571427,6265.5,9.6324042836781407E-4,1.607499449688793,-47884.98474293,6265.5,{"$f":"MIN($D$10,$A$13)*0.74","v":8.14},0.2685298701298701,null,null,"AKD-x00306",{"v":230,"d":"230 V"},{"v":3,"d":"3.0 Arms"},{"v":9,"d":"9.0 Arms"},"Ja"]
[2.1374916923076923,6362.9,9.3863263342928191E-4,1.5640535186161229,-47953.63861712,6362.9,{"$f":"MIN($D$10,$A$13)*0.72","v":7.92},0.2698853146853147,null,null,"AKD-x00606",{"v":230,"d":"230 V"},{"v":6,"d":"6.0 Arms"},{"v":18,"d":"18.0 Arms"},"Ja"]
[2.088553846153846,6461.9,9.1469902465344936E-4,1.5206075875434526,-48020.411563249996,6461.9,{"$f":"MIN($D$10,$A$13)*0.7","v":7.699999999999999},0.2712407592407593,null,null,"AKD-x01206",{"v":230,"d":"230 V"},{"v":12,"d":"12.0 Arms"},{"v":30,"d":"30.0 Arms"},"Ja"]
[2.0390196043956044,6562.5,8.9143960204031631E-4,1.4771616564707826,-48085.30358132,6562.5,{"$f":"MIN($D$10,$A$13)*0.68","v":7.48},0.27259620379620375,null,null,"AKD-x02406",{"v":230,"d":"230 V"},{"v":24,"d":"24.0 Arms"},{"v":48,"d":"48.0 Arms"},"Ja"]
[1.9888889670329672,6664.7,8.6885436558988265E-4,1.4337157253981128,-48148.314671329994,6664.7,{"$f":"MIN($D$10,$A$13)*0.66","v":7.260000000000001},0.27395164835164837,null,null,"AKD-x00307",{"v":480,"d":"480 V"},{"v":3,"d":"3.0 Arms"},{"v":9,"d":"9.0 Arms"},"Ja"]
[1.938161934065934,6768.4,8.4694331530214871E-4,1.3902697943254425,-48209.444833279995,6768.4,{"$f":"MIN($D$10,$A$13)*0.64","v":7.04},0.2753070929070929,null,null,"AKD-x00607",{"v":480,"d":"480 V"},{"v":6,"d":"6.0 Arms"},{"v":18,"d":"18.0 Arms"},"Ja"]
[1.8868385054945054,6873.6,8.2570645117711417E-4,1.3468238632527725,-48268.69406717,6873.6,{"$f":"MIN($D$10,$A$13)*0.62","v":6.82},0.27666253746253744,null,null,"AKD-x01207",{"v":480,"d":"480 V"},{"v":12,"d":"12.0 Arms"},{"v":30,"d":"30.0 Arms"},"Ja"]
[1.834918681318681,6980.1,0.000805143773214779,1.3033779321801022,-48326.06237299999,6980.1,{"$f":"MIN($D$10,$A$13)*0.6","v":6.6},0.278017982017982,null,null,"AKD-x02407",{"v":480,"d":"480 V"},{"v":24,"d":"24.0 Arms"},{"v":48,"d":"48.0 Arms"},"Ja"]
[1.7824024615384615,7088,7.8525528141514358E-4,1.2599320011074322,-48381.54975077,7088,{"$f":"MIN($D$10,$A$13)*0.58","v":6.38},0.27937342657342656,null,null,"other drive",{"v":480,"d":"480 V"},"5","15","Nein"]
[1.7292898461538462,7197.1,7.6604097577820753E-4,1.2164860700347622,-48435.15620047999,7197.1,{"$f":"MIN($D$10,$A$13)*0.56","v":6.16},0.2807288711288711,null,null,"max.",{"v":480,"d":"480 V"},{"v":1000,"d":"1000.0 Arms"},{"v":1000,"d":"1000.0 Arms"},"Nein"]
[1.6755808351648354,7307.4,0.000747500856303971,1.1730401389620921,-48486.88172213,7307.4,{"$f":"MIN($D$10,$A$13)*0.54","v":5.94},0.2820843156843157,null,null,"S 131xx     5A 230V","230 V",{"v":5,"d":"5.0 Arms"},{"v":10,"d":"10.0 Arms"},"Nein"]
[1.6212754285714288,7418.7,7.2963492299243417E-4,1.1295942078894223,-48536.72631571999,7418.7,{"$f":"MIN($D$10,$A$13)*0.52","v":5.720000000000001},0.28343976023976025,null,null,"S 132xx   10A 480V",{"v":480,"d":"480 V"},{"v":10,"d":"10.0 Arms"},{"v":20,"d":"20.0 Arms"},"Nein"]
[1.5663736263736265,7530.8,7.1244317584359652E-4,1.086148276816752,-48584.68998125,7530.8,{"$f":"MIN($D$10,$A$13)*0.5","v":5.5},0.2847952047952048,null,null,"S 132xx   15A 480V",{"v":480,"d":"480 V"},{"v":15,"d":"15.0 Arms"},{"v":30,"d":"30.0 Arms"},"Nein"]
[1.5108754285714285,7643.7,6.9592561485745858E-4,1.0427023457440818,-48630.77271871999,7643.7,{"$f":"MIN($D$10,$A$13)*0.48","v":5.279999999999999},0.2861506493506494,null,null,"S 132xx   20A 480V",{"v":480,"d":"480 V"},{"v":20,"d":"20.0 Arms"},{"v":40,"d":"40.0 Arms"},"Nein"]
[1.4547808351648353,7757.2,6.8008224003402015E-4,0.9992564146714119,-48674.97452813,7757.2,{"$f":"MIN($D$10,$A$13)*0.46","v":5.0600000000000005},0.2875060939060939]
[1.398089846153846,7871.1,6.6491305137328122E-4,0.9558104835987418,-48717.29540947999,7871.1,{"$f":"MIN($D$10,$A$13)*0.44","v":4.84},0.28886153846153845]
[1.3408024615384615,7985.2,6.5041804887524179E-4,0.9123645525260716,-48757.73536277,7985.2,{"$f":"MIN($D$10,$A$13)*0.42","v":4.62},0.290216983016983]
[1.2829186813186786,8000,6.3659723253990121E-4,0.8689186214533995,-48796.294387999995,8099.2,{"$f":"MIN($D$10,$A$13)*0.399999999999999","v":4.39999999999999},0.29157242757242763]
[1.2244385054945026,8000,6.2345060236726067E-4,0.8254726903807293,-48832.97248517,8213,{"$f":"MIN($D$10,$A$13)*0.379999999999999","v":4.179999999999989},0.2929278721278722]
[{"$f":"G53*($G$10/$H$10-($G$10/$H$10-$I$10/$D$10)/$D$10*G53)","v":1.1653619340659311},{"$f":"MAX(MIN(F53,$F$10),0)","v":8000},{"$f":"($C$10^2)/1000000+(($B$10/1000)^2*G53^2*PI()*PI()*($E$10/2)^2)/1200","v":6.1097815835731986E-4},{"$f":"SQRT(3)*$C$10*$A$10*G53/1000","v":0.7820267593080592},{"$f":"0.75*$A$10^2*G53^2-($C$2/SQRT(2)*0.98)^2","v":-48867.76965428},{"$f":"ROUND((-D53/2/C53+SQRT((D53/2/C53)^2-E53/C53)),1)","v":8326.2},{"$f":"MIN($D$10,$A$13)*0.359999999999999","v":3.959999999999989},{"$f":"A53/G53","v":0.29428331668331675}]
[1.1056889670329642,8000,5.9917990051007843E-4,0.7385808282353892,-48900.685895329996,8438.6,{"$f":"MIN($D$10,$A$13)*0.339999999999999","v":3.739999999999989},0.2956387612387613]
[1.0454196043956014,8000,5.8805582882553661E-4,0.695134897162719,-48931.72120832,8550,{"$f":"MIN($D$10,$A$13)*0.319999999999999","v":3.519999999999989},0.2969942057942059]
[0.9845538461538429,8000,5.7760594330369419E-4,0.6516889660900489,-48960.87559325,8659.9,{"$f":"MIN($D$10,$A$13)*0.299999999999999","v":3.2999999999999887},0.2983496503496504]
[0.9230916923076893,8000,5.6783024394455137E-4,0.6082430350173791,-48988.149050119995,8768.1,{"$f":"MIN($D$10,$A$13)*0.279999999999999","v":3.0799999999999894},0.29970509490509495]
[0.8610331428571397,8000,5.5872873074810806E-4,0.5647971039447088,-49013.541578929995,8874.3,{"$f":"MIN($D$10,$A$13)*0.259999999999999","v":2.859999999999989},0.3010605394605395]
[0.7983781978021947,8000,5.5030140371436424E-4,0.5213511728720388,-49037.05317968,8978,{"$f":"MIN($D$10,$A$13)*0.239999999999999","v":2.639999999999989},0.3024159840159841]
[0.7351268571428539,8000,5.4254826284331993E-4,0.47790524179936866,-49058.68385237,9078.9,{"$f":"MIN($D$10,$A$13)*0.219999999999999","v":2.419999999999989},0.30377142857142864]
[0.6712791208791177,8000,5.3546930813497512E-4,0.43445931072669863,-49078.433596999996,9176.6,{"$f":"MIN($D$10,$A$13)*0.199999999999999","v":2.199999999999989},0.3051268731268732]
[0.6068349890109856,8000,5.290645395893298E-4,0.3910133796540285,-49096.302413569996,9270.7,{"$f":"MIN($D$10,$A$13)*0.179999999999999","v":1.9799999999999889},0.3064823176823177]
[0.5417944615384582,8000,0.000523333957206384,0.34756744858135846,-49112.29030207999,9361,{"$f":"MIN($D$10,$A$13)*0.159999999999999","v":1.7599999999999891},0.30783776223776227]
[0.4761575384615351,8000,5.1827756098613768E-4,0.3041215175086884,-49126.397262529994,9446.9,{"$f":"MIN($D$10,$A$13)*0.139999999999999","v":1.539999999999989},0.30919320679320683]
[0.4099242197802164,8000,0.000513895350928591,0.2606755864360183,-49138.62329492,9528.2,{"$f":"MIN($D$10,$A$13)*0.119999999999999","v":1.319999999999989},0.3105486513486514]
[0.3430945054945021,8000,5.1018732703374367E-4,0.21722965536334823,-49148.96839925,9604.5,{"$f":"MIN($D$10,$A$13)*0.099999999999999","v":1.099999999999989},0.31190409590409596]
[0.2756683956043922,8000,5.0715348930159586E-4,0.17378372429067815,-49157.43257552,9675.4,{"$f":"MIN($D$10,$A$13)*0.079999999999999","v":0.879999999999989},0.3132595404595405]
[0.20764589010988635,8000,5.0479383773214767E-4,0.13033779321800784,-49164.01582373,9740.6,{"$f":"MIN($D$10,$A$13)*0.0599999999999989","v":0.6599999999999879},0.3146149850149851]
[0.13902698901098556,8000,0.000503108372325399,0.08689186214533798,-49168.718143879996,9799.9,{"$f":"MIN($D$10,$A$13)*0.039999999999999","v":0.439999999999989},0.31597042957042965]
[0.06981169230768883,8000,5.0209709308134966E-4,0.043445931072667913,-49171.53953597,9852.9,{"$f":"MIN($D$10,$A$13)*0.019999999999999","v":0.219999999999989},0.31732587412587415]
[{"$f":"G71*($G$10/$H$10+($G$10/$H$10-$I$10/$D$10)/$D$10*G71)","v":0},8000,0.00050176,0,-49172.479999999996,9899.5,{"$f":"MIN($D$10,$A$13)*0","v":0}]
[]
[null,{"$f":"MAX(MIN(F73,$F$10),0)","v":8000},{"$f":"($C$10^2)/1000000+(($B$10/1000)^2*G73^2*PI()*PI()*($E$10/2)^2)/1200","v":5.3536371913754006E-4},{"$f":"SQRT(3)*$C$10*$A$10*G73/1000","v":0.4337783400202326},{"$f":"0.75*$A$10^2*G73^2-($C$2/SQRT(2)*0.98)^2","v":-49078.728182263076},{"$f":"ROUND((-D73/2/C73+SQRT((D73/2/C73)^2-E73/C73)),0)","v":9178},{"$f":"MIN(B13,H10/G10*C83)","v":2.196551724137931}]
[]
[{"$nulls":31},"KOLLA OM DET ÄR RÄTT I PC SELECTOR GÄLLANDE hastighet och rpm"]
["S1"]
["M ","n",{"$nulls":29},"MÅSTE FÅ IN FAKTORN SOM KOMMER FRÅN ACCELERATIONEN!!!"]
[{"$f":"IF(D78>$B$71,\"\",C78)","v":0.87},{"$f":"IF(D78>$B$71,\"\",D78)","v":0},{"$f":"G10","v":0.87},0,0,{"$f":"MIN(A78,$A$154)","v":0.87}]
[{"$f":"IF(D79>$B$71,A78,C79)","v":0.85},{"$f":"IF(D79>$B$71,B78,D79)","v":1000},{"$f":"IF(VLOOKUP($A$2,Motorenmatrix,6,FALSE)=0,C78,VLOOKUP($A$2,Motorenmatrix,6,FALSE))","v":0.85},{"$f":"IF(VLOOKUP($A$2,Motorenmatrix,7,FALSE)=0,D78,VLOOKUP($A$2,Motorenmatrix,7,FALSE))","v":1000},{"$f":"IF(D79-D78=0,E78,(C79-C78)/(D79-D78))","v":-2.0000000000000019E-5},{"$f":"MIN(A79,$A$154)","v":0.85}]
[{"$f":"IF(D80>$B$71,A79,C80)","v":0.81},{"$f":"IF(D80>$B$71,B79,D80)","v":3500},{"$f":"IF(VLOOKUP($A$2,Motorenmatrix,8,FALSE)=0,C79,VLOOKUP($A$2,Motorenmatrix,8,FALSE))","v":0.81},{"$f":"IF(VLOOKUP($A$2,Motorenmatrix,9,FALSE)=0,D79,VLOOKUP($A$2,Motorenmatrix,9,FALSE))","v":3500},{"$f":"IF(D80-D79=0,E79,(C80-C79)/(D80-D79))","v":-1.5999999999999969E-5},0.81,{"$nulls":27},"ÄNDRA VILLKOR FÖR DRIVE TORQUE CONST SPEED"]
[{"$f":"IF(D81>$B$71,A80,C81)","v":0.7},{"$f":"IF(D81>$B$71,B80,D81)","v":8000},{"$f":"IF(VLOOKUP($A$2,Motorenmatrix,10,FALSE)=0,C80,VLOOKUP($A$2,Motorenmatrix,10,FALSE))","v":0.7},{"$f":"IF(VLOOKUP($A$2,Motorenmatrix,11,FALSE)=0,D80,VLOOKUP($A$2,Motorenmatrix,11,FALSE))","v":8000},{"$f":"IF(D81-D80=0,E80,(C81-C80)/(D81-D80))","v":-2.4444444444444465E-5},0.7,{"$nulls":14},"Continous drive",{"$nulls":28},"Cyclic duty"]
[{"$f":"IF(D82>$B$71,A81,C82)","v":0.7},{"$f":"IF(D82>$B$71,B81,D82)","v":8000},{"$f":"IF(VLOOKUP($A$2,Motorenmatrix,12,FALSE)=0,C81,VLOOKUP($A$2,Motorenmatrix,12,FALSE))","v":0.7},{"$f":"IF(VLOOKUP($A$2,Motorenmatrix,13,FALSE)=0,D81,VLOOKUP($A$2,Motorenmatrix,13,FALSE))","v":8000},{"$f":"IF(D82-D81=0,E81,(C82-C81)/(D82-D81))","v":-2.4444444444444465E-5},0.7,{"$nulls":7},"DIRECT DRIVE",{"$nulls":7},"PC40B20",{"$nulls":9},"PC40B10",{"$nulls":8},"PC40B05",{"$nulls":8},"PC40B20",{"$nulls":5},"PC40B10"]
[{"$f":"IF(D83>$B$71,A82,C83)","v":0.7},{"$f":"IF(D83>$B$71,B82,D83)","v":8000},{"$f":"IF(VLOOKUP($A$2,Motorenmatrix,14,FALSE)=0,C82,VLOOKUP($A$2,Motorenmatrix,14,FALSE))","v":0.7},{"$f":"IF(VLOOKUP($A$2,Motorenmatrix,15,FALSE)=0,D82,VLOOKUP($A$2,Motorenmatrix,15,FALSE))","v":8000},{"$f":"IF(D83-D82=0,E82,(C83-C82)/(D83-D82))","v":-2.4444444444444465E-5},0.7,{"$nulls":10},"IdleT","IdleT ","Drive T from Load","Drive T constant",null,null,"Idle Torque","Drive torque","Drive toque ","Drive toque ","Motor ","Output Max Load",{"$nulls":4},"Idle Torque","Drive torque","Drive toque ","Drive toque ","Motor ","Output Max Load",{"$nulls":3},"Idle Torque","Drive torque","Drive toque ","Drive toque ","Motor ","Output Max Load",{"$nulls":14},"PC40B05"]
[{"$f":"A83+(B84-B83)*E83","v":0.7},{"$f":"B73","v":8000},{"$f":"A83+(B84-B83)*E83","v":0.7},null,null,0.7,{"$nulls":8},"Max speed","Pitch","Unit","Speed",{"$nulls":4},"Speed","Load","const LX","const PA","capability",{"$nulls":5},"Speed","Load","const LX","const PA","capability",{"$nulls":4},"Speed","Load","const LX","const PA","capability",{"$nulls":3},"Motor capacity","Motor ",null,"Idel torque RPM","Max output",null,"Motor capacity","Motor ",null,"Idel torque RPM","Max output",null,"Motor capacity","Motor ",null,"Idel torque RPM","Max output"]
[{"$nulls":14},"RPM","mm","Nm","Nm","Nm","Nm","mm/s","RPM","RPM","NM","Nm","Nm","Nm","Nm",null,null,"mm/s","RPM","RPM","NM","Nm","Nm","Nm","Nm",null,"mm/s","RPM","RPM","NM","Nm","Nm","Nm","Nm",null,null,"Nm","Rpm","mm/s","Nm","N",null,"Nm","Rpm","mm/s","Nm","N",null,"Nm","Rpm","mm/s","Nm","N"]
[{"$f":"C78","v":0.87},0,null,{"$f":"MIN(A86,$A$154)","v":0.87},{"$nulls":9},"PC25…B03",8000,3,0.05,{"$f":"$B$87/O86*Q86*2+Q86","v":{"v":0.052000000000000005,"d":"0.052"}},{"$f":"$T$99*P86/2000/PI()/0.8+R86","v":{"v":0.052000000000000005,"d":"0.05"}},{"$f":"S86/0.9","v":{"v":0.05777777777777778,"d":"0.06"}},{"$f":"B86/60*$P$92","v":0},{"$f":"B86","v":0},{"$f":"V86/$O$92*$Q$92*2+$Q$92","v":{"v":0.3,"d":"0.30"}},{"$f":"$T$99*$P$92/2000/PI()/0.8+W86","v":{"v":0.3,"d":"0.30"}},{"$f":"IF(X86/0.9<=A86,X86/0.9,\"\")","v":{"v":0.3333333333333333,"d":"0.33"}},{"$f":"IF(Data!$E$83=1,Data!$L$117+Data!$F$59+X86/Data!$L$116/Data!$E$59/Data!$L$115,Data!$E$90+Data!$F$59+X86/Data!$G$90/Data!$E$59/Data!$D$90)","v":{"v":0.3333333333333333,"d":"0.33"}},{"$f":"A86","v":0.87},{"$f":"IF(Data!$C$59=1,TRUNC(($A86*0.9-W86)/$P$92*2000*PI()*0.8,0),IF(Data!$C$59=2,TRUNC(($A86*0.8-(W86+0.1))/$P$92*2000*PI()*0.8,0),\"\"))","v":121},null,null,{"$f":"B86/60*$P$91","v":0},{"$f":"AE86/$P$91*60","v":0},{"$f":"AF86/$O$91*$Q$91*2+$Q$91","v":{"v":0.2,"d":"0.20"}},{"$f":"$T$99*$P$91/2000/PI()/0.8+AG86","v":{"v":0.2,"d":"0.20"}},{"$f":"IF(AH86/0.9<=A86,AH86/0.9,\"\")","v":{"v":0.22222222222222224,"d":"0.22"}},{"$f":"IF(Data!$E$83=1,Data!$L$117+Data!$F$59+AH86/Data!$L$116/Data!$E$59/Data!$L$115,Data!$E$90+Data!$F$59+AH86/Data!$G$90/Data!$E$59/Data!$D$90)","v":{"v":0.22222222222222224,"d":"0.22"}},{"$f":"A86","v":0.87},{"$f":"IF(Data!$C$59=1,TRUNC(($A86*0.9-AG86)/$P$91*2000*PI()*0.8,0),IF(Data!$C$59=2,TRUNC(($A86*0.8-(AG86+0.1))/$P$91*2000*PI()*0.8,0),\"\"))","v":293},null,{"$f":"B86/60*$P$90","v":0},{"$f":"AN86/$P$90*60","v":0},{"$f":"AO86/$O$90*$Q$90*2+$Q$90","v":{"v":0.1,"d":"0.10"}},{"$f":"$T$99*$P$90/2000/PI()/0.8+AP86","v":{"v":0.1,"d":"0.10"}},{"$f":"IF(AQ86/0.9<=A86,AQ86/0.9,\"\")","v":{"v":0.11111111111111112,"d":"0.11"}},{"$f":"IF(Data!$E$83=1,Data!$L$117+Data!$F$59+AQ86/Data!$L$116/Data!$E$59/Data!$L$115,Data!$E$90+Data!$F$59+AQ86/Data!$G$90/Data!$E$59/Data!$D$90)","v":{"v":0.11111111111111112,"d":"0.11"}},{"$f":"A86","v":0.87},{"$f":"IF(Data!$C$59=1,TRUNC(($A86*0.9-AP86)/$P$90*2000*PI()*0.8,0),IF(Data!$C$59=2,TRUNC(($A86*0.8-(AP86+0.1))/$P$90*2000*PI()*0.8,0),\"\"))","v":686},null,null,{"$f":"$A20","v":{"v":2.7600000000000002,"d":"2.76"}},{"$f":"$B20","v":0},{"$f":"AY86/60*$P$92","v":0},{"$f":"AY86/$O$92*$Q$92*2+$Q$92","v":0.3},{"$f":"IF(Data!$C$59=1,TRUNC(($A20*0.9-BA86)/$P$92*2000*PI()*0.8,0),IF(Data!$C$59=2,TRUNC(($A20*0.8-(BA86+0.1))/$P$92*2000*PI()*0.8,0),\"\"))","v":548},null,{"$f":"$A20","v":{"v":2.7600000000000002,"d":"2.76"}},{"$f":"$B20","v":0},{"$f":"BE86/60*$P$91","v":0},{"$f":"BE86/$O$91*$Q$91*2+$Q$91","v":0.2},{"$f":"IF(Data!$C$59=1,TRUNC(($A20*0.9-BG86)/$P$91*2000*PI()*0.8,0),IF(Data!$C$59=2,TRUNC(($A20*0.8-(BG86+0.1))/$P$91*2000*PI()*0.8,0),\"\"))","v":1148},null,{"$f":"$A20","v":{"v":2.7600000000000002,"d":"2.76"}},{"$f":"$B20","v":0},{"$f":"BK86/60*$P$90","v":0},{"$f":"BK86/$O$90*$Q$90*2+$Q$90","v":0.1},{"$f":"IF(Data!$C$59=1,TRUNC(($A20*0.9-BM86)/$P$90*2000*PI()*0.8,0),IF(Data!$C$59=2,TRUNC(($A20*0.8-(BM86+0.1))/$P$90*2000*PI()*0.8,0),\"\"))","v":2396}]
[{"$f":"A86+(B87-B86)*C87","v":0.8668},{"$f":"0.02*$B$84","v":160},{"$f":"IF(B87<$B$79,$E$79,IF(B87<$B$80,$E$80,IF(B87<$B$81,$E$81,IF(B87<$B$82,$E$82,$E$83 ) ) ))","v":-2.0000000000000019E-5},{"$f":"MIN(A87,$A$154)","v":0.8668},{"$nulls":9},"PC25…B10",8000,10,0.15,{"$f":"$B$87/O87*Q87*2+Q87","v":0.156},{"v":0.156,"d":"0.16"},{"$f":"S87/0.9","v":{"v":0.17333333333333334,"d":"0.17"}},{"$f":"B87/60*$P$92","v":{"v":53.33333333333333,"d":"53"}},{"$f":"B87","v":160},{"$f":"V87/$O$92*$Q$92*2+$Q$92","v":{"v":0.3192,"d":"0.32"}},{"$f":"$T$99*$P$92/2000/PI()/0.8+W87","v":{"v":0.3192,"d":"0.32"}},{"$f":"IF(X87/0.9<=A87,X87/0.9,\"\")","v":{"v":0.35466666666666663,"d":"0.35"}},{"$f":"IF(Data!$E$83=1,Data!$L$117+Data!$F$59+X87/Data!$L$116/Data!$E$59/Data!$L$115,Data!$E$90+Data!$F$59+X87/Data!$G$90/Data!$E$59/Data!$D$90)","v":{"v":0.35466666666666663,"d":"0.35"}},{"$f":"A87","v":{"v":0.8668,"d":"0.87"}},{"$f":"IF(Data!$C$59=1,TRUNC(($A87*0.9-W87)/$P$92*2000*PI()*0.8,0),IF(Data!$C$59=2,TRUNC(($A87*0.8-(W87+0.1))/$P$92*2000*PI()*0.8,0),\"\"))","v":115},null,null,{"$f":"B87/60*$P$91","v":{"v":26.666666666666664,"d":"27"}},{"$f":"AE87/$P$91*60","v":160},{"$f":"AF87/$O$91*$Q$91*2+$Q$91","v":{"v":0.21280000000000002,"d":"0.21"}},{"v":0.21280000000000002,"d":"0.21"},{"$f":"IF(AH87/0.9<=A87,AH87/0.9,\"\")","v":{"v":0.23644444444444446,"d":"0.24"}},{"$f":"IF(Data!$E$83=1,Data!$L$117+Data!$F$59+AH87/Data!$L$116/Data!$E$59/Data!$L$115,Data!$E$90+Data!$F$59+AH87/Data!$G$90/Data!$E$59/Data!$D$90)","v":{"v":0.23644444444444446,"d":"0.24"}},{"$f":"A87","v":{"v":0.8668,"d":"0.87"}},{"$f":"IF(Data!$C$59=1,TRUNC(($A87*0.9-AG87)/$P$91*2000*PI()*0.8,0),IF(Data!$C$59=2,TRUNC(($A87*0.8-(AG87+0.1))/$P$91*2000*PI()*0.8,0),\"\"))","v":285},null,{"$f":"B87/60*$P$90","v":{"v":13.333333333333332,"d":"13"}},{"$f":"AN87/$P$90*60","v":160},{"$f":"AO87/$O$90*$Q$90*2+$Q$90","v":{"v":0.10640000000000001,"d":"0.11"}},{"v":0.10640000000000001,"d":"0.11"},{"$f":"IF(AQ87/0.9<=A87,AQ87/0.9,\"\")","v":{"v":0.11822222222222223,"d":"0.12"}},{"$f":"IF(Data!$E$83=1,Data!$L$117+Data!$F$59+AQ87/Data!$L$116/Data!$E$59/Data!$L$115,Data!$E$90+Data!$F$59+AQ87/Data!$G$90/Data!$E$59/Data!$D$90)","v":{"v":0.11822222222222223,"d":"0.12"}},{"$f":"A87","v":{"v":0.8668,"d":"0.87"}},{"$f":"IF(Data!$C$59=1,TRUNC(($A87*0.9-AP87)/$P$90*2000*PI()*0.8,0),IF(Data!$C$59=2,TRUNC(($A87*0.8-(AP87+0.1))/$P$90*2000*PI()*0.8,0),\"\"))","v":677},null,null,{"$f":"$A21","v":{"v":2.7600000000000002,"d":"2.76"}},{"$f":"$B21","v":{"v":5148.4,"d":"5148"}},{"$f":"AY87/60*$P$92","v":{"v":1716.1333333333332,"d":"1716"}},{"$f":"AY87/$O$92*$Q$92*2+$Q$92","v":{"v":0.917808,"d":"0.92"}},{"$f":"IF(Data!$C$59=1,TRUNC(($A21*0.9-BA87)/$P$92*2000*PI()*0.8,0),IF(Data!$C$59=2,TRUNC(($A21*0.8-(BA87+0.1))/$P$92*2000*PI()*0.8,0),\"\"))","v":393},null,{"$f":"$A21","v":{"v":2.7600000000000002,"d":"2.76"}},{"$f":"$B21","v":{"v":5148.4,"d":"5148"}},{"$f":"BE87/60*$P$91","v":{"v":858.0666666666666,"d":"858"}},{"$f":"BE87/$O$91*$Q$91*2+$Q$91","v":0.611872},{"$f":"IF(Data!$C$59=1,TRUNC(($A21*0.9-BG87)/$P$91*2000*PI()*0.8,0),IF(Data!$C$59=2,TRUNC(($A21*0.8-(BG87+0.1))/$P$91*2000*PI()*0.8,0),\"\"))","v":941},null,{"$f":"$A21","v":{"v":2.7600000000000002,"d":"2.76"}},{"$f":"$B21","v":{"v":5148.4,"d":"5148"}},{"$f":"BK87/60*$P$90","v":{"v":429.0333333333333,"d":"429"}},{"$f":"BK87/$O$90*$Q$90*2+$Q$90","v":0.305936},{"$f":"IF(Data!$C$59=1,TRUNC(($A21*0.9-BM87)/$P$90*2000*PI()*0.8,0),IF(Data!$C$59=2,TRUNC(($A21*0.8-(BM87+0.1))/$P$90*2000*PI()*0.8,0),\"\"))","v":2189}]
[{"$f":"A87+(B88-B87)*C88","v":0.8636},{"$f":"0.04*$B$84","v":{"v":320,"d":"320.00"}},{"$f":"IF(B88<$B$79,$E$79,IF(B88<$B$80,$E$80,IF(B88<$B$81,$E$81,IF(B88<$B$82,$E$82,$E$83 ) ) ))","v":-2.0000000000000019E-5},0.8636,{"$nulls":9},"PC32…B04",6000,4,0.07,{"v":0.07373333333333335,"d":"0.074"},{"v":0.07373333333333335,"d":"0.07"},{"v":0.08192592592592594,"d":"0.08"},{"v":106.66666666666666,"d":"107"},320,{"v":0.3384,"d":"0.34"},{"v":0.3384,"d":"0.34"},{"v":0.37599999999999995,"d":"0.38"},{"$f":"IF(Data!$E$83=1,Data!$L$117+Data!$F$59+X88/Data!$L$116/Data!$E$59/Data!$L$115,Data!$E$90+Data!$F$59+X88/Data!$G$90/Data!$E$59/Data!$D$90)","v":{"v":0.37599999999999995,"d":"0.38"}},{"v":0.8636,"d":"0.86"},{"$f":"IF(Data!$C$59=1,TRUNC(($A88*0.9-W88)/$P$92*2000*PI()*0.8,0),IF(Data!$C$59=2,TRUNC(($A88*0.8-(W88+0.1))/$P$92*2000*PI()*0.8,0),\"\"))","v":110},null,null,{"v":53.33333333333333,"d":"53"},320,{"v":0.22560000000000002,"d":"0.23"},{"v":0.22560000000000002,"d":"0.23"},{"v":0.2506666666666667,"d":"0.25"},{"$f":"IF(Data!$E$83=1,Data!$L$117+Data!$F$59+AH88/Data!$L$116/Data!$E$59/Data!$L$115,Data!$E$90+Data!$F$59+AH88/Data!$G$90/Data!$E$59/Data!$D$90)","v":{"v":0.2506666666666667,"d":"0.25"}},{"v":0.8636,"d":"0.86"},{"$f":"IF(Data!$C$59=1,TRUNC(($A88*0.9-AG88)/$P$91*2000*PI()*0.8,0),IF(Data!$C$59=2,TRUNC(($A88*0.8-(AG88+0.1))/$P$91*2000*PI()*0.8,0),\"\"))","v":277},null,{"v":26.666666666666664,"d":"27"},320,{"v":0.11280000000000001,"d":"0.11"},{"v":0.11280000000000001,"d":"0.11"},{"v":0.12533333333333335,"d":"0.13"},{"$f":"IF(Data!$E$83=1,Data!$L$117+Data!$F$59+AQ88/Data!$L$116/Data!$E$59/Data!$L$115,Data!$E$90+Data!$F$59+AQ88/Data!$G$90/Data!$E$59/Data!$D$90)","v":{"v":0.12533333333333335,"d":"0.13"}},{"v":0.8636,"d":"0.86"},{"$f":"IF(Data!$C$59=1,TRUNC(($A88*0.9-AP88)/$P$90*2000*PI()*0.8,0),IF(Data!$C$59=2,TRUNC(($A88*0.8-(AP88+0.1))/$P$90*2000*PI()*0.8,0),\"\"))","v":667},null,null,{"v":2.719411692307692,"d":"2.72"},{"v":5224.8,"d":"5225"},{"v":1741.6,"d":"1742"},{"v":0.926976,"d":"0.93"},{"$f":"IF(Data!$C$59=1,TRUNC(($A22*0.9-BA88)/$P$92*2000*PI()*0.8,0),IF(Data!$C$59=2,TRUNC(($A22*0.8-(BA88+0.1))/$P$92*2000*PI()*0.8,0),\"\"))","v":382},null,{"v":2.719411692307692,"d":"2.72"},{"v":5224.8,"d":"5225"},{"$f":"BE88/60*$P$91","v":{"v":870.8,"d":"871"}},0.6179840000000001,{"$f":"IF(Data!$C$59=1,TRUNC(($A22*0.9-BG88)/$P$91*2000*PI()*0.8,0),IF(Data!$C$59=2,TRUNC(($A22*0.8-(BG88+0.1))/$P$91*2000*PI()*0.8,0),\"\"))","v":919},null,{"v":2.719411692307692,"d":"2.72"},{"v":5224.8,"d":"5225"},{"v":435.4,"d":"435"},0.30899200000000004,{"$f":"IF(Data!$C$59=1,TRUNC(($A22*0.9-BM88)/$P$90*2000*PI()*0.8,0),IF(Data!$C$59=2,TRUNC(($A22*0.8-(BM88+0.1))/$P$90*2000*PI()*0.8,0),\"\"))","v":2149}]
[0.8604,{"$f":"0.06*$B$84","v":{"v":480,"d":"480.00"}},-2.0000000000000019E-5,0.8604,{"$nulls":9},"PC32…B10",6000,10,0.18,{"v":0.1896,"d":"0.190"},{"v":0.1896,"d":"0.19"},{"v":0.21066666666666664,"d":"0.21"},160,480,{"v":0.3576,"d":"0.36"},{"v":0.3576,"d":"0.36"},{"v":0.3973333333333333,"d":"0.40"},{"$f":"IF(Data!$E$83=1,Data!$L$117+Data!$F$59+X89/Data!$L$116/Data!$E$59/Data!$L$115,Data!$E$90+Data!$F$59+X89/Data!$G$90/Data!$E$59/Data!$D$90)","v":{"v":0.3973333333333333,"d":"0.40"}},{"v":0.8604,"d":"0.86"},{"$f":"IF(Data!$C$59=1,TRUNC(($A89*0.9-W89)/$P$92*2000*PI()*0.8,0),IF(Data!$C$59=2,TRUNC(($A89*0.8-(W89+0.1))/$P$92*2000*PI()*0.8,0),\"\"))","v":104},null,null,80,480,{"v":0.2384,"d":"0.24"},{"v":0.2384,"d":"0.24"},{"v":0.2648888888888889,"d":"0.26"},{"$f":"IF(Data!$E$83=1,Data!$L$117+Data!$F$59+AH89/Data!$L$116/Data!$E$59/Data!$L$115,Data!$E$90+Data!$F$59+AH89/Data!$G$90/Data!$E$59/Data!$D$90)","v":{"v":0.2648888888888889,"d":"0.26"}},{"v":0.8604,"d":"0.86"},{"$f":"IF(Data!$C$59=1,TRUNC(($A89*0.9-AG89)/$P$91*2000*PI()*0.8,0),IF(Data!$C$59=2,TRUNC(($A89*0.8-(AG89+0.1))/$P$91*2000*PI()*0.8,0),\"\"))","v":269},null,40,480,{"v":0.1192,"d":"0.12"},{"v":0.1192,"d":"0.12"},{"v":0.13244444444444445,"d":"0.13"},{"$f":"IF(Data!$E$83=1,Data!$L$117+Data!$F$59+AQ89/Data!$L$116/Data!$E$59/Data!$L$115,Data!$E$90+Data!$F$59+AQ89/Data!$G$90/Data!$E$59/Data!$D$90)","v":{"v":0.13244444444444445,"d":"0.13"}},{"v":0.8604,"d":"0.86"},{"$f":"IF(Data!$C$59=1,TRUNC(($A89*0.9-AP89)/$P$90*2000*PI()*0.8,0),IF(Data!$C$59=2,TRUNC(($A89*0.8-(AP89+0.1))/$P$90*2000*PI()*0.8,0),\"\"))","v":658},null,null,{"v":2.678226989010989,"d":"2.68"},{"v":5302.7,"d":"5303"},{"v":1767.5666666666666,"d":"1768"},{"v":0.9363239999999999,"d":"0.94"},{"$f":"IF(Data!$C$59=1,TRUNC(($A23*0.9-BA89)/$P$92*2000*PI()*0.8,0),IF(Data!$C$59=2,TRUNC(($A23*0.8-(BA89+0.1))/$P$92*2000*PI()*0.8,0),\"\"))","v":370},null,{"v":2.678226989010989,"d":"2.68"},{"v":5302.7,"d":"5303"},{"v":883.7833333333333,"d":"884"},0.6242160000000001,{"$f":"IF(Data!$C$59=1,TRUNC(($A23*0.9-BG89)/$P$91*2000*PI()*0.8,0),IF(Data!$C$59=2,TRUNC(($A23*0.8-(BG89+0.1))/$P$91*2000*PI()*0.8,0),\"\"))","v":897},null,{"v":2.678226989010989,"d":"2.68"},{"v":5302.7,"d":"5303"},{"v":441.89166666666665,"d":"442"},0.31210800000000005,{"$f":"IF(Data!$C$59=1,TRUNC(($A23*0.9-BM89)/$P$90*2000*PI()*0.8,0),IF(Data!$C$59=2,TRUNC(($A23*0.8-(BM89+0.1))/$P$90*2000*PI()*0.8,0),\"\"))","v":2109}]
[0.8572000000000001,{"$f":"0.08*$B$84","v":{"v":640,"d":"640.00"}},-2.0000000000000019E-5,0.8572000000000001,{"$nulls":9},"PC40…B05",5000,5,0.1,{"v":0.10640000000000001,"d":"0.106"},{"v":0.10640000000000001,"d":"0.11"},{"v":0.11822222222222223,"d":"0.12"},{"v":213.33333333333331,"d":"213"},640,{"v":0.37679999999999997,"d":"0.38"},{"v":0.37679999999999997,"d":"0.38"},{"v":0.41866666666666663,"d":"0.42"},{"$f":"IF(Data!$E$83=1,Data!$L$117+Data!$F$59+X90/Data!$L$116/Data!$E$59/Data!$L$115,Data!$E$90+Data!$F$59+X90/Data!$G$90/Data!$E$59/Data!$D$90)","v":{"v":0.41866666666666663,"d":"0.42"}},{"v":0.8572000000000001,"d":"0.86"},{"$f":"IF(Data!$C$59=1,TRUNC(($A90*0.9-W90)/$P$92*2000*PI()*0.8,0),IF(Data!$C$59=2,TRUNC(($A90*0.8-(W90+0.1))/$P$92*2000*PI()*0.8,0),\"\"))","v":99},null,null,{"v":106.66666666666666,"d":"107"},640,{"v":0.25120000000000003,"d":"0.25"},{"v":0.25120000000000003,"d":"0.25"},{"v":0.27911111111111114,"d":"0.28"},{"$f":"IF(Data!$E$83=1,Data!$L$117+Data!$F$59+AH90/Data!$L$116/Data!$E$59/Data!$L$115,Data!$E$90+Data!$F$59+AH90/Data!$G$90/Data!$E$59/Data!$D$90)","v":{"v":0.27911111111111114,"d":"0.28"}},{"v":0.8572000000000001,"d":"0.86"},{"$f":"IF(Data!$C$59=1,TRUNC(($A90*0.9-AG90)/$P$91*2000*PI()*0.8,0),IF(Data!$C$59=2,TRUNC(($A90*0.8-(AG90+0.1))/$P$91*2000*PI()*0.8,0),\"\"))","v":261},null,{"v":53.33333333333333,"d":"53"},640,{"v":0.12560000000000002,"d":"0.13"},{"v":0.12560000000000002,"d":"0.13"},{"v":0.13955555555555557,"d":"0.14"},{"$f":"IF(Data!$E$83=1,Data!$L$117+Data!$F$59+AQ90/Data!$L$116/Data!$E$59/Data!$L$115,Data!$E$90+Data!$F$59+AQ90/Data!$G$90/Data!$E$59/Data!$D$90)","v":{"v":0.13955555555555557,"d":"0.14"}},{"v":0.8572000000000001,"d":"0.86"},{"$f":"IF(Data!$C$59=1,TRUNC(($A90*0.9-AP90)/$P$90*2000*PI()*0.8,0),IF(Data!$C$59=2,TRUNC(($A90*0.8-(AP90+0.1))/$P$90*2000*PI()*0.8,0),\"\"))","v":649},null,null,{"v":2.6364458901098904,"d":"2.64"},{"v":5382.1,"d":"5382"},{"v":1794.0333333333333,"d":"1794"},{"v":0.9458520000000001,"d":"0.95"},{"$f":"IF(Data!$C$59=1,TRUNC(($A24*0.9-BA90)/$P$92*2000*PI()*0.8,0),IF(Data!$C$59=2,TRUNC(($A24*0.8-(BA90+0.1))/$P$92*2000*PI()*0.8,0),\"\"))","v":358},null,{"v":2.6364458901098904,"d":"2.64"},{"v":5382.1,"d":"5382"},{"v":897.0166666666667,"d":"897"},0.630568,{"$f":"IF(Data!$C$59=1,TRUNC(($A24*0.9-BG90)/$P$91*2000*PI()*0.8,0),IF(Data!$C$59=2,TRUNC(($A24*0.8-(BG90+0.1))/$P$91*2000*PI()*0.8,0),\"\"))","v":875},null,{"v":2.6364458901098904,"d":"2.64"},{"v":5382.1,"d":"5382"},{"v":448.5083333333333,"d":"449"},0.315284,{"$f":"IF(Data!$C$59=1,TRUNC(($A24*0.9-BM90)/$P$90*2000*PI()*0.8,0),IF(Data!$C$59=2,TRUNC(($A24*0.8-(BM90+0.1))/$P$90*2000*PI()*0.8,0),\"\"))","v":2068}]
[0.8540000000000001,{"$f":"0.1*$B$84","v":{"v":800,"d":"800.00"}},-2.0000000000000019E-5,0.8540000000000001,{"$nulls":9},"PC40…B10",5000,10,0.2,{"v":0.21280000000000002,"d":"0.213"},{"v":0.21280000000000002,"d":"0.21"},{"v":0.23644444444444446,"d":"0.24"},{"v":266.6666666666667,"d":"267"},800,{"v":0.396,"d":"0.40"},{"v":0.396,"d":"0.40"},0.44,{"$f":"IF(Data!$E$83=1,Data!$L$117+Data!$F$59+X91/Data!$L$116/Data!$E$59/Data!$L$115,Data!$E$90+Data!$F$59+X91/Data!$G$90/Data!$E$59/Data!$D$90)","v":0.44},{"v":0.8540000000000001,"d":"0.85"},{"$f":"IF(Data!$C$59=1,TRUNC(($A91*0.9-W91)/$P$92*2000*PI()*0.8,0),IF(Data!$C$59=2,TRUNC(($A91*0.8-(W91+0.1))/$P$92*2000*PI()*0.8,0),\"\"))","v":93},null,null,{"v":133.33333333333334,"d":"133"},800,{"v":0.264,"d":"0.26"},{"v":0.264,"d":"0.26"},{"v":0.29333333333333333,"d":"0.29"},{"$f":"IF(Data!$E$83=1,Data!$L$117+Data!$F$59+AH91/Data!$L$116/Data!$E$59/Data!$L$115,Data!$E$90+Data!$F$59+AH91/Data!$G$90/Data!$E$59/Data!$D$90)","v":{"v":0.29333333333333333,"d":"0.29"}},{"v":0.8540000000000001,"d":"0.85"},{"$f":"IF(Data!$C$59=1,TRUNC(($A91*0.9-AG91)/$P$91*2000*PI()*0.8,0),IF(Data!$C$59=2,TRUNC(($A91*0.8-(AG91+0.1))/$P$91*2000*PI()*0.8,0),\"\"))","v":253},null,{"v":66.66666666666667,"d":"67"},800,{"v":0.132,"d":"0.13"},{"v":0.132,"d":"0.13"},{"v":0.14666666666666667,"d":"0.15"},{"$f":"IF(Data!$E$83=1,Data!$L$117+Data!$F$59+AQ91/Data!$L$116/Data!$E$59/Data!$L$115,Data!$E$90+Data!$F$59+AQ91/Data!$G$90/Data!$E$59/Data!$D$90)","v":{"v":0.14666666666666667,"d":"0.15"}},{"v":0.8540000000000001,"d":"0.85"},{"$f":"IF(Data!$C$59=1,TRUNC(($A91*0.9-AP91)/$P$90*2000*PI()*0.8,0),IF(Data!$C$59=2,TRUNC(($A91*0.8-(AP91+0.1))/$P$90*2000*PI()*0.8,0),\"\"))","v":639},null,null,{"v":2.5940683956043955,"d":"2.59"},{"v":5463.1,"d":"5463"},{"v":1821.0333333333335,"d":"1821"},{"v":0.9555720000000001,"d":"0.96"},{"$f":"IF(Data!$C$59=1,TRUNC(($A25*0.9-BA91)/$P$92*2000*PI()*0.8,0),IF(Data!$C$59=2,TRUNC(($A25*0.8-(BA91+0.1))/$P$92*2000*PI()*0.8,0),\"\"))","v":346},null,{"v":2.5940683956043955,"d":"2.59"},{"v":5463.1,"d":"5463"},{"v":910.5166666666668,"d":"911"},0.6370480000000001,{"$f":"IF(Data!$C$59=1,TRUNC(($A25*0.9-BG91)/$P$91*2000*PI()*0.8,0),IF(Data!$C$59=2,TRUNC(($A25*0.8-(BG91+0.1))/$P$91*2000*PI()*0.8,0),\"\"))","v":853},null,{"v":2.5940683956043955,"d":"2.59"},{"v":5463.1,"d":"5463"},{"v":455.2583333333334,"d":"455"},0.31852400000000003,{"$f":"IF(Data!$C$59=1,TRUNC(($A25*0.9-BM91)/$P$90*2000*PI()*0.8,0),IF(Data!$C$59=2,TRUNC(($A25*0.8-(BM91+0.1))/$P$90*2000*PI()*0.8,0),\"\"))","v":2026}]
[0.8508000000000001,{"$f":"0.12*$B$84","v":{"v":960,"d":"960.00"}},-2.0000000000000019E-5,0.8508000000000001,{"$nulls":9},"PC40…B20",5000,20,0.3,{"v":0.3192,"d":"0.319"},{"v":0.3192,"d":"0.32"},{"v":0.35466666666666663,"d":"0.35"},320,960,{"v":0.4152,"d":"0.42"},{"v":0.4152,"d":"0.42"},{"v":0.4613333333333333,"d":"0.46"},{"$f":"IF(Data!$E$83=1,Data!$L$117+Data!$F$59+X92/Data!$L$116/Data!$E$59/Data!$L$115,Data!$E$90+Data!$F$59+X92/Data!$G$90/Data!$E$59/Data!$D$90)","v":{"v":0.4613333333333333,"d":"0.46"}},{"v":0.8508000000000001,"d":"0.85"},{"$f":"IF(Data!$C$59=1,TRUNC(($A92*0.9-W92)/$P$92*2000*PI()*0.8,0),IF(Data!$C$59=2,TRUNC(($A92*0.8-(W92+0.1))/$P$92*2000*PI()*0.8,0),\"\"))","v":88},null,null,160,960,{"v":0.27680000000000005,"d":"0.28"},{"v":0.27680000000000005,"d":"0.28"},{"v":0.3075555555555556,"d":"0.31"},{"$f":"IF(Data!$E$83=1,Data!$L$117+Data!$F$59+AH92/Data!$L$116/Data!$E$59/Data!$L$115,Data!$E$90+Data!$F$59+AH92/Data!$G$90/Data!$E$59/Data!$D$90)","v":{"v":0.3075555555555556,"d":"0.31"}},{"v":0.8508000000000001,"d":"0.85"},{"$f":"IF(Data!$C$59=1,TRUNC(($A92*0.9-AG92)/$P$91*2000*PI()*0.8,0),IF(Data!$C$59=2,TRUNC(($A92*0.8-(AG92+0.1))/$P$91*2000*PI()*0.8,0),\"\"))","v":245},null,80,960,{"v":0.13840000000000002,"d":"0.14"},{"v":0.13840000000000002,"d":"0.14"},{"v":0.1537777777777778,"d":"0.15"},{"$f":"IF(Data!$E$83=1,Data!$L$117+Data!$F$59+AQ92/Data!$L$116/Data!$E$59/Data!$L$115,Data!$E$90+Data!$F$59+AQ92/Data!$G$90/Data!$E$59/Data!$D$90)","v":{"v":0.1537777777777778,"d":"0.15"}},{"v":0.8508000000000001,"d":"0.85"},{"$f":"IF(Data!$C$59=1,TRUNC(($A92*0.9-AP92)/$P$90*2000*PI()*0.8,0),IF(Data!$C$59=2,TRUNC(($A92*0.8-(AP92+0.1))/$P$90*2000*PI()*0.8,0),\"\"))","v":630},null,null,{"v":2.5510945054945053,"d":"2.55"},{"v":5545.7,"d":"5546"},{"v":1848.5666666666666,"d":"1849"},{"v":0.965484,"d":"0.97"},{"$f":"IF(Data!$C$59=1,TRUNC(($A26*0.9-BA92)/$P$92*2000*PI()*0.8,0),IF(Data!$C$59=2,TRUNC(($A26*0.8-(BA92+0.1))/$P$92*2000*PI()*0.8,0),\"\"))","v":334},null,{"v":2.5510945054945053,"d":"2.55"},{"v":5545.7,"d":"5546"},{"v":924.2833333333333,"d":"924"},0.643656,{"$f":"IF(Data!$C$59=1,TRUNC(($A26*0.9-BG92)/$P$91*2000*PI()*0.8,0),IF(Data!$C$59=2,TRUNC(($A26*0.8-(BG92+0.1))/$P$91*2000*PI()*0.8,0),\"\"))","v":830},null,{"v":2.5510945054945053,"d":"2.55"},{"v":5545.7,"d":"5546"},{"v":462.14166666666665,"d":"462"},0.321828,{"$f":"IF(Data!$C$59=1,TRUNC(($A26*0.9-BM92)/$P$90*2000*PI()*0.8,0),IF(Data!$C$59=2,TRUNC(($A26*0.8-(BM92+0.1))/$P$90*2000*PI()*0.8,0),\"\"))","v":1984}]
[0.8482400000000001,{"$f":"0.14*$B$84","v":{"v":1120,"d":"1120.00"}},-1.5999999999999969E-5,0.8482400000000001,{"$nulls":10},"Max speed ",{"$nulls":5},{"v":373.33333333333337,"d":"373"},1120,{"v":0.4344,"d":"0.43"},{"v":0.4344,"d":"0.43"},{"v":0.4826666666666667,"d":"0.48"},{"$f":"IF(Data!$E$83=1,Data!$L$117+Data!$F$59+X93/Data!$L$116/Data!$E$59/Data!$L$115,Data!$E$90+Data!$F$59+X93/Data!$G$90/Data!$E$59/Data!$D$90)","v":{"v":0.4826666666666667,"d":"0.48"}},{"v":0.8482400000000001,"d":"0.85"},{"$f":"IF(Data!$C$59=1,TRUNC(($A93*0.9-W93)/$P$92*2000*PI()*0.8,0),IF(Data!$C$59=2,TRUNC(($A93*0.8-(W93+0.1))/$P$92*2000*PI()*0.8,0),\"\"))","v":82},null,null,{"v":186.66666666666669,"d":"187"},1120,{"v":0.2896,"d":"0.29"},{"v":0.2896,"d":"0.29"},{"v":0.3217777777777778,"d":"0.32"},{"$f":"IF(Data!$E$83=1,Data!$L$117+Data!$F$59+AH93/Data!$L$116/Data!$E$59/Data!$L$115,Data!$E$90+Data!$F$59+AH93/Data!$G$90/Data!$E$59/Data!$D$90)","v":{"v":0.3217777777777778,"d":"0.32"}},{"v":0.8482400000000001,"d":"0.85"},{"$f":"IF(Data!$C$59=1,TRUNC(($A93*0.9-AG93)/$P$91*2000*PI()*0.8,0),IF(Data!$C$59=2,TRUNC(($A93*0.8-(AG93+0.1))/$P$91*2000*PI()*0.8,0),\"\"))","v":238},null,{"v":93.33333333333334,"d":"93"},1120,{"v":0.1448,"d":"0.14"},{"v":0.1448,"d":"0.14"},{"v":0.1608888888888889,"d":"0.16"},{"$f":"IF(Data!$E$83=1,Data!$L$117+Data!$F$59+AQ93/Data!$L$116/Data!$E$59/Data!$L$115,Data!$E$90+Data!$F$59+AQ93/Data!$G$90/Data!$E$59/Data!$D$90)","v":{"v":0.1608888888888889,"d":"0.16"}},{"v":0.8482400000000001,"d":"0.85"},{"$f":"IF(Data!$C$59=1,TRUNC(($A93*0.9-AP93)/$P$90*2000*PI()*0.8,0),IF(Data!$C$59=2,TRUNC(($A93*0.8-(AP93+0.1))/$P$90*2000*PI()*0.8,0),\"\"))","v":621},null,null,{"v":2.5075242197802194,"d":"2.51"},5630,{"v":1876.6666666666665,"d":"1877"},{"v":0.9755999999999998,"d":"0.98"},{"$f":"IF(Data!$C$59=1,TRUNC(($A27*0.9-BA93)/$P$92*2000*PI()*0.8,0),IF(Data!$C$59=2,TRUNC(($A27*0.8-(BA93+0.1))/$P$92*2000*PI()*0.8,0),\"\"))","v":321},null,{"v":2.5075242197802194,"d":"2.51"},5630,{"v":938.3333333333333,"d":"938"},0.6504,{"$f":"IF(Data!$C$59=1,TRUNC(($A27*0.9-BG93)/$P$91*2000*PI()*0.8,0),IF(Data!$C$59=2,TRUNC(($A27*0.8-(BG93+0.1))/$P$91*2000*PI()*0.8,0),\"\"))","v":807},null,{"v":2.5075242197802194,"d":"2.51"},5630,{"v":469.16666666666663,"d":"469"},0.3252,{"$f":"IF(Data!$C$59=1,TRUNC(($A27*0.9-BM93)/$P$90*2000*PI()*0.8,0),IF(Data!$C$59=2,TRUNC(($A27*0.8-(BM93+0.1))/$P$90*2000*PI()*0.8,0),\"\"))","v":1941}]
[0.8456800000000001,{"$f":"0.16*$B$84","v":{"v":1280,"d":"1280.00"}},-1.5999999999999969E-5,0.8456800000000001,{"$nulls":10},"mm/s",{"$nulls":5},{"v":426.66666666666663,"d":"427"},1280,{"v":0.4536,"d":"0.45"},{"v":0.4536,"d":"0.45"},{"v":0.504,"d":"0.50"},{"$f":"IF(Data!$E$83=1,Data!$L$117+Data!$F$59+X94/Data!$L$116/Data!$E$59/Data!$L$115,Data!$E$90+Data!$F$59+X94/Data!$G$90/Data!$E$59/Data!$D$90)","v":{"v":0.504,"d":"0.50"}},{"v":0.8456800000000001,"d":"0.85"},{"$f":"IF(Data!$C$59=1,TRUNC(($A94*0.9-W94)/$P$92*2000*PI()*0.8,0),IF(Data!$C$59=2,TRUNC(($A94*0.8-(W94+0.1))/$P$92*2000*PI()*0.8,0),\"\"))","v":77},null,null,{"v":213.33333333333331,"d":"213"},1280,{"v":0.3024,"d":"0.30"},{"v":0.3024,"d":"0.30"},{"v":0.336,"d":"0.34"},{"$f":"IF(Data!$E$83=1,Data!$L$117+Data!$F$59+AH94/Data!$L$116/Data!$E$59/Data!$L$115,Data!$E$90+Data!$F$59+AH94/Data!$G$90/Data!$E$59/Data!$D$90)","v":{"v":0.336,"d":"0.34"}},{"v":0.8456800000000001,"d":"0.85"},{"$f":"IF(Data!$C$59=1,TRUNC(($A94*0.9-AG94)/$P$91*2000*PI()*0.8,0),IF(Data!$C$59=2,TRUNC(($A94*0.8-(AG94+0.1))/$P$91*2000*PI()*0.8,0),\"\"))","v":230},null,{"v":106.66666666666666,"d":"107"},1280,{"v":0.1512,"d":"0.15"},{"v":0.1512,"d":"0.15"},{"v":0.168,"d":"0.17"},{"$f":"IF(Data!$E$83=1,Data!$L$117+Data!$F$59+AQ94/Data!$L$116/Data!$E$59/Data!$L$115,Data!$E$90+Data!$F$59+AQ94/Data!$G$90/Data!$E$59/Data!$D$90)","v":{"v":0.168,"d":"0.17"}},{"v":0.8456800000000001,"d":"0.85"},{"$f":"IF(Data!$C$59=1,TRUNC(($A94*0.9-AP94)/$P$90*2000*PI()*0.8,0),IF(Data!$C$59=2,TRUNC(($A94*0.8-(AP94+0.1))/$P$90*2000*PI()*0.8,0),\"\"))","v":613},null,null,{"v":2.4633575384615383,"d":"2.46"},{"v":5715.8,"d":"5716"},{"v":1905.2666666666667,"d":"1905"},{"v":0.9858959999999999,"d":"0.99"},{"$f":"IF(Data!$C$59=1,TRUNC(($A28*0.9-BA94)/$P$92*2000*PI()*0.8,0),IF(Data!$C$59=2,TRUNC(($A28*0.8-(BA94+0.1))/$P$92*2000*PI()*0.8,0),\"\"))","v":309},null,{"v":2.4633575384615383,"d":"2.46"},{"v":5715.8,"d":"5716"},{"v":952.6333333333333,"d":"953"},0.6572640000000001,{"$f":"IF(Data!$C$59=1,TRUNC(($A28*0.9-BG94)/$P$91*2000*PI()*0.8,0),IF(Data!$C$59=2,TRUNC(($A28*0.8-(BG94+0.1))/$P$91*2000*PI()*0.8,0),\"\"))","v":784},null,{"v":2.4633575384615383,"d":"2.46"},{"v":5715.8,"d":"5716"},{"v":476.31666666666666,"d":"476"},0.32863200000000004,{"$f":"IF(Data!$C$59=1,TRUNC(($A28*0.9-BM94)/$P$90*2000*PI()*0.8,0),IF(Data!$C$59=2,TRUNC(($A28*0.8-(BM94+0.1))/$P$90*2000*PI()*0.8,0),\"\"))","v":1898}]
[0.8431200000000001,{"$f":"0.18*$B$84","v":{"v":1440,"d":"1440.00"}},-1.5999999999999969E-5,0.8431200000000001,{"$nulls":9},"PC25…B03",{"$f":"O86/60*P86","v":400},{"$nulls":5},480,1440,{"v":0.4728,"d":"0.47"},{"v":0.4728,"d":"0.47"},{"v":0.5253333333333333,"d":"0.53"},{"$f":"IF(Data!$E$83=1,Data!$L$117+Data!$F$59+X95/Data!$L$116/Data!$E$59/Data!$L$115,Data!$E$90+Data!$F$59+X95/Data!$G$90/Data!$E$59/Data!$D$90)","v":{"v":0.5253333333333333,"d":"0.53"}},{"v":0.8431200000000001,"d":"0.84"},{"$f":"IF(Data!$C$59=1,TRUNC(($A95*0.9-W95)/$P$92*2000*PI()*0.8,0),IF(Data!$C$59=2,TRUNC(($A95*0.8-(W95+0.1))/$P$92*2000*PI()*0.8,0),\"\"))","v":71},null,null,240,1440,{"v":0.31520000000000004,"d":"0.32"},{"v":0.31520000000000004,"d":"0.32"},{"v":0.35022222222222227,"d":"0.35"},{"$f":"IF(Data!$E$83=1,Data!$L$117+Data!$F$59+AH95/Data!$L$116/Data!$E$59/Data!$L$115,Data!$E$90+Data!$F$59+AH95/Data!$G$90/Data!$E$59/Data!$D$90)","v":{"v":0.35022222222222227,"d":"0.35"}},{"v":0.8431200000000001,"d":"0.84"},{"$f":"IF(Data!$C$59=1,TRUNC(($A95*0.9-AG95)/$P$91*2000*PI()*0.8,0),IF(Data!$C$59=2,TRUNC(($A95*0.8-(AG95+0.1))/$P$91*2000*PI()*0.8,0),\"\"))","v":222},null,120,1440,{"v":0.15760000000000002,"d":"0.16"},{"v":0.15760000000000002,"d":"0.16"},{"v":0.17511111111111113,"d":"0.18"},{"$f":"IF(Data!$E$83=1,Data!$L$117+Data!$F$59+AQ95/Data!$L$116/Data!$E$59/Data!$L$115,Data!$E$90+Data!$F$59+AQ95/Data!$G$90/Data!$E$59/Data!$D$90)","v":{"v":0.17511111111111113,"d":"0.18"}},{"v":0.8431200000000001,"d":"0.84"},{"$f":"IF(Data!$C$59=1,TRUNC(($A95*0.9-AP95)/$P$90*2000*PI()*0.8,0),IF(Data!$C$59=2,TRUNC(($A95*0.8-(AP95+0.1))/$P$90*2000*PI()*0.8,0),\"\"))","v":604},null,null,{"v":2.418594461538462,"d":"2.42"},{"v":5803.3,"d":"5803"},{"v":1934.4333333333334,"d":"1934"},{"v":0.9963960000000001,"d":"1.00"},{"$f":"IF(Data!$C$59=1,TRUNC(($A29*0.9-BA95)/$P$92*2000*PI()*0.8,0),IF(Data!$C$59=2,TRUNC(($A29*0.8-(BA95+0.1))/$P$92*2000*PI()*0.8,0),\"\"))","v":296},null,{"v":2.418594461538462,"d":"2.42"},{"v":5803.3,"d":"5803"},{"v":967.2166666666667,"d":"967"},0.664264,{"$f":"IF(Data!$C$59=1,TRUNC(($A29*0.9-BG95)/$P$91*2000*PI()*0.8,0),IF(Data!$C$59=2,TRUNC(($A29*0.8-(BG95+0.1))/$P$91*2000*PI()*0.8,0),\"\"))","v":760},null,{"v":2.418594461538462,"d":"2.42"},{"v":5803.3,"d":"5803"},{"v":483.60833333333335,"d":"484"},0.332132,{"$f":"IF(Data!$C$59=1,TRUNC(($A29*0.9-BM95)/$P$90*2000*PI()*0.8,0),IF(Data!$C$59=2,TRUNC(($A29*0.8-(BM95+0.1))/$P$90*2000*PI()*0.8,0),\"\"))","v":1854}]
[0.8405600000000001,{"$f":"0.2*$B$84","v":{"v":1600,"d":"1600.00"}},-1.5999999999999969E-5,0.8405600000000001,{"$nulls":9},"PC25…B10",{"$f":"O87/60*P87","v":{"v":1333.3333333333335,"d":"1333.33"}},{"$nulls":5},{"v":533.3333333333334,"d":"533"},1600,{"v":0.492,"d":"0.49"},{"v":0.492,"d":"0.49"},{"v":0.5466666666666666,"d":"0.55"},{"$f":"IF(Data!$E$83=1,Data!$L$117+Data!$F$59+X96/Data!$L$116/Data!$E$59/Data!$L$115,Data!$E$90+Data!$F$59+X96/Data!$G$90/Data!$E$59/Data!$D$90)","v":{"v":0.5466666666666666,"d":"0.55"}},{"v":0.8405600000000001,"d":"0.84"},{"$f":"IF(Data!$C$59=1,TRUNC(($A96*0.9-W96)/$P$92*2000*PI()*0.8,0),IF(Data!$C$59=2,TRUNC(($A96*0.8-(W96+0.1))/$P$92*2000*PI()*0.8,0),\"\"))","v":66},null,null,{"v":266.6666666666667,"d":"267"},1600,{"v":0.328,"d":"0.33"},{"v":0.328,"d":"0.33"},{"v":0.36444444444444446,"d":"0.36"},{"$f":"IF(Data!$E$83=1,Data!$L$117+Data!$F$59+AH96/Data!$L$116/Data!$E$59/Data!$L$115,Data!$E$90+Data!$F$59+AH96/Data!$G$90/Data!$E$59/Data!$D$90)","v":{"v":0.36444444444444446,"d":"0.36"}},{"v":0.8405600000000001,"d":"0.84"},{"$f":"IF(Data!$C$59=1,TRUNC(($A96*0.9-AG96)/$P$91*2000*PI()*0.8,0),IF(Data!$C$59=2,TRUNC(($A96*0.8-(AG96+0.1))/$P$91*2000*PI()*0.8,0),\"\"))","v":215},null,{"v":133.33333333333334,"d":"133"},1600,{"v":0.164,"d":"0.16"},{"v":0.164,"d":"0.16"},{"v":0.18222222222222223,"d":"0.18"},{"$f":"IF(Data!$E$83=1,Data!$L$117+Data!$F$59+AQ96/Data!$L$116/Data!$E$59/Data!$L$115,Data!$E$90+Data!$F$59+AQ96/Data!$G$90/Data!$E$59/Data!$D$90)","v":{"v":0.18222222222222223,"d":"0.18"}},{"v":0.8405600000000001,"d":"0.84"},{"$f":"IF(Data!$C$59=1,TRUNC(($A96*0.9-AP96)/$P$90*2000*PI()*0.8,0),IF(Data!$C$59=2,TRUNC(($A96*0.8-(AP96+0.1))/$P$90*2000*PI()*0.8,0),\"\"))","v":595},null,null,{"v":2.373234989010989,"d":"2.37"},{"v":5892.4,"d":"5892"},{"v":1964.1333333333332,"d":"1964"},{"v":1.007088,"d":"1.01"},{"$f":"IF(Data!$C$59=1,TRUNC(($A30*0.9-BA96)/$P$92*2000*PI()*0.8,0),IF(Data!$C$59=2,TRUNC(($A30*0.8-(BA96+0.1))/$P$92*2000*PI()*0.8,0),\"\"))","v":283},null,{"v":2.373234989010989,"d":"2.37"},{"v":5892.4,"d":"5892"},{"v":982.0666666666666,"d":"982"},0.671392,{"$f":"IF(Data!$C$59=1,TRUNC(($A30*0.9-BG96)/$P$91*2000*PI()*0.8,0),IF(Data!$C$59=2,TRUNC(($A30*0.8-(BG96+0.1))/$P$91*2000*PI()*0.8,0),\"\"))","v":736},null,{"v":2.373234989010989,"d":"2.37"},{"v":5892.4,"d":"5892"},{"v":491.0333333333333,"d":"491"},0.335696,{"$f":"IF(Data!$C$59=1,TRUNC(($A30*0.9-BM96)/$P$90*2000*PI()*0.8,0),IF(Data!$C$59=2,TRUNC(($A30*0.8-(BM96+0.1))/$P$90*2000*PI()*0.8,0),\"\"))","v":1809}]
[0.8380000000000001,{"$f":"0.22*$B$84","v":{"v":1760,"d":"1760.00"}},-1.5999999999999969E-5,0.8380000000000001,{"$nulls":9},"PC32…B04",400,{"$nulls":5},{"v":586.6666666666666,"d":"587"},1760,{"v":0.5112,"d":"0.51"},{"v":0.5112,"d":"0.51"},{"v":0.568,"d":"0.57"},{"$f":"IF(Data!$E$83=1,Data!$L$117+Data!$F$59+X97/Data!$L$116/Data!$E$59/Data!$L$115,Data!$E$90+Data!$F$59+X97/Data!$G$90/Data!$E$59/Data!$D$90)","v":{"v":0.568,"d":"0.57"}},{"v":0.8380000000000001,"d":"0.84"},{"$f":"IF(Data!$C$59=1,TRUNC(($A97*0.9-W97)/$P$92*2000*PI()*0.8,0),IF(Data!$C$59=2,TRUNC(($A97*0.8-(W97+0.1))/$P$92*2000*PI()*0.8,0),\"\"))","v":61},null,null,{"v":293.3333333333333,"d":"293"},1760,{"v":0.3408,"d":"0.34"},{"v":0.3408,"d":"0.34"},{"v":0.37866666666666665,"d":"0.38"},{"$f":"IF(Data!$E$83=1,Data!$L$117+Data!$F$59+AH97/Data!$L$116/Data!$E$59/Data!$L$115,Data!$E$90+Data!$F$59+AH97/Data!$G$90/Data!$E$59/Data!$D$90)","v":{"v":0.37866666666666665,"d":"0.38"}},{"v":0.8380000000000001,"d":"0.84"},{"$f":"IF(Data!$C$59=1,TRUNC(($A97*0.9-AG97)/$P$91*2000*PI()*0.8,0),IF(Data!$C$59=2,TRUNC(($A97*0.8-(AG97+0.1))/$P$91*2000*PI()*0.8,0),\"\"))","v":207},null,{"v":146.66666666666666,"d":"147"},1760,{"v":0.1704,"d":"0.17"},{"v":0.1704,"d":"0.17"},{"v":0.18933333333333333,"d":"0.19"},{"$f":"IF(Data!$E$83=1,Data!$L$117+Data!$F$59+AQ97/Data!$L$116/Data!$E$59/Data!$L$115,Data!$E$90+Data!$F$59+AQ97/Data!$G$90/Data!$E$59/Data!$D$90)","v":{"v":0.18933333333333333,"d":"0.19"}},{"v":0.8380000000000001,"d":"0.84"},{"$f":"IF(Data!$C$59=1,TRUNC(($A97*0.9-AP97)/$P$90*2000*PI()*0.8,0),IF(Data!$C$59=2,TRUNC(($A97*0.8-(AP97+0.1))/$P$90*2000*PI()*0.8,0),\"\"))","v":586},null,null,{"v":2.3272791208791213,"d":"2.33"},{"v":5983.2,"d":"5983"},{"v":1994.4,"d":"1994"},{"v":1.017984,"d":"1.02"},{"$f":"IF(Data!$C$59=1,TRUNC(($A31*0.9-BA97)/$P$92*2000*PI()*0.8,0),IF(Data!$C$59=2,TRUNC(($A31*0.8-(BA97+0.1))/$P$92*2000*PI()*0.8,0),\"\"))","v":270},null,{"v":2.3272791208791213,"d":"2.33"},{"v":5983.2,"d":"5983"},{"v":997.2,"d":"997"},0.6786559999999999,{"$f":"IF(Data!$C$59=1,TRUNC(($A31*0.9-BG97)/$P$91*2000*PI()*0.8,0),IF(Data!$C$59=2,TRUNC(($A31*0.8-(BG97+0.1))/$P$91*2000*PI()*0.8,0),\"\"))","v":711},null,{"v":2.3272791208791213,"d":"2.33"},{"v":5983.2,"d":"5983"},{"v":498.6,"d":"499"},0.33932799999999996,{"$f":"IF(Data!$C$59=1,TRUNC(($A31*0.9-BM97)/$P$90*2000*PI()*0.8,0),IF(Data!$C$59=2,TRUNC(($A31*0.8-(BM97+0.1))/$P$90*2000*PI()*0.8,0),\"\"))","v":1764}]
[0.8354400000000001,{"$f":"0.24*$B$84","v":{"v":1920,"d":"1920.00"}},-1.5999999999999969E-5,0.8354400000000001,{"$nulls":9},"PC32…B10",1000,{"$nulls":5},640,1920,{"v":0.5304,"d":"0.53"},{"v":0.5304,"d":"0.53"},{"v":0.5893333333333333,"d":"0.59"},{"$f":"IF(Data!$E$83=1,Data!$L$117+Data!$F$59+X98/Data!$L$116/Data!$E$59/Data!$L$115,Data!$E$90+Data!$F$59+X98/Data!$G$90/Data!$E$59/Data!$D$90)","v":{"v":0.5893333333333333,"d":"0.59"}},{"v":0.8354400000000001,"d":"0.84"},{"$f":"IF(Data!$C$59=1,TRUNC(($A98*0.9-W98)/$P$92*2000*PI()*0.8,0),IF(Data!$C$59=2,TRUNC(($A98*0.8-(W98+0.1))/$P$92*2000*PI()*0.8,0),\"\"))","v":55},null,null,320,1920,{"v":0.3536,"d":"0.35"},{"v":0.3536,"d":"0.35"},{"v":0.3928888888888889,"d":"0.39"},{"$f":"IF(Data!$E$83=1,Data!$L$117+Data!$F$59+AH98/Data!$L$116/Data!$E$59/Data!$L$115,Data!$E$90+Data!$F$59+AH98/Data!$G$90/Data!$E$59/Data!$D$90)","v":{"v":0.3928888888888889,"d":"0.39"}},{"v":0.8354400000000001,"d":"0.84"},{"$f":"IF(Data!$C$59=1,TRUNC(($A98*0.9-AG98)/$P$91*2000*PI()*0.8,0),IF(Data!$C$59=2,TRUNC(($A98*0.8-(AG98+0.1))/$P$91*2000*PI()*0.8,0),\"\"))","v":200},null,160,1920,{"v":0.1768,"d":"0.18"},{"v":0.1768,"d":"0.18"},{"v":0.19644444444444445,"d":"0.20"},{"$f":"IF(Data!$E$83=1,Data!$L$117+Data!$F$59+AQ98/Data!$L$116/Data!$E$59/Data!$L$115,Data!$E$90+Data!$F$59+AQ98/Data!$G$90/Data!$E$59/Data!$D$90)","v":{"v":0.19644444444444445,"d":"0.20"}},{"v":0.8354400000000001,"d":"0.84"},{"$f":"IF(Data!$C$59=1,TRUNC(($A98*0.9-AP98)/$P$90*2000*PI()*0.8,0),IF(Data!$C$59=2,TRUNC(($A98*0.8-(AP98+0.1))/$P$90*2000*PI()*0.8,0),\"\"))","v":578},null,null,{"v":2.2807268571428576,"d":"2.28"},{"v":6075.6,"d":"6076"},{"v":2025.2,"d":"2025"},{"v":1.029072,"d":"1.03"},{"$f":"IF(Data!$C$59=1,TRUNC(($A32*0.9-BA98)/$P$92*2000*PI()*0.8,0),IF(Data!$C$59=2,TRUNC(($A32*0.8-(BA98+0.1))/$P$92*2000*PI()*0.8,0),\"\"))","v":257},null,{"v":2.2807268571428576,"d":"2.28"},{"v":6075.6,"d":"6076"},{"v":1012.6,"d":"1013"},0.686048,{"$f":"IF(Data!$C$59=1,TRUNC(($A32*0.9-BG98)/$P$91*2000*PI()*0.8,0),IF(Data!$C$59=2,TRUNC(($A32*0.8-(BG98+0.1))/$P$91*2000*PI()*0.8,0),\"\"))","v":686},null,{"v":2.2807268571428576,"d":"2.28"},{"v":6075.6,"d":"6076"},{"v":506.3,"d":"506"},0.343024,{"$f":"IF(Data!$C$59=1,TRUNC(($A32*0.9-BM98)/$P$90*2000*PI()*0.8,0),IF(Data!$C$59=2,TRUNC(($A32*0.8-(BM98+0.1))/$P$90*2000*PI()*0.8,0),\"\"))","v":1718}]
[0.8328800000000001,{"$f":"0.26*$B$84","v":{"v":2080,"d":"2080.00"}},-1.5999999999999969E-5,0.8328800000000001,{"$nulls":9},"PC40…B05",{"v":416.66666666666663,"d":"416.667"},"Motor continuous ",null,null,"Load",0,{"v":693.3333333333333,"d":"693"},2080,{"v":0.5496,"d":"0.55"},{"v":0.5496,"d":"0.55"},{"v":0.6106666666666666,"d":"0.61"},{"$f":"IF(Data!$E$83=1,Data!$L$117+Data!$F$59+X99/Data!$L$116/Data!$E$59/Data!$L$115,Data!$E$90+Data!$F$59+X99/Data!$G$90/Data!$E$59/Data!$D$90)","v":{"v":0.6106666666666666,"d":"0.61"}},{"v":0.8328800000000001,"d":"0.83"},{"$f":"IF(Data!$C$59=1,TRUNC(($A99*0.9-W99)/$P$92*2000*PI()*0.8,0),IF(Data!$C$59=2,TRUNC(($A99*0.8-(W99+0.1))/$P$92*2000*PI()*0.8,0),\"\"))","v":50},null,null,{"v":346.66666666666663,"d":"347"},2080,{"v":0.3664,"d":"0.37"},{"v":0.3664,"d":"0.37"},{"v":0.4071111111111111,"d":"0.41"},{"$f":"IF(Data!$E$83=1,Data!$L$117+Data!$F$59+AH99/Data!$L$116/Data!$E$59/Data!$L$115,Data!$E$90+Data!$F$59+AH99/Data!$G$90/Data!$E$59/Data!$D$90)","v":{"v":0.4071111111111111,"d":"0.41"}},{"v":0.8328800000000001,"d":"0.83"},{"$f":"IF(Data!$C$59=1,TRUNC(($A99*0.9-AG99)/$P$91*2000*PI()*0.8,0),IF(Data!$C$59=2,TRUNC(($A99*0.8-(AG99+0.1))/$P$91*2000*PI()*0.8,0),\"\"))","v":192},null,{"v":173.33333333333331,"d":"173"},2080,{"v":0.1832,"d":"0.18"},{"v":0.1832,"d":"0.18"},{"v":0.20355555555555555,"d":"0.20"},{"$f":"IF(Data!$E$83=1,Data!$L$117+Data!$F$59+AQ99/Data!$L$116/Data!$E$59/Data!$L$115,Data!$E$90+Data!$F$59+AQ99/Data!$G$90/Data!$E$59/Data!$D$90)","v":{"v":0.20355555555555555,"d":"0.20"}},{"v":0.8328800000000001,"d":"0.83"},{"$f":"IF(Data!$C$59=1,TRUNC(($A99*0.9-AP99)/$P$90*2000*PI()*0.8,0),IF(Data!$C$59=2,TRUNC(($A99*0.8-(AP99+0.1))/$P$90*2000*PI()*0.8,0),\"\"))","v":569},null,null,{"v":2.2335781978021974,"d":"2.23"},{"v":6169.7,"d":"6170"},{"v":2056.5666666666666,"d":"2057"},{"v":1.040364,"d":"1.04"},{"$f":"IF(Data!$C$59=1,TRUNC(($A33*0.9-BA99)/$P$92*2000*PI()*0.8,0),IF(Data!$C$59=2,TRUNC(($A33*0.8-(BA99+0.1))/$P$92*2000*PI()*0.8,0),\"\"))","v":243},null,{"v":2.2335781978021974,"d":"2.23"},{"v":6169.7,"d":"6170"},{"v":1028.2833333333333,"d":"1028"},0.693576,{"$f":"IF(Data!$C$59=1,TRUNC(($A33*0.9-BG99)/$P$91*2000*PI()*0.8,0),IF(Data!$C$59=2,TRUNC(($A33*0.8-(BG99+0.1))/$P$91*2000*PI()*0.8,0),\"\"))","v":661},null,{"v":2.2335781978021974,"d":"2.23"},{"v":6169.7,"d":"6170"},{"v":514.1416666666667,"d":"514"},0.346788,{"$f":"IF(Data!$C$59=1,TRUNC(($A33*0.9-BM99)/$P$90*2000*PI()*0.8,0),IF(Data!$C$59=2,TRUNC(($A33*0.8-(BM99+0.1))/$P$90*2000*PI()*0.8,0),\"\"))","v":1672}]
[0.8303200000000001,{"$f":"0.28*$B$84","v":{"v":2240,"d":"2240.00"}},-1.5999999999999969E-5,0.8303200000000001,{"$nulls":9},"PC40…B10",{"v":833.3333333333333,"d":"833.333"},"Torque max",{"$f":"A86","v":0.87},{"$nulls":3},{"v":746.6666666666667,"d":"747"},2240,{"v":0.5688,"d":"0.57"},{"v":0.5688,"d":"0.57"},{"v":0.632,"d":"0.63"},{"$f":"IF(Data!$E$83=1,Data!$L$117+Data!$F$59+X100/Data!$L$116/Data!$E$59/Data!$L$115,Data!$E$90+Data!$F$59+X100/Data!$G$90/Data!$E$59/Data!$D$90)","v":{"v":0.632,"d":"0.63"}},{"v":0.8303200000000001,"d":"0.83"},{"$f":"IF(Data!$C$59=1,TRUNC(($A100*0.9-W100)/$P$92*2000*PI()*0.8,0),IF(Data!$C$59=2,TRUNC(($A100*0.8-(W100+0.1))/$P$92*2000*PI()*0.8,0),\"\"))","v":44},null,null,{"v":373.33333333333337,"d":"373"},2240,{"v":0.37920000000000004,"d":"0.38"},{"v":0.37920000000000004,"d":"0.38"},{"v":0.42133333333333334,"d":"0.42"},{"$f":"IF(Data!$E$83=1,Data!$L$117+Data!$F$59+AH100/Data!$L$116/Data!$E$59/Data!$L$115,Data!$E$90+Data!$F$59+AH100/Data!$G$90/Data!$E$59/Data!$D$90)","v":{"v":0.42133333333333334,"d":"0.42"}},{"v":0.8303200000000001,"d":"0.83"},{"$f":"IF(Data!$C$59=1,TRUNC(($A100*0.9-AG100)/$P$91*2000*PI()*0.8,0),IF(Data!$C$59=2,TRUNC(($A100*0.8-(AG100+0.1))/$P$91*2000*PI()*0.8,0),\"\"))","v":185},null,{"v":186.66666666666669,"d":"187"},2240,{"v":0.18960000000000002,"d":"0.19"},{"v":0.18960000000000002,"d":"0.19"},{"v":0.21066666666666667,"d":"0.21"},{"$f":"IF(Data!$E$83=1,Data!$L$117+Data!$F$59+AQ100/Data!$L$116/Data!$E$59/Data!$L$115,Data!$E$90+Data!$F$59+AQ100/Data!$G$90/Data!$E$59/Data!$D$90)","v":{"v":0.21066666666666667,"d":"0.21"}},{"v":0.8303200000000001,"d":"0.83"},{"$f":"IF(Data!$C$59=1,TRUNC(($A100*0.9-AP100)/$P$90*2000*PI()*0.8,0),IF(Data!$C$59=2,TRUNC(($A100*0.8-(AP100+0.1))/$P$90*2000*PI()*0.8,0),\"\"))","v":560},null,null,{"v":2.1858331428571427,"d":"2.19"},{"v":6265.5,"d":"6266"},{"v":2088.5,"d":"2089"},{"v":1.05186,"d":"1.05"},{"$f":"IF(Data!$C$59=1,TRUNC(($A34*0.9-BA100)/$P$92*2000*PI()*0.8,0),IF(Data!$C$59=2,TRUNC(($A34*0.8-(BA100+0.1))/$P$92*2000*PI()*0.8,0),\"\"))","v":230},null,{"v":2.1858331428571427,"d":"2.19"},{"v":6265.5,"d":"6266"},{"v":1044.25,"d":"1044"},0.7012400000000001,{"$f":"IF(Data!$C$59=1,TRUNC(($A34*0.9-BG100)/$P$91*2000*PI()*0.8,0),IF(Data!$C$59=2,TRUNC(($A34*0.8-(BG100+0.1))/$P$91*2000*PI()*0.8,0),\"\"))","v":636},null,{"v":2.1858331428571427,"d":"2.19"},{"v":6265.5,"d":"6266"},{"v":522.125,"d":"522"},0.35062000000000004,{"$f":"IF(Data!$C$59=1,TRUNC(($A34*0.9-BM100)/$P$90*2000*PI()*0.8,0),IF(Data!$C$59=2,TRUNC(($A34*0.8-(BM100+0.1))/$P$90*2000*PI()*0.8,0),\"\"))","v":1625}]
[0.82776,{"$f":"0.3*$B$84","v":{"v":2400,"d":"2400.00"}},-1.5999999999999969E-5,0.82776,{"$nulls":9},"PC40…B20",{"v":1666.6666666666665,"d":"1666.667"},"rpm max",{"$f":"B136","v":8000},{"$nulls":3},800,2400,{"v":0.588,"d":"0.59"},{"v":0.588,"d":"0.59"},{"v":0.6533333333333333,"d":"0.65"},{"$f":"IF(Data!$E$83=1,Data!$L$117+Data!$F$59+X101/Data!$L$116/Data!$E$59/Data!$L$115,Data!$E$90+Data!$F$59+X101/Data!$G$90/Data!$E$59/Data!$D$90)","v":{"v":0.6533333333333333,"d":"0.65"}},{"v":0.82776,"d":"0.83"},{"$f":"IF(Data!$C$59=1,TRUNC(($A101*0.9-W101)/$P$92*2000*PI()*0.8,0),IF(Data!$C$59=2,TRUNC(($A101*0.8-(W101+0.1))/$P$92*2000*PI()*0.8,0),\"\"))","v":39},null,null,400,2400,{"v":0.392,"d":"0.39"},{"v":0.392,"d":"0.39"},{"v":0.4355555555555556,"d":"0.44"},{"$f":"IF(Data!$E$83=1,Data!$L$117+Data!$F$59+AH101/Data!$L$116/Data!$E$59/Data!$L$115,Data!$E$90+Data!$F$59+AH101/Data!$G$90/Data!$E$59/Data!$D$90)","v":{"v":0.4355555555555556,"d":"0.44"}},{"v":0.82776,"d":"0.83"},{"$f":"IF(Data!$C$59=1,TRUNC(($A101*0.9-AG101)/$P$91*2000*PI()*0.8,0),IF(Data!$C$59=2,TRUNC(($A101*0.8-(AG101+0.1))/$P$91*2000*PI()*0.8,0),\"\"))","v":177},null,200,2400,{"v":0.196,"d":"0.20"},{"v":0.196,"d":"0.20"},{"v":0.2177777777777778,"d":"0.22"},{"$f":"IF(Data!$E$83=1,Data!$L$117+Data!$F$59+AQ101/Data!$L$116/Data!$E$59/Data!$L$115,Data!$E$90+Data!$F$59+AQ101/Data!$G$90/Data!$E$59/Data!$D$90)","v":{"v":0.2177777777777778,"d":"0.22"}},{"v":0.82776,"d":"0.83"},{"$f":"IF(Data!$C$59=1,TRUNC(($A101*0.9-AP101)/$P$90*2000*PI()*0.8,0),IF(Data!$C$59=2,TRUNC(($A101*0.8-(AP101+0.1))/$P$90*2000*PI()*0.8,0),\"\"))","v":551},null,null,{"v":2.1374916923076923,"d":"2.14"},{"v":6362.9,"d":"6363"},{"v":2120.9666666666667,"d":"2121"},{"v":1.063548,"d":"1.06"},{"$f":"IF(Data!$C$59=1,TRUNC(($A35*0.9-BA101)/$P$92*2000*PI()*0.8,0),IF(Data!$C$59=2,TRUNC(($A35*0.8-(BA101+0.1))/$P$92*2000*PI()*0.8,0),\"\"))","v":216},null,{"v":2.1374916923076923,"d":"2.14"},{"v":6362.9,"d":"6363"},{"v":1060.4833333333333,"d":"1060"},0.7090319999999999,{"$f":"IF(Data!$C$59=1,TRUNC(($A35*0.9-BG101)/$P$91*2000*PI()*0.8,0),IF(Data!$C$59=2,TRUNC(($A35*0.8-(BG101+0.1))/$P$91*2000*PI()*0.8,0),\"\"))","v":610},null,{"v":2.1374916923076923,"d":"2.14"},{"v":6362.9,"d":"6363"},{"v":530.2416666666667,"d":"530"},0.35451599999999994,{"$f":"IF(Data!$C$59=1,TRUNC(($A35*0.9-BM101)/$P$90*2000*PI()*0.8,0),IF(Data!$C$59=2,TRUNC(($A35*0.8-(BM101+0.1))/$P$90*2000*PI()*0.8,0),\"\"))","v":1577}]
[0.8252,{"$f":"0.32*$B$84","v":{"v":2560,"d":"2560.00"}},-1.5999999999999969E-5,0.8252,{"$nulls":11},"Voltage",{"$f":"C141","v":320},{"$nulls":3},{"v":853.3333333333333,"d":"853"},2560,{"v":0.6072,"d":"0.61"},{"v":0.6072,"d":"0.61"},{"v":0.6746666666666666,"d":"0.67"},{"$f":"IF(Data!$E$83=1,Data!$L$117+Data!$F$59+X102/Data!$L$116/Data!$E$59/Data!$L$115,Data!$E$90+Data!$F$59+X102/Data!$G$90/Data!$E$59/Data!$D$90)","v":{"v":0.6746666666666666,"d":"0.67"}},{"v":0.8252,"d":"0.83"},{"$f":"IF(Data!$C$59=1,TRUNC(($A102*0.9-W102)/$P$92*2000*PI()*0.8,0),IF(Data!$C$59=2,TRUNC(($A102*0.8-(W102+0.1))/$P$92*2000*PI()*0.8,0),\"\"))","v":34},null,null,{"v":426.66666666666663,"d":"427"},2560,{"v":0.40480000000000005,"d":"0.40"},{"v":0.40480000000000005,"d":"0.40"},{"v":0.44977777777777783,"d":"0.45"},{"$f":"IF(Data!$E$83=1,Data!$L$117+Data!$F$59+AH102/Data!$L$116/Data!$E$59/Data!$L$115,Data!$E$90+Data!$F$59+AH102/Data!$G$90/Data!$E$59/Data!$D$90)","v":{"v":0.44977777777777783,"d":"0.45"}},{"v":0.8252,"d":"0.83"},{"$f":"IF(Data!$C$59=1,TRUNC(($A102*0.9-AG102)/$P$91*2000*PI()*0.8,0),IF(Data!$C$59=2,TRUNC(($A102*0.8-(AG102+0.1))/$P$91*2000*PI()*0.8,0),\"\"))","v":169},null,{"v":213.33333333333331,"d":"213"},2560,{"v":0.20240000000000002,"d":"0.20"},{"v":0.20240000000000002,"d":"0.20"},{"v":0.22488888888888892,"d":"0.22"},{"$f":"IF(Data!$E$83=1,Data!$L$117+Data!$F$59+AQ102/Data!$L$116/Data!$E$59/Data!$L$115,Data!$E$90+Data!$F$59+AQ102/Data!$G$90/Data!$E$59/Data!$D$90)","v":{"v":0.22488888888888892,"d":"0.22"}},{"v":0.8252,"d":"0.83"},{"$f":"IF(Data!$C$59=1,TRUNC(($A102*0.9-AP102)/$P$90*2000*PI()*0.8,0),IF(Data!$C$59=2,TRUNC(($A102*0.8-(AP102+0.1))/$P$90*2000*PI()*0.8,0),\"\"))","v":543},null,null,{"v":2.088553846153846,"d":"2.09"},{"v":6461.9,"d":"6462"},{"v":2153.9666666666662,"d":"2154"},{"v":1.0754279999999998,"d":"1.08"},{"$f":"IF(Data!$C$59=1,TRUNC(($A36*0.9-BA102)/$P$92*2000*PI()*0.8,0),IF(Data!$C$59=2,TRUNC(($A36*0.8-(BA102+0.1))/$P$92*2000*PI()*0.8,0),\"\"))","v":202},null,{"v":2.088553846153846,"d":"2.09"},{"v":6461.9,"d":"6462"},{"v":1076.9833333333331,"d":"1077"},0.716952,{"$f":"IF(Data!$C$59=1,TRUNC(($A36*0.9-BG102)/$P$91*2000*PI()*0.8,0),IF(Data!$C$59=2,TRUNC(($A36*0.8-(BG102+0.1))/$P$91*2000*PI()*0.8,0),\"\"))","v":584},null,{"v":2.088553846153846,"d":"2.09"},{"v":6461.9,"d":"6462"},{"v":538.4916666666666,"d":"538"},0.358476,{"$f":"IF(Data!$C$59=1,TRUNC(($A36*0.9-BM102)/$P$90*2000*PI()*0.8,0),IF(Data!$C$59=2,TRUNC(($A36*0.8-(BM102+0.1))/$P$90*2000*PI()*0.8,0),\"\"))","v":1529}]
[0.82264,{"$f":"0.34*$B$84","v":{"v":2720,"d":"2720.00"}},-1.5999999999999969E-5,0.82264,{"$nulls":16},{"v":906.6666666666667,"d":"907"},2720,{"v":0.6264000000000001,"d":"0.63"},{"v":0.6264000000000001,"d":"0.63"},{"v":0.6960000000000001,"d":"0.70"},{"$f":"IF(Data!$E$83=1,Data!$L$117+Data!$F$59+X103/Data!$L$116/Data!$E$59/Data!$L$115,Data!$E$90+Data!$F$59+X103/Data!$G$90/Data!$E$59/Data!$D$90)","v":{"v":0.6960000000000001,"d":"0.70"}},{"v":0.82264,"d":"0.82"},{"$f":"IF(Data!$C$59=1,TRUNC(($A103*0.9-W103)/$P$92*2000*PI()*0.8,0),IF(Data!$C$59=2,TRUNC(($A103*0.8-(W103+0.1))/$P$92*2000*PI()*0.8,0),\"\"))","v":28},null,null,{"v":453.33333333333337,"d":"453"},2720,{"v":0.4176,"d":"0.42"},{"v":0.4176,"d":"0.42"},{"v":0.464,"d":"0.46"},{"$f":"IF(Data!$E$83=1,Data!$L$117+Data!$F$59+AH103/Data!$L$116/Data!$E$59/Data!$L$115,Data!$E$90+Data!$F$59+AH103/Data!$G$90/Data!$E$59/Data!$D$90)","v":{"v":0.464,"d":"0.46"}},{"v":0.82264,"d":"0.82"},{"$f":"IF(Data!$C$59=1,TRUNC(($A103*0.9-AG103)/$P$91*2000*PI()*0.8,0),IF(Data!$C$59=2,TRUNC(($A103*0.8-(AG103+0.1))/$P$91*2000*PI()*0.8,0),\"\"))","v":162},null,{"v":226.66666666666669,"d":"227"},2720,{"v":0.2088,"d":"0.21"},{"v":0.2088,"d":"0.21"},{"v":0.232,"d":"0.23"},{"$f":"IF(Data!$E$83=1,Data!$L$117+Data!$F$59+AQ103/Data!$L$116/Data!$E$59/Data!$L$115,Data!$E$90+Data!$F$59+AQ103/Data!$G$90/Data!$E$59/Data!$D$90)","v":{"v":0.232,"d":"0.23"}},{"v":0.82264,"d":"0.82"},{"$f":"IF(Data!$C$59=1,TRUNC(($A103*0.9-AP103)/$P$90*2000*PI()*0.8,0),IF(Data!$C$59=2,TRUNC(($A103*0.8-(AP103+0.1))/$P$90*2000*PI()*0.8,0),\"\"))","v":534},null,null,{"v":2.0390196043956044,"d":"2.04"},{"v":6562.5,"d":"6563"},{"v":2187.5,"d":"2188"},{"v":1.0875,"d":"1.09"},{"$f":"IF(Data!$C$59=1,TRUNC(($A37*0.9-BA103)/$P$92*2000*PI()*0.8,0),IF(Data!$C$59=2,TRUNC(($A37*0.8-(BA103+0.1))/$P$92*2000*PI()*0.8,0),\"\"))","v":187},null,{"v":2.0390196043956044,"d":"2.04"},{"v":6562.5,"d":"6563"},{"v":1093.75,"d":"1094"},0.7250000000000001,{"$f":"IF(Data!$C$59=1,TRUNC(($A37*0.9-BG103)/$P$91*2000*PI()*0.8,0),IF(Data!$C$59=2,TRUNC(($A37*0.8-(BG103+0.1))/$P$91*2000*PI()*0.8,0),\"\"))","v":558},null,{"v":2.0390196043956044,"d":"2.04"},{"v":6562.5,"d":"6563"},{"v":546.875,"d":"547"},0.36250000000000004,{"$f":"IF(Data!$C$59=1,TRUNC(($A37*0.9-BM103)/$P$90*2000*PI()*0.8,0),IF(Data!$C$59=2,TRUNC(($A37*0.8-(BM103+0.1))/$P$90*2000*PI()*0.8,0),\"\"))","v":1480}]
[0.82008,{"$f":"0.36*$B$84","v":{"v":2880,"d":"2880.00"}},-1.5999999999999969E-5,0.82008,{"$nulls":16},960,2880,{"v":0.6456,"d":"0.65"},{"v":0.6456,"d":"0.65"},{"v":0.7173333333333333,"d":"0.72"},{"$f":"IF(Data!$E$83=1,Data!$L$117+Data!$F$59+X104/Data!$L$116/Data!$E$59/Data!$L$115,Data!$E$90+Data!$F$59+X104/Data!$G$90/Data!$E$59/Data!$D$90)","v":{"v":0.7173333333333333,"d":"0.72"}},{"v":0.82008,"d":"0.82"},{"$f":"IF(Data!$C$59=1,TRUNC(($A104*0.9-W104)/$P$92*2000*PI()*0.8,0),IF(Data!$C$59=2,TRUNC(($A104*0.8-(W104+0.1))/$P$92*2000*PI()*0.8,0),\"\"))","v":23},null,null,480,2880,{"v":0.4304,"d":"0.43"},{"v":0.4304,"d":"0.43"},{"v":0.4782222222222222,"d":"0.48"},{"$f":"IF(Data!$E$83=1,Data!$L$117+Data!$F$59+AH104/Data!$L$116/Data!$E$59/Data!$L$115,Data!$E$90+Data!$F$59+AH104/Data!$G$90/Data!$E$59/Data!$D$90)","v":{"v":0.4782222222222222,"d":"0.48"}},{"v":0.82008,"d":"0.82"},{"$f":"IF(Data!$C$59=1,TRUNC(($A104*0.9-AG104)/$P$91*2000*PI()*0.8,0),IF(Data!$C$59=2,TRUNC(($A104*0.8-(AG104+0.1))/$P$91*2000*PI()*0.8,0),\"\"))","v":154},null,240,2880,{"v":0.2152,"d":"0.22"},{"v":0.2152,"d":"0.22"},{"v":0.2391111111111111,"d":"0.24"},{"$f":"IF(Data!$E$83=1,Data!$L$117+Data!$F$59+AQ104/Data!$L$116/Data!$E$59/Data!$L$115,Data!$E$90+Data!$F$59+AQ104/Data!$G$90/Data!$E$59/Data!$D$90)","v":{"v":0.2391111111111111,"d":"0.24"}},{"v":0.82008,"d":"0.82"},{"$f":"IF(Data!$C$59=1,TRUNC(($A104*0.9-AP104)/$P$90*2000*PI()*0.8,0),IF(Data!$C$59=2,TRUNC(($A104*0.8-(AP104+0.1))/$P$90*2000*PI()*0.8,0),\"\"))","v":525},null,null,{"v":1.9888889670329672,"d":"1.99"},{"v":6664.7,"d":"6665"},{"v":2221.5666666666666,"d":"2222"},{"v":1.099764,"d":"1.10"},{"$f":"IF(Data!$C$59=1,TRUNC(($A38*0.9-BA104)/$P$92*2000*PI()*0.8,0),IF(Data!$C$59=2,TRUNC(($A38*0.8-(BA104+0.1))/$P$92*2000*PI()*0.8,0),\"\"))","v":173},null,{"v":1.9888889670329672,"d":"1.99"},{"v":6664.7,"d":"6665"},{"v":1110.7833333333333,"d":"1111"},0.733176,{"$f":"IF(Data!$C$59=1,TRUNC(($A38*0.9-BG104)/$P$91*2000*PI()*0.8,0),IF(Data!$C$59=2,TRUNC(($A38*0.8-(BG104+0.1))/$P$91*2000*PI()*0.8,0),\"\"))","v":531},null,{"v":1.9888889670329672,"d":"1.99"},{"v":6664.7,"d":"6665"},{"v":555.3916666666667,"d":"555"},0.366588,{"$f":"IF(Data!$C$59=1,TRUNC(($A38*0.9-BM104)/$P$90*2000*PI()*0.8,0),IF(Data!$C$59=2,TRUNC(($A38*0.8-(BM104+0.1))/$P$90*2000*PI()*0.8,0),\"\"))","v":1430}]
[0.81752,{"$f":"0.38*$B$84","v":{"v":3040,"d":"3040.00"}},-1.5999999999999969E-5,0.81752,{"$nulls":16},{"v":1013.3333333333333,"d":"1013"},3040,{"v":0.6648,"d":"0.66"},{"v":0.6648,"d":"0.66"},{"v":0.7386666666666666,"d":"0.74"},{"$f":"IF(Data!$E$83=1,Data!$L$117+Data!$F$59+X105/Data!$L$116/Data!$E$59/Data!$L$115,Data!$E$90+Data!$F$59+X105/Data!$G$90/Data!$E$59/Data!$D$90)","v":{"v":0.7386666666666666,"d":"0.74"}},{"v":0.81752,"d":"0.82"},{"$f":"IF(Data!$C$59=1,TRUNC(($A105*0.9-W105)/$P$92*2000*PI()*0.8,0),IF(Data!$C$59=2,TRUNC(($A105*0.8-(W105+0.1))/$P$92*2000*PI()*0.8,0),\"\"))","v":17},null,null,{"v":506.66666666666663,"d":"507"},3040,{"v":0.44320000000000004,"d":"0.44"},{"v":0.44320000000000004,"d":"0.44"},{"v":0.49244444444444446,"d":"0.49"},{"$f":"IF(Data!$E$83=1,Data!$L$117+Data!$F$59+AH105/Data!$L$116/Data!$E$59/Data!$L$115,Data!$E$90+Data!$F$59+AH105/Data!$G$90/Data!$E$59/Data!$D$90)","v":{"v":0.49244444444444446,"d":"0.49"}},{"v":0.81752,"d":"0.82"},{"$f":"IF(Data!$C$59=1,TRUNC(($A105*0.9-AG105)/$P$91*2000*PI()*0.8,0),IF(Data!$C$59=2,TRUNC(($A105*0.8-(AG105+0.1))/$P$91*2000*PI()*0.8,0),\"\"))","v":147},null,{"v":253.33333333333331,"d":"253"},3040,{"v":0.22160000000000002,"d":"0.22"},{"v":0.22160000000000002,"d":"0.22"},{"v":0.24622222222222223,"d":"0.25"},{"$f":"IF(Data!$E$83=1,Data!$L$117+Data!$F$59+AQ105/Data!$L$116/Data!$E$59/Data!$L$115,Data!$E$90+Data!$F$59+AQ105/Data!$G$90/Data!$E$59/Data!$D$90)","v":{"v":0.24622222222222223,"d":"0.25"}},{"v":0.81752,"d":"0.82"},{"$f":"IF(Data!$C$59=1,TRUNC(($A105*0.9-AP105)/$P$90*2000*PI()*0.8,0),IF(Data!$C$59=2,TRUNC(($A105*0.8-(AP105+0.1))/$P$90*2000*PI()*0.8,0),\"\"))","v":516},null,null,{"v":1.938161934065934,"d":"1.94"},{"v":6768.4,"d":"6768"},{"v":2256.133333333333,"d":"2256"},{"v":1.1122079999999999,"d":"1.11"},{"$f":"IF(Data!$C$59=1,TRUNC(($A39*0.9-BA105)/$P$92*2000*PI()*0.8,0),IF(Data!$C$59=2,TRUNC(($A39*0.8-(BA105+0.1))/$P$92*2000*PI()*0.8,0),\"\"))","v":158},null,{"v":1.938161934065934,"d":"1.94"},{"v":6768.4,"d":"6768"},{"v":1128.0666666666666,"d":"1128"},0.7414720000000001,{"$f":"IF(Data!$C$59=1,TRUNC(($A39*0.9-BG105)/$P$91*2000*PI()*0.8,0),IF(Data!$C$59=2,TRUNC(($A39*0.8-(BG105+0.1))/$P$91*2000*PI()*0.8,0),\"\"))","v":504},null,{"v":1.938161934065934,"d":"1.94"},{"v":6768.4,"d":"6768"},{"v":564.0333333333333,"d":"564"},0.37073600000000007,{"$f":"IF(Data!$C$59=1,TRUNC(($A39*0.9-BM105)/$P$90*2000*PI()*0.8,0),IF(Data!$C$59=2,TRUNC(($A39*0.8-(BM105+0.1))/$P$90*2000*PI()*0.8,0),\"\"))","v":1380}]
[0.81496,{"$f":"0.4*$B$84","v":{"v":3200,"d":"3200.00"}},{"$f":"IF(B106<$B$79,$E$79,IF(B106<$B$80,$E$80,IF(B106<$B$81,$E$81,IF(B106<$B$82,$E$82,$E$83 ) ) ))","v":-1.5999999999999969E-5},0.81496,{"$nulls":16},{"v":1066.6666666666667,"d":"1067"},3200,{"v":0.6839999999999999,"d":"0.68"},{"v":0.6839999999999999,"d":"0.68"},{"v":0.7599999999999999,"d":"0.76"},{"$f":"IF(Data!$E$83=1,Data!$L$117+Data!$F$59+X106/Data!$L$116/Data!$E$59/Data!$L$115,Data!$E$90+Data!$F$59+X106/Data!$G$90/Data!$E$59/Data!$D$90)","v":{"v":0.7599999999999999,"d":"0.76"}},{"v":0.81496,"d":"0.81"},{"$f":"IF(Data!$C$59=1,TRUNC(($A106*0.9-W106)/$P$92*2000*PI()*0.8,0),IF(Data!$C$59=2,TRUNC(($A106*0.8-(W106+0.1))/$P$92*2000*PI()*0.8,0),\"\"))","v":12},null,null,{"v":533.3333333333334,"d":"533"},3200,{"v":0.456,"d":"0.46"},{"v":0.456,"d":"0.46"},{"v":0.5066666666666667,"d":"0.51"},{"$f":"IF(Data!$E$83=1,Data!$L$117+Data!$F$59+AH106/Data!$L$116/Data!$E$59/Data!$L$115,Data!$E$90+Data!$F$59+AH106/Data!$G$90/Data!$E$59/Data!$D$90)","v":{"v":0.5066666666666667,"d":"0.51"}},{"v":0.81496,"d":"0.81"},{"$f":"IF(Data!$C$59=1,TRUNC(($A106*0.9-AG106)/$P$91*2000*PI()*0.8,0),IF(Data!$C$59=2,TRUNC(($A106*0.8-(AG106+0.1))/$P$91*2000*PI()*0.8,0),\"\"))","v":139},null,{"v":266.6666666666667,"d":"267"},3200,{"v":0.228,"d":"0.23"},{"v":0.228,"d":"0.23"},{"v":0.25333333333333335,"d":"0.25"},{"$f":"IF(Data!$E$83=1,Data!$L$117+Data!$F$59+AQ106/Data!$L$116/Data!$E$59/Data!$L$115,Data!$E$90+Data!$F$59+AQ106/Data!$G$90/Data!$E$59/Data!$D$90)","v":{"v":0.25333333333333335,"d":"0.25"}},{"v":0.81496,"d":"0.81"},{"$f":"IF(Data!$C$59=1,TRUNC(($A106*0.9-AP106)/$P$90*2000*PI()*0.8,0),IF(Data!$C$59=2,TRUNC(($A106*0.8-(AP106+0.1))/$P$90*2000*PI()*0.8,0),\"\"))","v":508},null,null,{"v":1.8868385054945054,"d":"1.89"},{"v":6873.6,"d":"6874"},{"v":2291.2,"d":"2291"},{"v":1.124832,"d":"1.12"},{"$f":"IF(Data!$C$59=1,TRUNC(($A40*0.9-BA106)/$P$92*2000*PI()*0.8,0),IF(Data!$C$59=2,TRUNC(($A40*0.8-(BA106+0.1))/$P$92*2000*PI()*0.8,0),\"\"))","v":144},null,{"v":1.8868385054945054,"d":"1.89"},{"v":6873.6,"d":"6874"},{"v":1145.6,"d":"1146"},0.7498880000000001,{"$f":"IF(Data!$C$59=1,TRUNC(($A40*0.9-BG106)/$P$91*2000*PI()*0.8,0),IF(Data!$C$59=2,TRUNC(($A40*0.8-(BG106+0.1))/$P$91*2000*PI()*0.8,0),\"\"))","v":476},null,{"v":1.8868385054945054,"d":"1.89"},{"v":6873.6,"d":"6874"},{"v":572.8,"d":"573"},0.37494400000000006,{"$f":"IF(Data!$C$59=1,TRUNC(($A40*0.9-BM106)/$P$90*2000*PI()*0.8,0),IF(Data!$C$59=2,TRUNC(($A40*0.8-(BM106+0.1))/$P$90*2000*PI()*0.8,0),\"\"))","v":1330}]
[0.8124,{"$f":"0.42*$B$84","v":{"v":3360,"d":"3360.00"}},{"$f":"IF(B107<$B$79,$E$79,IF(B107<$B$80,$E$80,IF(B107<$B$81,$E$81,IF(B107<$B$82,$E$82,$E$83 ) ) ))","v":-1.5999999999999969E-5},0.8124,{"$nulls":16},1120,3360,{"v":0.7032,"d":"0.70"},{"v":0.7032,"d":"0.70"},{"v":0.7813333333333333,"d":"0.78"},{"$f":"IF(Data!$E$83=1,Data!$L$117+Data!$F$59+X107/Data!$L$116/Data!$E$59/Data!$L$115,Data!$E$90+Data!$F$59+X107/Data!$G$90/Data!$E$59/Data!$D$90)","v":{"v":0.7813333333333333,"d":"0.78"}},{"v":0.8124,"d":"0.81"},{"$f":"IF(Data!$C$59=1,TRUNC(($A107*0.9-W107)/$P$92*2000*PI()*0.8,0),IF(Data!$C$59=2,TRUNC(($A107*0.8-(W107+0.1))/$P$92*2000*PI()*0.8,0),\"\"))","v":7},null,null,560,3360,{"v":0.46880000000000005,"d":"0.47"},{"v":0.46880000000000005,"d":"0.47"},{"v":0.520888888888889,"d":"0.52"},{"$f":"IF(Data!$E$83=1,Data!$L$117+Data!$F$59+AH107/Data!$L$116/Data!$E$59/Data!$L$115,Data!$E$90+Data!$F$59+AH107/Data!$G$90/Data!$E$59/Data!$D$90)","v":{"v":0.520888888888889,"d":"0.52"}},{"v":0.8124,"d":"0.81"},{"$f":"IF(Data!$C$59=1,TRUNC(($A107*0.9-AG107)/$P$91*2000*PI()*0.8,0),IF(Data!$C$59=2,TRUNC(($A107*0.8-(AG107+0.1))/$P$91*2000*PI()*0.8,0),\"\"))","v":131},null,280,3360,{"v":0.23440000000000003,"d":"0.23"},{"v":0.23440000000000003,"d":"0.23"},{"v":0.2604444444444445,"d":"0.26"},{"$f":"IF(Data!$E$83=1,Data!$L$117+Data!$F$59+AQ107/Data!$L$116/Data!$E$59/Data!$L$115,Data!$E$90+Data!$F$59+AQ107/Data!$G$90/Data!$E$59/Data!$D$90)","v":{"v":0.2604444444444445,"d":"0.26"}},{"v":0.8124,"d":"0.81"},{"$f":"IF(Data!$C$59=1,TRUNC(($A107*0.9-AP107)/$P$90*2000*PI()*0.8,0),IF(Data!$C$59=2,TRUNC(($A107*0.8-(AP107+0.1))/$P$90*2000*PI()*0.8,0),\"\"))","v":499},null,null,{"v":1.834918681318681,"d":"1.83"},{"v":6980.1,"d":"6980"},{"v":2326.7000000000003,"d":"2327"},{"v":1.137612,"d":"1.14"},{"$f":"IF(Data!$C$59=1,TRUNC(($A41*0.9-BA107)/$P$92*2000*PI()*0.8,0),IF(Data!$C$59=2,TRUNC(($A41*0.8-(BA107+0.1))/$P$92*2000*PI()*0.8,0),\"\"))","v":129},null,{"v":1.834918681318681,"d":"1.83"},{"v":6980.1,"d":"6980"},{"v":1163.3500000000001,"d":"1163"},0.758408,{"$f":"IF(Data!$C$59=1,TRUNC(($A41*0.9-BG107)/$P$91*2000*PI()*0.8,0),IF(Data!$C$59=2,TRUNC(($A41*0.8-(BG107+0.1))/$P$91*2000*PI()*0.8,0),\"\"))","v":448},null,{"v":1.834918681318681,"d":"1.83"},{"v":6980.1,"d":"6980"},{"v":581.6750000000001,"d":"582"},0.379204,{"$f":"IF(Data!$C$59=1,TRUNC(($A41*0.9-BM107)/$P$90*2000*PI()*0.8,0),IF(Data!$C$59=2,TRUNC(($A41*0.8-(BM107+0.1))/$P$90*2000*PI()*0.8,0),\"\"))","v":1278}]
[0.8084888888888889,{"$f":"0.44*$B$84","v":{"v":3520,"d":"3520.00"}},-2.4444444444444465E-5,0.8084888888888889,{"$nulls":16},{"v":1173.3333333333333,"d":"1173"},3520,{"v":0.7223999999999999,"d":"0.72"},{"v":0.7223999999999999,"d":"0.72"},{"v":0.8026666666666665,"d":"0.80"},{"$f":"IF(Data!$E$83=1,Data!$L$117+Data!$F$59+X108/Data!$L$116/Data!$E$59/Data!$L$115,Data!$E$90+Data!$F$59+X108/Data!$G$90/Data!$E$59/Data!$D$90)","v":{"v":0.8026666666666665,"d":"0.80"}},{"v":0.8084888888888889,"d":"0.81"},{"$f":"IF(Data!$C$59=1,TRUNC(($A108*0.9-W108)/$P$92*2000*PI()*0.8,0),IF(Data!$C$59=2,TRUNC(($A108*0.8-(W108+0.1))/$P$92*2000*PI()*0.8,0),\"\"))","v":1},null,null,{"v":586.6666666666666,"d":"587"},3520,{"v":0.48160000000000003,"d":"0.48"},{"v":0.48160000000000003,"d":"0.48"},{"v":0.5351111111111111,"d":"0.54"},{"$f":"IF(Data!$E$83=1,Data!$L$117+Data!$F$59+AH108/Data!$L$116/Data!$E$59/Data!$L$115,Data!$E$90+Data!$F$59+AH108/Data!$G$90/Data!$E$59/Data!$D$90)","v":{"v":0.5351111111111111,"d":"0.54"}},{"v":0.8084888888888889,"d":"0.81"},{"$f":"IF(Data!$C$59=1,TRUNC(($A108*0.9-AG108)/$P$91*2000*PI()*0.8,0),IF(Data!$C$59=2,TRUNC(($A108*0.8-(AG108+0.1))/$P$91*2000*PI()*0.8,0),\"\"))","v":123},null,{"v":293.3333333333333,"d":"293"},3520,{"v":0.24080000000000001,"d":"0.24"},{"v":0.24080000000000001,"d":"0.24"},{"v":0.26755555555555555,"d":"0.27"},{"$f":"IF(Data!$E$83=1,Data!$L$117+Data!$F$59+AQ108/Data!$L$116/Data!$E$59/Data!$L$115,Data!$E$90+Data!$F$59+AQ108/Data!$G$90/Data!$E$59/Data!$D$90)","v":{"v":0.26755555555555555,"d":"0.27"}},{"v":0.8084888888888889,"d":"0.81"},{"$f":"IF(Data!$C$59=1,TRUNC(($A108*0.9-AP108)/$P$90*2000*PI()*0.8,0),IF(Data!$C$59=2,TRUNC(($A108*0.8-(AP108+0.1))/$P$90*2000*PI()*0.8,0),\"\"))","v":489},null,null,{"v":1.7824024615384615,"d":"1.78"},7088,{"v":2362.666666666667,"d":"2363"},{"v":1.15056,"d":"1.15"},{"$f":"IF(Data!$C$59=1,TRUNC(($A42*0.9-BA108)/$P$92*2000*PI()*0.8,0),IF(Data!$C$59=2,TRUNC(($A42*0.8-(BA108+0.1))/$P$92*2000*PI()*0.8,0),\"\"))","v":114},null,{"v":1.7824024615384615,"d":"1.78"},7088,{"v":1181.3333333333335,"d":"1181"},0.7670399999999999,{"$f":"IF(Data!$C$59=1,TRUNC(($A42*0.9-BG108)/$P$91*2000*PI()*0.8,0),IF(Data!$C$59=2,TRUNC(($A42*0.8-(BG108+0.1))/$P$91*2000*PI()*0.8,0),\"\"))","v":420},null,{"v":1.7824024615384615,"d":"1.78"},7088,{"v":590.6666666666667,"d":"591"},0.38351999999999997,{"$f":"IF(Data!$C$59=1,TRUNC(($A42*0.9-BM108)/$P$90*2000*PI()*0.8,0),IF(Data!$C$59=2,TRUNC(($A42*0.8-(BM108+0.1))/$P$90*2000*PI()*0.8,0),\"\"))","v":1227}]
[0.8045777777777778,{"$f":"0.46*$B$84","v":{"v":3680,"d":"3680.00"}},-2.4444444444444465E-5,0.8045777777777778,{"$nulls":16},{"v":1226.6666666666667,"d":"1227"},3680,{"v":0.7416,"d":"0.74"},{"v":0.7416,"d":"0.74"},"",{"$f":"IF(Data!$E$83=1,Data!$L$117+Data!$F$59+X109/Data!$L$116/Data!$E$59/Data!$L$115,Data!$E$90+Data!$F$59+X109/Data!$G$90/Data!$E$59/Data!$D$90)","v":{"v":0.8240000000000001,"d":"0.82"}},{"v":0.8045777777777778,"d":"0.80"},{"$f":"IF(Data!$C$59=1,TRUNC(($A109*0.9-W109)/$P$92*2000*PI()*0.8,0),IF(Data!$C$59=2,TRUNC(($A109*0.8-(W109+0.1))/$P$92*2000*PI()*0.8,0),\"\"))","v":-4},null,null,{"v":613.3333333333334,"d":"613"},3680,{"v":0.4944,"d":"0.49"},{"v":0.4944,"d":"0.49"},{"v":0.5493333333333333,"d":"0.55"},{"$f":"IF(Data!$E$83=1,Data!$L$117+Data!$F$59+AH109/Data!$L$116/Data!$E$59/Data!$L$115,Data!$E$90+Data!$F$59+AH109/Data!$G$90/Data!$E$59/Data!$D$90)","v":{"v":0.5493333333333333,"d":"0.55"}},{"v":0.8045777777777778,"d":"0.80"},{"$f":"IF(Data!$C$59=1,TRUNC(($A109*0.9-AG109)/$P$91*2000*PI()*0.8,0),IF(Data!$C$59=2,TRUNC(($A109*0.8-(AG109+0.1))/$P$91*2000*PI()*0.8,0),\"\"))","v":115},null,{"v":306.6666666666667,"d":"307"},3680,{"v":0.2472,"d":"0.25"},{"v":0.2472,"d":"0.25"},{"v":0.27466666666666667,"d":"0.27"},{"$f":"IF(Data!$E$83=1,Data!$L$117+Data!$F$59+AQ109/Data!$L$116/Data!$E$59/Data!$L$115,Data!$E$90+Data!$F$59+AQ109/Data!$G$90/Data!$E$59/Data!$D$90)","v":{"v":0.27466666666666667,"d":"0.27"}},{"v":0.8045777777777778,"d":"0.80"},{"$f":"IF(Data!$C$59=1,TRUNC(($A109*0.9-AP109)/$P$90*2000*PI()*0.8,0),IF(Data!$C$59=2,TRUNC(($A109*0.8-(AP109+0.1))/$P$90*2000*PI()*0.8,0),\"\"))","v":479},null,null,{"v":1.7292898461538462,"d":"1.73"},{"v":7197.1,"d":"7197"},{"v":2399.0333333333333,"d":"2399"},{"v":1.1636520000000001,"d":"1.16"},{"$f":"IF(Data!$C$59=1,TRUNC(($A43*0.9-BA109)/$P$92*2000*PI()*0.8,0),IF(Data!$C$59=2,TRUNC(($A43*0.8-(BA109+0.1))/$P$92*2000*PI()*0.8,0),\"\"))","v":98},null,{"v":1.7292898461538462,"d":"1.73"},{"v":7197.1,"d":"7197"},{"v":1199.5166666666667,"d":"1200"},0.775768,{"$f":"IF(Data!$C$59=1,TRUNC(($A43*0.9-BG109)/$P$91*2000*PI()*0.8,0),IF(Data!$C$59=2,TRUNC(($A43*0.8-(BG109+0.1))/$P$91*2000*PI()*0.8,0),\"\"))","v":392},null,{"v":1.7292898461538462,"d":"1.73"},{"v":7197.1,"d":"7197"},{"v":599.7583333333333,"d":"600"},0.387884,{"$f":"IF(Data!$C$59=1,TRUNC(($A43*0.9-BM109)/$P$90*2000*PI()*0.8,0),IF(Data!$C$59=2,TRUNC(($A43*0.8-(BM109+0.1))/$P$90*2000*PI()*0.8,0),\"\"))","v":1174}]
[0.8006666666666667,{"$f":"0.48*$B$84","v":{"v":3840,"d":"3840.00"}},-2.4444444444444465E-5,0.8006666666666667,{"$nulls":8},"PC40B20","AKM32E","400VAC",{"$nulls":5},1280,3840,{"v":0.7607999999999999,"d":"0.76"},{"v":0.7607999999999999,"d":"0.76"},"",{"$f":"IF(Data!$E$83=1,Data!$L$117+Data!$F$59+X110/Data!$L$116/Data!$E$59/Data!$L$115,Data!$E$90+Data!$F$59+X110/Data!$G$90/Data!$E$59/Data!$D$90)","v":{"v":0.8453333333333333,"d":"0.85"}},{"v":0.8006666666666667,"d":"0.80"},{"$f":"IF(Data!$C$59=1,TRUNC(($A110*0.9-W110)/$P$92*2000*PI()*0.8,0),IF(Data!$C$59=2,TRUNC(($A110*0.8-(W110+0.1))/$P$92*2000*PI()*0.8,0),\"\"))","v":-10},null,null,640,3840,{"v":0.5072000000000001,"d":"0.51"},{"v":0.5072000000000001,"d":"0.51"},{"v":0.5635555555555557,"d":"0.56"},{"$f":"IF(Data!$E$83=1,Data!$L$117+Data!$F$59+AH110/Data!$L$116/Data!$E$59/Data!$L$115,Data!$E$90+Data!$F$59+AH110/Data!$G$90/Data!$E$59/Data!$D$90)","v":{"v":0.5635555555555557,"d":"0.56"}},{"v":0.8006666666666667,"d":"0.80"},{"$f":"IF(Data!$C$59=1,TRUNC(($A110*0.9-AG110)/$P$91*2000*PI()*0.8,0),IF(Data!$C$59=2,TRUNC(($A110*0.8-(AG110+0.1))/$P$91*2000*PI()*0.8,0),\"\"))","v":107},null,320,3840,{"v":0.25360000000000005,"d":"0.25"},{"v":0.25360000000000005,"d":"0.25"},{"v":0.28177777777777785,"d":"0.28"},{"$f":"IF(Data!$E$83=1,Data!$L$117+Data!$F$59+AQ110/Data!$L$116/Data!$E$59/Data!$L$115,Data!$E$90+Data!$F$59+AQ110/Data!$G$90/Data!$E$59/Data!$D$90)","v":{"v":0.28177777777777785,"d":"0.28"}},{"v":0.8006666666666667,"d":"0.80"},{"$f":"IF(Data!$C$59=1,TRUNC(($A110*0.9-AP110)/$P$90*2000*PI()*0.8,0),IF(Data!$C$59=2,TRUNC(($A110*0.8-(AP110+0.1))/$P$90*2000*PI()*0.8,0),\"\"))","v":469},null,null,{"v":1.6755808351648354,"d":"1.68"},{"v":7307.4,"d":"7307"},{"v":2435.7999999999997,"d":"2436"},{"v":1.176888,"d":"1.18"},{"$f":"IF(Data!$C$59=1,TRUNC(($A44*0.9-BA110)/$P$92*2000*PI()*0.8,0),IF(Data!$C$59=2,TRUNC(($A44*0.8-(BA110+0.1))/$P$92*2000*PI()*0.8,0),\"\"))","v":83},null,{"v":1.6755808351648354,"d":"1.68"},{"v":7307.4,"d":"7307"},{"v":1217.8999999999999,"d":"1218"},0.784592,{"$f":"IF(Data!$C$59=1,TRUNC(($A44*0.9-BG110)/$P$91*2000*PI()*0.8,0),IF(Data!$C$59=2,TRUNC(($A44*0.8-(BG110+0.1))/$P$91*2000*PI()*0.8,0),\"\"))","v":363},null,{"v":1.6755808351648354,"d":"1.68"},{"v":7307.4,"d":"7307"},{"v":608.9499999999999,"d":"609"},0.392296,{"$f":"IF(Data!$C$59=1,TRUNC(($A44*0.9-BM110)/$P$90*2000*PI()*0.8,0),IF(Data!$C$59=2,TRUNC(($A44*0.8-(BM110+0.1))/$P$90*2000*PI()*0.8,0),\"\"))","v":1121}]
[0.7967555555555557,{"$f":"0.5*$B$84","v":{"v":4000,"d":"4000.00"}},-2.4444444444444465E-5,0.7967555555555557,{"$nulls":16},{"v":1333.3333333333335,"d":"1333"},4000,0.78,0.78,"",{"$f":"IF(Data!$E$83=1,Data!$L$117+Data!$F$59+X111/Data!$L$116/Data!$E$59/Data!$L$115,Data!$E$90+Data!$F$59+X111/Data!$G$90/Data!$E$59/Data!$D$90)","v":{"v":0.8666666666666667,"d":"0.87"}},{"v":0.7967555555555557,"d":"0.80"},{"$f":"IF(Data!$C$59=1,TRUNC(($A111*0.9-W111)/$P$92*2000*PI()*0.8,0),IF(Data!$C$59=2,TRUNC(($A111*0.8-(W111+0.1))/$P$92*2000*PI()*0.8,0),\"\"))","v":-15},null,null,{"v":666.6666666666667,"d":"667"},{"v":4000.0000000000005,"d":"4000"},0.52,0.52,{"v":0.5777777777777778,"d":"0.58"},{"$f":"IF(Data!$E$83=1,Data!$L$117+Data!$F$59+AH111/Data!$L$116/Data!$E$59/Data!$L$115,Data!$E$90+Data!$F$59+AH111/Data!$G$90/Data!$E$59/Data!$D$90)","v":{"v":0.5777777777777778,"d":"0.58"}},{"v":0.7967555555555557,"d":"0.80"},{"$f":"IF(Data!$C$59=1,TRUNC(($A111*0.9-AG111)/$P$91*2000*PI()*0.8,0),IF(Data!$C$59=2,TRUNC(($A111*0.8-(AG111+0.1))/$P$91*2000*PI()*0.8,0),\"\"))","v":99},null,{"v":333.33333333333337,"d":"333"},{"v":4000.0000000000005,"d":"4000"},0.26,0.26,{"v":0.2888888888888889,"d":"0.29"},{"$f":"IF(Data!$E$83=1,Data!$L$117+Data!$F$59+AQ111/Data!$L$116/Data!$E$59/Data!$L$115,Data!$E$90+Data!$F$59+AQ111/Data!$G$90/Data!$E$59/Data!$D$90)","v":{"v":0.2888888888888889,"d":"0.29"}},{"v":0.7967555555555557,"d":"0.80"},{"$f":"IF(Data!$C$59=1,TRUNC(($A111*0.9-AP111)/$P$90*2000*PI()*0.8,0),IF(Data!$C$59=2,TRUNC(($A111*0.8-(AP111+0.1))/$P$90*2000*PI()*0.8,0),\"\"))","v":459},null,null,{"v":1.6212754285714288,"d":"1.62"},{"v":7418.7,"d":"7419"},{"v":2472.9,"d":"2473"},{"v":1.190244,"d":"1.19"},{"$f":"IF(Data!$C$59=1,TRUNC(($A45*0.9-BA111)/$P$92*2000*PI()*0.8,0),IF(Data!$C$59=2,TRUNC(($A45*0.8-(BA111+0.1))/$P$92*2000*PI()*0.8,0),\"\"))","v":67},null,{"v":1.6212754285714288,"d":"1.62"},{"v":7418.7,"d":"7419"},{"v":1236.45,"d":"1236"},0.793496,{"$f":"IF(Data!$C$59=1,TRUNC(($A45*0.9-BG111)/$P$91*2000*PI()*0.8,0),IF(Data!$C$59=2,TRUNC(($A45*0.8-(BG111+0.1))/$P$91*2000*PI()*0.8,0),\"\"))","v":334},null,{"v":1.6212754285714288,"d":"1.62"},{"v":7418.7,"d":"7419"},{"v":618.225,"d":"618"},0.396748,{"$f":"IF(Data!$C$59=1,TRUNC(($A45*0.9-BM111)/$P$90*2000*PI()*0.8,0),IF(Data!$C$59=2,TRUNC(($A45*0.8-(BM111+0.1))/$P$90*2000*PI()*0.8,0),\"\"))","v":1068}]
[0.7928444444444446,{"$f":"0.52*$B$84","v":{"v":4160,"d":"4160.00"}},-2.4444444444444465E-5,0.7928444444444446,{"$nulls":8},"mm/s","Load",{"$nulls":6},{"v":1386.6666666666665,"d":"1387"},4160,{"v":0.7991999999999999,"d":"0.80"},{"v":0.7991999999999999,"d":"0.80"},"",{"$f":"IF(Data!$E$83=1,Data!$L$117+Data!$F$59+X112/Data!$L$116/Data!$E$59/Data!$L$115,Data!$E$90+Data!$F$59+X112/Data!$G$90/Data!$E$59/Data!$D$90)","v":{"v":0.8879999999999999,"d":"0.89"}},{"v":0.7928444444444446,"d":"0.79"},{"$f":"IF(Data!$C$59=1,TRUNC(($A112*0.9-W112)/$P$92*2000*PI()*0.8,0),IF(Data!$C$59=2,TRUNC(($A112*0.8-(W112+0.1))/$P$92*2000*PI()*0.8,0),\"\"))","v":-21},null,null,{"v":693.3333333333333,"d":"693"},4160,{"v":0.5327999999999999,"d":"0.53"},{"v":0.5327999999999999,"d":"0.53"},{"v":0.592,"d":"0.59"},{"$f":"IF(Data!$E$83=1,Data!$L$117+Data!$F$59+AH112/Data!$L$116/Data!$E$59/Data!$L$115,Data!$E$90+Data!$F$59+AH112/Data!$G$90/Data!$E$59/Data!$D$90)","v":{"v":0.592,"d":"0.59"}},{"v":0.7928444444444446,"d":"0.79"},{"$f":"IF(Data!$C$59=1,TRUNC(($A112*0.9-AG112)/$P$91*2000*PI()*0.8,0),IF(Data!$C$59=2,TRUNC(($A112*0.8-(AG112+0.1))/$P$91*2000*PI()*0.8,0),\"\"))","v":90},null,{"v":346.66666666666663,"d":"347"},4160,{"v":0.26639999999999997,"d":"0.27"},{"v":0.26639999999999997,"d":"0.27"},{"v":0.296,"d":"0.30"},{"$f":"IF(Data!$E$83=1,Data!$L$117+Data!$F$59+AQ112/Data!$L$116/Data!$E$59/Data!$L$115,Data!$E$90+Data!$F$59+AQ112/Data!$G$90/Data!$E$59/Data!$D$90)","v":{"v":0.296,"d":"0.30"}},{"v":0.7928444444444446,"d":"0.79"},{"$f":"IF(Data!$C$59=1,TRUNC(($A112*0.9-AP112)/$P$90*2000*PI()*0.8,0),IF(Data!$C$59=2,TRUNC(($A112*0.8-(AP112+0.1))/$P$90*2000*PI()*0.8,0),\"\"))","v":449},null,null,{"v":1.5663736263736265,"d":"1.57"},{"v":7530.8,"d":"7531"},{"v":2510.266666666667,"d":"2510"},{"v":1.2036959999999999,"d":"1.20"},{"$f":"IF(Data!$C$59=1,TRUNC(($A46*0.9-BA112)/$P$92*2000*PI()*0.8,0),IF(Data!$C$59=2,TRUNC(($A46*0.8-(BA112+0.1))/$P$92*2000*PI()*0.8,0),\"\"))","v":51},null,{"v":1.5663736263736265,"d":"1.57"},{"v":7530.8,"d":"7531"},{"v":1255.1333333333334,"d":"1255"},0.8024640000000001,{"$f":"IF(Data!$C$59=1,TRUNC(($A46*0.9-BG112)/$P$91*2000*PI()*0.8,0),IF(Data!$C$59=2,TRUNC(($A46*0.8-(BG112+0.1))/$P$91*2000*PI()*0.8,0),\"\"))","v":305},null,{"v":1.5663736263736265,"d":"1.57"},{"v":7530.8,"d":"7531"},{"v":627.5666666666667,"d":"628"},0.40123200000000003,{"$f":"IF(Data!$C$59=1,TRUNC(($A46*0.9-BM112)/$P$90*2000*PI()*0.8,0),IF(Data!$C$59=2,TRUNC(($A46*0.8-(BM112+0.1))/$P$90*2000*PI()*0.8,0),\"\"))","v":1013}]
[0.7889333333333335,{"$f":"0.54*$B$84","v":{"v":4320,"d":"4320.00"}},-2.4444444444444465E-5,0.7889333333333335,{"$nulls":8},1666,0,{"$nulls":6},1440,4320,{"v":0.8184,"d":"0.82"},{"v":0.8184,"d":"0.82"},"",{"$f":"IF(Data!$E$83=1,Data!$L$117+Data!$F$59+X113/Data!$L$116/Data!$E$59/Data!$L$115,Data!$E$90+Data!$F$59+X113/Data!$G$90/Data!$E$59/Data!$D$90)","v":{"v":0.9093333333333333,"d":"0.91"}},{"v":0.7889333333333335,"d":"0.79"},{"$f":"IF(Data!$C$59=1,TRUNC(($A113*0.9-W113)/$P$92*2000*PI()*0.8,0),IF(Data!$C$59=2,TRUNC(($A113*0.8-(W113+0.1))/$P$92*2000*PI()*0.8,0),\"\"))","v":-27},null,null,720,4320,{"v":0.5456000000000001,"d":"0.55"},{"v":0.5456000000000001,"d":"0.55"},{"v":0.6062222222222223,"d":"0.61"},{"$f":"IF(Data!$E$83=1,Data!$L$117+Data!$F$59+AH113/Data!$L$116/Data!$E$59/Data!$L$115,Data!$E$90+Data!$F$59+AH113/Data!$G$90/Data!$E$59/Data!$D$90)","v":{"v":0.6062222222222223,"d":"0.61"}},{"v":0.7889333333333335,"d":"0.79"},{"$f":"IF(Data!$C$59=1,TRUNC(($A113*0.9-AG113)/$P$91*2000*PI()*0.8,0),IF(Data!$C$59=2,TRUNC(($A113*0.8-(AG113+0.1))/$P$91*2000*PI()*0.8,0),\"\"))","v":82},null,360,4320,{"v":0.27280000000000004,"d":"0.27"},{"v":0.27280000000000004,"d":"0.27"},{"v":0.30311111111111116,"d":"0.30"},{"$f":"IF(Data!$E$83=1,Data!$L$117+Data!$F$59+AQ113/Data!$L$116/Data!$E$59/Data!$L$115,Data!$E$90+Data!$F$59+AQ113/Data!$G$90/Data!$E$59/Data!$D$90)","v":{"v":0.30311111111111116,"d":"0.30"}},{"v":0.7889333333333335,"d":"0.79"},{"$f":"IF(Data!$C$59=1,TRUNC(($A113*0.9-AP113)/$P$90*2000*PI()*0.8,0),IF(Data!$C$59=2,TRUNC(($A113*0.8-(AP113+0.1))/$P$90*2000*PI()*0.8,0),\"\"))","v":439},null,null,{"v":1.5108754285714285,"d":"1.51"},{"v":7643.7,"d":"7644"},{"v":2547.9,"d":"2548"},{"v":1.217244,"d":"1.22"},{"$f":"IF(Data!$C$59=1,TRUNC(($A47*0.9-BA113)/$P$92*2000*PI()*0.8,0),IF(Data!$C$59=2,TRUNC(($A47*0.8-(BA113+0.1))/$P$92*2000*PI()*0.8,0),\"\"))","v":35},null,{"v":1.5108754285714285,"d":"1.51"},{"v":7643.7,"d":"7644"},{"v":1273.95,"d":"1274"},0.811496,{"$f":"IF(Data!$C$59=1,TRUNC(($A47*0.9-BG113)/$P$91*2000*PI()*0.8,0),IF(Data!$C$59=2,TRUNC(($A47*0.8-(BG113+0.1))/$P$91*2000*PI()*0.8,0),\"\"))","v":275},null,{"v":1.5108754285714285,"d":"1.51"},{"v":7643.7,"d":"7644"},{"v":636.975,"d":"637"},0.405748,{"$f":"IF(Data!$C$59=1,TRUNC(($A47*0.9-BM113)/$P$90*2000*PI()*0.8,0),IF(Data!$C$59=2,TRUNC(($A47*0.8-(BM113+0.1))/$P$90*2000*PI()*0.8,0),\"\"))","v":959}]
[0.7850222222222224,{"$f":"0.56*$B$84","v":{"v":4480,"d":"4480.00"}},-2.4444444444444465E-5,0.7850222222222224,{"$nulls":8},1666,55,{"$nulls":6},{"v":1493.3333333333335,"d":"1493"},4480,{"v":0.8375999999999999,"d":"0.84"},{"v":0.8375999999999999,"d":"0.84"},"",{"$f":"IF(Data!$E$83=1,Data!$L$117+Data!$F$59+X114/Data!$L$116/Data!$E$59/Data!$L$115,Data!$E$90+Data!$F$59+X114/Data!$G$90/Data!$E$59/Data!$D$90)","v":{"v":0.9306666666666665,"d":"0.93"}},{"v":0.7850222222222224,"d":"0.79"},{"$f":"IF(Data!$C$59=1,TRUNC(($A114*0.9-W114)/$P$92*2000*PI()*0.8,0),IF(Data!$C$59=2,TRUNC(($A114*0.8-(W114+0.1))/$P$92*2000*PI()*0.8,0),\"\"))","v":-32},null,null,{"v":746.6666666666667,"d":"747"},4480,{"v":0.5584,"d":"0.56"},{"v":0.5584,"d":"0.56"},{"v":0.6204444444444445,"d":"0.62"},{"$f":"IF(Data!$E$83=1,Data!$L$117+Data!$F$59+AH114/Data!$L$116/Data!$E$59/Data!$L$115,Data!$E$90+Data!$F$59+AH114/Data!$G$90/Data!$E$59/Data!$D$90)","v":{"v":0.6204444444444445,"d":"0.62"}},{"v":0.7850222222222224,"d":"0.79"},{"$f":"IF(Data!$C$59=1,TRUNC(($A114*0.9-AG114)/$P$91*2000*PI()*0.8,0),IF(Data!$C$59=2,TRUNC(($A114*0.8-(AG114+0.1))/$P$91*2000*PI()*0.8,0),\"\"))","v":74},null,{"v":373.33333333333337,"d":"373"},4480,{"v":0.2792,"d":"0.28"},{"v":0.2792,"d":"0.28"},{"v":0.31022222222222223,"d":"0.31"},{"$f":"IF(Data!$E$83=1,Data!$L$117+Data!$F$59+AQ114/Data!$L$116/Data!$E$59/Data!$L$115,Data!$E$90+Data!$F$59+AQ114/Data!$G$90/Data!$E$59/Data!$D$90)","v":{"v":0.31022222222222223,"d":"0.31"}},{"v":0.7850222222222224,"d":"0.79"},{"$f":"IF(Data!$C$59=1,TRUNC(($A114*0.9-AP114)/$P$90*2000*PI()*0.8,0),IF(Data!$C$59=2,TRUNC(($A114*0.8-(AP114+0.1))/$P$90*2000*PI()*0.8,0),\"\"))","v":429},null,null,{"v":1.4547808351648353,"d":"1.45"},{"v":7757.2,"d":"7757"},{"v":2585.733333333333,"d":"2586"},{"v":1.230864,"d":"1.23"},{"$f":"IF(Data!$C$59=1,TRUNC(($A48*0.9-BA114)/$P$92*2000*PI()*0.8,0),IF(Data!$C$59=2,TRUNC(($A48*0.8-(BA114+0.1))/$P$92*2000*PI()*0.8,0),\"\"))","v":19},null,{"v":1.4547808351648353,"d":"1.45"},{"v":7757.2,"d":"7757"},{"v":1292.8666666666666,"d":"1293"},0.820576,{"$f":"IF(Data!$C$59=1,TRUNC(($A48*0.9-BG114)/$P$91*2000*PI()*0.8,0),IF(Data!$C$59=2,TRUNC(($A48*0.8-(BG114+0.1))/$P$91*2000*PI()*0.8,0),\"\"))","v":245},null,{"v":1.4547808351648353,"d":"1.45"},{"v":7757.2,"d":"7757"},{"v":646.4333333333333,"d":"646"},0.410288,{"$f":"IF(Data!$C$59=1,TRUNC(($A48*0.9-BM114)/$P$90*2000*PI()*0.8,0),IF(Data!$C$59=2,TRUNC(($A48*0.8-(BM114+0.1))/$P$90*2000*PI()*0.8,0),\"\"))","v":903}]
[0.7811111111111113,{"$f":"0.58*$B$84","v":{"v":4640,"d":"4640.00"}},-2.4444444444444465E-5,0.7811111111111113,{"$nulls":8},1500,70,{"$nulls":6},{"v":1546.6666666666665,"d":"1547"},4640,{"v":0.8568,"d":"0.86"},{"v":0.8568,"d":"0.86"},"",{"$f":"IF(Data!$E$83=1,Data!$L$117+Data!$F$59+X115/Data!$L$116/Data!$E$59/Data!$L$115,Data!$E$90+Data!$F$59+X115/Data!$G$90/Data!$E$59/Data!$D$90)","v":{"v":0.952,"d":"0.95"}},{"v":0.7811111111111113,"d":"0.78"},{"$f":"IF(Data!$C$59=1,TRUNC(($A115*0.9-W115)/$P$92*2000*PI()*0.8,0),IF(Data!$C$59=2,TRUNC(($A115*0.8-(W115+0.1))/$P$92*2000*PI()*0.8,0),\"\"))","v":-38},null,null,{"v":773.3333333333333,"d":"773"},4640,{"v":0.5712,"d":"0.57"},{"v":0.5712,"d":"0.57"},{"v":0.6346666666666667,"d":"0.63"},{"$f":"IF(Data!$E$83=1,Data!$L$117+Data!$F$59+AH115/Data!$L$116/Data!$E$59/Data!$L$115,Data!$E$90+Data!$F$59+AH115/Data!$G$90/Data!$E$59/Data!$D$90)","v":{"v":0.6346666666666667,"d":"0.63"}},{"v":0.7811111111111113,"d":"0.78"},{"$f":"IF(Data!$C$59=1,TRUNC(($A115*0.9-AG115)/$P$91*2000*PI()*0.8,0),IF(Data!$C$59=2,TRUNC(($A115*0.8-(AG115+0.1))/$P$91*2000*PI()*0.8,0),\"\"))","v":66},null,{"v":386.66666666666663,"d":"387"},4640,{"v":0.2856,"d":"0.29"},{"v":0.2856,"d":"0.29"},{"v":0.31733333333333336,"d":"0.32"},{"$f":"IF(Data!$E$83=1,Data!$L$117+Data!$F$59+AQ115/Data!$L$116/Data!$E$59/Data!$L$115,Data!$E$90+Data!$F$59+AQ115/Data!$G$90/Data!$E$59/Data!$D$90)","v":{"v":0.31733333333333336,"d":"0.32"}},{"v":0.7811111111111113,"d":"0.78"},{"$f":"IF(Data!$C$59=1,TRUNC(($A115*0.9-AP115)/$P$90*2000*PI()*0.8,0),IF(Data!$C$59=2,TRUNC(($A115*0.8-(AP115+0.1))/$P$90*2000*PI()*0.8,0),\"\"))","v":419},null,null,{"v":1.398089846153846,"d":"1.40"},{"v":7871.1,"d":"7871"},{"v":2623.7,"d":"2624"},{"v":1.244532,"d":"1.24"},{"$f":"IF(Data!$C$59=1,TRUNC(($A49*0.9-BA115)/$P$92*2000*PI()*0.8,0),IF(Data!$C$59=2,TRUNC(($A49*0.8-(BA115+0.1))/$P$92*2000*PI()*0.8,0),\"\"))","v":3},null,{"v":1.398089846153846,"d":"1.40"},{"v":7871.1,"d":"7871"},{"v":1311.85,"d":"1312"},0.8296880000000002,{"$f":"IF(Data!$C$59=1,TRUNC(($A49*0.9-BG115)/$P$91*2000*PI()*0.8,0),IF(Data!$C$59=2,TRUNC(($A49*0.8-(BG115+0.1))/$P$91*2000*PI()*0.8,0),\"\"))","v":215},null,{"v":1.398089846153846,"d":"1.40"},{"v":7871.1,"d":"7871"},{"v":655.925,"d":"656"},0.4148440000000001,{"$f":"IF(Data!$C$59=1,TRUNC(($A49*0.9-BM115)/$P$90*2000*PI()*0.8,0),IF(Data!$C$59=2,TRUNC(($A49*0.8-(BM115+0.1))/$P$90*2000*PI()*0.8,0),\"\"))","v":847}]
[0.7772000000000002,{"$f":"0.6*$B$84","v":{"v":4800,"d":"4800.00"}},-2.4444444444444465E-5,0.7772000000000002,{"$nulls":8},1400,79,{"$nulls":6},1600,4800,{"v":0.8759999999999999,"d":"0.88"},{"v":0.8759999999999999,"d":"0.88"},"",{"$f":"IF(Data!$E$83=1,Data!$L$117+Data!$F$59+X116/Data!$L$116/Data!$E$59/Data!$L$115,Data!$E$90+Data!$F$59+X116/Data!$G$90/Data!$E$59/Data!$D$90)","v":{"v":0.9733333333333332,"d":"0.97"}},{"v":0.7772000000000002,"d":"0.78"},{"$f":"IF(Data!$C$59=1,TRUNC(($A116*0.9-W116)/$P$92*2000*PI()*0.8,0),IF(Data!$C$59=2,TRUNC(($A116*0.8-(W116+0.1))/$P$92*2000*PI()*0.8,0),\"\"))","v":-44},null,null,800,4800,{"v":0.5840000000000001,"d":"0.58"},{"v":0.5840000000000001,"d":"0.58"},{"v":0.648888888888889,"d":"0.65"},{"$f":"IF(Data!$E$83=1,Data!$L$117+Data!$F$59+AH116/Data!$L$116/Data!$E$59/Data!$L$115,Data!$E$90+Data!$F$59+AH116/Data!$G$90/Data!$E$59/Data!$D$90)","v":{"v":0.648888888888889,"d":"0.65"}},{"v":0.7772000000000002,"d":"0.78"},{"$f":"IF(Data!$C$59=1,TRUNC(($A116*0.9-AG116)/$P$91*2000*PI()*0.8,0),IF(Data!$C$59=2,TRUNC(($A116*0.8-(AG116+0.1))/$P$91*2000*PI()*0.8,0),\"\"))","v":58},null,400,4800,{"v":0.29200000000000004,"d":"0.29"},{"v":0.29200000000000004,"d":"0.29"},{"v":0.3244444444444445,"d":"0.32"},{"$f":"IF(Data!$E$83=1,Data!$L$117+Data!$F$59+AQ116/Data!$L$116/Data!$E$59/Data!$L$115,Data!$E$90+Data!$F$59+AQ116/Data!$G$90/Data!$E$59/Data!$D$90)","v":{"v":0.3244444444444445,"d":"0.32"}},{"v":0.7772000000000002,"d":"0.78"},{"$f":"IF(Data!$C$59=1,TRUNC(($A116*0.9-AP116)/$P$90*2000*PI()*0.8,0),IF(Data!$C$59=2,TRUNC(($A116*0.8-(AP116+0.1))/$P$90*2000*PI()*0.8,0),\"\"))","v":409},null,null,{"v":1.3408024615384615,"d":"1.34"},{"v":7985.2,"d":"7985"},{"v":2661.7333333333336,"d":"2662"},{"v":1.258224,"d":"1.26"},{"$f":"IF(Data!$C$59=1,TRUNC(($A50*0.9-BA116)/$P$92*2000*PI()*0.8,0),IF(Data!$C$59=2,TRUNC(($A50*0.8-(BA116+0.1))/$P$92*2000*PI()*0.8,0),\"\"))","v":-12},null,{"v":1.3408024615384615,"d":"1.34"},{"v":7985.2,"d":"7985"},{"v":1330.8666666666668,"d":"1331"},0.838816,{"$f":"IF(Data!$C$59=1,TRUNC(($A50*0.9-BG116)/$P$91*2000*PI()*0.8,0),IF(Data!$C$59=2,TRUNC(($A50*0.8-(BG116+0.1))/$P$91*2000*PI()*0.8,0),\"\"))","v":184},null,{"v":1.3408024615384615,"d":"1.34"},{"v":7985.2,"d":"7985"},{"v":665.4333333333334,"d":"665"},0.419408,{"$f":"IF(Data!$C$59=1,TRUNC(($A50*0.9-BM116)/$P$90*2000*PI()*0.8,0),IF(Data!$C$59=2,TRUNC(($A50*0.8-(BM116+0.1))/$P$90*2000*PI()*0.8,0),\"\"))","v":791}]
[0.7732888888888891,{"$f":"0.62*$B$84","v":{"v":4960,"d":"4960.00"}},-2.4444444444444465E-5,0.7732888888888891,{"$nulls":8},1300,{"$nulls":7},{"v":1653.3333333333335,"d":"1653"},4960,{"v":0.8952,"d":"0.90"},{"v":0.8952,"d":"0.90"},"",{"$f":"IF(Data!$E$83=1,Data!$L$117+Data!$F$59+X117/Data!$L$116/Data!$E$59/Data!$L$115,Data!$E$90+Data!$F$59+X117/Data!$G$90/Data!$E$59/Data!$D$90)","v":{"v":0.9946666666666666,"d":"0.99"}},{"v":0.7732888888888891,"d":"0.77"},{"$f":"IF(Data!$C$59=1,TRUNC(($A117*0.9-W117)/$P$92*2000*PI()*0.8,0),IF(Data!$C$59=2,TRUNC(($A117*0.8-(W117+0.1))/$P$92*2000*PI()*0.8,0),\"\"))","v":-50},null,null,{"v":826.6666666666667,"d":"827"},4960,{"v":0.5968,"d":"0.60"},{"v":0.5968,"d":"0.60"},{"v":0.6631111111111111,"d":"0.66"},{"$f":"IF(Data!$E$83=1,Data!$L$117+Data!$F$59+AH117/Data!$L$116/Data!$E$59/Data!$L$115,Data!$E$90+Data!$F$59+AH117/Data!$G$90/Data!$E$59/Data!$D$90)","v":{"v":0.6631111111111111,"d":"0.66"}},{"v":0.7732888888888891,"d":"0.77"},{"$f":"IF(Data!$C$59=1,TRUNC(($A117*0.9-AG117)/$P$91*2000*PI()*0.8,0),IF(Data!$C$59=2,TRUNC(($A117*0.8-(AG117+0.1))/$P$91*2000*PI()*0.8,0),\"\"))","v":49},null,{"v":413.33333333333337,"d":"413"},4960,{"v":0.2984,"d":"0.30"},{"v":0.2984,"d":"0.30"},{"v":0.33155555555555555,"d":"0.33"},{"$f":"IF(Data!$E$83=1,Data!$L$117+Data!$F$59+AQ117/Data!$L$116/Data!$E$59/Data!$L$115,Data!$E$90+Data!$F$59+AQ117/Data!$G$90/Data!$E$59/Data!$D$90)","v":{"v":0.33155555555555555,"d":"0.33"}},{"v":0.7732888888888891,"d":"0.77"},{"$f":"IF(Data!$C$59=1,TRUNC(($A117*0.9-AP117)/$P$90*2000*PI()*0.8,0),IF(Data!$C$59=2,TRUNC(($A117*0.8-(AP117+0.1))/$P$90*2000*PI()*0.8,0),\"\"))","v":399},null,null,{"v":1.2829186813186786,"d":"1.28"},8000,{"v":2666.666666666667,"d":"2667"},1.26,{"$f":"IF(Data!$C$59=1,TRUNC(($A51*0.9-BA117)/$P$92*2000*PI()*0.8,0),IF(Data!$C$59=2,TRUNC(($A51*0.8-(BA117+0.1))/$P$92*2000*PI()*0.8,0),\"\"))","v":-26},null,{"v":1.2829186813186786,"d":"1.28"},8000,{"v":1333.3333333333335,"d":"1333"},0.8400000000000001,{"$f":"IF(Data!$C$59=1,TRUNC(($A51*0.9-BG117)/$P$91*2000*PI()*0.8,0),IF(Data!$C$59=2,TRUNC(($A51*0.8-(BG117+0.1))/$P$91*2000*PI()*0.8,0),\"\"))","v":158},null,{"v":1.2829186813186786,"d":"1.28"},8000,{"v":666.6666666666667,"d":"667"},0.42000000000000004,{"$f":"IF(Data!$C$59=1,TRUNC(($A51*0.9-BM117)/$P$90*2000*PI()*0.8,0),IF(Data!$C$59=2,TRUNC(($A51*0.8-(BM117+0.1))/$P$90*2000*PI()*0.8,0),\"\"))","v":738}]
[0.769377777777778,{"$f":"0.64*$B$84","v":{"v":5120,"d":"5120.00"}},-2.4444444444444465E-5,0.769377777777778,{"$nulls":8},1200,{"$nulls":7},{"v":1706.6666666666665,"d":"1707"},5120,{"v":0.9143999999999999,"d":"0.91"},{"v":0.9143999999999999,"d":"0.91"},"",{"$f":"IF(Data!$E$83=1,Data!$L$117+Data!$F$59+X118/Data!$L$116/Data!$E$59/Data!$L$115,Data!$E$90+Data!$F$59+X118/Data!$G$90/Data!$E$59/Data!$D$90)","v":{"v":1.0159999999999998,"d":"1.02"}},{"v":0.769377777777778,"d":"0.77"},{"$f":"IF(Data!$C$59=1,TRUNC(($A118*0.9-W118)/$P$92*2000*PI()*0.8,0),IF(Data!$C$59=2,TRUNC(($A118*0.8-(W118+0.1))/$P$92*2000*PI()*0.8,0),\"\"))","v":-55},null,null,{"v":853.3333333333333,"d":"853"},5120,{"v":0.6096,"d":"0.61"},{"v":0.6096,"d":"0.61"},{"v":0.6773333333333333,"d":"0.68"},{"$f":"IF(Data!$E$83=1,Data!$L$117+Data!$F$59+AH118/Data!$L$116/Data!$E$59/Data!$L$115,Data!$E$90+Data!$F$59+AH118/Data!$G$90/Data!$E$59/Data!$D$90)","v":{"v":0.6773333333333333,"d":"0.68"}},{"v":0.769377777777778,"d":"0.77"},{"$f":"IF(Data!$C$59=1,TRUNC(($A118*0.9-AG118)/$P$91*2000*PI()*0.8,0),IF(Data!$C$59=2,TRUNC(($A118*0.8-(AG118+0.1))/$P$91*2000*PI()*0.8,0),\"\"))","v":41},null,{"v":426.66666666666663,"d":"427"},5120,{"v":0.3048,"d":"0.30"},{"v":0.3048,"d":"0.30"},{"v":0.33866666666666667,"d":"0.34"},{"$f":"IF(Data!$E$83=1,Data!$L$117+Data!$F$59+AQ118/Data!$L$116/Data!$E$59/Data!$L$115,Data!$E$90+Data!$F$59+AQ118/Data!$G$90/Data!$E$59/Data!$D$90)","v":{"v":0.33866666666666667,"d":"0.34"}},{"v":0.769377777777778,"d":"0.77"},{"$f":"IF(Data!$C$59=1,TRUNC(($A118*0.9-AP118)/$P$90*2000*PI()*0.8,0),IF(Data!$C$59=2,TRUNC(($A118*0.8-(AP118+0.1))/$P$90*2000*PI()*0.8,0),\"\"))","v":389},null,null,{"v":1.2244385054945026,"d":"1.22"},8000,{"v":2666.666666666667,"d":"2667"},1.26,{"$f":"IF(Data!$C$59=1,TRUNC(($A52*0.9-BA118)/$P$92*2000*PI()*0.8,0),IF(Data!$C$59=2,TRUNC(($A52*0.8-(BA118+0.1))/$P$92*2000*PI()*0.8,0),\"\"))","v":-39},null,{"v":1.2244385054945026,"d":"1.22"},8000,{"v":1333.3333333333335,"d":"1333"},0.8400000000000001,{"$f":"IF(Data!$C$59=1,TRUNC(($A52*0.9-BG118)/$P$91*2000*PI()*0.8,0),IF(Data!$C$59=2,TRUNC(($A52*0.8-(BG118+0.1))/$P$91*2000*PI()*0.8,0),\"\"))","v":131},null,{"v":1.2244385054945026,"d":"1.22"},8000,{"v":666.6666666666667,"d":"667"},0.42000000000000004,{"$f":"IF(Data!$C$59=1,TRUNC(($A52*0.9-BM118)/$P$90*2000*PI()*0.8,0),IF(Data!$C$59=2,TRUNC(($A52*0.8-(BM118+0.1))/$P$90*2000*PI()*0.8,0),\"\"))","v":685}]
[0.765466666666667,{"$f":"0.66*$B$84","v":{"v":5280,"d":"5280.00"}},-2.4444444444444465E-5,0.765466666666667,{"$nulls":8},1100,{"$nulls":7},1760,5280,{"v":0.9336,"d":"0.93"},{"v":0.9336,"d":"0.93"},"",{"$f":"IF(Data!$E$83=1,Data!$L$117+Data!$F$59+X119/Data!$L$116/Data!$E$59/Data!$L$115,Data!$E$90+Data!$F$59+X119/Data!$G$90/Data!$E$59/Data!$D$90)","v":{"v":1.0373333333333332,"d":"1.04"}},{"v":0.765466666666667,"d":"0.77"},{"$f":"IF(Data!$C$59=1,TRUNC(($A119*0.9-W119)/$P$92*2000*PI()*0.8,0),IF(Data!$C$59=2,TRUNC(($A119*0.8-(W119+0.1))/$P$92*2000*PI()*0.8,0),\"\"))","v":-61},null,null,880,5280,{"v":0.6224000000000001,"d":"0.62"},{"v":0.6224000000000001,"d":"0.62"},{"v":0.6915555555555556,"d":"0.69"},{"$f":"IF(Data!$E$83=1,Data!$L$117+Data!$F$59+AH119/Data!$L$116/Data!$E$59/Data!$L$115,Data!$E$90+Data!$F$59+AH119/Data!$G$90/Data!$E$59/Data!$D$90)","v":{"v":0.6915555555555556,"d":"0.69"}},{"v":0.765466666666667,"d":"0.77"},{"$f":"IF(Data!$C$59=1,TRUNC(($A119*0.9-AG119)/$P$91*2000*PI()*0.8,0),IF(Data!$C$59=2,TRUNC(($A119*0.8-(AG119+0.1))/$P$91*2000*PI()*0.8,0),\"\"))","v":33},null,440,5280,{"v":0.31120000000000003,"d":"0.31"},{"v":0.31120000000000003,"d":"0.31"},{"v":0.3457777777777778,"d":"0.35"},{"$f":"IF(Data!$E$83=1,Data!$L$117+Data!$F$59+AQ119/Data!$L$116/Data!$E$59/Data!$L$115,Data!$E$90+Data!$F$59+AQ119/Data!$G$90/Data!$E$59/Data!$D$90)","v":{"v":0.3457777777777778,"d":"0.35"}},{"v":0.765466666666667,"d":"0.77"},{"$f":"IF(Data!$C$59=1,TRUNC(($A119*0.9-AP119)/$P$90*2000*PI()*0.8,0),IF(Data!$C$59=2,TRUNC(($A119*0.8-(AP119+0.1))/$P$90*2000*PI()*0.8,0),\"\"))","v":379},null,null,{"v":1.1653619340659311,"d":"1.17"},8000,{"v":2666.666666666667,"d":"2667"},1.26,{"$f":"IF(Data!$C$59=1,TRUNC(($A53*0.9-BA119)/$P$92*2000*PI()*0.8,0),IF(Data!$C$59=2,TRUNC(($A53*0.8-(BA119+0.1))/$P$92*2000*PI()*0.8,0),\"\"))","v":-53},null,{"v":1.1653619340659311,"d":"1.17"},8000,{"v":1333.3333333333335,"d":"1333"},0.8400000000000001,{"$f":"IF(Data!$C$59=1,TRUNC(($A53*0.9-BG119)/$P$91*2000*PI()*0.8,0),IF(Data!$C$59=2,TRUNC(($A53*0.8-(BG119+0.1))/$P$91*2000*PI()*0.8,0),\"\"))","v":104},null,{"v":1.1653619340659311,"d":"1.17"},8000,{"v":666.6666666666667,"d":"667"},0.42000000000000004,{"$f":"IF(Data!$C$59=1,TRUNC(($A53*0.9-BM119)/$P$90*2000*PI()*0.8,0),IF(Data!$C$59=2,TRUNC(($A53*0.8-(BM119+0.1))/$P$90*2000*PI()*0.8,0),\"\"))","v":632}]
[0.7615555555555559,{"$f":"0.68*$B$84","v":{"v":5440,"d":"5440.00"}},-2.4444444444444465E-5,0.7615555555555559,{"$nulls":8},1000,{"$nulls":7},{"v":1813.3333333333335,"d":"1813"},5440,{"v":0.9528000000000001,"d":"0.95"},{"v":0.9528000000000001,"d":"0.95"},"",{"$f":"IF(Data!$E$83=1,Data!$L$117+Data!$F$59+X120/Data!$L$116/Data!$E$59/Data!$L$115,Data!$E$90+Data!$F$59+X120/Data!$G$90/Data!$E$59/Data!$D$90)","v":{"v":1.0586666666666666,"d":"1.06"}},{"v":0.7615555555555559,"d":"0.76"},{"$f":"IF(Data!$C$59=1,TRUNC(($A120*0.9-W120)/$P$92*2000*PI()*0.8,0),IF(Data!$C$59=2,TRUNC(($A120*0.8-(W120+0.1))/$P$92*2000*PI()*0.8,0),\"\"))","v":-67},null,null,{"v":906.6666666666667,"d":"907"},5440,{"v":0.6352,"d":"0.64"},{"v":0.6352,"d":"0.64"},{"v":0.7057777777777777,"d":"0.71"},{"$f":"IF(Data!$E$83=1,Data!$L$117+Data!$F$59+AH120/Data!$L$116/Data!$E$59/Data!$L$115,Data!$E$90+Data!$F$59+AH120/Data!$G$90/Data!$E$59/Data!$D$90)","v":{"v":0.7057777777777777,"d":"0.71"}},{"v":0.7615555555555559,"d":"0.76"},{"$f":"IF(Data!$C$59=1,TRUNC(($A120*0.9-AG120)/$P$91*2000*PI()*0.8,0),IF(Data!$C$59=2,TRUNC(($A120*0.8-(AG120+0.1))/$P$91*2000*PI()*0.8,0),\"\"))","v":25},null,{"v":453.33333333333337,"d":"453"},5440,{"v":0.3176,"d":"0.32"},{"v":0.3176,"d":"0.32"},{"v":0.35288888888888886,"d":"0.35"},{"$f":"IF(Data!$E$83=1,Data!$L$117+Data!$F$59+AQ120/Data!$L$116/Data!$E$59/Data!$L$115,Data!$E$90+Data!$F$59+AQ120/Data!$G$90/Data!$E$59/Data!$D$90)","v":{"v":0.35288888888888886,"d":"0.35"}},{"v":0.7615555555555559,"d":"0.76"},{"$f":"IF(Data!$C$59=1,TRUNC(($A120*0.9-AP120)/$P$90*2000*PI()*0.8,0),IF(Data!$C$59=2,TRUNC(($A120*0.8-(AP120+0.1))/$P$90*2000*PI()*0.8,0),\"\"))","v":369},null,null,{"v":1.1056889670329642,"d":"1.11"},8000,{"v":2666.666666666667,"d":"2667"},1.26,{"$f":"IF(Data!$C$59=1,TRUNC(($A54*0.9-BA120)/$P$92*2000*PI()*0.8,0),IF(Data!$C$59=2,TRUNC(($A54*0.8-(BA120+0.1))/$P$92*2000*PI()*0.8,0),\"\"))","v":-66},null,{"v":1.1056889670329642,"d":"1.11"},8000,{"v":1333.3333333333335,"d":"1333"},0.8400000000000001,{"$f":"IF(Data!$C$59=1,TRUNC(($A54*0.9-BG120)/$P$91*2000*PI()*0.8,0),IF(Data!$C$59=2,TRUNC(($A54*0.8-(BG120+0.1))/$P$91*2000*PI()*0.8,0),\"\"))","v":77},null,{"v":1.1056889670329642,"d":"1.11"},8000,{"v":666.6666666666667,"d":"667"},0.42000000000000004,{"$f":"IF(Data!$C$59=1,TRUNC(($A54*0.9-BM120)/$P$90*2000*PI()*0.8,0),IF(Data!$C$59=2,TRUNC(($A54*0.8-(BM120+0.1))/$P$90*2000*PI()*0.8,0),\"\"))","v":578}]
[0.7576444444444448,{"$f":"0.7*$B$84","v":{"v":5600,"d":"5600.00"}},-2.4444444444444465E-5,0.7576444444444448,{"$nulls":8},900,{"$nulls":7},{"v":1866.6666666666665,"d":"1867"},5600,{"v":0.972,"d":"0.97"},{"v":0.972,"d":"0.97"},"",{"$f":"IF(Data!$E$83=1,Data!$L$117+Data!$F$59+X121/Data!$L$116/Data!$E$59/Data!$L$115,Data!$E$90+Data!$F$59+X121/Data!$G$90/Data!$E$59/Data!$D$90)","v":{"v":1.0799999999999998,"d":"1.08"}},{"v":0.7576444444444448,"d":"0.76"},{"$f":"IF(Data!$C$59=1,TRUNC(($A121*0.9-W121)/$P$92*2000*PI()*0.8,0),IF(Data!$C$59=2,TRUNC(($A121*0.8-(W121+0.1))/$P$92*2000*PI()*0.8,0),\"\"))","v":-72},null,null,{"v":933.3333333333333,"d":"933"},5600,{"v":0.6480000000000001,"d":"0.65"},{"v":0.6480000000000001,"d":"0.65"},{"v":0.7200000000000001,"d":"0.72"},{"$f":"IF(Data!$E$83=1,Data!$L$117+Data!$F$59+AH121/Data!$L$116/Data!$E$59/Data!$L$115,Data!$E$90+Data!$F$59+AH121/Data!$G$90/Data!$E$59/Data!$D$90)","v":{"v":0.7200000000000001,"d":"0.72"}},{"v":0.7576444444444448,"d":"0.76"},{"$f":"IF(Data!$C$59=1,TRUNC(($A121*0.9-AG121)/$P$91*2000*PI()*0.8,0),IF(Data!$C$59=2,TRUNC(($A121*0.8-(AG121+0.1))/$P$91*2000*PI()*0.8,0),\"\"))","v":17},null,{"v":466.66666666666663,"d":"467"},5600,{"v":0.32400000000000007,"d":"0.32"},{"v":0.32400000000000007,"d":"0.32"},{"v":0.36000000000000004,"d":"0.36"},{"$f":"IF(Data!$E$83=1,Data!$L$117+Data!$F$59+AQ121/Data!$L$116/Data!$E$59/Data!$L$115,Data!$E$90+Data!$F$59+AQ121/Data!$G$90/Data!$E$59/Data!$D$90)","v":{"v":0.36000000000000004,"d":"0.36"}},{"v":0.7576444444444448,"d":"0.76"},{"$f":"IF(Data!$C$59=1,TRUNC(($A121*0.9-AP121)/$P$90*2000*PI()*0.8,0),IF(Data!$C$59=2,TRUNC(($A121*0.8-(AP121+0.1))/$P$90*2000*PI()*0.8,0),\"\"))","v":359},null,null,{"v":1.0454196043956014,"d":"1.05"},8000,{"v":2666.666666666667,"d":"2667"},1.26,{"$f":"IF(Data!$C$59=1,TRUNC(($A55*0.9-BA121)/$P$92*2000*PI()*0.8,0),IF(Data!$C$59=2,TRUNC(($A55*0.8-(BA121+0.1))/$P$92*2000*PI()*0.8,0),\"\"))","v":-80},null,{"v":1.0454196043956014,"d":"1.05"},8000,{"v":1333.3333333333335,"d":"1333"},0.8400000000000001,{"$f":"IF(Data!$C$59=1,TRUNC(($A55*0.9-BG121)/$P$91*2000*PI()*0.8,0),IF(Data!$C$59=2,TRUNC(($A55*0.8-(BG121+0.1))/$P$91*2000*PI()*0.8,0),\"\"))","v":50},null,{"v":1.0454196043956014,"d":"1.05"},8000,{"v":666.6666666666667,"d":"667"},0.42000000000000004,{"$f":"IF(Data!$C$59=1,TRUNC(($A55*0.9-BM121)/$P$90*2000*PI()*0.8,0),IF(Data!$C$59=2,TRUNC(($A55*0.8-(BM121+0.1))/$P$90*2000*PI()*0.8,0),\"\"))","v":523}]
[0.7537333333333337,{"$f":"0.72*$B$84","v":{"v":5760,"d":"5760.00"}},-2.4444444444444465E-5,0.7537333333333337,{"$nulls":8},800,{"$nulls":7},1920,5760,{"v":0.9911999999999999,"d":"0.99"},{"v":0.9911999999999999,"d":"0.99"},"",{"$f":"IF(Data!$E$83=1,Data!$L$117+Data!$F$59+X122/Data!$L$116/Data!$E$59/Data!$L$115,Data!$E$90+Data!$F$59+X122/Data!$G$90/Data!$E$59/Data!$D$90)","v":{"v":1.101333333333333,"d":"1.10"}},{"v":0.7537333333333337,"d":"0.75"},{"$f":"IF(Data!$C$59=1,TRUNC(($A122*0.9-W122)/$P$92*2000*PI()*0.8,0),IF(Data!$C$59=2,TRUNC(($A122*0.8-(W122+0.1))/$P$92*2000*PI()*0.8,0),\"\"))","v":-78},null,null,960,5760,{"v":0.6608,"d":"0.66"},{"v":0.6608,"d":"0.66"},{"v":0.7342222222222222,"d":"0.73"},{"$f":"IF(Data!$E$83=1,Data!$L$117+Data!$F$59+AH122/Data!$L$116/Data!$E$59/Data!$L$115,Data!$E$90+Data!$F$59+AH122/Data!$G$90/Data!$E$59/Data!$D$90)","v":{"v":0.7342222222222222,"d":"0.73"}},{"v":0.7537333333333337,"d":"0.75"},{"$f":"IF(Data!$C$59=1,TRUNC(($A122*0.9-AG122)/$P$91*2000*PI()*0.8,0),IF(Data!$C$59=2,TRUNC(($A122*0.8-(AG122+0.1))/$P$91*2000*PI()*0.8,0),\"\"))","v":8},null,480,5760,{"v":0.3304,"d":"0.33"},{"v":0.3304,"d":"0.33"},{"v":0.3671111111111111,"d":"0.37"},{"$f":"IF(Data!$E$83=1,Data!$L$117+Data!$F$59+AQ122/Data!$L$116/Data!$E$59/Data!$L$115,Data!$E$90+Data!$F$59+AQ122/Data!$G$90/Data!$E$59/Data!$D$90)","v":{"v":0.3671111111111111,"d":"0.37"}},{"v":0.7537333333333337,"d":"0.75"},{"$f":"IF(Data!$C$59=1,TRUNC(($A122*0.9-AP122)/$P$90*2000*PI()*0.8,0),IF(Data!$C$59=2,TRUNC(($A122*0.8-(AP122+0.1))/$P$90*2000*PI()*0.8,0),\"\"))","v":349},null,null,{"v":0.9845538461538429,"d":"0.98"},8000,{"v":2666.666666666667,"d":"2667"},1.26,{"$f":"IF(Data!$C$59=1,TRUNC(($A56*0.9-BA122)/$P$92*2000*PI()*0.8,0),IF(Data!$C$59=2,TRUNC(($A56*0.8-(BA122+0.1))/$P$92*2000*PI()*0.8,0),\"\"))","v":-93},null,{"v":0.9845538461538429,"d":"0.98"},8000,{"v":1333.3333333333335,"d":"1333"},0.8400000000000001,{"$f":"IF(Data!$C$59=1,TRUNC(($A56*0.9-BG122)/$P$91*2000*PI()*0.8,0),IF(Data!$C$59=2,TRUNC(($A56*0.8-(BG122+0.1))/$P$91*2000*PI()*0.8,0),\"\"))","v":23},null,{"v":0.9845538461538429,"d":"0.98"},8000,{"v":666.6666666666667,"d":"667"},0.42000000000000004,{"$f":"IF(Data!$C$59=1,TRUNC(($A56*0.9-BM122)/$P$90*2000*PI()*0.8,0),IF(Data!$C$59=2,TRUNC(($A56*0.8-(BM122+0.1))/$P$90*2000*PI()*0.8,0),\"\"))","v":468}]
[0.7498222222222226,{"$f":"0.74*$B$84","v":{"v":5920,"d":"5920.00"}},-2.4444444444444465E-5,0.7498222222222226,{"$nulls":8},700,{"$nulls":7},{"v":1973.3333333333335,"d":"1973"},5920,{"v":1.0104,"d":"1.01"},{"v":1.0104,"d":"1.01"},"",{"$f":"IF(Data!$E$83=1,Data!$L$117+Data!$F$59+X123/Data!$L$116/Data!$E$59/Data!$L$115,Data!$E$90+Data!$F$59+X123/Data!$G$90/Data!$E$59/Data!$D$90)","v":{"v":1.1226666666666667,"d":"1.12"}},{"v":0.7498222222222226,"d":"0.75"},{"$f":"IF(Data!$C$59=1,TRUNC(($A123*0.9-W123)/$P$92*2000*PI()*0.8,0),IF(Data!$C$59=2,TRUNC(($A123*0.8-(W123+0.1))/$P$92*2000*PI()*0.8,0),\"\"))","v":-84},null,null,{"v":986.6666666666667,"d":"987"},5920,{"v":0.6736,"d":"0.67"},{"v":0.6736,"d":"0.67"},{"v":0.7484444444444444,"d":"0.75"},{"$f":"IF(Data!$E$83=1,Data!$L$117+Data!$F$59+AH123/Data!$L$116/Data!$E$59/Data!$L$115,Data!$E$90+Data!$F$59+AH123/Data!$G$90/Data!$E$59/Data!$D$90)","v":{"v":0.7484444444444444,"d":"0.75"}},{"v":0.7498222222222226,"d":"0.75"},{"$f":"IF(Data!$C$59=1,TRUNC(($A123*0.9-AG123)/$P$91*2000*PI()*0.8,0),IF(Data!$C$59=2,TRUNC(($A123*0.8-(AG123+0.1))/$P$91*2000*PI()*0.8,0),\"\"))","v":0},null,{"v":493.33333333333337,"d":"493"},5920,{"v":0.3368,"d":"0.34"},{"v":0.3368,"d":"0.34"},{"v":0.3742222222222222,"d":"0.37"},{"$f":"IF(Data!$E$83=1,Data!$L$117+Data!$F$59+AQ123/Data!$L$116/Data!$E$59/Data!$L$115,Data!$E$90+Data!$F$59+AQ123/Data!$G$90/Data!$E$59/Data!$D$90)","v":{"v":0.3742222222222222,"d":"0.37"}},{"v":0.7498222222222226,"d":"0.75"},{"$f":"IF(Data!$C$59=1,TRUNC(($A123*0.9-AP123)/$P$90*2000*PI()*0.8,0),IF(Data!$C$59=2,TRUNC(($A123*0.8-(AP123+0.1))/$P$90*2000*PI()*0.8,0),\"\"))","v":339},null,null,{"v":0.9230916923076893,"d":"0.92"},8000,{"v":2666.666666666667,"d":"2667"},1.26,{"$f":"IF(Data!$C$59=1,TRUNC(($A57*0.9-BA123)/$P$92*2000*PI()*0.8,0),IF(Data!$C$59=2,TRUNC(($A57*0.8-(BA123+0.1))/$P$92*2000*PI()*0.8,0),\"\"))","v":-107},null,{"v":0.9230916923076893,"d":"0.92"},8000,{"v":1333.3333333333335,"d":"1333"},0.8400000000000001,{"$f":"IF(Data!$C$59=1,TRUNC(($A57*0.9-BG123)/$P$91*2000*PI()*0.8,0),IF(Data!$C$59=2,TRUNC(($A57*0.8-(BG123+0.1))/$P$91*2000*PI()*0.8,0),\"\"))","v":-4},null,{"v":0.9230916923076893,"d":"0.92"},8000,{"v":666.6666666666667,"d":"667"},0.42000000000000004,{"$f":"IF(Data!$C$59=1,TRUNC(($A57*0.9-BM123)/$P$90*2000*PI()*0.8,0),IF(Data!$C$59=2,TRUNC(($A57*0.8-(BM123+0.1))/$P$90*2000*PI()*0.8,0),\"\"))","v":412}]
[0.7459111111111115,{"$f":"0.76*$B$84","v":{"v":6080,"d":"6080.00"}},-2.4444444444444465E-5,0.7459111111111115,{"$nulls":8},600,{"$nulls":7},{"v":2026.6666666666665,"d":"2027"},6080,{"v":1.0295999999999998,"d":"1.03"},{"v":1.0295999999999998,"d":"1.03"},"",{"$f":"IF(Data!$E$83=1,Data!$L$117+Data!$F$59+X124/Data!$L$116/Data!$E$59/Data!$L$115,Data!$E$90+Data!$F$59+X124/Data!$G$90/Data!$E$59/Data!$D$90)","v":{"v":1.144,"d":"1.14"}},{"v":0.7459111111111115,"d":"0.75"},{"$f":"IF(Data!$C$59=1,TRUNC(($A124*0.9-W124)/$P$92*2000*PI()*0.8,0),IF(Data!$C$59=2,TRUNC(($A124*0.8-(W124+0.1))/$P$92*2000*PI()*0.8,0),\"\"))","v":-90},null,null,{"v":1013.3333333333333,"d":"1013"},6080,{"v":0.6864,"d":"0.69"},{"v":0.6864,"d":"0.69"},"",{"$f":"IF(Data!$E$83=1,Data!$L$117+Data!$F$59+AH124/Data!$L$116/Data!$E$59/Data!$L$115,Data!$E$90+Data!$F$59+AH124/Data!$G$90/Data!$E$59/Data!$D$90)","v":{"v":0.7626666666666666,"d":"0.76"}},{"v":0.7459111111111115,"d":"0.75"},{"$f":"IF(Data!$C$59=1,TRUNC(($A124*0.9-AG124)/$P$91*2000*PI()*0.8,0),IF(Data!$C$59=2,TRUNC(($A124*0.8-(AG124+0.1))/$P$91*2000*PI()*0.8,0),\"\"))","v":-7},null,{"v":506.66666666666663,"d":"507"},6080,{"v":0.3432,"d":"0.34"},{"v":0.3432,"d":"0.34"},{"v":0.3813333333333333,"d":"0.38"},{"$f":"IF(Data!$E$83=1,Data!$L$117+Data!$F$59+AQ124/Data!$L$116/Data!$E$59/Data!$L$115,Data!$E$90+Data!$F$59+AQ124/Data!$G$90/Data!$E$59/Data!$D$90)","v":{"v":0.3813333333333333,"d":"0.38"}},{"v":0.7459111111111115,"d":"0.75"},{"$f":"IF(Data!$C$59=1,TRUNC(($A124*0.9-AP124)/$P$90*2000*PI()*0.8,0),IF(Data!$C$59=2,TRUNC(($A124*0.8-(AP124+0.1))/$P$90*2000*PI()*0.8,0),\"\"))","v":329},null,null,{"v":0.8610331428571397,"d":"0.86"},8000,{"v":2666.666666666667,"d":"2667"},1.26,{"$f":"IF(Data!$C$59=1,TRUNC(($A58*0.9-BA124)/$P$92*2000*PI()*0.8,0),IF(Data!$C$59=2,TRUNC(($A58*0.8-(BA124+0.1))/$P$92*2000*PI()*0.8,0),\"\"))","v":-121},null,{"v":0.8610331428571397,"d":"0.86"},8000,{"v":1333.3333333333335,"d":"1333"},0.8400000000000001,{"$f":"IF(Data!$C$59=1,TRUNC(($A58*0.9-BG124)/$P$91*2000*PI()*0.8,0),IF(Data!$C$59=2,TRUNC(($A58*0.8-(BG124+0.1))/$P$91*2000*PI()*0.8,0),\"\"))","v":-32},null,{"v":0.8610331428571397,"d":"0.86"},8000,{"v":666.6666666666667,"d":"667"},0.42000000000000004,{"$f":"IF(Data!$C$59=1,TRUNC(($A58*0.9-BM124)/$P$90*2000*PI()*0.8,0),IF(Data!$C$59=2,TRUNC(($A58*0.8-(BM124+0.1))/$P$90*2000*PI()*0.8,0),\"\"))","v":356}]
[0.7420000000000004,{"$f":"0.78*$B$84","v":{"v":6240,"d":"6240.00"}},{"$f":"IF(B125<$B$79,$E$79,IF(B125<$B$80,$E$80,IF(B125<$B$81,$E$81,IF(B125<$B$82,$E$82,$E$83 ) ) ))","v":-2.4444444444444465E-5},0.7420000000000004,{"$nulls":8},500,{"$nulls":7},2080,6240,{"v":1.0488,"d":"1.05"},{"v":1.0488,"d":"1.05"},"",{"$f":"IF(Data!$E$83=1,Data!$L$117+Data!$F$59+X125/Data!$L$116/Data!$E$59/Data!$L$115,Data!$E$90+Data!$F$59+X125/Data!$G$90/Data!$E$59/Data!$D$90)","v":{"v":1.1653333333333333,"d":"1.17"}},{"v":0.7420000000000004,"d":"0.74"},{"$f":"IF(Data!$C$59=1,TRUNC(($A125*0.9-W125)/$P$92*2000*PI()*0.8,0),IF(Data!$C$59=2,TRUNC(($A125*0.8-(W125+0.1))/$P$92*2000*PI()*0.8,0),\"\"))","v":-95},null,null,1040,6240,{"v":0.6992,"d":"0.70"},{"v":0.6992,"d":"0.70"},"",{"$f":"IF(Data!$E$83=1,Data!$L$117+Data!$F$59+AH125/Data!$L$116/Data!$E$59/Data!$L$115,Data!$E$90+Data!$F$59+AH125/Data!$G$90/Data!$E$59/Data!$D$90)","v":{"v":0.776888888888889,"d":"0.78"}},{"v":0.7420000000000004,"d":"0.74"},{"$f":"IF(Data!$C$59=1,TRUNC(($A125*0.9-AG125)/$P$91*2000*PI()*0.8,0),IF(Data!$C$59=2,TRUNC(($A125*0.8-(AG125+0.1))/$P$91*2000*PI()*0.8,0),\"\"))","v":-15},null,520,6240,{"v":0.3496,"d":"0.35"},{"v":0.3496,"d":"0.35"},{"v":0.3884444444444445,"d":"0.39"},{"$f":"IF(Data!$E$83=1,Data!$L$117+Data!$F$59+AQ125/Data!$L$116/Data!$E$59/Data!$L$115,Data!$E$90+Data!$F$59+AQ125/Data!$G$90/Data!$E$59/Data!$D$90)","v":{"v":0.3884444444444445,"d":"0.39"}},{"v":0.7420000000000004,"d":"0.74"},{"$f":"IF(Data!$C$59=1,TRUNC(($A125*0.9-AP125)/$P$90*2000*PI()*0.8,0),IF(Data!$C$59=2,TRUNC(($A125*0.8-(AP125+0.1))/$P$90*2000*PI()*0.8,0),\"\"))","v":319},null,null,{"v":0.7983781978021947,"d":"0.80"},8000,{"v":2666.666666666667,"d":"2667"},1.26,{"$f":"IF(Data!$C$59=1,TRUNC(($A59*0.9-BA125)/$P$92*2000*PI()*0.8,0),IF(Data!$C$59=2,TRUNC(($A59*0.8-(BA125+0.1))/$P$92*2000*PI()*0.8,0),\"\"))","v":-136},null,{"v":0.7983781978021947,"d":"0.80"},8000,{"v":1333.3333333333335,"d":"1333"},0.8400000000000001,{"$f":"IF(Data!$C$59=1,TRUNC(($A59*0.9-BG125)/$P$91*2000*PI()*0.8,0),IF(Data!$C$59=2,TRUNC(($A59*0.8-(BG125+0.1))/$P$91*2000*PI()*0.8,0),\"\"))","v":-61},null,{"v":0.7983781978021947,"d":"0.80"},8000,{"v":666.6666666666667,"d":"667"},0.42000000000000004,{"$f":"IF(Data!$C$59=1,TRUNC(($A59*0.9-BM125)/$P$90*2000*PI()*0.8,0),IF(Data!$C$59=2,TRUNC(($A59*0.8-(BM125+0.1))/$P$90*2000*PI()*0.8,0),\"\"))","v":300}]
[0.7380888888888893,{"$f":"0.8*$B$84","v":{"v":6400,"d":"6400.00"}},{"$f":"IF(B126<$B$79,$E$79,IF(B126<$B$80,$E$80,IF(B126<$B$81,$E$81,IF(B126<$B$82,$E$82,$E$83 ) ) ))","v":-2.4444444444444465E-5},0.7380888888888893,{"$nulls":8},400,{"$nulls":7},{"v":2133.3333333333335,"d":"2133"},6400,{"v":1.068,"d":"1.07"},{"v":1.068,"d":"1.07"},"",{"$f":"IF(Data!$E$83=1,Data!$L$117+Data!$F$59+X126/Data!$L$116/Data!$E$59/Data!$L$115,Data!$E$90+Data!$F$59+X126/Data!$G$90/Data!$E$59/Data!$D$90)","v":{"v":1.1866666666666668,"d":"1.19"}},{"v":0.7380888888888893,"d":"0.74"},{"$f":"IF(Data!$C$59=1,TRUNC(($A126*0.9-W126)/$P$92*2000*PI()*0.8,0),IF(Data!$C$59=2,TRUNC(($A126*0.8-(W126+0.1))/$P$92*2000*PI()*0.8,0),\"\"))","v":-101},null,null,{"v":1066.6666666666667,"d":"1067"},6400,{"v":0.712,"d":"0.71"},{"v":0.712,"d":"0.71"},"",{"$f":"IF(Data!$E$83=1,Data!$L$117+Data!$F$59+AH126/Data!$L$116/Data!$E$59/Data!$L$115,Data!$E$90+Data!$F$59+AH126/Data!$G$90/Data!$E$59/Data!$D$90)","v":{"v":0.7911111111111111,"d":"0.79"}},{"v":0.7380888888888893,"d":"0.74"},{"$f":"IF(Data!$C$59=1,TRUNC(($A126*0.9-AG126)/$P$91*2000*PI()*0.8,0),IF(Data!$C$59=2,TRUNC(($A126*0.8-(AG126+0.1))/$P$91*2000*PI()*0.8,0),\"\"))","v":-23},null,{"v":533.3333333333334,"d":"533"},6400,{"v":0.356,"d":"0.36"},{"v":0.356,"d":"0.36"},{"v":0.39555555555555555,"d":"0.40"},{"$f":"IF(Data!$E$83=1,Data!$L$117+Data!$F$59+AQ126/Data!$L$116/Data!$E$59/Data!$L$115,Data!$E$90+Data!$F$59+AQ126/Data!$G$90/Data!$E$59/Data!$D$90)","v":{"v":0.39555555555555555,"d":"0.40"}},{"v":0.7380888888888893,"d":"0.74"},{"$f":"IF(Data!$C$59=1,TRUNC(($A126*0.9-AP126)/$P$90*2000*PI()*0.8,0),IF(Data!$C$59=2,TRUNC(($A126*0.8-(AP126+0.1))/$P$90*2000*PI()*0.8,0),\"\"))","v":309},null,null,{"v":0.7351268571428539,"d":"0.74"},8000,{"v":2666.666666666667,"d":"2667"},1.26,{"$f":"IF(Data!$C$59=1,TRUNC(($A60*0.9-BA126)/$P$92*2000*PI()*0.8,0),IF(Data!$C$59=2,TRUNC(($A60*0.8-(BA126+0.1))/$P$92*2000*PI()*0.8,0),\"\"))","v":-150},null,{"v":0.7351268571428539,"d":"0.74"},8000,{"v":1333.3333333333335,"d":"1333"},0.8400000000000001,{"$f":"IF(Data!$C$59=1,TRUNC(($A60*0.9-BG126)/$P$91*2000*PI()*0.8,0),IF(Data!$C$59=2,TRUNC(($A60*0.8-(BG126+0.1))/$P$91*2000*PI()*0.8,0),\"\"))","v":-89},null,{"v":0.7351268571428539,"d":"0.74"},8000,{"v":666.6666666666667,"d":"667"},0.42000000000000004,{"$f":"IF(Data!$C$59=1,TRUNC(($A60*0.9-BM126)/$P$90*2000*PI()*0.8,0),IF(Data!$C$59=2,TRUNC(($A60*0.8-(BM126+0.1))/$P$90*2000*PI()*0.8,0),\"\"))","v":242}]
[0.7341777777777783,{"$f":"0.82*$B$84","v":{"v":6560,"d":"6560.00"}},-2.4444444444444465E-5,0.7341777777777783,{"$nulls":8},300,{"$nulls":7},{"v":2186.6666666666665,"d":"2187"},6560,{"v":1.0872,"d":"1.09"},{"v":1.0872,"d":"1.09"},"",{"$f":"IF(Data!$E$83=1,Data!$L$117+Data!$F$59+X127/Data!$L$116/Data!$E$59/Data!$L$115,Data!$E$90+Data!$F$59+X127/Data!$G$90/Data!$E$59/Data!$D$90)","v":{"v":1.208,"d":"1.21"}},{"v":0.7341777777777783,"d":"0.73"},{"$f":"IF(Data!$C$59=1,TRUNC(($A127*0.9-W127)/$P$92*2000*PI()*0.8,0),IF(Data!$C$59=2,TRUNC(($A127*0.8-(W127+0.1))/$P$92*2000*PI()*0.8,0),\"\"))","v":-107},null,null,{"v":1093.3333333333333,"d":"1093"},6560,{"v":0.7248000000000001,"d":"0.72"},{"v":0.7248000000000001,"d":"0.72"},"",{"$f":"IF(Data!$E$83=1,Data!$L$117+Data!$F$59+AH127/Data!$L$116/Data!$E$59/Data!$L$115,Data!$E$90+Data!$F$59+AH127/Data!$G$90/Data!$E$59/Data!$D$90)","v":{"v":0.8053333333333335,"d":"0.81"}},{"v":0.7341777777777783,"d":"0.73"},{"$f":"IF(Data!$C$59=1,TRUNC(($A127*0.9-AG127)/$P$91*2000*PI()*0.8,0),IF(Data!$C$59=2,TRUNC(($A127*0.8-(AG127+0.1))/$P$91*2000*PI()*0.8,0),\"\"))","v":-32},null,{"v":546.6666666666666,"d":"547"},6560,{"v":0.36240000000000006,"d":"0.36"},{"v":0.36240000000000006,"d":"0.36"},{"v":0.40266666666666673,"d":"0.40"},{"$f":"IF(Data!$E$83=1,Data!$L$117+Data!$F$59+AQ127/Data!$L$116/Data!$E$59/Data!$L$115,Data!$E$90+Data!$F$59+AQ127/Data!$G$90/Data!$E$59/Data!$D$90)","v":{"v":0.40266666666666673,"d":"0.40"}},{"v":0.7341777777777783,"d":"0.73"},{"$f":"IF(Data!$C$59=1,TRUNC(($A127*0.9-AP127)/$P$90*2000*PI()*0.8,0),IF(Data!$C$59=2,TRUNC(($A127*0.8-(AP127+0.1))/$P$90*2000*PI()*0.8,0),\"\"))","v":299},null,null,{"v":0.6712791208791177,"d":"0.67"},8000,{"v":2666.666666666667,"d":"2667"},1.26,{"$f":"IF(Data!$C$59=1,TRUNC(($A61*0.9-BA127)/$P$92*2000*PI()*0.8,0),IF(Data!$C$59=2,TRUNC(($A61*0.8-(BA127+0.1))/$P$92*2000*PI()*0.8,0),\"\"))","v":-164},null,{"v":0.6712791208791177,"d":"0.67"},8000,{"v":1333.3333333333335,"d":"1333"},0.8400000000000001,{"$f":"IF(Data!$C$59=1,TRUNC(($A61*0.9-BG127)/$P$91*2000*PI()*0.8,0),IF(Data!$C$59=2,TRUNC(($A61*0.8-(BG127+0.1))/$P$91*2000*PI()*0.8,0),\"\"))","v":-118},null,{"v":0.6712791208791177,"d":"0.67"},8000,{"v":666.6666666666667,"d":"667"},0.42000000000000004,{"$f":"IF(Data!$C$59=1,TRUNC(($A61*0.9-BM127)/$P$90*2000*PI()*0.8,0),IF(Data!$C$59=2,TRUNC(($A61*0.8-(BM127+0.1))/$P$90*2000*PI()*0.8,0),\"\"))","v":185}]
[0.7302666666666672,{"$f":"0.84*$B$84","v":{"v":6720,"d":"6720.00"}},-2.4444444444444465E-5,0.7302666666666672,{"$nulls":8},200,{"$nulls":7},2240,6720,{"v":1.1064,"d":"1.11"},{"v":1.1064,"d":"1.11"},"",{"$f":"IF(Data!$E$83=1,Data!$L$117+Data!$F$59+X128/Data!$L$116/Data!$E$59/Data!$L$115,Data!$E$90+Data!$F$59+X128/Data!$G$90/Data!$E$59/Data!$D$90)","v":{"v":1.2293333333333334,"d":"1.23"}},{"v":0.7302666666666672,"d":"0.73"},{"$f":"IF(Data!$C$59=1,TRUNC(($A128*0.9-W128)/$P$92*2000*PI()*0.8,0),IF(Data!$C$59=2,TRUNC(($A128*0.8-(W128+0.1))/$P$92*2000*PI()*0.8,0),\"\"))","v":-112},null,null,1120,6720,{"v":0.7376,"d":"0.74"},{"v":0.7376,"d":"0.74"},"",{"$f":"IF(Data!$E$83=1,Data!$L$117+Data!$F$59+AH128/Data!$L$116/Data!$E$59/Data!$L$115,Data!$E$90+Data!$F$59+AH128/Data!$G$90/Data!$E$59/Data!$D$90)","v":{"v":0.8195555555555556,"d":"0.82"}},{"v":0.7302666666666672,"d":"0.73"},{"$f":"IF(Data!$C$59=1,TRUNC(($A128*0.9-AG128)/$P$91*2000*PI()*0.8,0),IF(Data!$C$59=2,TRUNC(($A128*0.8-(AG128+0.1))/$P$91*2000*PI()*0.8,0),\"\"))","v":-40},null,560,6720,{"v":0.3688,"d":"0.37"},{"v":0.3688,"d":"0.37"},{"v":0.4097777777777778,"d":"0.41"},{"$f":"IF(Data!$E$83=1,Data!$L$117+Data!$F$59+AQ128/Data!$L$116/Data!$E$59/Data!$L$115,Data!$E$90+Data!$F$59+AQ128/Data!$G$90/Data!$E$59/Data!$D$90)","v":{"v":0.4097777777777778,"d":"0.41"}},{"v":0.7302666666666672,"d":"0.73"},{"$f":"IF(Data!$C$59=1,TRUNC(($A128*0.9-AP128)/$P$90*2000*PI()*0.8,0),IF(Data!$C$59=2,TRUNC(($A128*0.8-(AP128+0.1))/$P$90*2000*PI()*0.8,0),\"\"))","v":289},null,null,{"v":0.6068349890109856,"d":"0.61"},8000,{"v":2666.666666666667,"d":"2667"},1.26,{"$f":"IF(Data!$C$59=1,TRUNC(($A62*0.9-BA128)/$P$92*2000*PI()*0.8,0),IF(Data!$C$59=2,TRUNC(($A62*0.8-(BA128+0.1))/$P$92*2000*PI()*0.8,0),\"\"))","v":-179},null,{"v":0.6068349890109856,"d":"0.61"},8000,{"v":1333.3333333333335,"d":"1333"},0.8400000000000001,{"$f":"IF(Data!$C$59=1,TRUNC(($A62*0.9-BG128)/$P$91*2000*PI()*0.8,0),IF(Data!$C$59=2,TRUNC(($A62*0.8-(BG128+0.1))/$P$91*2000*PI()*0.8,0),\"\"))","v":-147},null,{"v":0.6068349890109856,"d":"0.61"},8000,{"v":666.6666666666667,"d":"667"},0.42000000000000004,{"$f":"IF(Data!$C$59=1,TRUNC(($A62*0.9-BM128)/$P$90*2000*PI()*0.8,0),IF(Data!$C$59=2,TRUNC(($A62*0.8-(BM128+0.1))/$P$90*2000*PI()*0.8,0),\"\"))","v":126}]
[0.7263555555555561,{"$f":"0.86*$B$84","v":{"v":6880,"d":"6880.00"}},-2.4444444444444465E-5,0.7263555555555561,{"$nulls":8},100,{"$nulls":7},{"v":2293.3333333333335,"d":"2293"},6880,{"v":1.1256,"d":"1.13"},{"v":1.1256,"d":"1.13"},"",{"$f":"IF(Data!$E$83=1,Data!$L$117+Data!$F$59+X129/Data!$L$116/Data!$E$59/Data!$L$115,Data!$E$90+Data!$F$59+X129/Data!$G$90/Data!$E$59/Data!$D$90)","v":{"v":1.2506666666666666,"d":"1.25"}},{"$f":"A129","v":{"v":0.7263555555555561,"d":"0.73"}},{"$f":"IF(Data!$C$59=1,TRUNC(($A129*0.9-W129)/$P$92*2000*PI()*0.8,0),IF(Data!$C$59=2,TRUNC(($A129*0.8-(W129+0.1))/$P$92*2000*PI()*0.8,0),\"\"))","v":-118},null,null,{"v":1146.6666666666667,"d":"1147"},6880,{"v":0.7504,"d":"0.75"},{"v":0.7504,"d":"0.75"},"",{"$f":"IF(Data!$E$83=1,Data!$L$117+Data!$F$59+AH129/Data!$L$116/Data!$E$59/Data!$L$115,Data!$E$90+Data!$F$59+AH129/Data!$G$90/Data!$E$59/Data!$D$90)","v":{"v":0.8337777777777777,"d":"0.83"}},{"v":0.7263555555555561,"d":"0.73"},{"$f":"IF(Data!$C$59=1,TRUNC(($A129*0.9-AG129)/$P$91*2000*PI()*0.8,0),IF(Data!$C$59=2,TRUNC(($A129*0.8-(AG129+0.1))/$P$91*2000*PI()*0.8,0),\"\"))","v":-48},null,{"v":573.3333333333334,"d":"573"},6880,{"v":0.3752,"d":"0.38"},{"v":0.3752,"d":"0.38"},{"v":0.41688888888888886,"d":"0.42"},{"$f":"IF(Data!$E$83=1,Data!$L$117+Data!$F$59+AQ129/Data!$L$116/Data!$E$59/Data!$L$115,Data!$E$90+Data!$F$59+AQ129/Data!$G$90/Data!$E$59/Data!$D$90)","v":{"v":0.41688888888888886,"d":"0.42"}},{"v":0.7263555555555561,"d":"0.73"},{"$f":"IF(Data!$C$59=1,TRUNC(($A129*0.9-AP129)/$P$90*2000*PI()*0.8,0),IF(Data!$C$59=2,TRUNC(($A129*0.8-(AP129+0.1))/$P$90*2000*PI()*0.8,0),\"\"))","v":279},null,null,{"v":0.5417944615384582,"d":"0.54"},8000,{"v":2666.666666666667,"d":"2667"},1.26,{"$f":"IF(Data!$C$59=1,TRUNC(($A63*0.9-BA129)/$P$92*2000*PI()*0.8,0),IF(Data!$C$59=2,TRUNC(($A63*0.8-(BA129+0.1))/$P$92*2000*PI()*0.8,0),\"\"))","v":-194},null,{"v":0.5417944615384582,"d":"0.54"},8000,{"v":1333.3333333333335,"d":"1333"},0.8400000000000001,{"$f":"IF(Data!$C$59=1,TRUNC(($A63*0.9-BG129)/$P$91*2000*PI()*0.8,0),IF(Data!$C$59=2,TRUNC(($A63*0.8-(BG129+0.1))/$P$91*2000*PI()*0.8,0),\"\"))","v":-177},null,{"v":0.5417944615384582,"d":"0.54"},8000,{"v":666.6666666666667,"d":"667"},0.42000000000000004,{"$f":"IF(Data!$C$59=1,TRUNC(($A63*0.9-BM129)/$P$90*2000*PI()*0.8,0),IF(Data!$C$59=2,TRUNC(($A63*0.8-(BM129+0.1))/$P$90*2000*PI()*0.8,0),\"\"))","v":67}]
[0.722444444444445,{"$f":"0.88*$B$84","v":{"v":7040,"d":"7040.00"}},-2.4444444444444465E-5,0.722444444444445,{"$nulls":8},0,{"$nulls":7},{"v":2346.6666666666665,"d":"2347"},7040,{"v":1.1447999999999998,"d":"1.14"},{"v":1.1447999999999998,"d":"1.14"},"",{"$f":"IF(Data!$E$83=1,Data!$L$117+Data!$F$59+X130/Data!$L$116/Data!$E$59/Data!$L$115,Data!$E$90+Data!$F$59+X130/Data!$G$90/Data!$E$59/Data!$D$90)","v":{"v":1.2719999999999998,"d":"1.27"}},{"v":0.722444444444445,"d":"0.72"},{"$f":"IF(Data!$C$59=1,TRUNC(($A130*0.9-W130)/$P$92*2000*PI()*0.8,0),IF(Data!$C$59=2,TRUNC(($A130*0.8-(W130+0.1))/$P$92*2000*PI()*0.8,0),\"\"))","v":-124},null,null,{"v":1173.3333333333333,"d":"1173"},7040,{"v":0.7632000000000001,"d":"0.76"},{"v":0.7632000000000001,"d":"0.76"},"",{"$f":"IF(Data!$E$83=1,Data!$L$117+Data!$F$59+AH130/Data!$L$116/Data!$E$59/Data!$L$115,Data!$E$90+Data!$F$59+AH130/Data!$G$90/Data!$E$59/Data!$D$90)","v":{"v":0.8480000000000001,"d":"0.85"}},{"v":0.722444444444445,"d":"0.72"},{"$f":"IF(Data!$C$59=1,TRUNC(($A130*0.9-AG130)/$P$91*2000*PI()*0.8,0),IF(Data!$C$59=2,TRUNC(($A130*0.8-(AG130+0.1))/$P$91*2000*PI()*0.8,0),\"\"))","v":-56},null,{"v":586.6666666666666,"d":"587"},7040,{"v":0.38160000000000005,"d":"0.38"},{"v":0.38160000000000005,"d":"0.38"},{"v":0.42400000000000004,"d":"0.42"},{"$f":"IF(Data!$E$83=1,Data!$L$117+Data!$F$59+AQ130/Data!$L$116/Data!$E$59/Data!$L$115,Data!$E$90+Data!$F$59+AQ130/Data!$G$90/Data!$E$59/Data!$D$90)","v":{"v":0.42400000000000004,"d":"0.42"}},{"v":0.722444444444445,"d":"0.72"},{"$f":"IF(Data!$C$59=1,TRUNC(($A130*0.9-AP130)/$P$90*2000*PI()*0.8,0),IF(Data!$C$59=2,TRUNC(($A130*0.8-(AP130+0.1))/$P$90*2000*PI()*0.8,0),\"\"))","v":270},null,null,{"v":0.4761575384615351,"d":"0.48"},8000,{"v":2666.666666666667,"d":"2667"},1.26,{"$f":"IF(Data!$C$59=1,TRUNC(($A64*0.9-BA130)/$P$92*2000*PI()*0.8,0),IF(Data!$C$59=2,TRUNC(($A64*0.8-(BA130+0.1))/$P$92*2000*PI()*0.8,0),\"\"))","v":-208},null,{"v":0.4761575384615351,"d":"0.48"},8000,{"v":1333.3333333333335,"d":"1333"},0.8400000000000001,{"$f":"IF(Data!$C$59=1,TRUNC(($A64*0.9-BG130)/$P$91*2000*PI()*0.8,0),IF(Data!$C$59=2,TRUNC(($A64*0.8-(BG130+0.1))/$P$91*2000*PI()*0.8,0),\"\"))","v":-206},null,{"v":0.4761575384615351,"d":"0.48"},8000,{"v":666.6666666666667,"d":"667"},0.42000000000000004,{"$f":"IF(Data!$C$59=1,TRUNC(($A64*0.9-BM130)/$P$90*2000*PI()*0.8,0),IF(Data!$C$59=2,TRUNC(($A64*0.8-(BM130+0.1))/$P$90*2000*PI()*0.8,0),\"\"))","v":8}]
[0.7185333333333339,{"$f":"0.9*$B$84","v":{"v":7200,"d":"7200.00"}},-2.4444444444444465E-5,0.7185333333333339,{"$nulls":16},2400,7200,{"v":1.164,"d":"1.16"},{"v":1.164,"d":"1.16"},"",{"$f":"IF(Data!$E$83=1,Data!$L$117+Data!$F$59+X131/Data!$L$116/Data!$E$59/Data!$L$115,Data!$E$90+Data!$F$59+X131/Data!$G$90/Data!$E$59/Data!$D$90)","v":{"v":1.2933333333333332,"d":"1.29"}},{"v":0.7185333333333339,"d":"0.72"},{"$f":"IF(Data!$C$59=1,TRUNC(($A131*0.9-W131)/$P$92*2000*PI()*0.8,0),IF(Data!$C$59=2,TRUNC(($A131*0.8-(W131+0.1))/$P$92*2000*PI()*0.8,0),\"\"))","v":-130},null,null,1200,7200,{"v":0.776,"d":"0.78"},{"v":0.776,"d":"0.78"},"",{"$f":"IF(Data!$E$83=1,Data!$L$117+Data!$F$59+AH131/Data!$L$116/Data!$E$59/Data!$L$115,Data!$E$90+Data!$F$59+AH131/Data!$G$90/Data!$E$59/Data!$D$90)","v":{"v":0.8622222222222222,"d":"0.86"}},{"v":0.7185333333333339,"d":"0.72"},{"$f":"IF(Data!$C$59=1,TRUNC(($A131*0.9-AG131)/$P$91*2000*PI()*0.8,0),IF(Data!$C$59=2,TRUNC(($A131*0.8-(AG131+0.1))/$P$91*2000*PI()*0.8,0),\"\"))","v":-65},null,600,7200,{"v":0.388,"d":"0.39"},{"v":0.388,"d":"0.39"},{"v":0.4311111111111111,"d":"0.43"},{"$f":"IF(Data!$E$83=1,Data!$L$117+Data!$F$59+AQ131/Data!$L$116/Data!$E$59/Data!$L$115,Data!$E$90+Data!$F$59+AQ131/Data!$G$90/Data!$E$59/Data!$D$90)","v":{"v":0.4311111111111111,"d":"0.43"}},{"v":0.7185333333333339,"d":"0.72"},{"$f":"IF(Data!$C$59=1,TRUNC(($A131*0.9-AP131)/$P$90*2000*PI()*0.8,0),IF(Data!$C$59=2,TRUNC(($A131*0.8-(AP131+0.1))/$P$90*2000*PI()*0.8,0),\"\"))","v":260},null,null,{"v":0.4099242197802164,"d":"0.41"},8000,{"v":2666.666666666667,"d":"2667"},1.26,{"$f":"IF(Data!$C$59=1,TRUNC(($A65*0.9-BA131)/$P$92*2000*PI()*0.8,0),IF(Data!$C$59=2,TRUNC(($A65*0.8-(BA131+0.1))/$P$92*2000*PI()*0.8,0),\"\"))","v":-223},null,{"v":0.4099242197802164,"d":"0.41"},8000,{"v":1333.3333333333335,"d":"1333"},0.8400000000000001,{"$f":"IF(Data!$C$59=1,TRUNC(($A65*0.9-BG131)/$P$91*2000*PI()*0.8,0),IF(Data!$C$59=2,TRUNC(($A65*0.8-(BG131+0.1))/$P$91*2000*PI()*0.8,0),\"\"))","v":-236},null,{"v":0.4099242197802164,"d":"0.41"},8000,{"v":666.6666666666667,"d":"667"},0.42000000000000004,{"$f":"IF(Data!$C$59=1,TRUNC(($A65*0.9-BM131)/$P$90*2000*PI()*0.8,0),IF(Data!$C$59=2,TRUNC(($A65*0.8-(BM131+0.1))/$P$90*2000*PI()*0.8,0),\"\"))","v":-51}]
[0.7146222222222228,{"$f":"0.92*$B$84","v":{"v":7360,"d":"7360.00"}},-2.4444444444444465E-5,0.7146222222222228,{"$nulls":16},{"v":2453.3333333333335,"d":"2453"},7360,{"v":1.1832,"d":"1.18"},{"v":1.1832,"d":"1.18"},"",{"$f":"IF(Data!$E$83=1,Data!$L$117+Data!$F$59+X132/Data!$L$116/Data!$E$59/Data!$L$115,Data!$E$90+Data!$F$59+X132/Data!$G$90/Data!$E$59/Data!$D$90)","v":{"v":1.3146666666666667,"d":"1.31"}},{"v":0.7146222222222228,"d":"0.71"},{"$f":"IF(Data!$C$59=1,TRUNC(($A132*0.9-W132)/$P$92*2000*PI()*0.8,0),IF(Data!$C$59=2,TRUNC(($A132*0.8-(W132+0.1))/$P$92*2000*PI()*0.8,0),\"\"))","v":-135},null,null,{"v":1226.6666666666667,"d":"1227"},7360,{"v":0.7888,"d":"0.79"},{"v":0.7888,"d":"0.79"},"",{"$f":"IF(Data!$E$83=1,Data!$L$117+Data!$F$59+AH132/Data!$L$116/Data!$E$59/Data!$L$115,Data!$E$90+Data!$F$59+AH132/Data!$G$90/Data!$E$59/Data!$D$90)","v":{"v":0.8764444444444444,"d":"0.88"}},{"v":0.7146222222222228,"d":"0.71"},{"$f":"IF(Data!$C$59=1,TRUNC(($A132*0.9-AG132)/$P$91*2000*PI()*0.8,0),IF(Data!$C$59=2,TRUNC(($A132*0.8-(AG132+0.1))/$P$91*2000*PI()*0.8,0),\"\"))","v":-73},null,{"v":613.3333333333334,"d":"613"},7360,{"v":0.3944,"d":"0.39"},{"v":0.3944,"d":"0.39"},{"v":0.4382222222222222,"d":"0.44"},{"$f":"IF(Data!$E$83=1,Data!$L$117+Data!$F$59+AQ132/Data!$L$116/Data!$E$59/Data!$L$115,Data!$E$90+Data!$F$59+AQ132/Data!$G$90/Data!$E$59/Data!$D$90)","v":{"v":0.4382222222222222,"d":"0.44"}},{"v":0.7146222222222228,"d":"0.71"},{"$f":"IF(Data!$C$59=1,TRUNC(($A132*0.9-AP132)/$P$90*2000*PI()*0.8,0),IF(Data!$C$59=2,TRUNC(($A132*0.8-(AP132+0.1))/$P$90*2000*PI()*0.8,0),\"\"))","v":250},null,null,{"v":0.3430945054945021,"d":"0.34"},8000,{"v":2666.666666666667,"d":"2667"},1.26,{"$f":"IF(Data!$C$59=1,TRUNC(($A66*0.9-BA132)/$P$92*2000*PI()*0.8,0),IF(Data!$C$59=2,TRUNC(($A66*0.8-(BA132+0.1))/$P$92*2000*PI()*0.8,0),\"\"))","v":-239},null,{"v":0.3430945054945021,"d":"0.34"},8000,{"v":1333.3333333333335,"d":"1333"},0.8400000000000001,{"$f":"IF(Data!$C$59=1,TRUNC(($A66*0.9-BG132)/$P$91*2000*PI()*0.8,0),IF(Data!$C$59=2,TRUNC(($A66*0.8-(BG132+0.1))/$P$91*2000*PI()*0.8,0),\"\"))","v":-267},null,{"v":0.3430945054945021,"d":"0.34"},8000,{"v":666.6666666666667,"d":"667"},0.42000000000000004,{"$f":"IF(Data!$C$59=1,TRUNC(($A66*0.9-BM132)/$P$90*2000*PI()*0.8,0),IF(Data!$C$59=2,TRUNC(($A66*0.8-(BM132+0.1))/$P$90*2000*PI()*0.8,0),\"\"))","v":-111}]
[0.7107111111111117,{"$f":"0.94*$B$84","v":{"v":7520,"d":"7520.00"}},-2.4444444444444465E-5,0.7107111111111117,{"$nulls":16},{"v":2506.6666666666665,"d":"2507"},7520,{"v":1.2024,"d":"1.20"},{"v":1.2024,"d":"1.20"},"",{"$f":"IF(Data!$E$83=1,Data!$L$117+Data!$F$59+X133/Data!$L$116/Data!$E$59/Data!$L$115,Data!$E$90+Data!$F$59+X133/Data!$G$90/Data!$E$59/Data!$D$90)","v":{"v":1.3359999999999999,"d":"1.34"}},{"v":0.7107111111111117,"d":"0.71"},{"$f":"IF(Data!$C$59=1,TRUNC(($A133*0.9-W133)/$P$92*2000*PI()*0.8,0),IF(Data!$C$59=2,TRUNC(($A133*0.8-(W133+0.1))/$P$92*2000*PI()*0.8,0),\"\"))","v":-141},null,null,{"v":1253.3333333333333,"d":"1253"},7520,{"v":0.8016000000000001,"d":"0.80"},{"v":0.8016000000000001,"d":"0.80"},"",{"$f":"IF(Data!$E$83=1,Data!$L$117+Data!$F$59+AH133/Data!$L$116/Data!$E$59/Data!$L$115,Data!$E$90+Data!$F$59+AH133/Data!$G$90/Data!$E$59/Data!$D$90)","v":{"v":0.8906666666666667,"d":"0.89"}},{"v":0.7107111111111117,"d":"0.71"},{"$f":"IF(Data!$C$59=1,TRUNC(($A133*0.9-AG133)/$P$91*2000*PI()*0.8,0),IF(Data!$C$59=2,TRUNC(($A133*0.8-(AG133+0.1))/$P$91*2000*PI()*0.8,0),\"\"))","v":-81},null,{"v":626.6666666666666,"d":"627"},7520,{"v":0.40080000000000005,"d":"0.40"},{"v":0.40080000000000005,"d":"0.40"},{"v":0.44533333333333336,"d":"0.45"},{"$f":"IF(Data!$E$83=1,Data!$L$117+Data!$F$59+AQ133/Data!$L$116/Data!$E$59/Data!$L$115,Data!$E$90+Data!$F$59+AQ133/Data!$G$90/Data!$E$59/Data!$D$90)","v":{"v":0.44533333333333336,"d":"0.45"}},{"v":0.7107111111111117,"d":"0.71"},{"$f":"IF(Data!$C$59=1,TRUNC(($A133*0.9-AP133)/$P$90*2000*PI()*0.8,0),IF(Data!$C$59=2,TRUNC(($A133*0.8-(AP133+0.1))/$P$90*2000*PI()*0.8,0),\"\"))","v":240},null,null,{"v":0.2756683956043922,"d":"0.28"},8000,{"v":2666.666666666667,"d":"2667"},1.26,{"$f":"IF(Data!$C$59=1,TRUNC(($A67*0.9-BA133)/$P$92*2000*PI()*0.8,0),IF(Data!$C$59=2,TRUNC(($A67*0.8-(BA133+0.1))/$P$92*2000*PI()*0.8,0),\"\"))","v":-254},null,{"v":0.2756683956043922,"d":"0.28"},8000,{"v":1333.3333333333335,"d":"1333"},0.8400000000000001,{"$f":"IF(Data!$C$59=1,TRUNC(($A67*0.9-BG133)/$P$91*2000*PI()*0.8,0),IF(Data!$C$59=2,TRUNC(($A67*0.8-(BG133+0.1))/$P$91*2000*PI()*0.8,0),\"\"))","v":-297},null,{"v":0.2756683956043922,"d":"0.28"},8000,{"v":666.6666666666667,"d":"667"},0.42000000000000004,{"$f":"IF(Data!$C$59=1,TRUNC(($A67*0.9-BM133)/$P$90*2000*PI()*0.8,0),IF(Data!$C$59=2,TRUNC(($A67*0.8-(BM133+0.1))/$P$90*2000*PI()*0.8,0),\"\"))","v":-172}]
[0.7068000000000006,{"$f":"0.96*$B$84","v":{"v":7680,"d":"7680.00"}},-2.4444444444444465E-5,0.7068000000000006,{"$nulls":16},2560,7680,{"v":1.2216,"d":"1.22"},{"v":1.2216,"d":"1.22"},"",{"$f":"IF(Data!$E$83=1,Data!$L$117+Data!$F$59+X134/Data!$L$116/Data!$E$59/Data!$L$115,Data!$E$90+Data!$F$59+X134/Data!$G$90/Data!$E$59/Data!$D$90)","v":{"v":1.3573333333333333,"d":"1.36"}},{"v":0.7068000000000006,"d":"0.71"},{"$f":"IF(Data!$C$59=1,TRUNC(($A134*0.9-W134)/$P$92*2000*PI()*0.8,0),IF(Data!$C$59=2,TRUNC(($A134*0.8-(W134+0.1))/$P$92*2000*PI()*0.8,0),\"\"))","v":-147},null,null,1280,7680,{"v":0.8144,"d":"0.81"},{"v":0.8144,"d":"0.81"},"",{"$f":"IF(Data!$E$83=1,Data!$L$117+Data!$F$59+AH134/Data!$L$116/Data!$E$59/Data!$L$115,Data!$E$90+Data!$F$59+AH134/Data!$G$90/Data!$E$59/Data!$D$90)","v":{"v":0.9048888888888889,"d":"0.90"}},{"v":0.7068000000000006,"d":"0.71"},{"$f":"IF(Data!$C$59=1,TRUNC(($A134*0.9-AG134)/$P$91*2000*PI()*0.8,0),IF(Data!$C$59=2,TRUNC(($A134*0.8-(AG134+0.1))/$P$91*2000*PI()*0.8,0),\"\"))","v":-89},null,640,7680,{"v":0.4072,"d":"0.41"},{"v":0.4072,"d":"0.41"},{"v":0.4524444444444444,"d":"0.45"},{"$f":"IF(Data!$E$83=1,Data!$L$117+Data!$F$59+AQ134/Data!$L$116/Data!$E$59/Data!$L$115,Data!$E$90+Data!$F$59+AQ134/Data!$G$90/Data!$E$59/Data!$D$90)","v":{"v":0.4524444444444444,"d":"0.45"}},{"v":0.7068000000000006,"d":"0.71"},{"$f":"IF(Data!$C$59=1,TRUNC(($A134*0.9-AP134)/$P$90*2000*PI()*0.8,0),IF(Data!$C$59=2,TRUNC(($A134*0.8-(AP134+0.1))/$P$90*2000*PI()*0.8,0),\"\"))","v":230},null,null,{"v":0.20764589010988635,"d":"0.21"},8000,{"v":2666.666666666667,"d":"2667"},1.26,{"$f":"IF(Data!$C$59=1,TRUNC(($A68*0.9-BA134)/$P$92*2000*PI()*0.8,0),IF(Data!$C$59=2,TRUNC(($A68*0.8-(BA134+0.1))/$P$92*2000*PI()*0.8,0),\"\"))","v":-269},null,{"v":0.20764589010988635,"d":"0.21"},8000,{"v":1333.3333333333335,"d":"1333"},0.8400000000000001,{"$f":"IF(Data!$C$59=1,TRUNC(($A68*0.9-BG134)/$P$91*2000*PI()*0.8,0),IF(Data!$C$59=2,TRUNC(($A68*0.8-(BG134+0.1))/$P$91*2000*PI()*0.8,0),\"\"))","v":-328},null,{"v":0.20764589010988635,"d":"0.21"},8000,{"v":666.6666666666667,"d":"667"},0.42000000000000004,{"$f":"IF(Data!$C$59=1,TRUNC(($A68*0.9-BM134)/$P$90*2000*PI()*0.8,0),IF(Data!$C$59=2,TRUNC(($A68*0.8-(BM134+0.1))/$P$90*2000*PI()*0.8,0),\"\"))","v":-234}]
[0.7028888888888896,{"$f":"0.98*$B$84","v":{"v":7840,"d":"7840.00"}},-2.4444444444444465E-5,0.7028888888888896,{"$nulls":16},{"v":2613.333333333333,"d":"2613"},7840,{"v":1.2408,"d":"1.24"},{"v":1.2408,"d":"1.24"},"",{"$f":"IF(Data!$E$83=1,Data!$L$117+Data!$F$59+X135/Data!$L$116/Data!$E$59/Data!$L$115,Data!$E$90+Data!$F$59+X135/Data!$G$90/Data!$E$59/Data!$D$90)","v":{"v":1.3786666666666665,"d":"1.38"}},{"v":0.7028888888888896,"d":"0.70"},{"$f":"IF(Data!$C$59=1,TRUNC(($A135*0.9-W135)/$P$92*2000*PI()*0.8,0),IF(Data!$C$59=2,TRUNC(($A135*0.8-(W135+0.1))/$P$92*2000*PI()*0.8,0),\"\"))","v":-152},null,null,{"v":1306.6666666666665,"d":"1307"},{"v":7839.999999999999,"d":"7840"},{"v":0.8271999999999999,"d":"0.83"},{"v":0.8271999999999999,"d":"0.83"},"",{"$f":"IF(Data!$E$83=1,Data!$L$117+Data!$F$59+AH135/Data!$L$116/Data!$E$59/Data!$L$115,Data!$E$90+Data!$F$59+AH135/Data!$G$90/Data!$E$59/Data!$D$90)","v":{"v":0.919111111111111,"d":"0.92"}},{"v":0.7028888888888896,"d":"0.70"},{"$f":"IF(Data!$C$59=1,TRUNC(($A135*0.9-AG135)/$P$91*2000*PI()*0.8,0),IF(Data!$C$59=2,TRUNC(($A135*0.8-(AG135+0.1))/$P$91*2000*PI()*0.8,0),\"\"))","v":-97},null,{"v":653.3333333333333,"d":"653"},{"v":7839.999999999999,"d":"7840"},{"v":0.41359999999999997,"d":"0.41"},{"v":0.41359999999999997,"d":"0.41"},{"v":0.4595555555555555,"d":"0.46"},{"$f":"IF(Data!$E$83=1,Data!$L$117+Data!$F$59+AQ135/Data!$L$116/Data!$E$59/Data!$L$115,Data!$E$90+Data!$F$59+AQ135/Data!$G$90/Data!$E$59/Data!$D$90)","v":{"v":0.4595555555555555,"d":"0.46"}},{"v":0.7028888888888896,"d":"0.70"},{"$f":"IF(Data!$C$59=1,TRUNC(($A135*0.9-AP135)/$P$90*2000*PI()*0.8,0),IF(Data!$C$59=2,TRUNC(($A135*0.8-(AP135+0.1))/$P$90*2000*PI()*0.8,0),\"\"))","v":220},null,null,{"v":0.13902698901098556,"d":"0.14"},8000,{"v":2666.666666666667,"d":"2667"},1.26,{"$f":"IF(Data!$C$59=1,TRUNC(($A69*0.9-BA135)/$P$92*2000*PI()*0.8,0),IF(Data!$C$59=2,TRUNC(($A69*0.8-(BA135+0.1))/$P$92*2000*PI()*0.8,0),\"\"))","v":-285},null,{"v":0.13902698901098556,"d":"0.14"},8000,{"v":1333.3333333333335,"d":"1333"},0.8400000000000001,{"$f":"IF(Data!$C$59=1,TRUNC(($A69*0.9-BG135)/$P$91*2000*PI()*0.8,0),IF(Data!$C$59=2,TRUNC(($A69*0.8-(BG135+0.1))/$P$91*2000*PI()*0.8,0),\"\"))","v":-359},null,{"v":0.13902698901098556,"d":"0.14"},8000,{"v":666.6666666666667,"d":"667"},0.42000000000000004,{"$f":"IF(Data!$C$59=1,TRUNC(($A69*0.9-BM135)/$P$90*2000*PI()*0.8,0),IF(Data!$C$59=2,TRUNC(($A69*0.8-(BM135+0.1))/$P$90*2000*PI()*0.8,0),\"\"))","v":-296}]
[{"$f":"C84","v":0.7},{"$f":"1*$B$73","v":8000},null,0.7,{"$nulls":16},{"v":2666.666666666667,"d":"2667"},8000,1.26,1.26,"",{"$f":"IF(Data!$E$83=1,Data!$L$117+Data!$F$59+X136/Data!$L$116/Data!$E$59/Data!$L$115,Data!$E$90+Data!$F$59+X136/Data!$G$90/Data!$E$59/Data!$D$90)","v":{"v":1.4,"d":"1.40"}},{"v":0.7,"d":"0.70"},{"$f":"IF(Data!$C$59=1,TRUNC(($A136*0.9-W136)/$P$92*2000*PI()*0.8,0),IF(Data!$C$59=2,TRUNC(($A136*0.8-(W136+0.1))/$P$92*2000*PI()*0.8,0),\"\"))","v":-158},null,null,{"v":1333.3333333333335,"d":"1333"},{"v":8000.000000000001,"d":"8000"},{"v":0.8400000000000001,"d":"0.84"},{"v":0.8400000000000001,"d":"0.84"},"",{"$f":"IF(Data!$E$83=1,Data!$L$117+Data!$F$59+AH136/Data!$L$116/Data!$E$59/Data!$L$115,Data!$E$90+Data!$F$59+AH136/Data!$G$90/Data!$E$59/Data!$D$90)","v":{"v":0.9333333333333333,"d":"0.93"}},{"v":0.7,"d":"0.70"},{"$f":"IF(Data!$C$59=1,TRUNC(($A136*0.9-AG136)/$P$91*2000*PI()*0.8,0),IF(Data!$C$59=2,TRUNC(($A136*0.8-(AG136+0.1))/$P$91*2000*PI()*0.8,0),\"\"))","v":-105},null,{"v":666.6666666666667,"d":"667"},{"v":8000.000000000001,"d":"8000"},{"v":0.42000000000000004,"d":"0.42"},{"v":0.42000000000000004,"d":"0.42"},{"v":0.4666666666666667,"d":"0.47"},{"$f":"IF(Data!$E$83=1,Data!$L$117+Data!$F$59+AQ136/Data!$L$116/Data!$E$59/Data!$L$115,Data!$E$90+Data!$F$59+AQ136/Data!$G$90/Data!$E$59/Data!$D$90)","v":{"v":0.4666666666666667,"d":"0.47"}},{"v":0.7,"d":"0.70"},{"$f":"IF(Data!$C$59=1,TRUNC(($A136*0.9-AP136)/$P$90*2000*PI()*0.8,0),IF(Data!$C$59=2,TRUNC(($A136*0.8-(AP136+0.1))/$P$90*2000*PI()*0.8,0),\"\"))","v":211},null,null,{"v":0.06981169230768883,"d":"0.07"},8000,{"v":2666.666666666667,"d":"2667"},1.26,{"$f":"IF(Data!$C$59=1,TRUNC(($A70*0.9-BA136)/$P$92*2000*PI()*0.8,0),IF(Data!$C$59=2,TRUNC(($A70*0.8-(BA136+0.1))/$P$92*2000*PI()*0.8,0),\"\"))","v":-300},null,{"v":0.06981169230768883,"d":"0.07"},8000,{"v":1333.3333333333335,"d":"1333"},0.8400000000000001,{"$f":"IF(Data!$C$59=1,TRUNC(($A70*0.9-BG136)/$P$91*2000*PI()*0.8,0),IF(Data!$C$59=2,TRUNC(($A70*0.8-(BG136+0.1))/$P$91*2000*PI()*0.8,0),\"\"))","v":-390},null,{"v":0.06981169230768883,"d":"0.07"},8000,{"v":666.6666666666667,"d":"667"},0.42000000000000004,{"$f":"IF(Data!$C$59=1,TRUNC(($A70*0.9-BM136)/$P$90*2000*PI()*0.8,0),IF(Data!$C$59=2,TRUNC(($A70*0.8-(BM136+0.1))/$P$90*2000*PI()*0.8,0),\"\"))","v":-359}]
[0,{"$f":"B136","v":8000},{"$nulls":18},{"$f":"U136","v":{"v":2666.666666666667,"d":"2667"}},{"$nulls":6},{"$f":"IF(Data!$C$59=1,TRUNC(($A137*0.9-W137)/$P$92*2000*PI()*0.8,0),IF(Data!$C$59=2,TRUNC(($A137*0.8-(W137+0.1))/$P$92*2000*PI()*0.8,0),\"\"))","v":0},null,null,{"$f":"AE136","v":{"v":1333.3333333333335,"d":"1333"}},{"v":8000.000000000001,"d":"8000"},{"v":0.8400000000000001,"d":"0.84"},{"v":0.8400000000000001,"d":"0.84"},null,{"$f":"IF(Data!$E$83=1,Data!$L$117+Data!$F$59+AH137/Data!$L$116/Data!$E$59/Data!$L$115,Data!$E$90+Data!$F$59+AH137/Data!$G$90/Data!$E$59/Data!$D$90)","v":{"v":0.9333333333333333,"d":"0.93"}},{"$nulls":3},{"$f":"AN136","v":{"v":666.6666666666667,"d":"667"}},{"v":8000.000000000001,"d":"8000"},{"v":0.42000000000000004,"d":"0.42"},{"v":0.42000000000000004,"d":"0.42"},null,{"$f":"IF(Data!$E$83=1,Data!$L$117+Data!$F$59+AQ137/Data!$L$116/Data!$E$59/Data!$L$115,Data!$E$90+Data!$F$59+AQ137/Data!$G$90/Data!$E$59/Data!$D$90)","v":{"v":0.4666666666666667,"d":"0.47"}},{"$nulls":4},{"v":0,"d":"0.00"},8000,{"v":2666.666666666667,"d":"2667"},1.26,{"$f":"IF(Data!$C$59=1,TRUNC(($A71*0.9-BA137)/$P$92*2000*PI()*0.8,0),IF(Data!$C$59=2,TRUNC(($A71*0.8-(BA137+0.1))/$P$92*2000*PI()*0.8,0),\"\"))","v":-316},null,{"v":0,"d":"0.00"},8000,{"v":1333.3333333333335,"d":"1333"},0.8400000000000001,{"$f":"IF(Data!$C$59=1,TRUNC(($A71*0.9-BG137)/$P$91*2000*PI()*0.8,0),IF(Data!$C$59=2,TRUNC(($A71*0.8-(BG137+0.1))/$P$91*2000*PI()*0.8,0),\"\"))","v":-422},null,{"v":0,"d":"0.00"},8000,{"v":666.6666666666667,"d":"667"},0.42000000000000004,{"$f":"IF(Data!$C$59=1,TRUNC(($A71*0.9-BM137)/$P$90*2000*PI()*0.8,0),IF(Data!$C$59=2,TRUNC(($A71*0.8-(BM137+0.1))/$P$90*2000*PI()*0.8,0),\"\"))","v":-422}]
[{"$nulls":21},"Continous duty",{"$nulls":35},"Cyclic Duty"]
[{"$nulls":21},"PC32B10",{"$nulls":9},"PC32B04",{"$nulls":8},"PC25B10",{"$nulls":7},"PC25B03"]
["Rated",{"$nulls":21},"Idle Torque","Drive torque","Drive toque ","Drive toque ","Motor ","Output Max Load",{"$nulls":4},"Idle Torque","Drive torque","Drive toque ","Drive toque ","Motor ","Output Max Load",{"$nulls":3},"Idle Torque","Drive torque","Drive toque ","Drive toque ","Motor ","Output Max Load",{"$nulls":3},"Idle Torque","Drive torque","Drive toque ","Drive toque ","Motor ","Output Max Load",null,"PC32B10",{"$nulls":5},"PC32B04",{"$nulls":5},"PC25B10",{"$nulls":5},"PC25B03"]
["M","n",{"$f":"$C$2*1","v":320},{"$nulls":19},"Speed","Load","const","const PA","capability",{"$nulls":5},"Speed","Load","const","const PA","capability",{"$nulls":4},"Speed","Load","const","const PA","capability",{"$nulls":4},"Speed","Load","const","const PA","capability",null,null,"Motor capacity","Motor ",null,"Idel torque RPM","Max output",null,"Motor capacity","Motor ",null,"Idel torque RPM","Max output",null,"Motor capacity","Motor ",null,"Idel torque RPM","Max output",null,"Motor capacity","Motor ",null,"Idel torque RPM","Max output"]
[{"$f":"MIN(VLOOKUP(C141,C142:E146,2,FALSE),A154)","v":0.7},{"$f":"VLOOKUP(C141,C142:E146,3,FALSE)","v":8000},75,{"$f":"IF(VLOOKUP($A$2,Motor!$A$9:$U$1280,6,FALSE)=0,A78,VLOOKUP($A$2,Motor!$A$9:$U$1280,6,FALSE))","v":0.85},{"$f":"IF(VLOOKUP($A$2,Motor!$A$9:$U$1280,7,FALSE)=0,B78,VLOOKUP($A$2,Motor!$A$9:$U$1280,7,FALSE))","v":1000},{"$nulls":15},"mm/s","RPM","RPM","NM","Nm","Nm","Nm",{"$nulls":3},"mm/s","RPM","RPM","NM","Nm","Nm","Nm",null,null,"mm/s","RPM","RPM","NM","Nm","Nm","Nm",null,null,"mm/s","RPM","RPM","NM","Nm","Nm","Nm",null,null,"Nm","Rpm","mm/s","Nm","N",null,"Nm","Rpm","mm/s","Nm","N",null,"Nm","Rpm","mm/s","Nm","N",null,"Nm","Rpm","mm/s","Nm","N"]
[null,null,160,{"$f":"IF(VLOOKUP($A$2,Motor!$A$9:$U$1280,8,FALSE)=0,D142,VLOOKUP($A$2,Motor!$A$9:$U$1280,8,FALSE))","v":0.81},{"$f":"IF(VLOOKUP($A$2,Motor!$A$9:$U$1280,9,FALSE)=0,E142,VLOOKUP($A$2,Motor!$A$9:$U$1280,9,FALSE))","v":3500},{"$nulls":6},"PC32B10","AKM24E",{"$nulls":7},{"$f":"B86/60*$P$89","v":0},{"$f":"B86","v":0},{"$f":"V143/$O$89*$Q$89*2+$Q$89","v":0.18},{"$f":"$T$99*$P$89/2000/PI()/0.8+W143","v":0.18},{"$f":"IF(X143/0.9<=A86,X143/0.9,\"\")","v":{"v":0.19999999999999998,"d":"0.20"}},{"$f":"IF(Data!$E$83=1,Data!$L$117+Data!$F$59+X143/Data!$L$116/Data!$E$59/Data!$L$115,Data!$E$90+Data!$F$59+X143/Data!$G$90/Data!$E$59/Data!$D$90)","v":{"v":0.19999999999999998,"d":"0.20"}},{"$f":"A86","v":0.87},{"$f":"IF(Data!$C$59=1,TRUNC(($A86*0.9-W143)/$P$89*2000*PI()*0.8,0),IF(Data!$C$59=2,TRUNC(($A86*0.8-(W143+0.1))/$P$89*2000*PI()*0.8,0),\"\"))","v":303},null,null,{"$f":"B86/60*$P$88","v":0},{"$f":"B86","v":0},{"$f":"AF143/$O$88*$Q$88*2+$Q$88","v":0.07},{"$f":"$T$99*$P$88/2000/PI()/0.8+AG143","v":0.07},{"$f":"IF(AH143/0.9<=A86,AH143/0.9,\"\")","v":{"v":0.07777777777777778,"d":"0.08"}},{"$f":"IF(Data!$E$83=1,Data!$L$117+Data!$F$59+AH143/Data!$L$116/Data!$E$59/Data!$L$115,Data!$E$90+Data!$F$59+AH143/Data!$G$90/Data!$E$59/Data!$D$90)","v":{"v":0.07777777777777778,"d":"0.08"}},{"$f":"A86","v":0.87},{"$f":"IF(Data!$C$59=1,TRUNC(($A86*0.9-AG143)/$P$88*2000*PI()*0.8,0),IF(Data!$C$59=2,TRUNC(($A86*0.8-(AG143+0.1))/$P$88*2000*PI()*0.8,0),\"\"))","v":895},null,{"$f":"B86/60*$P$87","v":0},{"$f":"B86","v":0},{"$f":"AO143/$O$87*$Q$87*2+$Q$87","v":0.15},{"$f":"$T$99*$P$87/2000/PI()/0.8+AP143","v":0.15},{"$f":"IF(AQ143/0.9<=A86,AQ143/0.9,\"\")","v":{"v":0.16666666666666666,"d":"0.17"}},{"$f":"IF(Data!$E$83=1,Data!$L$117+Data!$F$59+AQ143/Data!$L$116/Data!$E$59/Data!$L$115,Data!$E$90+Data!$F$59+AQ143/Data!$G$90/Data!$E$59/Data!$D$90)","v":{"v":0.16666666666666666,"d":"0.17"}},{"$f":"A86","v":0.87},{"$f":"IF(Data!$C$59=1,TRUNC(($A86*0.9-AP143)/$P$87*2000*PI()*0.8,0),IF(Data!$C$59=2,TRUNC(($A86*0.8-(AP143+0.1))/$P$87*2000*PI()*0.8,0),\"\"))","v":318},null,{"$f":"B86/60*$P$86","v":0},{"$f":"B86","v":0},{"$f":"AX143/$O$86*$Q$86*2+$Q$86","v":0.05},{"$f":"$T$99*$P$86/2000/PI()/0.8+AY143","v":0.05},{"$f":"IF(AZ143/0.9<=A86,AZ143/0.9,\"\")","v":{"v":0.05555555555555556,"d":"0.06"}},{"$f":"IF(Data!$E$83=1,Data!$L$117+Data!$F$59+AZ143/Data!$L$116/Data!$E$59/Data!$L$115,Data!$E$90+Data!$F$59+AZ143/Data!$G$90/Data!$E$59/Data!$D$90)","v":{"v":0.05555555555555556,"d":"0.06"}},{"$f":"A86","v":0.87},{"$f":"IF(Data!$C$59=1,TRUNC(($A86*0.9-AY143)/$P$86*2000*PI()*0.8,0),IF(Data!$C$59=2,TRUNC(($A86*0.8-(AY143+0.1))/$P$86*2000*PI()*0.8,0),\"\"))","v":1228},null,{"$f":"$A20","v":{"v":2.7600000000000002,"d":"2.76"}},{"$f":"$B20","v":0},{"$f":"BG143/60*$P$89","v":0},{"$f":"BG143/$O$89*$Q$89*2+$Q$89","v":0.18},{"$f":"IF(Data!$C$59=1,TRUNC(($A20*0.9-BI143)/$P$89*2000*PI()*0.8,0),IF(Data!$C$59=2,TRUNC(($A20*0.8-(BI143+0.1))/$P$89*2000*PI()*0.8,0),\"\"))","v":1158},null,{"$f":"$A20","v":{"v":2.7600000000000002,"d":"2.76"}},{"$f":"$B20","v":0},{"$f":"BM143/60*$P$88","v":0},{"$f":"BM143/$O$88*$Q$88*2+$Q$88","v":0.07},{"$f":"IF(Data!$C$59=1,TRUNC(($A20*0.9-BO143)/$P$88*2000*PI()*0.8,0),IF(Data!$C$59=2,TRUNC(($A20*0.8-(BO143+0.1))/$P$88*2000*PI()*0.8,0),\"\"))","v":3033},null,{"$f":"$A20","v":{"v":2.7600000000000002,"d":"2.76"}},{"$f":"$B20","v":0},{"$f":"BS143/60*$P$87","v":0},{"$f":"BS143/$O$87*$Q$87*2+$Q$87","v":0.15},{"$f":"IF(Data!$C$59=1,TRUNC(($A20*0.9-BU143)/$P$87*2000*PI()*0.8,0),IF(Data!$C$59=2,TRUNC(($A20*0.8-(BU143+0.1))/$P$87*2000*PI()*0.8,0),\"\"))","v":1173},null,{"$f":"$A20","v":{"v":2.7600000000000002,"d":"2.76"}},{"$f":"$B20","v":0},{"$f":"BY143/60*$P$86","v":0},{"$f":"BY143/$O$86*$Q$86*2+$Q$86","v":0.05},{"$f":"IF(Data!$C$59=1,TRUNC(($A20*0.9-CA143)/$P$86*2000*PI()*0.8,0),IF(Data!$C$59=2,TRUNC(($A20*0.8-(CA143+0.1))/$P$86*2000*PI()*0.8,0),\"\"))","v":4078}]
[null,null,320,{"$f":"IF(VLOOKUP($A$2,Motor!$A$9:$U$1280,10,FALSE)=0,D143,VLOOKUP($A$2,Motor!$A$9:$U$1280,10,FALSE))","v":0.7},{"$f":"IF(VLOOKUP($A$2,Motor!$A$9:$U$1280,11,FALSE)=0,E143,VLOOKUP($A$2,Motor!$A$9:$U$1280,11,FALSE))","v":8000},{"$nulls":6},"mm/s","Load Fx (N)",{"$nulls":7},{"$f":"B87/60*$P$89","v":{"v":26.666666666666664,"d":"27"}},{"$f":"B87","v":160},{"$f":"V144/$O$89*$Q$89*2+$Q$89","v":{"v":0.1896,"d":"0.19"}},{"v":0.1896,"d":"0.19"},{"$f":"IF(X144/0.9<=A87,X144/0.9,\"\")","v":{"v":0.21066666666666664,"d":"0.21"}},{"$f":"IF(Data!$E$83=1,Data!$L$117+Data!$F$59+X144/Data!$L$116/Data!$E$59/Data!$L$115,Data!$E$90+Data!$F$59+X144/Data!$G$90/Data!$E$59/Data!$D$90)","v":{"v":0.21066666666666664,"d":"0.21"}},{"$f":"A87","v":{"v":0.8668,"d":"0.87"}},{"$f":"IF(Data!$C$59=1,TRUNC(($A87*0.9-W144)/$P$89*2000*PI()*0.8,0),IF(Data!$C$59=2,TRUNC(($A87*0.8-(W144+0.1))/$P$89*2000*PI()*0.8,0),\"\"))","v":296},null,null,{"$f":"B87/60*$P$88","v":{"v":10.666666666666666,"d":"11"}},{"$f":"B87","v":160},{"$f":"AF144/$O$88*$Q$88*2+$Q$88","v":{"v":0.07373333333333335,"d":"0.07"}},{"v":0.07373333333333335,"d":"0.07"},{"$f":"IF(AH144/0.9<=A87,AH144/0.9,\"\")","v":{"v":0.08192592592592594,"d":"0.08"}},{"$f":"IF(Data!$E$83=1,Data!$L$117+Data!$F$59+AH144/Data!$L$116/Data!$E$59/Data!$L$115,Data!$E$90+Data!$F$59+AH144/Data!$G$90/Data!$E$59/Data!$D$90)","v":{"v":0.08192592592592594,"d":"0.08"}},{"$f":"A87","v":{"v":0.8668,"d":"0.87"}},{"$f":"IF(Data!$C$59=1,TRUNC(($A87*0.9-AG144)/$P$88*2000*PI()*0.8,0),IF(Data!$C$59=2,TRUNC(($A87*0.8-(AG144+0.1))/$P$88*2000*PI()*0.8,0),\"\"))","v":887},null,{"$f":"B87/60*$P$87","v":{"v":26.666666666666664,"d":"27"}},{"$f":"B87","v":160},{"$f":"AO144/$O$87*$Q$87*2+$Q$87","v":{"v":0.156,"d":"0.16"}},{"v":0.156,"d":"0.16"},{"$f":"IF(AQ144/0.9<=A87,AQ144/0.9,\"\")","v":{"v":0.17333333333333334,"d":"0.17"}},{"$f":"IF(Data!$E$83=1,Data!$L$117+Data!$F$59+AQ144/Data!$L$116/Data!$E$59/Data!$L$115,Data!$E$90+Data!$F$59+AQ144/Data!$G$90/Data!$E$59/Data!$D$90)","v":{"v":0.17333333333333334,"d":"0.17"}},{"$f":"A87","v":{"v":0.8668,"d":"0.87"}},{"$f":"IF(Data!$C$59=1,TRUNC(($A87*0.9-AP144)/$P$87*2000*PI()*0.8,0),IF(Data!$C$59=2,TRUNC(($A87*0.8-(AP144+0.1))/$P$87*2000*PI()*0.8,0),\"\"))","v":313},null,8,160,{"$f":"AX144/$O$86*$Q$86*2+$Q$86","v":{"v":0.052000000000000005,"d":"0.05"}},{"v":0.052000000000000005,"d":"0.05"},{"$f":"IF(AZ144/0.9<=A87,AZ144/0.9,\"\")","v":{"v":0.05777777777777778,"d":"0.06"}},{"$f":"IF(Data!$E$83=1,Data!$L$117+Data!$F$59+AZ144/Data!$L$116/Data!$E$59/Data!$L$115,Data!$E$90+Data!$F$59+AZ144/Data!$G$90/Data!$E$59/Data!$D$90)","v":{"v":0.05777777777777778,"d":"0.06"}},{"$f":"A87","v":{"v":0.8668,"d":"0.87"}},{"$f":"IF(Data!$C$59=1,TRUNC(($A87*0.9-AY144)/$P$86*2000*PI()*0.8,0),IF(Data!$C$59=2,TRUNC(($A87*0.8-(AY144+0.1))/$P$86*2000*PI()*0.8,0),\"\"))","v":1219},null,{"$f":"$A21","v":{"v":2.7600000000000002,"d":"2.76"}},{"$f":"$B21","v":{"v":5148.4,"d":"5148"}},{"$f":"BG144/60*$P$89","v":{"v":858.0666666666666,"d":"858"}},{"$f":"BG144/$O$89*$Q$89*2+$Q$89","v":0.48890399999999995},{"$f":"IF(Data!$C$59=1,TRUNC(($A21*0.9-BI144)/$P$89*2000*PI()*0.8,0),IF(Data!$C$59=2,TRUNC(($A21*0.8-(BI144+0.1))/$P$89*2000*PI()*0.8,0),\"\"))","v":1002},null,{"$f":"$A21","v":{"v":2.7600000000000002,"d":"2.76"}},{"$f":"$B21","v":{"v":5148.4,"d":"5148"}},{"$f":"BM144/60*$P$88","v":{"v":343.22666666666663,"d":"343"}},{"$f":"BM144/$O$88*$Q$88*2+$Q$88","v":0.19012933333333334},{"$f":"IF(Data!$C$59=1,TRUNC(($A21*0.9-BO144)/$P$88*2000*PI()*0.8,0),IF(Data!$C$59=2,TRUNC(($A21*0.8-(BO144+0.1))/$P$88*2000*PI()*0.8,0),\"\"))","v":2882},null,{"$f":"$A21","v":{"v":2.7600000000000002,"d":"2.76"}},{"$f":"$B21","v":{"v":5148.4,"d":"5148"}},{"$f":"BS144/60*$P$87","v":{"v":858.0666666666666,"d":"858"}},{"$f":"BS144/$O$87*$Q$87*2+$Q$87","v":0.34306499999999995},{"$f":"IF(Data!$C$59=1,TRUNC(($A21*0.9-BU144)/$P$87*2000*PI()*0.8,0),IF(Data!$C$59=2,TRUNC(($A21*0.8-(BU144+0.1))/$P$87*2000*PI()*0.8,0),\"\"))","v":1076},null,{"$f":"$A21","v":{"v":2.7600000000000002,"d":"2.76"}},{"$f":"$B21","v":{"v":5148.4,"d":"5148"}},{"$f":"BY144/60*$P$86","v":{"v":257.41999999999996,"d":"257"}},{"$f":"BY144/$O$86*$Q$86*2+$Q$86","v":0.114355},{"$f":"IF(Data!$C$59=1,TRUNC(($A21*0.9-CA144)/$P$86*2000*PI()*0.8,0),IF(Data!$C$59=2,TRUNC(($A21*0.8-(CA144+0.1))/$P$86*2000*PI()*0.8,0),\"\"))","v":3970}]
[null,null,560,{"$f":"IF(VLOOKUP($A$2,Motor!$A$9:$U$1280,12,FALSE)=0,D144,VLOOKUP($A$2,Motor!$A$9:$U$1280,12,FALSE))","v":0.7},{"$f":"IF(VLOOKUP($A$2,Motor!$A$9:$U$1280,13,FALSE)=0,E144,VLOOKUP($A$2,Motor!$A$9:$U$1280,13,FALSE))","v":8000},{"$nulls":6},1000,0,{"$nulls":7},{"v":53.33333333333333,"d":"53"},320,{"v":0.1992,"d":"0.20"},{"v":0.1992,"d":"0.20"},{"v":0.22133333333333333,"d":"0.22"},{"$f":"IF(Data!$E$83=1,Data!$L$117+Data!$F$59+X145/Data!$L$116/Data!$E$59/Data!$L$115,Data!$E$90+Data!$F$59+X145/Data!$G$90/Data!$E$59/Data!$D$90)","v":{"v":0.22133333333333333,"d":"0.22"}},{"v":0.8636,"d":"0.86"},{"$f":"IF(Data!$C$59=1,TRUNC(($A88*0.9-W145)/$P$89*2000*PI()*0.8,0),IF(Data!$C$59=2,TRUNC(($A88*0.8-(W145+0.1))/$P$89*2000*PI()*0.8,0),\"\"))","v":290},null,null,{"v":21.333333333333332,"d":"21"},320,{"v":0.07746666666666667,"d":"0.08"},{"v":0.07746666666666667,"d":"0.08"},{"v":0.08607407407407408,"d":"0.09"},{"$f":"IF(Data!$E$83=1,Data!$L$117+Data!$F$59+AH145/Data!$L$116/Data!$E$59/Data!$L$115,Data!$E$90+Data!$F$59+AH145/Data!$G$90/Data!$E$59/Data!$D$90)","v":{"v":0.08607407407407408,"d":"0.09"}},{"v":0.8636,"d":"0.86"},{"$f":"IF(Data!$C$59=1,TRUNC(($A88*0.9-AG145)/$P$88*2000*PI()*0.8,0),IF(Data!$C$59=2,TRUNC(($A88*0.8-(AG145+0.1))/$P$88*2000*PI()*0.8,0),\"\"))","v":879},null,{"v":53.33333333333333,"d":"53"},320,{"v":0.162,"d":"0.16"},{"v":0.162,"d":"0.16"},0.18,{"$f":"IF(Data!$E$83=1,Data!$L$117+Data!$F$59+AQ145/Data!$L$116/Data!$E$59/Data!$L$115,Data!$E$90+Data!$F$59+AQ145/Data!$G$90/Data!$E$59/Data!$D$90)","v":0.18},{"v":0.8636,"d":"0.86"},{"$f":"IF(Data!$C$59=1,TRUNC(($A88*0.9-AP145)/$P$87*2000*PI()*0.8,0),IF(Data!$C$59=2,TRUNC(($A88*0.8-(AP145+0.1))/$P$87*2000*PI()*0.8,0),\"\"))","v":309},null,16,320,{"v":0.054000000000000006,"d":"0.05"},{"v":0.054000000000000006,"d":"0.05"},{"v":0.060000000000000005,"d":"0.06"},{"$f":"IF(Data!$E$83=1,Data!$L$117+Data!$F$59+AZ145/Data!$L$116/Data!$E$59/Data!$L$115,Data!$E$90+Data!$F$59+AZ145/Data!$G$90/Data!$E$59/Data!$D$90)","v":{"v":0.060000000000000005,"d":"0.06"}},{"v":0.8636,"d":"0.86"},{"$f":"IF(Data!$C$59=1,TRUNC(($A88*0.9-AY145)/$P$86*2000*PI()*0.8,0),IF(Data!$C$59=2,TRUNC(($A88*0.8-(AY145+0.1))/$P$86*2000*PI()*0.8,0),\"\"))","v":1211},null,{"v":2.719411692307692,"d":"2.72"},{"v":5224.8,"d":"5225"},{"v":870.8,"d":"871"},0.493488,{"$f":"IF(Data!$C$59=1,TRUNC(($A22*0.9-BI145)/$P$89*2000*PI()*0.8,0),IF(Data!$C$59=2,TRUNC(($A22*0.8-(BI145+0.1))/$P$89*2000*PI()*0.8,0),\"\"))","v":982},null,{"v":2.719411692307692,"d":"2.72"},{"v":5224.8,"d":"5225"},{"v":348.32,"d":"348"},0.19191200000000003,{"$f":"IF(Data!$C$59=1,TRUNC(($A22*0.9-BO145)/$P$88*2000*PI()*0.8,0),IF(Data!$C$59=2,TRUNC(($A22*0.8-(BO145+0.1))/$P$88*2000*PI()*0.8,0),\"\"))","v":2834},null,{"v":2.719411692307692,"d":"2.72"},{"v":5224.8,"d":"5225"},{"v":870.8,"d":"871"},0.34592999999999996,{"$f":"IF(Data!$C$59=1,TRUNC(($A22*0.9-BU145)/$P$87*2000*PI()*0.8,0),IF(Data!$C$59=2,TRUNC(($A22*0.8-(BU145+0.1))/$P$87*2000*PI()*0.8,0),\"\"))","v":1056},null,{"v":2.719411692307692,"d":"2.72"},{"v":5224.8,"d":"5225"},{"v":261.24,"d":"261"},0.11531000000000001,{"$f":"IF(Data!$C$59=1,TRUNC(($A22*0.9-CA145)/$P$86*2000*PI()*0.8,0),IF(Data!$C$59=2,TRUNC(($A22*0.8-(CA145+0.1))/$P$86*2000*PI()*0.8,0),\"\"))","v":3907}]
[null,null,640,{"$f":"IF(VLOOKUP($A$2,Motor!$A$9:$U$1280,14,FALSE)=0,D145,VLOOKUP($A$2,Motor!$A$9:$U$1280,14,FALSE))","v":0.7},{"$f":"IF(VLOOKUP($A$2,Motor!$A$9:$U$1280,15,FALSE)=0,E145,VLOOKUP($A$2,Motor!$A$9:$U$1280,15,FALSE))","v":8000},{"$nulls":15},80,480,{"v":0.20879999999999999,"d":"0.21"},{"v":0.20879999999999999,"d":"0.21"},{"v":0.23199999999999998,"d":"0.23"},{"$f":"IF(Data!$E$83=1,Data!$L$117+Data!$F$59+X146/Data!$L$116/Data!$E$59/Data!$L$115,Data!$E$90+Data!$F$59+X146/Data!$G$90/Data!$E$59/Data!$D$90)","v":{"v":0.23199999999999998,"d":"0.23"}},{"v":0.8604,"d":"0.86"},{"$f":"IF(Data!$C$59=1,TRUNC(($A89*0.9-W146)/$P$89*2000*PI()*0.8,0),IF(Data!$C$59=2,TRUNC(($A89*0.8-(W146+0.1))/$P$89*2000*PI()*0.8,0),\"\"))","v":284},null,null,32,480,{"v":0.08120000000000001,"d":"0.08"},{"v":0.08120000000000001,"d":"0.08"},{"v":0.09022222222222223,"d":"0.09"},{"$f":"IF(Data!$E$83=1,Data!$L$117+Data!$F$59+AH146/Data!$L$116/Data!$E$59/Data!$L$115,Data!$E$90+Data!$F$59+AH146/Data!$G$90/Data!$E$59/Data!$D$90)","v":{"v":0.09022222222222223,"d":"0.09"}},{"v":0.8604,"d":"0.86"},{"$f":"IF(Data!$C$59=1,TRUNC(($A89*0.9-AG146)/$P$88*2000*PI()*0.8,0),IF(Data!$C$59=2,TRUNC(($A89*0.8-(AG146+0.1))/$P$88*2000*PI()*0.8,0),\"\"))","v":871},null,80,480,{"v":0.16799999999999998,"d":"0.17"},{"v":0.16799999999999998,"d":"0.17"},{"v":0.18666666666666665,"d":"0.19"},{"$f":"IF(Data!$E$83=1,Data!$L$117+Data!$F$59+AQ146/Data!$L$116/Data!$E$59/Data!$L$115,Data!$E$90+Data!$F$59+AQ146/Data!$G$90/Data!$E$59/Data!$D$90)","v":{"v":0.18666666666666665,"d":"0.19"}},{"v":0.8604,"d":"0.86"},{"$f":"IF(Data!$C$59=1,TRUNC(($A89*0.9-AP146)/$P$87*2000*PI()*0.8,0),IF(Data!$C$59=2,TRUNC(($A89*0.8-(AP146+0.1))/$P$87*2000*PI()*0.8,0),\"\"))","v":304},null,24,480,{"v":0.056,"d":"0.06"},{"v":0.056,"d":"0.06"},{"v":0.06222222222222222,"d":"0.06"},{"$f":"IF(Data!$E$83=1,Data!$L$117+Data!$F$59+AZ146/Data!$L$116/Data!$E$59/Data!$L$115,Data!$E$90+Data!$F$59+AZ146/Data!$G$90/Data!$E$59/Data!$D$90)","v":{"v":0.06222222222222222,"d":"0.06"}},{"v":0.8604,"d":"0.86"},{"$f":"IF(Data!$C$59=1,TRUNC(($A89*0.9-AY146)/$P$86*2000*PI()*0.8,0),IF(Data!$C$59=2,TRUNC(($A89*0.8-(AY146+0.1))/$P$86*2000*PI()*0.8,0),\"\"))","v":1203},null,{"v":2.678226989010989,"d":"2.68"},{"v":5302.7,"d":"5303"},{"v":883.7833333333333,"d":"884"},0.49816199999999994,{"$f":"IF(Data!$C$59=1,TRUNC(($A23*0.9-BI146)/$P$89*2000*PI()*0.8,0),IF(Data!$C$59=2,TRUNC(($A23*0.8-(BI146+0.1))/$P$89*2000*PI()*0.8,0),\"\"))","v":961},null,{"v":2.678226989010989,"d":"2.68"},{"v":5302.7,"d":"5303"},{"v":353.5133333333333,"d":"354"},0.1937296666666667,{"$f":"IF(Data!$C$59=1,TRUNC(($A23*0.9-BO146)/$P$88*2000*PI()*0.8,0),IF(Data!$C$59=2,TRUNC(($A23*0.8-(BO146+0.1))/$P$88*2000*PI()*0.8,0),\"\"))","v":2785},null,{"v":2.678226989010989,"d":"2.68"},{"v":5302.7,"d":"5303"},{"v":883.7833333333333,"d":"884"},0.34885124999999995,{"$f":"IF(Data!$C$59=1,TRUNC(($A23*0.9-BU146)/$P$87*2000*PI()*0.8,0),IF(Data!$C$59=2,TRUNC(($A23*0.8-(BU146+0.1))/$P$87*2000*PI()*0.8,0),\"\"))","v":1036},null,{"v":2.678226989010989,"d":"2.68"},{"v":5302.7,"d":"5303"},{"v":265.135,"d":"265"},0.11628375,{"$f":"IF(Data!$C$59=1,TRUNC(($A23*0.9-CA146)/$P$86*2000*PI()*0.8,0),IF(Data!$C$59=2,TRUNC(($A23*0.8-(CA146+0.1))/$P$86*2000*PI()*0.8,0),\"\"))","v":3843}]
[{"$nulls":20},{"v":106.66666666666666,"d":"107"},640,{"v":0.21839999999999998,"d":"0.22"},{"v":0.21839999999999998,"d":"0.22"},{"v":0.24266666666666664,"d":"0.24"},{"$f":"IF(Data!$E$83=1,Data!$L$117+Data!$F$59+X147/Data!$L$116/Data!$E$59/Data!$L$115,Data!$E$90+Data!$F$59+X147/Data!$G$90/Data!$E$59/Data!$D$90)","v":{"v":0.24266666666666664,"d":"0.24"}},{"v":0.8572000000000001,"d":"0.86"},{"$f":"IF(Data!$C$59=1,TRUNC(($A90*0.9-W147)/$P$89*2000*PI()*0.8,0),IF(Data!$C$59=2,TRUNC(($A90*0.8-(W147+0.1))/$P$89*2000*PI()*0.8,0),\"\"))","v":278},null,null,{"v":42.666666666666664,"d":"43"},640,{"v":0.08493333333333335,"d":"0.08"},{"v":0.08493333333333335,"d":"0.08"},{"v":0.09437037037037038,"d":"0.09"},{"$f":"IF(Data!$E$83=1,Data!$L$117+Data!$F$59+AH147/Data!$L$116/Data!$E$59/Data!$L$115,Data!$E$90+Data!$F$59+AH147/Data!$G$90/Data!$E$59/Data!$D$90)","v":{"v":0.09437037037037038,"d":"0.09"}},{"v":0.8572000000000001,"d":"0.86"},{"$f":"IF(Data!$C$59=1,TRUNC(($A90*0.9-AG147)/$P$88*2000*PI()*0.8,0),IF(Data!$C$59=2,TRUNC(($A90*0.8-(AG147+0.1))/$P$88*2000*PI()*0.8,0),\"\"))","v":862},null,{"v":106.66666666666666,"d":"107"},640,{"v":0.174,"d":"0.17"},{"v":0.174,"d":"0.17"},{"v":0.1933333333333333,"d":"0.19"},{"$f":"IF(Data!$E$83=1,Data!$L$117+Data!$F$59+AQ147/Data!$L$116/Data!$E$59/Data!$L$115,Data!$E$90+Data!$F$59+AQ147/Data!$G$90/Data!$E$59/Data!$D$90)","v":{"v":0.1933333333333333,"d":"0.19"}},{"v":0.8572000000000001,"d":"0.86"},{"$f":"IF(Data!$C$59=1,TRUNC(($A90*0.9-AP147)/$P$87*2000*PI()*0.8,0),IF(Data!$C$59=2,TRUNC(($A90*0.8-(AP147+0.1))/$P$87*2000*PI()*0.8,0),\"\"))","v":300},null,32,640,{"v":0.058,"d":"0.06"},{"v":0.058,"d":"0.06"},{"v":0.06444444444444444,"d":"0.06"},{"$f":"IF(Data!$E$83=1,Data!$L$117+Data!$F$59+AZ147/Data!$L$116/Data!$E$59/Data!$L$115,Data!$E$90+Data!$F$59+AZ147/Data!$G$90/Data!$E$59/Data!$D$90)","v":{"v":0.06444444444444444,"d":"0.06"}},{"v":0.8572000000000001,"d":"0.86"},{"$f":"IF(Data!$C$59=1,TRUNC(($A90*0.9-AY147)/$P$86*2000*PI()*0.8,0),IF(Data!$C$59=2,TRUNC(($A90*0.8-(AY147+0.1))/$P$86*2000*PI()*0.8,0),\"\"))","v":1195},null,{"v":2.6364458901098904,"d":"2.64"},{"v":5382.1,"d":"5382"},{"v":897.0166666666667,"d":"897"},0.502926,{"$f":"IF(Data!$C$59=1,TRUNC(($A24*0.9-BI147)/$P$89*2000*PI()*0.8,0),IF(Data!$C$59=2,TRUNC(($A24*0.8-(BI147+0.1))/$P$89*2000*PI()*0.8,0),\"\"))","v":939},null,{"v":2.6364458901098904,"d":"2.64"},{"v":5382.1,"d":"5382"},{"v":358.8066666666667,"d":"359"},0.19558233333333336,{"$f":"IF(Data!$C$59=1,TRUNC(($A24*0.9-BO147)/$P$88*2000*PI()*0.8,0),IF(Data!$C$59=2,TRUNC(($A24*0.8-(BO147+0.1))/$P$88*2000*PI()*0.8,0),\"\"))","v":2735},null,{"v":2.6364458901098904,"d":"2.64"},{"v":5382.1,"d":"5382"},{"v":897.0166666666667,"d":"897"},0.35182875,{"$f":"IF(Data!$C$59=1,TRUNC(($A24*0.9-BU147)/$P$87*2000*PI()*0.8,0),IF(Data!$C$59=2,TRUNC(($A24*0.8-(BU147+0.1))/$P$87*2000*PI()*0.8,0),\"\"))","v":1015},null,{"v":2.6364458901098904,"d":"2.64"},{"v":5382.1,"d":"5382"},{"v":269.105,"d":"269"},0.11727625000000001,{"$f":"IF(Data!$C$59=1,TRUNC(($A24*0.9-CA147)/$P$86*2000*PI()*0.8,0),IF(Data!$C$59=2,TRUNC(($A24*0.8-(CA147+0.1))/$P$86*2000*PI()*0.8,0),\"\"))","v":3779}]
["I peak",{"$nulls":19},{"v":133.33333333333334,"d":"133"},800,{"v":0.22799999999999998,"d":"0.23"},{"v":0.22799999999999998,"d":"0.23"},{"v":0.2533333333333333,"d":"0.25"},{"$f":"IF(Data!$E$83=1,Data!$L$117+Data!$F$59+X148/Data!$L$116/Data!$E$59/Data!$L$115,Data!$E$90+Data!$F$59+X148/Data!$G$90/Data!$E$59/Data!$D$90)","v":{"v":0.2533333333333333,"d":"0.25"}},{"v":0.8540000000000001,"d":"0.85"},{"$f":"IF(Data!$C$59=1,TRUNC(($A91*0.9-W148)/$P$89*2000*PI()*0.8,0),IF(Data!$C$59=2,TRUNC(($A91*0.8-(W148+0.1))/$P$89*2000*PI()*0.8,0),\"\"))","v":271},null,null,{"v":53.333333333333336,"d":"53"},800,{"v":0.08866666666666667,"d":"0.09"},{"v":0.08866666666666667,"d":"0.09"},{"v":0.09851851851851852,"d":"0.10"},{"$f":"IF(Data!$E$83=1,Data!$L$117+Data!$F$59+AH148/Data!$L$116/Data!$E$59/Data!$L$115,Data!$E$90+Data!$F$59+AH148/Data!$G$90/Data!$E$59/Data!$D$90)","v":{"v":0.09851851851851852,"d":"0.10"}},{"v":0.8540000000000001,"d":"0.85"},{"$f":"IF(Data!$C$59=1,TRUNC(($A91*0.9-AG148)/$P$88*2000*PI()*0.8,0),IF(Data!$C$59=2,TRUNC(($A91*0.8-(AG148+0.1))/$P$88*2000*PI()*0.8,0),\"\"))","v":854},null,{"v":133.33333333333334,"d":"133"},800,0.18,0.18,{"v":0.19999999999999998,"d":"0.20"},{"$f":"IF(Data!$E$83=1,Data!$L$117+Data!$F$59+AQ148/Data!$L$116/Data!$E$59/Data!$L$115,Data!$E$90+Data!$F$59+AQ148/Data!$G$90/Data!$E$59/Data!$D$90)","v":{"v":0.19999999999999998,"d":"0.20"}},{"v":0.8540000000000001,"d":"0.85"},{"$f":"IF(Data!$C$59=1,TRUNC(($A91*0.9-AP148)/$P$87*2000*PI()*0.8,0),IF(Data!$C$59=2,TRUNC(($A91*0.8-(AP148+0.1))/$P$87*2000*PI()*0.8,0),\"\"))","v":295},null,40,800,{"v":0.060000000000000005,"d":"0.06"},{"v":0.060000000000000005,"d":"0.06"},{"v":0.06666666666666667,"d":"0.07"},{"$f":"IF(Data!$E$83=1,Data!$L$117+Data!$F$59+AZ148/Data!$L$116/Data!$E$59/Data!$L$115,Data!$E$90+Data!$F$59+AZ148/Data!$G$90/Data!$E$59/Data!$D$90)","v":{"v":0.06666666666666667,"d":"0.07"}},{"v":0.8540000000000001,"d":"0.85"},{"$f":"IF(Data!$C$59=1,TRUNC(($A91*0.9-AY148)/$P$86*2000*PI()*0.8,0),IF(Data!$C$59=2,TRUNC(($A91*0.8-(AY148+0.1))/$P$86*2000*PI()*0.8,0),\"\"))","v":1187},null,{"v":2.5940683956043955,"d":"2.59"},{"v":5463.1,"d":"5463"},{"v":910.5166666666668,"d":"911"},0.5077860000000001,{"$f":"IF(Data!$C$59=1,TRUNC(($A25*0.9-BI148)/$P$89*2000*PI()*0.8,0),IF(Data!$C$59=2,TRUNC(($A25*0.8-(BI148+0.1))/$P$89*2000*PI()*0.8,0),\"\"))","v":918},null,{"v":2.5940683956043955,"d":"2.59"},{"v":5463.1,"d":"5463"},{"v":364.2066666666667,"d":"364"},0.19747233333333336,{"$f":"IF(Data!$C$59=1,TRUNC(($A25*0.9-BO148)/$P$88*2000*PI()*0.8,0),IF(Data!$C$59=2,TRUNC(($A25*0.8-(BO148+0.1))/$P$88*2000*PI()*0.8,0),\"\"))","v":2685},null,{"v":2.5940683956043955,"d":"2.59"},{"v":5463.1,"d":"5463"},{"v":910.5166666666668,"d":"911"},0.35486625000000005,{"$f":"IF(Data!$C$59=1,TRUNC(($A25*0.9-BU148)/$P$87*2000*PI()*0.8,0),IF(Data!$C$59=2,TRUNC(($A25*0.8-(BU148+0.1))/$P$87*2000*PI()*0.8,0),\"\"))","v":995},null,{"v":2.5940683956043955,"d":"2.59"},{"v":5463.1,"d":"5463"},{"v":273.15500000000003,"d":"273"},0.11828875000000001,{"$f":"IF(Data!$C$59=1,TRUNC(($A25*0.9-CA148)/$P$86*2000*PI()*0.8,0),IF(Data!$C$59=2,TRUNC(($A25*0.8-(CA148+0.1))/$P$86*2000*PI()*0.8,0),\"\"))","v":3713}]
[{"$f":"A14*MAX(($G$10/$H$10-($G$10/$H$10-$I$10/$D$10)/$D$10*A14),$I$10/$D$10)","v":250.9090909090909},0,{"$nulls":18},160,960,{"v":0.23759999999999998,"d":"0.24"},{"v":0.23759999999999998,"d":"0.24"},{"v":0.26399999999999996,"d":"0.26"},{"$f":"IF(Data!$E$83=1,Data!$L$117+Data!$F$59+X149/Data!$L$116/Data!$E$59/Data!$L$115,Data!$E$90+Data!$F$59+X149/Data!$G$90/Data!$E$59/Data!$D$90)","v":{"v":0.26399999999999996,"d":"0.26"}},{"v":0.8508000000000001,"d":"0.85"},{"$f":"IF(Data!$C$59=1,TRUNC(($A92*0.9-W149)/$P$89*2000*PI()*0.8,0),IF(Data!$C$59=2,TRUNC(($A92*0.8-(W149+0.1))/$P$89*2000*PI()*0.8,0),\"\"))","v":265},null,null,64,960,{"v":0.09240000000000001,"d":"0.09"},{"v":0.09240000000000001,"d":"0.09"},{"v":0.10266666666666667,"d":"0.10"},{"$f":"IF(Data!$E$83=1,Data!$L$117+Data!$F$59+AH149/Data!$L$116/Data!$E$59/Data!$L$115,Data!$E$90+Data!$F$59+AH149/Data!$G$90/Data!$E$59/Data!$D$90)","v":{"v":0.10266666666666667,"d":"0.10"}},{"v":0.8508000000000001,"d":"0.85"},{"$f":"IF(Data!$C$59=1,TRUNC(($A92*0.9-AG149)/$P$88*2000*PI()*0.8,0),IF(Data!$C$59=2,TRUNC(($A92*0.8-(AG149+0.1))/$P$88*2000*PI()*0.8,0),\"\"))","v":846},null,160,960,{"v":0.186,"d":"0.19"},{"v":0.186,"d":"0.19"},{"v":0.20666666666666667,"d":"0.21"},{"$f":"IF(Data!$E$83=1,Data!$L$117+Data!$F$59+AQ149/Data!$L$116/Data!$E$59/Data!$L$115,Data!$E$90+Data!$F$59+AQ149/Data!$G$90/Data!$E$59/Data!$D$90)","v":{"v":0.20666666666666667,"d":"0.21"}},{"v":0.8508000000000001,"d":"0.85"},{"$f":"IF(Data!$C$59=1,TRUNC(($A92*0.9-AP149)/$P$87*2000*PI()*0.8,0),IF(Data!$C$59=2,TRUNC(($A92*0.8-(AP149+0.1))/$P$87*2000*PI()*0.8,0),\"\"))","v":291},null,48,960,{"v":0.062,"d":"0.06"},{"v":0.062,"d":"0.06"},{"v":0.06888888888888889,"d":"0.07"},{"$f":"IF(Data!$E$83=1,Data!$L$117+Data!$F$59+AZ149/Data!$L$116/Data!$E$59/Data!$L$115,Data!$E$90+Data!$F$59+AZ149/Data!$G$90/Data!$E$59/Data!$D$90)","v":{"v":0.06888888888888889,"d":"0.07"}},{"v":0.8508000000000001,"d":"0.85"},{"$f":"IF(Data!$C$59=1,TRUNC(($A92*0.9-AY149)/$P$86*2000*PI()*0.8,0),IF(Data!$C$59=2,TRUNC(($A92*0.8-(AY149+0.1))/$P$86*2000*PI()*0.8,0),\"\"))","v":1179},null,{"v":2.5510945054945053,"d":"2.55"},{"v":5545.7,"d":"5546"},{"v":924.2833333333333,"d":"924"},0.512742,{"$f":"IF(Data!$C$59=1,TRUNC(($A26*0.9-BI149)/$P$89*2000*PI()*0.8,0),IF(Data!$C$59=2,TRUNC(($A26*0.8-(BI149+0.1))/$P$89*2000*PI()*0.8,0),\"\"))","v":896},null,{"v":2.5510945054945053,"d":"2.55"},{"v":5545.7,"d":"5546"},{"v":369.7133333333333,"d":"370"},0.1993996666666667,{"$f":"IF(Data!$C$59=1,TRUNC(($A26*0.9-BO149)/$P$88*2000*PI()*0.8,0),IF(Data!$C$59=2,TRUNC(($A26*0.8-(BO149+0.1))/$P$88*2000*PI()*0.8,0),\"\"))","v":2634},null,{"v":2.5510945054945053,"d":"2.55"},{"v":5545.7,"d":"5546"},{"v":924.2833333333333,"d":"924"},0.35796375,{"$f":"IF(Data!$C$59=1,TRUNC(($A26*0.9-BU149)/$P$87*2000*PI()*0.8,0),IF(Data!$C$59=2,TRUNC(($A26*0.8-(BU149+0.1))/$P$87*2000*PI()*0.8,0),\"\"))","v":974},null,{"v":2.5510945054945053,"d":"2.55"},{"v":5545.7,"d":"5546"},{"v":277.28499999999997,"d":"277"},0.11932125,{"$f":"IF(Data!$C$59=1,TRUNC(($A26*0.9-CA149)/$P$86*2000*PI()*0.8,0),IF(Data!$C$59=2,TRUNC(($A26*0.8-(CA149+0.1))/$P$86*2000*PI()*0.8,0),\"\"))","v":3647}]
[{"$f":"A149","v":250.9090909090909},{"$f":"B71*1.05","v":8400},{"$nulls":18},{"v":186.66666666666669,"d":"187"},1120,{"v":0.24719999999999998,"d":"0.25"},{"v":0.24719999999999998,"d":"0.25"},{"v":0.2746666666666666,"d":"0.27"},{"$f":"IF(Data!$E$83=1,Data!$L$117+Data!$F$59+X150/Data!$L$116/Data!$E$59/Data!$L$115,Data!$E$90+Data!$F$59+X150/Data!$G$90/Data!$E$59/Data!$D$90)","v":{"v":0.2746666666666666,"d":"0.27"}},{"v":0.8482400000000001,"d":"0.85"},{"$f":"IF(Data!$C$59=1,TRUNC(($A93*0.9-W150)/$P$89*2000*PI()*0.8,0),IF(Data!$C$59=2,TRUNC(($A93*0.8-(W150+0.1))/$P$89*2000*PI()*0.8,0),\"\"))","v":259},null,null,{"v":74.66666666666667,"d":"75"},1120,{"v":0.09613333333333335,"d":"0.10"},{"v":0.09613333333333335,"d":"0.10"},{"v":0.10681481481481483,"d":"0.11"},{"$f":"IF(Data!$E$83=1,Data!$L$117+Data!$F$59+AH150/Data!$L$116/Data!$E$59/Data!$L$115,Data!$E$90+Data!$F$59+AH150/Data!$G$90/Data!$E$59/Data!$D$90)","v":{"v":0.10681481481481483,"d":"0.11"}},{"v":0.8482400000000001,"d":"0.85"},{"$f":"IF(Data!$C$59=1,TRUNC(($A93*0.9-AG150)/$P$88*2000*PI()*0.8,0),IF(Data!$C$59=2,TRUNC(($A93*0.8-(AG150+0.1))/$P$88*2000*PI()*0.8,0),\"\"))","v":838},null,{"v":186.66666666666669,"d":"187"},1120,{"v":0.192,"d":"0.19"},{"v":0.192,"d":"0.19"},{"v":0.21333333333333332,"d":"0.21"},{"$f":"IF(Data!$E$83=1,Data!$L$117+Data!$F$59+AQ150/Data!$L$116/Data!$E$59/Data!$L$115,Data!$E$90+Data!$F$59+AQ150/Data!$G$90/Data!$E$59/Data!$D$90)","v":{"v":0.21333333333333332,"d":"0.21"}},{"v":0.8482400000000001,"d":"0.85"},{"$f":"IF(Data!$C$59=1,TRUNC(($A93*0.9-AP150)/$P$87*2000*PI()*0.8,0),IF(Data!$C$59=2,TRUNC(($A93*0.8-(AP150+0.1))/$P$87*2000*PI()*0.8,0),\"\"))","v":287},null,56,1120,{"v":0.064,"d":"0.06"},{"v":0.064,"d":"0.06"},{"v":0.07111111111111111,"d":"0.07"},{"$f":"IF(Data!$E$83=1,Data!$L$117+Data!$F$59+AZ150/Data!$L$116/Data!$E$59/Data!$L$115,Data!$E$90+Data!$F$59+AZ150/Data!$G$90/Data!$E$59/Data!$D$90)","v":{"v":0.07111111111111111,"d":"0.07"}},{"v":0.8482400000000001,"d":"0.85"},{"$f":"IF(Data!$C$59=1,TRUNC(($A93*0.9-AY150)/$P$86*2000*PI()*0.8,0),IF(Data!$C$59=2,TRUNC(($A93*0.8-(AY150+0.1))/$P$86*2000*PI()*0.8,0),\"\"))","v":1171},null,{"v":2.5075242197802194,"d":"2.51"},5630,{"v":938.3333333333333,"d":"938"},0.5178,{"$f":"IF(Data!$C$59=1,TRUNC(($A27*0.9-BI150)/$P$89*2000*PI()*0.8,0),IF(Data!$C$59=2,TRUNC(($A27*0.8-(BI150+0.1))/$P$89*2000*PI()*0.8,0),\"\"))","v":874},null,{"v":2.5075242197802194,"d":"2.51"},5630,{"v":375.3333333333333,"d":"375"},0.2013666666666667,{"$f":"IF(Data!$C$59=1,TRUNC(($A27*0.9-BO150)/$P$88*2000*PI()*0.8,0),IF(Data!$C$59=2,TRUNC(($A27*0.8-(BO150+0.1))/$P$88*2000*PI()*0.8,0),\"\"))","v":2582},null,{"v":2.5075242197802194,"d":"2.51"},5630,{"v":938.3333333333333,"d":"938"},0.361125,{"$f":"IF(Data!$C$59=1,TRUNC(($A27*0.9-BU150)/$P$87*2000*PI()*0.8,0),IF(Data!$C$59=2,TRUNC(($A27*0.8-(BU150+0.1))/$P$87*2000*PI()*0.8,0),\"\"))","v":952},null,{"v":2.5075242197802194,"d":"2.51"},5630,{"v":281.5,"d":"282"},0.12037500000000001,{"$f":"IF(Data!$C$59=1,TRUNC(($A27*0.9-CA150)/$P$86*2000*PI()*0.8,0),IF(Data!$C$59=2,TRUNC(($A27*0.8-(CA150+0.1))/$P$86*2000*PI()*0.8,0),\"\"))","v":3579}]
[{"$nulls":20},{"v":213.33333333333331,"d":"213"},1280,{"v":0.25680000000000003,"d":"0.26"},{"v":0.25680000000000003,"d":"0.26"},{"v":0.2853333333333334,"d":"0.29"},{"$f":"IF(Data!$E$83=1,Data!$L$117+Data!$F$59+X151/Data!$L$116/Data!$E$59/Data!$L$115,Data!$E$90+Data!$F$59+X151/Data!$G$90/Data!$E$59/Data!$D$90)","v":{"v":0.2853333333333334,"d":"0.29"}},{"v":0.8456800000000001,"d":"0.85"},{"$f":"IF(Data!$C$59=1,TRUNC(($A94*0.9-W151)/$P$89*2000*PI()*0.8,0),IF(Data!$C$59=2,TRUNC(($A94*0.8-(W151+0.1))/$P$89*2000*PI()*0.8,0),\"\"))","v":253},null,null,{"v":85.33333333333333,"d":"85"},1280,{"v":0.09986666666666667,"d":"0.10"},{"v":0.09986666666666667,"d":"0.10"},{"v":0.11096296296296297,"d":"0.11"},{"$f":"IF(Data!$E$83=1,Data!$L$117+Data!$F$59+AH151/Data!$L$116/Data!$E$59/Data!$L$115,Data!$E$90+Data!$F$59+AH151/Data!$G$90/Data!$E$59/Data!$D$90)","v":{"v":0.11096296296296297,"d":"0.11"}},{"v":0.8456800000000001,"d":"0.85"},{"$f":"IF(Data!$C$59=1,TRUNC(($A94*0.9-AG151)/$P$88*2000*PI()*0.8,0),IF(Data!$C$59=2,TRUNC(($A94*0.8-(AG151+0.1))/$P$88*2000*PI()*0.8,0),\"\"))","v":830},null,{"v":213.33333333333331,"d":"213"},1280,{"v":0.198,"d":"0.20"},{"v":0.198,"d":"0.20"},0.22,{"$f":"IF(Data!$E$83=1,Data!$L$117+Data!$F$59+AQ151/Data!$L$116/Data!$E$59/Data!$L$115,Data!$E$90+Data!$F$59+AQ151/Data!$G$90/Data!$E$59/Data!$D$90)","v":0.22},{"v":0.8456800000000001,"d":"0.85"},{"$f":"IF(Data!$C$59=1,TRUNC(($A94*0.9-AP151)/$P$87*2000*PI()*0.8,0),IF(Data!$C$59=2,TRUNC(($A94*0.8-(AP151+0.1))/$P$87*2000*PI()*0.8,0),\"\"))","v":283},null,64,1280,{"v":0.066,"d":"0.07"},{"v":0.066,"d":"0.07"},{"v":0.07333333333333333,"d":"0.07"},{"$f":"IF(Data!$E$83=1,Data!$L$117+Data!$F$59+AZ151/Data!$L$116/Data!$E$59/Data!$L$115,Data!$E$90+Data!$F$59+AZ151/Data!$G$90/Data!$E$59/Data!$D$90)","v":{"v":0.07333333333333333,"d":"0.07"}},{"v":0.8456800000000001,"d":"0.85"},{"$f":"IF(Data!$C$59=1,TRUNC(($A94*0.9-AY151)/$P$86*2000*PI()*0.8,0),IF(Data!$C$59=2,TRUNC(($A94*0.8-(AY151+0.1))/$P$86*2000*PI()*0.8,0),\"\"))","v":1164},null,{"v":2.4633575384615383,"d":"2.46"},{"v":5715.8,"d":"5716"},{"v":952.6333333333333,"d":"953"},0.522948,{"$f":"IF(Data!$C$59=1,TRUNC(($A28*0.9-BI151)/$P$89*2000*PI()*0.8,0),IF(Data!$C$59=2,TRUNC(($A28*0.8-(BI151+0.1))/$P$89*2000*PI()*0.8,0),\"\"))","v":851},null,{"v":2.4633575384615383,"d":"2.46"},{"v":5715.8,"d":"5716"},{"v":381.05333333333334,"d":"381"},0.2033686666666667,{"$f":"IF(Data!$C$59=1,TRUNC(($A28*0.9-BO151)/$P$88*2000*PI()*0.8,0),IF(Data!$C$59=2,TRUNC(($A28*0.8-(BO151+0.1))/$P$88*2000*PI()*0.8,0),\"\"))","v":2530},null,{"v":2.4633575384615383,"d":"2.46"},{"v":5715.8,"d":"5716"},{"v":952.6333333333333,"d":"953"},0.3643425,{"$f":"IF(Data!$C$59=1,TRUNC(($A28*0.9-BU151)/$P$87*2000*PI()*0.8,0),IF(Data!$C$59=2,TRUNC(($A28*0.8-(BU151+0.1))/$P$87*2000*PI()*0.8,0),\"\"))","v":931},null,{"v":2.4633575384615383,"d":"2.46"},{"v":5715.8,"d":"5716"},{"v":285.79,"d":"286"},0.1214475,{"$f":"IF(Data!$C$59=1,TRUNC(($A28*0.9-CA151)/$P$86*2000*PI()*0.8,0),IF(Data!$C$59=2,TRUNC(($A28*0.8-(CA151+0.1))/$P$86*2000*PI()*0.8,0),\"\"))","v":3511}]
[{"$nulls":20},240,1440,{"v":0.26639999999999997,"d":"0.27"},{"v":0.26639999999999997,"d":"0.27"},{"v":0.296,"d":"0.30"},{"$f":"IF(Data!$E$83=1,Data!$L$117+Data!$F$59+X152/Data!$L$116/Data!$E$59/Data!$L$115,Data!$E$90+Data!$F$59+X152/Data!$G$90/Data!$E$59/Data!$D$90)","v":{"v":0.296,"d":"0.30"}},{"v":0.8431200000000001,"d":"0.84"},{"$f":"IF(Data!$C$59=1,TRUNC(($A95*0.9-W152)/$P$89*2000*PI()*0.8,0),IF(Data!$C$59=2,TRUNC(($A95*0.8-(W152+0.1))/$P$89*2000*PI()*0.8,0),\"\"))","v":247},null,null,96,1440,{"v":0.10360000000000001,"d":"0.10"},{"v":0.10360000000000001,"d":"0.10"},{"v":0.11511111111111112,"d":"0.12"},{"$f":"IF(Data!$E$83=1,Data!$L$117+Data!$F$59+AH152/Data!$L$116/Data!$E$59/Data!$L$115,Data!$E$90+Data!$F$59+AH152/Data!$G$90/Data!$E$59/Data!$D$90)","v":{"v":0.11511111111111112,"d":"0.12"}},{"v":0.8431200000000001,"d":"0.84"},{"$f":"IF(Data!$C$59=1,TRUNC(($A95*0.9-AG152)/$P$88*2000*PI()*0.8,0),IF(Data!$C$59=2,TRUNC(($A95*0.8-(AG152+0.1))/$P$88*2000*PI()*0.8,0),\"\"))","v":823},null,240,1440,{"v":0.204,"d":"0.20"},{"v":0.204,"d":"0.20"},{"v":0.22666666666666666,"d":"0.23"},{"$f":"IF(Data!$E$83=1,Data!$L$117+Data!$F$59+AQ152/Data!$L$116/Data!$E$59/Data!$L$115,Data!$E$90+Data!$F$59+AQ152/Data!$G$90/Data!$E$59/Data!$D$90)","v":{"v":0.22666666666666666,"d":"0.23"}},{"v":0.8431200000000001,"d":"0.84"},{"$f":"IF(Data!$C$59=1,TRUNC(($A95*0.9-AP152)/$P$87*2000*PI()*0.8,0),IF(Data!$C$59=2,TRUNC(($A95*0.8-(AP152+0.1))/$P$87*2000*PI()*0.8,0),\"\"))","v":278},null,72,1440,{"v":0.068,"d":"0.07"},{"v":0.068,"d":"0.07"},{"v":0.07555555555555556,"d":"0.08"},{"$f":"IF(Data!$E$83=1,Data!$L$117+Data!$F$59+AZ152/Data!$L$116/Data!$E$59/Data!$L$115,Data!$E$90+Data!$F$59+AZ152/Data!$G$90/Data!$E$59/Data!$D$90)","v":{"v":0.07555555555555556,"d":"0.08"}},{"v":0.8431200000000001,"d":"0.84"},{"$f":"IF(Data!$C$59=1,TRUNC(($A95*0.9-AY152)/$P$86*2000*PI()*0.8,0),IF(Data!$C$59=2,TRUNC(($A95*0.8-(AY152+0.1))/$P$86*2000*PI()*0.8,0),\"\"))","v":1157},null,{"v":2.418594461538462,"d":"2.42"},{"v":5803.3,"d":"5803"},{"v":967.2166666666667,"d":"967"},0.528198,{"$f":"IF(Data!$C$59=1,TRUNC(($A29*0.9-BI152)/$P$89*2000*PI()*0.8,0),IF(Data!$C$59=2,TRUNC(($A29*0.8-(BI152+0.1))/$P$89*2000*PI()*0.8,0),\"\"))","v":828},null,{"v":2.418594461538462,"d":"2.42"},{"v":5803.3,"d":"5803"},{"v":386.88666666666666,"d":"387"},0.20541033333333336,{"$f":"IF(Data!$C$59=1,TRUNC(($A29*0.9-BO152)/$P$88*2000*PI()*0.8,0),IF(Data!$C$59=2,TRUNC(($A29*0.8-(BO152+0.1))/$P$88*2000*PI()*0.8,0),\"\"))","v":2477},null,{"v":2.418594461538462,"d":"2.42"},{"v":5803.3,"d":"5803"},{"v":967.2166666666667,"d":"967"},0.36762375,{"$f":"IF(Data!$C$59=1,TRUNC(($A29*0.9-BU152)/$P$87*2000*PI()*0.8,0),IF(Data!$C$59=2,TRUNC(($A29*0.8-(BU152+0.1))/$P$87*2000*PI()*0.8,0),\"\"))","v":909},null,{"v":2.418594461538462,"d":"2.42"},{"v":5803.3,"d":"5803"},{"v":290.16499999999996,"d":"290"},0.12254125,{"$f":"IF(Data!$C$59=1,TRUNC(($A29*0.9-CA152)/$P$86*2000*PI()*0.8,0),IF(Data!$C$59=2,TRUNC(($A29*0.8-(CA152+0.1))/$P$86*2000*PI()*0.8,0),\"\"))","v":3441}]
["I rms",{"$nulls":19},{"v":266.6666666666667,"d":"267"},1600,{"v":0.276,"d":"0.28"},{"v":0.276,"d":"0.28"},{"v":0.3066666666666667,"d":"0.31"},{"$f":"IF(Data!$E$83=1,Data!$L$117+Data!$F$59+X153/Data!$L$116/Data!$E$59/Data!$L$115,Data!$E$90+Data!$F$59+X153/Data!$G$90/Data!$E$59/Data!$D$90)","v":{"v":0.3066666666666667,"d":"0.31"}},{"v":0.8405600000000001,"d":"0.84"},{"$f":"IF(Data!$C$59=1,TRUNC(($A96*0.9-W153)/$P$89*2000*PI()*0.8,0),IF(Data!$C$59=2,TRUNC(($A96*0.8-(W153+0.1))/$P$89*2000*PI()*0.8,0),\"\"))","v":241},null,null,{"v":106.66666666666667,"d":"107"},1600,{"v":0.10733333333333334,"d":"0.11"},{"v":0.10733333333333334,"d":"0.11"},{"v":0.11925925925925926,"d":"0.12"},{"$f":"IF(Data!$E$83=1,Data!$L$117+Data!$F$59+AH153/Data!$L$116/Data!$E$59/Data!$L$115,Data!$E$90+Data!$F$59+AH153/Data!$G$90/Data!$E$59/Data!$D$90)","v":{"v":0.11925925925925926,"d":"0.12"}},{"v":0.8405600000000001,"d":"0.84"},{"$f":"IF(Data!$C$59=1,TRUNC(($A96*0.9-AG153)/$P$88*2000*PI()*0.8,0),IF(Data!$C$59=2,TRUNC(($A96*0.8-(AG153+0.1))/$P$88*2000*PI()*0.8,0),\"\"))","v":815},null,{"v":266.6666666666667,"d":"267"},1600,0.21,0.21,{"v":0.2333333333333333,"d":"0.23"},{"$f":"IF(Data!$E$83=1,Data!$L$117+Data!$F$59+AQ153/Data!$L$116/Data!$E$59/Data!$L$115,Data!$E$90+Data!$F$59+AQ153/Data!$G$90/Data!$E$59/Data!$D$90)","v":{"v":0.2333333333333333,"d":"0.23"}},{"v":0.8405600000000001,"d":"0.84"},{"$f":"IF(Data!$C$59=1,TRUNC(($A96*0.9-AP153)/$P$87*2000*PI()*0.8,0),IF(Data!$C$59=2,TRUNC(($A96*0.8-(AP153+0.1))/$P$87*2000*PI()*0.8,0),\"\"))","v":274},null,80,1600,0.07,0.07,{"v":0.07777777777777778,"d":"0.08"},{"$f":"IF(Data!$E$83=1,Data!$L$117+Data!$F$59+AZ153/Data!$L$116/Data!$E$59/Data!$L$115,Data!$E$90+Data!$F$59+AZ153/Data!$G$90/Data!$E$59/Data!$D$90)","v":{"v":0.07777777777777778,"d":"0.08"}},{"v":0.8405600000000001,"d":"0.84"},{"$f":"IF(Data!$C$59=1,TRUNC(($A96*0.9-AY153)/$P$86*2000*PI()*0.8,0),IF(Data!$C$59=2,TRUNC(($A96*0.8-(AY153+0.1))/$P$86*2000*PI()*0.8,0),\"\"))","v":1150},null,{"v":2.373234989010989,"d":"2.37"},{"v":5892.4,"d":"5892"},{"v":982.0666666666666,"d":"982"},0.533544,{"$f":"IF(Data!$C$59=1,TRUNC(($A30*0.9-BI153)/$P$89*2000*PI()*0.8,0),IF(Data!$C$59=2,TRUNC(($A30*0.8-(BI153+0.1))/$P$89*2000*PI()*0.8,0),\"\"))","v":805},null,{"v":2.373234989010989,"d":"2.37"},{"v":5892.4,"d":"5892"},{"v":392.82666666666665,"d":"393"},0.20748933333333336,{"$f":"IF(Data!$C$59=1,TRUNC(($A30*0.9-BO153)/$P$88*2000*PI()*0.8,0),IF(Data!$C$59=2,TRUNC(($A30*0.8-(BO153+0.1))/$P$88*2000*PI()*0.8,0),\"\"))","v":2423},null,{"v":2.373234989010989,"d":"2.37"},{"v":5892.4,"d":"5892"},{"v":982.0666666666666,"d":"982"},0.370965,{"$f":"IF(Data!$C$59=1,TRUNC(($A30*0.9-BU153)/$P$87*2000*PI()*0.8,0),IF(Data!$C$59=2,TRUNC(($A30*0.8-(BU153+0.1))/$P$87*2000*PI()*0.8,0),\"\"))","v":887},null,{"v":2.373234989010989,"d":"2.37"},{"v":5892.4,"d":"5892"},{"v":294.62,"d":"295"},0.123655,{"$f":"IF(Data!$C$59=1,TRUNC(($A30*0.9-CA153)/$P$86*2000*PI()*0.8,0),IF(Data!$C$59=2,TRUNC(($A30*0.8-(CA153+0.1))/$P$86*2000*PI()*0.8,0),\"\"))","v":3371}]
[{"$f":"B13*MAX(($G$10/$H$10-($G$10/$H$10-$I$10/$D$10)/$D$10*B13),I10/D10)","v":250.9090909090909},0,{"$nulls":18},{"v":293.3333333333333,"d":"293"},1760,{"v":0.28559999999999997,"d":"0.29"},{"v":0.28559999999999997,"d":"0.29"},{"v":0.3173333333333333,"d":"0.32"},{"$f":"IF(Data!$E$83=1,Data!$L$117+Data!$F$59+X154/Data!$L$116/Data!$E$59/Data!$L$115,Data!$E$90+Data!$F$59+X154/Data!$G$90/Data!$E$59/Data!$D$90)","v":{"v":0.3173333333333333,"d":"0.32"}},{"v":0.8380000000000001,"d":"0.84"},{"$f":"IF(Data!$C$59=1,TRUNC(($A97*0.9-W154)/$P$89*2000*PI()*0.8,0),IF(Data!$C$59=2,TRUNC(($A97*0.8-(W154+0.1))/$P$89*2000*PI()*0.8,0),\"\"))","v":235},null,null,{"v":117.33333333333333,"d":"117"},1760,{"v":0.11106666666666667,"d":"0.11"},{"v":0.11106666666666667,"d":"0.11"},{"v":0.12340740740740741,"d":"0.12"},{"$f":"IF(Data!$E$83=1,Data!$L$117+Data!$F$59+AH154/Data!$L$116/Data!$E$59/Data!$L$115,Data!$E$90+Data!$F$59+AH154/Data!$G$90/Data!$E$59/Data!$D$90)","v":{"v":0.12340740740740741,"d":"0.12"}},{"v":0.8380000000000001,"d":"0.84"},{"$f":"IF(Data!$C$59=1,TRUNC(($A97*0.9-AG154)/$P$88*2000*PI()*0.8,0),IF(Data!$C$59=2,TRUNC(($A97*0.8-(AG154+0.1))/$P$88*2000*PI()*0.8,0),\"\"))","v":808},null,{"v":293.3333333333333,"d":"293"},1760,{"v":0.216,"d":"0.22"},{"v":0.216,"d":"0.22"},0.24,{"$f":"IF(Data!$E$83=1,Data!$L$117+Data!$F$59+AQ154/Data!$L$116/Data!$E$59/Data!$L$115,Data!$E$90+Data!$F$59+AQ154/Data!$G$90/Data!$E$59/Data!$D$90)","v":0.24},{"v":0.8380000000000001,"d":"0.84"},{"$f":"IF(Data!$C$59=1,TRUNC(($A97*0.9-AP154)/$P$87*2000*PI()*0.8,0),IF(Data!$C$59=2,TRUNC(($A97*0.8-(AP154+0.1))/$P$87*2000*PI()*0.8,0),\"\"))","v":270},null,88,1760,{"v":0.07200000000000001,"d":"0.07"},{"v":0.07200000000000001,"d":"0.07"},0.08,{"$f":"IF(Data!$E$83=1,Data!$L$117+Data!$F$59+AZ154/Data!$L$116/Data!$E$59/Data!$L$115,Data!$E$90+Data!$F$59+AZ154/Data!$G$90/Data!$E$59/Data!$D$90)","v":0.08},{"v":0.8380000000000001,"d":"0.84"},{"$f":"IF(Data!$C$59=1,TRUNC(($A97*0.9-AY154)/$P$86*2000*PI()*0.8,0),IF(Data!$C$59=2,TRUNC(($A97*0.8-(AY154+0.1))/$P$86*2000*PI()*0.8,0),\"\"))","v":1143},null,{"v":2.3272791208791213,"d":"2.33"},{"v":5983.2,"d":"5983"},{"v":997.2,"d":"997"},0.5389919999999999,{"$f":"IF(Data!$C$59=1,TRUNC(($A31*0.9-BI154)/$P$89*2000*PI()*0.8,0),IF(Data!$C$59=2,TRUNC(($A31*0.8-(BI154+0.1))/$P$89*2000*PI()*0.8,0),\"\"))","v":781},null,{"v":2.3272791208791213,"d":"2.33"},{"v":5983.2,"d":"5983"},{"v":398.88,"d":"399"},0.20960800000000002,{"$f":"IF(Data!$C$59=1,TRUNC(($A31*0.9-BO154)/$P$88*2000*PI()*0.8,0),IF(Data!$C$59=2,TRUNC(($A31*0.8-(BO154+0.1))/$P$88*2000*PI()*0.8,0),\"\"))","v":2368},null,{"v":2.3272791208791213,"d":"2.33"},{"v":5983.2,"d":"5983"},{"v":997.2,"d":"997"},0.37437,{"$f":"IF(Data!$C$59=1,TRUNC(($A31*0.9-BU154)/$P$87*2000*PI()*0.8,0),IF(Data!$C$59=2,TRUNC(($A31*0.8-(BU154+0.1))/$P$87*2000*PI()*0.8,0),\"\"))","v":864},null,{"v":2.3272791208791213,"d":"2.33"},{"v":5983.2,"d":"5983"},{"v":299.15999999999997,"d":"299"},0.12479000000000001,{"$f":"IF(Data!$C$59=1,TRUNC(($A31*0.9-CA154)/$P$86*2000*PI()*0.8,0),IF(Data!$C$59=2,TRUNC(($A31*0.8-(CA154+0.1))/$P$86*2000*PI()*0.8,0),\"\"))","v":3300}]
[{"$f":"A154","v":250.9090909090909},{"$f":"B71*1.05","v":8400},{"$nulls":18},320,1920,{"v":0.2952,"d":"0.30"},{"v":0.2952,"d":"0.30"},{"v":0.328,"d":"0.33"},{"$f":"IF(Data!$E$83=1,Data!$L$117+Data!$F$59+X155/Data!$L$116/Data!$E$59/Data!$L$115,Data!$E$90+Data!$F$59+X155/Data!$G$90/Data!$E$59/Data!$D$90)","v":{"v":0.328,"d":"0.33"}},{"v":0.8354400000000001,"d":"0.84"},{"$f":"IF(Data!$C$59=1,TRUNC(($A98*0.9-W155)/$P$89*2000*PI()*0.8,0),IF(Data!$C$59=2,TRUNC(($A98*0.8-(W155+0.1))/$P$89*2000*PI()*0.8,0),\"\"))","v":229},null,null,128,1920,{"v":0.11480000000000001,"d":"0.11"},{"v":0.11480000000000001,"d":"0.11"},{"v":0.12755555555555556,"d":"0.13"},{"$f":"IF(Data!$E$83=1,Data!$L$117+Data!$F$59+AH155/Data!$L$116/Data!$E$59/Data!$L$115,Data!$E$90+Data!$F$59+AH155/Data!$G$90/Data!$E$59/Data!$D$90)","v":{"v":0.12755555555555556,"d":"0.13"}},{"v":0.8354400000000001,"d":"0.84"},{"$f":"IF(Data!$C$59=1,TRUNC(($A98*0.9-AG155)/$P$88*2000*PI()*0.8,0),IF(Data!$C$59=2,TRUNC(($A98*0.8-(AG155+0.1))/$P$88*2000*PI()*0.8,0),\"\"))","v":800},null,320,1920,{"v":0.22199999999999998,"d":"0.22"},{"v":0.22199999999999998,"d":"0.22"},{"v":0.24666666666666665,"d":"0.25"},{"$f":"IF(Data!$E$83=1,Data!$L$117+Data!$F$59+AQ155/Data!$L$116/Data!$E$59/Data!$L$115,Data!$E$90+Data!$F$59+AQ155/Data!$G$90/Data!$E$59/Data!$D$90)","v":{"v":0.24666666666666665,"d":"0.25"}},{"v":0.8354400000000001,"d":"0.84"},{"$f":"IF(Data!$C$59=1,TRUNC(($A98*0.9-AP155)/$P$87*2000*PI()*0.8,0),IF(Data!$C$59=2,TRUNC(($A98*0.8-(AP155+0.1))/$P$87*2000*PI()*0.8,0),\"\"))","v":266},null,96,1920,{"v":0.07400000000000001,"d":"0.07"},{"v":0.07400000000000001,"d":"0.07"},{"v":0.08222222222222224,"d":"0.08"},{"$f":"IF(Data!$E$83=1,Data!$L$117+Data!$F$59+AZ155/Data!$L$116/Data!$E$59/Data!$L$115,Data!$E$90+Data!$F$59+AZ155/Data!$G$90/Data!$E$59/Data!$D$90)","v":{"v":0.08222222222222224,"d":"0.08"}},{"v":0.8354400000000001,"d":"0.84"},{"$f":"IF(Data!$C$59=1,TRUNC(($A98*0.9-AY155)/$P$86*2000*PI()*0.8,0),IF(Data!$C$59=2,TRUNC(($A98*0.8-(AY155+0.1))/$P$86*2000*PI()*0.8,0),\"\"))","v":1135},null,{"v":2.2807268571428576,"d":"2.28"},{"v":6075.6,"d":"6076"},{"v":1012.6,"d":"1013"},0.544536,{"$f":"IF(Data!$C$59=1,TRUNC(($A32*0.9-BI155)/$P$89*2000*PI()*0.8,0),IF(Data!$C$59=2,TRUNC(($A32*0.8-(BI155+0.1))/$P$89*2000*PI()*0.8,0),\"\"))","v":758},null,{"v":2.2807268571428576,"d":"2.28"},{"v":6075.6,"d":"6076"},{"v":405.04,"d":"405"},0.21176400000000004,{"$f":"IF(Data!$C$59=1,TRUNC(($A32*0.9-BO155)/$P$88*2000*PI()*0.8,0),IF(Data!$C$59=2,TRUNC(($A32*0.8-(BO155+0.1))/$P$88*2000*PI()*0.8,0),\"\"))","v":2313},null,{"v":2.2807268571428576,"d":"2.28"},{"v":6075.6,"d":"6076"},{"v":1012.6,"d":"1013"},0.37783500000000003,{"$f":"IF(Data!$C$59=1,TRUNC(($A32*0.9-BU155)/$P$87*2000*PI()*0.8,0),IF(Data!$C$59=2,TRUNC(($A32*0.8-(BU155+0.1))/$P$87*2000*PI()*0.8,0),\"\"))","v":841},null,{"v":2.2807268571428576,"d":"2.28"},{"v":6075.6,"d":"6076"},{"v":303.78000000000003,"d":"304"},0.12594500000000003,{"$f":"IF(Data!$C$59=1,TRUNC(($A32*0.9-CA155)/$P$86*2000*PI()*0.8,0),IF(Data!$C$59=2,TRUNC(($A32*0.8-(CA155+0.1))/$P$86*2000*PI()*0.8,0),\"\"))","v":3228}]
[{"$nulls":20},{"v":346.66666666666663,"d":"347"},2080,{"v":0.30479999999999996,"d":"0.30"},{"v":0.30479999999999996,"d":"0.30"},{"v":0.3386666666666666,"d":"0.34"},{"$f":"IF(Data!$E$83=1,Data!$L$117+Data!$F$59+X156/Data!$L$116/Data!$E$59/Data!$L$115,Data!$E$90+Data!$F$59+X156/Data!$G$90/Data!$E$59/Data!$D$90)","v":{"v":0.3386666666666666,"d":"0.34"}},{"v":0.8328800000000001,"d":"0.83"},{"$f":"IF(Data!$C$59=1,TRUNC(($A99*0.9-W156)/$P$89*2000*PI()*0.8,0),IF(Data!$C$59=2,TRUNC(($A99*0.8-(W156+0.1))/$P$89*2000*PI()*0.8,0),\"\"))","v":223},null,null,{"v":138.66666666666666,"d":"139"},2080,{"v":0.11853333333333335,"d":"0.12"},{"v":0.11853333333333335,"d":"0.12"},{"v":0.1317037037037037,"d":"0.13"},{"$f":"IF(Data!$E$83=1,Data!$L$117+Data!$F$59+AH156/Data!$L$116/Data!$E$59/Data!$L$115,Data!$E$90+Data!$F$59+AH156/Data!$G$90/Data!$E$59/Data!$D$90)","v":{"v":0.1317037037037037,"d":"0.13"}},{"v":0.8328800000000001,"d":"0.83"},{"$f":"IF(Data!$C$59=1,TRUNC(($A99*0.9-AG156)/$P$88*2000*PI()*0.8,0),IF(Data!$C$59=2,TRUNC(($A99*0.8-(AG156+0.1))/$P$88*2000*PI()*0.8,0),\"\"))","v":793},null,{"v":346.66666666666663,"d":"347"},2080,{"v":0.22799999999999998,"d":"0.23"},{"v":0.22799999999999998,"d":"0.23"},{"v":0.2533333333333333,"d":"0.25"},{"$f":"IF(Data!$E$83=1,Data!$L$117+Data!$F$59+AQ156/Data!$L$116/Data!$E$59/Data!$L$115,Data!$E$90+Data!$F$59+AQ156/Data!$G$90/Data!$E$59/Data!$D$90)","v":{"v":0.2533333333333333,"d":"0.25"}},{"v":0.8328800000000001,"d":"0.83"},{"$f":"IF(Data!$C$59=1,TRUNC(($A99*0.9-AP156)/$P$87*2000*PI()*0.8,0),IF(Data!$C$59=2,TRUNC(($A99*0.8-(AP156+0.1))/$P$87*2000*PI()*0.8,0),\"\"))","v":262},null,104,2080,{"v":0.07600000000000001,"d":"0.08"},{"v":0.07600000000000001,"d":"0.08"},{"v":0.08444444444444446,"d":"0.08"},{"$f":"IF(Data!$E$83=1,Data!$L$117+Data!$F$59+AZ156/Data!$L$116/Data!$E$59/Data!$L$115,Data!$E$90+Data!$F$59+AZ156/Data!$G$90/Data!$E$59/Data!$D$90)","v":{"v":0.08444444444444446,"d":"0.08"}},{"v":0.8328800000000001,"d":"0.83"},{"$f":"IF(Data!$C$59=1,TRUNC(($A99*0.9-AY156)/$P$86*2000*PI()*0.8,0),IF(Data!$C$59=2,TRUNC(($A99*0.8-(AY156+0.1))/$P$86*2000*PI()*0.8,0),\"\"))","v":1128},null,{"v":2.2335781978021974,"d":"2.23"},{"v":6169.7,"d":"6170"},{"v":1028.2833333333333,"d":"1028"},0.550182,{"$f":"IF(Data!$C$59=1,TRUNC(($A33*0.9-BI156)/$P$89*2000*PI()*0.8,0),IF(Data!$C$59=2,TRUNC(($A33*0.8-(BI156+0.1))/$P$89*2000*PI()*0.8,0),\"\"))","v":733},null,{"v":2.2335781978021974,"d":"2.23"},{"v":6169.7,"d":"6170"},{"v":411.31333333333333,"d":"411"},0.21395966666666666,{"$f":"IF(Data!$C$59=1,TRUNC(($A33*0.9-BO156)/$P$88*2000*PI()*0.8,0),IF(Data!$C$59=2,TRUNC(($A33*0.8-(BO156+0.1))/$P$88*2000*PI()*0.8,0),\"\"))","v":2257},null,{"v":2.2335781978021974,"d":"2.23"},{"v":6169.7,"d":"6170"},{"v":1028.2833333333333,"d":"1028"},0.38136375,{"$f":"IF(Data!$C$59=1,TRUNC(($A33*0.9-BU156)/$P$87*2000*PI()*0.8,0),IF(Data!$C$59=2,TRUNC(($A33*0.8-(BU156+0.1))/$P$87*2000*PI()*0.8,0),\"\"))","v":818},null,{"v":2.2335781978021974,"d":"2.23"},{"v":6169.7,"d":"6170"},{"v":308.485,"d":"308"},0.12712125000000002,{"$f":"IF(Data!$C$59=1,TRUNC(($A33*0.9-CA156)/$P$86*2000*PI()*0.8,0),IF(Data!$C$59=2,TRUNC(($A33*0.8-(CA156+0.1))/$P$86*2000*PI()*0.8,0),\"\"))","v":3155}]
[{"$nulls":11},0,470,{"$nulls":7},{"v":373.33333333333337,"d":"373"},2240,{"v":0.3144,"d":"0.31"},{"v":0.3144,"d":"0.31"},{"v":0.34933333333333333,"d":"0.35"},{"$f":"IF(Data!$E$83=1,Data!$L$117+Data!$F$59+X157/Data!$L$116/Data!$E$59/Data!$L$115,Data!$E$90+Data!$F$59+X157/Data!$G$90/Data!$E$59/Data!$D$90)","v":{"v":0.34933333333333333,"d":"0.35"}},{"v":0.8303200000000001,"d":"0.83"},{"$f":"IF(Data!$C$59=1,TRUNC(($A100*0.9-W157)/$P$89*2000*PI()*0.8,0),IF(Data!$C$59=2,TRUNC(($A100*0.8-(W157+0.1))/$P$89*2000*PI()*0.8,0),\"\"))","v":217},null,null,{"v":149.33333333333334,"d":"149"},2240,{"v":0.12226666666666669,"d":"0.12"},{"v":0.12226666666666669,"d":"0.12"},{"v":0.13585185185185186,"d":"0.14"},{"$f":"IF(Data!$E$83=1,Data!$L$117+Data!$F$59+AH157/Data!$L$116/Data!$E$59/Data!$L$115,Data!$E$90+Data!$F$59+AH157/Data!$G$90/Data!$E$59/Data!$D$90)","v":{"v":0.13585185185185186,"d":"0.14"}},{"v":0.8303200000000001,"d":"0.83"},{"$f":"IF(Data!$C$59=1,TRUNC(($A100*0.9-AG157)/$P$88*2000*PI()*0.8,0),IF(Data!$C$59=2,TRUNC(($A100*0.8-(AG157+0.1))/$P$88*2000*PI()*0.8,0),\"\"))","v":785},null,{"v":373.33333333333337,"d":"373"},2240,{"v":0.23399999999999999,"d":"0.23"},{"v":0.23399999999999999,"d":"0.23"},{"v":0.25999999999999995,"d":"0.26"},{"$f":"IF(Data!$E$83=1,Data!$L$117+Data!$F$59+AQ157/Data!$L$116/Data!$E$59/Data!$L$115,Data!$E$90+Data!$F$59+AQ157/Data!$G$90/Data!$E$59/Data!$D$90)","v":{"v":0.25999999999999995,"d":"0.26"}},{"v":0.8303200000000001,"d":"0.83"},{"$f":"IF(Data!$C$59=1,TRUNC(($A100*0.9-AP157)/$P$87*2000*PI()*0.8,0),IF(Data!$C$59=2,TRUNC(($A100*0.8-(AP157+0.1))/$P$87*2000*PI()*0.8,0),\"\"))","v":258},null,112,2240,{"v":0.07800000000000001,"d":"0.08"},{"v":0.07800000000000001,"d":"0.08"},{"v":0.08666666666666668,"d":"0.09"},{"$f":"IF(Data!$E$83=1,Data!$L$117+Data!$F$59+AZ157/Data!$L$116/Data!$E$59/Data!$L$115,Data!$E$90+Data!$F$59+AZ157/Data!$G$90/Data!$E$59/Data!$D$90)","v":{"v":0.08666666666666668,"d":"0.09"}},{"v":0.8303200000000001,"d":"0.83"},{"$f":"IF(Data!$C$59=1,TRUNC(($A100*0.9-AY157)/$P$86*2000*PI()*0.8,0),IF(Data!$C$59=2,TRUNC(($A100*0.8-(AY157+0.1))/$P$86*2000*PI()*0.8,0),\"\"))","v":1121},null,{"v":2.1858331428571427,"d":"2.19"},{"v":6265.5,"d":"6266"},{"v":1044.25,"d":"1044"},0.5559299999999999,{"$f":"IF(Data!$C$59=1,TRUNC(($A34*0.9-BI157)/$P$89*2000*PI()*0.8,0),IF(Data!$C$59=2,TRUNC(($A34*0.8-(BI157+0.1))/$P$89*2000*PI()*0.8,0),\"\"))","v":709},null,{"v":2.1858331428571427,"d":"2.19"},{"v":6265.5,"d":"6266"},{"v":417.7,"d":"418"},0.216195,{"$f":"IF(Data!$C$59=1,TRUNC(($A34*0.9-BO157)/$P$88*2000*PI()*0.8,0),IF(Data!$C$59=2,TRUNC(($A34*0.8-(BO157+0.1))/$P$88*2000*PI()*0.8,0),\"\"))","v":2200},null,{"v":2.1858331428571427,"d":"2.19"},{"v":6265.5,"d":"6266"},{"v":1044.25,"d":"1044"},0.38495625,{"$f":"IF(Data!$C$59=1,TRUNC(($A34*0.9-BU157)/$P$87*2000*PI()*0.8,0),IF(Data!$C$59=2,TRUNC(($A34*0.8-(BU157+0.1))/$P$87*2000*PI()*0.8,0),\"\"))","v":795},null,{"v":2.1858331428571427,"d":"2.19"},{"v":6265.5,"d":"6266"},{"v":313.275,"d":"313"},0.12831875,{"$f":"IF(Data!$C$59=1,TRUNC(($A34*0.9-CA157)/$P$86*2000*PI()*0.8,0),IF(Data!$C$59=2,TRUNC(($A34*0.8-(CA157+0.1))/$P$86*2000*PI()*0.8,0),\"\"))","v":3081}]
[{"$nulls":20},400,2400,{"v":0.32399999999999995,"d":"0.32"},{"v":0.32399999999999995,"d":"0.32"},{"v":0.35999999999999993,"d":"0.36"},{"$f":"IF(Data!$E$83=1,Data!$L$117+Data!$F$59+X158/Data!$L$116/Data!$E$59/Data!$L$115,Data!$E$90+Data!$F$59+X158/Data!$G$90/Data!$E$59/Data!$D$90)","v":{"v":0.35999999999999993,"d":"0.36"}},{"v":0.82776,"d":"0.83"},{"$f":"IF(Data!$C$59=1,TRUNC(($A101*0.9-W158)/$P$89*2000*PI()*0.8,0),IF(Data!$C$59=2,TRUNC(($A101*0.8-(W158+0.1))/$P$89*2000*PI()*0.8,0),\"\"))","v":211},null,null,160,2400,{"v":0.126,"d":"0.13"},{"v":0.126,"d":"0.13"},{"v":0.13999999999999999,"d":"0.14"},{"$f":"IF(Data!$E$83=1,Data!$L$117+Data!$F$59+AH158/Data!$L$116/Data!$E$59/Data!$L$115,Data!$E$90+Data!$F$59+AH158/Data!$G$90/Data!$E$59/Data!$D$90)","v":{"v":0.13999999999999999,"d":"0.14"}},{"v":0.82776,"d":"0.83"},{"$f":"IF(Data!$C$59=1,TRUNC(($A101*0.9-AG158)/$P$88*2000*PI()*0.8,0),IF(Data!$C$59=2,TRUNC(($A101*0.8-(AG158+0.1))/$P$88*2000*PI()*0.8,0),\"\"))","v":777},null,400,2400,0.24,0.24,{"v":0.26666666666666666,"d":"0.27"},{"$f":"IF(Data!$E$83=1,Data!$L$117+Data!$F$59+AQ158/Data!$L$116/Data!$E$59/Data!$L$115,Data!$E$90+Data!$F$59+AQ158/Data!$G$90/Data!$E$59/Data!$D$90)","v":{"v":0.26666666666666666,"d":"0.27"}},{"v":0.82776,"d":"0.83"},{"$f":"IF(Data!$C$59=1,TRUNC(($A101*0.9-AP158)/$P$87*2000*PI()*0.8,0),IF(Data!$C$59=2,TRUNC(($A101*0.8-(AP158+0.1))/$P$87*2000*PI()*0.8,0),\"\"))","v":253},null,120,2400,0.08,0.08,{"v":0.08888888888888889,"d":"0.09"},{"$f":"IF(Data!$E$83=1,Data!$L$117+Data!$F$59+AZ158/Data!$L$116/Data!$E$59/Data!$L$115,Data!$E$90+Data!$F$59+AZ158/Data!$G$90/Data!$E$59/Data!$D$90)","v":{"v":0.08888888888888889,"d":"0.09"}},{"v":0.82776,"d":"0.83"},{"$f":"IF(Data!$C$59=1,TRUNC(($A101*0.9-AY158)/$P$86*2000*PI()*0.8,0),IF(Data!$C$59=2,TRUNC(($A101*0.8-(AY158+0.1))/$P$86*2000*PI()*0.8,0),\"\"))","v":1114},null,{"v":2.1374916923076923,"d":"2.14"},{"v":6362.9,"d":"6363"},{"v":1060.4833333333333,"d":"1060"},0.561774,{"$f":"IF(Data!$C$59=1,TRUNC(($A35*0.9-BI158)/$P$89*2000*PI()*0.8,0),IF(Data!$C$59=2,TRUNC(($A35*0.8-(BI158+0.1))/$P$89*2000*PI()*0.8,0),\"\"))","v":684},null,{"v":2.1374916923076923,"d":"2.14"},{"v":6362.9,"d":"6363"},{"v":424.1933333333333,"d":"424"},0.21846766666666667,{"$f":"IF(Data!$C$59=1,TRUNC(($A35*0.9-BO158)/$P$88*2000*PI()*0.8,0),IF(Data!$C$59=2,TRUNC(($A35*0.8-(BO158+0.1))/$P$88*2000*PI()*0.8,0),\"\"))","v":2142},null,{"v":2.1374916923076923,"d":"2.14"},{"v":6362.9,"d":"6363"},{"v":1060.4833333333333,"d":"1060"},0.38860874999999995,{"$f":"IF(Data!$C$59=1,TRUNC(($A35*0.9-BU158)/$P$87*2000*PI()*0.8,0),IF(Data!$C$59=2,TRUNC(($A35*0.8-(BU158+0.1))/$P$87*2000*PI()*0.8,0),\"\"))","v":771},null,{"v":2.1374916923076923,"d":"2.14"},{"v":6362.9,"d":"6363"},{"v":318.145,"d":"318"},0.12953625000000002,{"$f":"IF(Data!$C$59=1,TRUNC(($A35*0.9-CA158)/$P$86*2000*PI()*0.8,0),IF(Data!$C$59=2,TRUNC(($A35*0.8-(CA158+0.1))/$P$86*2000*PI()*0.8,0),\"\"))","v":3006}]
[{"$nulls":20},{"v":426.66666666666663,"d":"427"},2560,{"v":0.3336,"d":"0.33"},{"v":0.3336,"d":"0.33"},{"v":0.37066666666666664,"d":"0.37"},{"$f":"IF(Data!$E$83=1,Data!$L$117+Data!$F$59+X159/Data!$L$116/Data!$E$59/Data!$L$115,Data!$E$90+Data!$F$59+X159/Data!$G$90/Data!$E$59/Data!$D$90)","v":{"v":0.37066666666666664,"d":"0.37"}},{"v":0.8252,"d":"0.83"},{"$f":"IF(Data!$C$59=1,TRUNC(($A102*0.9-W159)/$P$89*2000*PI()*0.8,0),IF(Data!$C$59=2,TRUNC(($A102*0.8-(W159+0.1))/$P$89*2000*PI()*0.8,0),\"\"))","v":205},null,null,{"v":170.66666666666666,"d":"171"},2560,{"v":0.12973333333333334,"d":"0.13"},{"v":0.12973333333333334,"d":"0.13"},{"v":0.14414814814814816,"d":"0.14"},{"$f":"IF(Data!$E$83=1,Data!$L$117+Data!$F$59+AH159/Data!$L$116/Data!$E$59/Data!$L$115,Data!$E$90+Data!$F$59+AH159/Data!$G$90/Data!$E$59/Data!$D$90)","v":{"v":0.14414814814814816,"d":"0.14"}},{"v":0.8252,"d":"0.83"},{"$f":"IF(Data!$C$59=1,TRUNC(($A102*0.9-AG159)/$P$88*2000*PI()*0.8,0),IF(Data!$C$59=2,TRUNC(($A102*0.8-(AG159+0.1))/$P$88*2000*PI()*0.8,0),\"\"))","v":770},null,{"v":426.66666666666663,"d":"427"},2560,{"v":0.246,"d":"0.25"},{"v":0.246,"d":"0.25"},{"v":0.2733333333333333,"d":"0.27"},{"$f":"IF(Data!$E$83=1,Data!$L$117+Data!$F$59+AQ159/Data!$L$116/Data!$E$59/Data!$L$115,Data!$E$90+Data!$F$59+AQ159/Data!$G$90/Data!$E$59/Data!$D$90)","v":{"v":0.2733333333333333,"d":"0.27"}},{"v":0.8252,"d":"0.83"},{"$f":"IF(Data!$C$59=1,TRUNC(($A102*0.9-AP159)/$P$87*2000*PI()*0.8,0),IF(Data!$C$59=2,TRUNC(($A102*0.8-(AP159+0.1))/$P$87*2000*PI()*0.8,0),\"\"))","v":249},null,128,2560,{"v":0.082,"d":"0.08"},{"v":0.082,"d":"0.08"},{"v":0.09111111111111111,"d":"0.09"},{"$f":"IF(Data!$E$83=1,Data!$L$117+Data!$F$59+AZ159/Data!$L$116/Data!$E$59/Data!$L$115,Data!$E$90+Data!$F$59+AZ159/Data!$G$90/Data!$E$59/Data!$D$90)","v":{"v":0.09111111111111111,"d":"0.09"}},{"v":0.8252,"d":"0.83"},{"$f":"IF(Data!$C$59=1,TRUNC(($A102*0.9-AY159)/$P$86*2000*PI()*0.8,0),IF(Data!$C$59=2,TRUNC(($A102*0.8-(AY159+0.1))/$P$86*2000*PI()*0.8,0),\"\"))","v":1106},null,{"v":2.088553846153846,"d":"2.09"},{"v":6461.9,"d":"6462"},{"v":1076.9833333333331,"d":"1077"},0.5677139999999999,{"$f":"IF(Data!$C$59=1,TRUNC(($A36*0.9-BI159)/$P$89*2000*PI()*0.8,0),IF(Data!$C$59=2,TRUNC(($A36*0.8-(BI159+0.1))/$P$89*2000*PI()*0.8,0),\"\"))","v":659},null,{"v":2.088553846153846,"d":"2.09"},{"v":6461.9,"d":"6462"},{"v":430.7933333333333,"d":"431"},0.22077766666666668,{"$f":"IF(Data!$C$59=1,TRUNC(($A36*0.9-BO159)/$P$88*2000*PI()*0.8,0),IF(Data!$C$59=2,TRUNC(($A36*0.8-(BO159+0.1))/$P$88*2000*PI()*0.8,0),\"\"))","v":2084},null,{"v":2.088553846153846,"d":"2.09"},{"v":6461.9,"d":"6462"},{"v":1076.9833333333331,"d":"1077"},0.39232124999999995,{"$f":"IF(Data!$C$59=1,TRUNC(($A36*0.9-BU159)/$P$87*2000*PI()*0.8,0),IF(Data!$C$59=2,TRUNC(($A36*0.8-(BU159+0.1))/$P$87*2000*PI()*0.8,0),\"\"))","v":747},null,{"v":2.088553846153846,"d":"2.09"},{"v":6461.9,"d":"6462"},{"v":323.09499999999997,"d":"323"},0.13077375000000002,{"$f":"IF(Data!$C$59=1,TRUNC(($A36*0.9-CA159)/$P$86*2000*PI()*0.8,0),IF(Data!$C$59=2,TRUNC(($A36*0.8-(CA159+0.1))/$P$86*2000*PI()*0.8,0),\"\"))","v":2930}]
[{"$nulls":20},{"v":453.33333333333337,"d":"453"},2720,{"v":0.34319999999999995,"d":"0.34"},{"v":0.34319999999999995,"d":"0.34"},{"v":0.38133333333333325,"d":"0.38"},{"$f":"IF(Data!$E$83=1,Data!$L$117+Data!$F$59+X160/Data!$L$116/Data!$E$59/Data!$L$115,Data!$E$90+Data!$F$59+X160/Data!$G$90/Data!$E$59/Data!$D$90)","v":{"v":0.38133333333333325,"d":"0.38"}},{"v":0.82264,"d":"0.82"},{"$f":"IF(Data!$C$59=1,TRUNC(($A103*0.9-W160)/$P$89*2000*PI()*0.8,0),IF(Data!$C$59=2,TRUNC(($A103*0.8-(W160+0.1))/$P$89*2000*PI()*0.8,0),\"\"))","v":199},null,null,{"v":181.33333333333334,"d":"181"},2720,{"v":0.13346666666666668,"d":"0.13"},{"v":0.13346666666666668,"d":"0.13"},{"v":0.14829629629629631,"d":"0.15"},{"$f":"IF(Data!$E$83=1,Data!$L$117+Data!$F$59+AH160/Data!$L$116/Data!$E$59/Data!$L$115,Data!$E$90+Data!$F$59+AH160/Data!$G$90/Data!$E$59/Data!$D$90)","v":{"v":0.14829629629629631,"d":"0.15"}},{"v":0.82264,"d":"0.82"},{"$f":"IF(Data!$C$59=1,TRUNC(($A103*0.9-AG160)/$P$88*2000*PI()*0.8,0),IF(Data!$C$59=2,TRUNC(($A103*0.8-(AG160+0.1))/$P$88*2000*PI()*0.8,0),\"\"))","v":762},null,{"v":453.33333333333337,"d":"453"},2720,{"v":0.252,"d":"0.25"},{"v":0.252,"d":"0.25"},{"v":0.27999999999999997,"d":"0.28"},{"$f":"IF(Data!$E$83=1,Data!$L$117+Data!$F$59+AQ160/Data!$L$116/Data!$E$59/Data!$L$115,Data!$E$90+Data!$F$59+AQ160/Data!$G$90/Data!$E$59/Data!$D$90)","v":{"v":0.27999999999999997,"d":"0.28"}},{"v":0.82264,"d":"0.82"},{"$f":"IF(Data!$C$59=1,TRUNC(($A103*0.9-AP160)/$P$87*2000*PI()*0.8,0),IF(Data!$C$59=2,TRUNC(($A103*0.8-(AP160+0.1))/$P$87*2000*PI()*0.8,0),\"\"))","v":245},null,136,2720,{"v":0.084,"d":"0.08"},{"v":0.084,"d":"0.08"},{"v":0.09333333333333334,"d":"0.09"},{"$f":"IF(Data!$E$83=1,Data!$L$117+Data!$F$59+AZ160/Data!$L$116/Data!$E$59/Data!$L$115,Data!$E$90+Data!$F$59+AZ160/Data!$G$90/Data!$E$59/Data!$D$90)","v":{"v":0.09333333333333334,"d":"0.09"}},{"v":0.82264,"d":"0.82"},{"$f":"IF(Data!$C$59=1,TRUNC(($A103*0.9-AY160)/$P$86*2000*PI()*0.8,0),IF(Data!$C$59=2,TRUNC(($A103*0.8-(AY160+0.1))/$P$86*2000*PI()*0.8,0),\"\"))","v":1099},null,{"v":2.0390196043956044,"d":"2.04"},{"v":6562.5,"d":"6563"},{"v":1093.75,"d":"1094"},0.57375,{"$f":"IF(Data!$C$59=1,TRUNC(($A37*0.9-BI160)/$P$89*2000*PI()*0.8,0),IF(Data!$C$59=2,TRUNC(($A37*0.8-(BI160+0.1))/$P$89*2000*PI()*0.8,0),\"\"))","v":634},null,{"v":2.0390196043956044,"d":"2.04"},{"v":6562.5,"d":"6563"},{"v":437.5,"d":"438"},0.22312500000000002,{"$f":"IF(Data!$C$59=1,TRUNC(($A37*0.9-BO160)/$P$88*2000*PI()*0.8,0),IF(Data!$C$59=2,TRUNC(($A37*0.8-(BO160+0.1))/$P$88*2000*PI()*0.8,0),\"\"))","v":2025},null,{"v":2.0390196043956044,"d":"2.04"},{"v":6562.5,"d":"6563"},{"v":1093.75,"d":"1094"},0.39609375,{"$f":"IF(Data!$C$59=1,TRUNC(($A37*0.9-BU160)/$P$87*2000*PI()*0.8,0),IF(Data!$C$59=2,TRUNC(($A37*0.8-(BU160+0.1))/$P$87*2000*PI()*0.8,0),\"\"))","v":723},null,{"v":2.0390196043956044,"d":"2.04"},{"v":6562.5,"d":"6563"},{"v":328.125,"d":"328"},0.13203125,{"$f":"IF(Data!$C$59=1,TRUNC(($A37*0.9-CA160)/$P$86*2000*PI()*0.8,0),IF(Data!$C$59=2,TRUNC(($A37*0.8-(CA160+0.1))/$P$86*2000*PI()*0.8,0),\"\"))","v":2853}]
[{"$nulls":20},480,2880,{"v":0.3528,"d":"0.35"},{"v":0.3528,"d":"0.35"},{"v":0.392,"d":"0.39"},{"$f":"IF(Data!$E$83=1,Data!$L$117+Data!$F$59+X161/Data!$L$116/Data!$E$59/Data!$L$115,Data!$E$90+Data!$F$59+X161/Data!$G$90/Data!$E$59/Data!$D$90)","v":{"v":0.392,"d":"0.39"}},{"v":0.82008,"d":"0.82"},{"$f":"IF(Data!$C$59=1,TRUNC(($A104*0.9-W161)/$P$89*2000*PI()*0.8,0),IF(Data!$C$59=2,TRUNC(($A104*0.8-(W161+0.1))/$P$89*2000*PI()*0.8,0),\"\"))","v":193},null,null,192,2880,{"v":0.13720000000000002,"d":"0.14"},{"v":0.13720000000000002,"d":"0.14"},{"v":0.15244444444444447,"d":"0.15"},{"$f":"IF(Data!$E$83=1,Data!$L$117+Data!$F$59+AH161/Data!$L$116/Data!$E$59/Data!$L$115,Data!$E$90+Data!$F$59+AH161/Data!$G$90/Data!$E$59/Data!$D$90)","v":{"v":0.15244444444444447,"d":"0.15"}},{"v":0.82008,"d":"0.82"},{"$f":"IF(Data!$C$59=1,TRUNC(($A104*0.9-AG161)/$P$88*2000*PI()*0.8,0),IF(Data!$C$59=2,TRUNC(($A104*0.8-(AG161+0.1))/$P$88*2000*PI()*0.8,0),\"\"))","v":755},null,480,2880,{"v":0.258,"d":"0.26"},{"v":0.258,"d":"0.26"},{"v":0.2866666666666667,"d":"0.29"},{"$f":"IF(Data!$E$83=1,Data!$L$117+Data!$F$59+AQ161/Data!$L$116/Data!$E$59/Data!$L$115,Data!$E$90+Data!$F$59+AQ161/Data!$G$90/Data!$E$59/Data!$D$90)","v":{"v":0.2866666666666667,"d":"0.29"}},{"v":0.82008,"d":"0.82"},{"$f":"IF(Data!$C$59=1,TRUNC(($A104*0.9-AP161)/$P$87*2000*PI()*0.8,0),IF(Data!$C$59=2,TRUNC(($A104*0.8-(AP161+0.1))/$P$87*2000*PI()*0.8,0),\"\"))","v":241},null,144,2880,{"v":0.086,"d":"0.09"},{"v":0.086,"d":"0.09"},{"v":0.09555555555555555,"d":"0.10"},{"$f":"IF(Data!$E$83=1,Data!$L$117+Data!$F$59+AZ161/Data!$L$116/Data!$E$59/Data!$L$115,Data!$E$90+Data!$F$59+AZ161/Data!$G$90/Data!$E$59/Data!$D$90)","v":{"v":0.09555555555555555,"d":"0.10"}},{"v":0.82008,"d":"0.82"},{"$f":"IF(Data!$C$59=1,TRUNC(($A104*0.9-AY161)/$P$86*2000*PI()*0.8,0),IF(Data!$C$59=2,TRUNC(($A104*0.8-(AY161+0.1))/$P$86*2000*PI()*0.8,0),\"\"))","v":1092},null,{"v":1.9888889670329672,"d":"1.99"},{"v":6664.7,"d":"6665"},{"v":1110.7833333333333,"d":"1111"},0.579882,{"$f":"IF(Data!$C$59=1,TRUNC(($A38*0.9-BI161)/$P$89*2000*PI()*0.8,0),IF(Data!$C$59=2,TRUNC(($A38*0.8-(BI161+0.1))/$P$89*2000*PI()*0.8,0),\"\"))","v":608},null,{"v":1.9888889670329672,"d":"1.99"},{"v":6664.7,"d":"6665"},{"v":444.31333333333333,"d":"444"},0.22550966666666666,{"$f":"IF(Data!$C$59=1,TRUNC(($A38*0.9-BO161)/$P$88*2000*PI()*0.8,0),IF(Data!$C$59=2,TRUNC(($A38*0.8-(BO161+0.1))/$P$88*2000*PI()*0.8,0),\"\"))","v":1965},null,{"v":1.9888889670329672,"d":"1.99"},{"v":6664.7,"d":"6665"},{"v":1110.7833333333333,"d":"1111"},0.39992625,{"$f":"IF(Data!$C$59=1,TRUNC(($A38*0.9-BU161)/$P$87*2000*PI()*0.8,0),IF(Data!$C$59=2,TRUNC(($A38*0.8-(BU161+0.1))/$P$87*2000*PI()*0.8,0),\"\"))","v":698},null,{"v":1.9888889670329672,"d":"1.99"},{"v":6664.7,"d":"6665"},{"v":333.235,"d":"333"},0.13330875,{"$f":"IF(Data!$C$59=1,TRUNC(($A38*0.9-CA161)/$P$86*2000*PI()*0.8,0),IF(Data!$C$59=2,TRUNC(($A38*0.8-(CA161+0.1))/$P$86*2000*PI()*0.8,0),\"\"))","v":2775}]
[{"$nulls":20},{"v":506.66666666666663,"d":"507"},3040,{"v":0.3624,"d":"0.36"},{"v":0.3624,"d":"0.36"},{"v":0.4026666666666667,"d":"0.40"},{"$f":"IF(Data!$E$83=1,Data!$L$117+Data!$F$59+X162/Data!$L$116/Data!$E$59/Data!$L$115,Data!$E$90+Data!$F$59+X162/Data!$G$90/Data!$E$59/Data!$D$90)","v":{"v":0.4026666666666667,"d":"0.40"}},{"v":0.81752,"d":"0.82"},{"$f":"IF(Data!$C$59=1,TRUNC(($A105*0.9-W162)/$P$89*2000*PI()*0.8,0),IF(Data!$C$59=2,TRUNC(($A105*0.8-(W162+0.1))/$P$89*2000*PI()*0.8,0),\"\"))","v":187},null,null,{"v":202.66666666666666,"d":"203"},3040,{"v":0.14093333333333335,"d":"0.14"},{"v":0.14093333333333335,"d":"0.14"},{"v":0.15659259259259262,"d":"0.16"},{"$f":"IF(Data!$E$83=1,Data!$L$117+Data!$F$59+AH162/Data!$L$116/Data!$E$59/Data!$L$115,Data!$E$90+Data!$F$59+AH162/Data!$G$90/Data!$E$59/Data!$D$90)","v":{"v":0.15659259259259262,"d":"0.16"}},{"v":0.81752,"d":"0.82"},{"$f":"IF(Data!$C$59=1,TRUNC(($A105*0.9-AG162)/$P$88*2000*PI()*0.8,0),IF(Data!$C$59=2,TRUNC(($A105*0.8-(AG162+0.1))/$P$88*2000*PI()*0.8,0),\"\"))","v":747},null,{"v":506.66666666666663,"d":"507"},3040,{"v":0.264,"d":"0.26"},{"v":0.264,"d":"0.26"},{"v":0.29333333333333333,"d":"0.29"},{"$f":"IF(Data!$E$83=1,Data!$L$117+Data!$F$59+AQ162/Data!$L$116/Data!$E$59/Data!$L$115,Data!$E$90+Data!$F$59+AQ162/Data!$G$90/Data!$E$59/Data!$D$90)","v":{"v":0.29333333333333333,"d":"0.29"}},{"v":0.81752,"d":"0.82"},{"$f":"IF(Data!$C$59=1,TRUNC(($A105*0.9-AP162)/$P$87*2000*PI()*0.8,0),IF(Data!$C$59=2,TRUNC(($A105*0.8-(AP162+0.1))/$P$87*2000*PI()*0.8,0),\"\"))","v":237},null,152,3040,{"v":0.08800000000000001,"d":"0.09"},{"v":0.08800000000000001,"d":"0.09"},{"v":0.09777777777777778,"d":"0.10"},{"$f":"IF(Data!$E$83=1,Data!$L$117+Data!$F$59+AZ162/Data!$L$116/Data!$E$59/Data!$L$115,Data!$E$90+Data!$F$59+AZ162/Data!$G$90/Data!$E$59/Data!$D$90)","v":{"v":0.09777777777777778,"d":"0.10"}},{"v":0.81752,"d":"0.82"},{"$f":"IF(Data!$C$59=1,TRUNC(($A105*0.9-AY162)/$P$86*2000*PI()*0.8,0),IF(Data!$C$59=2,TRUNC(($A105*0.8-(AY162+0.1))/$P$86*2000*PI()*0.8,0),\"\"))","v":1085},null,{"v":1.938161934065934,"d":"1.94"},{"v":6768.4,"d":"6768"},{"v":1128.0666666666666,"d":"1128"},0.586104,{"$f":"IF(Data!$C$59=1,TRUNC(($A39*0.9-BI162)/$P$89*2000*PI()*0.8,0),IF(Data!$C$59=2,TRUNC(($A39*0.8-(BI162+0.1))/$P$89*2000*PI()*0.8,0),\"\"))","v":582},null,{"v":1.938161934065934,"d":"1.94"},{"v":6768.4,"d":"6768"},{"v":451.22666666666663,"d":"451"},0.22792933333333334,{"$f":"IF(Data!$C$59=1,TRUNC(($A39*0.9-BO162)/$P$88*2000*PI()*0.8,0),IF(Data!$C$59=2,TRUNC(($A39*0.8-(BO162+0.1))/$P$88*2000*PI()*0.8,0),\"\"))","v":1905},null,{"v":1.938161934065934,"d":"1.94"},{"v":6768.4,"d":"6768"},{"v":1128.0666666666666,"d":"1128"},0.4038149999999999,{"$f":"IF(Data!$C$59=1,TRUNC(($A39*0.9-BU162)/$P$87*2000*PI()*0.8,0),IF(Data!$C$59=2,TRUNC(($A39*0.8-(BU162+0.1))/$P$87*2000*PI()*0.8,0),\"\"))","v":673},null,{"v":1.938161934065934,"d":"1.94"},{"v":6768.4,"d":"6768"},{"v":338.41999999999996,"d":"338"},0.134605,{"$f":"IF(Data!$C$59=1,TRUNC(($A39*0.9-CA162)/$P$86*2000*PI()*0.8,0),IF(Data!$C$59=2,TRUNC(($A39*0.8-(CA162+0.1))/$P$86*2000*PI()*0.8,0),\"\"))","v":2697}]
[{"$nulls":20},{"v":533.3333333333334,"d":"533"},3200,{"v":0.372,"d":"0.37"},{"v":0.372,"d":"0.37"},{"v":0.41333333333333333,"d":"0.41"},{"$f":"IF(Data!$E$83=1,Data!$L$117+Data!$F$59+X163/Data!$L$116/Data!$E$59/Data!$L$115,Data!$E$90+Data!$F$59+X163/Data!$G$90/Data!$E$59/Data!$D$90)","v":{"v":0.41333333333333333,"d":"0.41"}},{"v":0.81496,"d":"0.81"},{"$f":"IF(Data!$C$59=1,TRUNC(($A106*0.9-W163)/$P$89*2000*PI()*0.8,0),IF(Data!$C$59=2,TRUNC(($A106*0.8-(W163+0.1))/$P$89*2000*PI()*0.8,0),\"\"))","v":181},null,null,{"v":213.33333333333334,"d":"213"},3200,{"v":0.14466666666666667,"d":"0.14"},{"v":0.14466666666666667,"d":"0.14"},{"v":0.16074074074074074,"d":"0.16"},{"$f":"IF(Data!$E$83=1,Data!$L$117+Data!$F$59+AH163/Data!$L$116/Data!$E$59/Data!$L$115,Data!$E$90+Data!$F$59+AH163/Data!$G$90/Data!$E$59/Data!$D$90)","v":{"v":0.16074074074074074,"d":"0.16"}},{"v":0.81496,"d":"0.81"},{"$f":"IF(Data!$C$59=1,TRUNC(($A106*0.9-AG163)/$P$88*2000*PI()*0.8,0),IF(Data!$C$59=2,TRUNC(($A106*0.8-(AG163+0.1))/$P$88*2000*PI()*0.8,0),\"\"))","v":739},null,{"v":533.3333333333334,"d":"533"},3200,0.27,0.27,{"v":0.3,"d":"0.30"},{"$f":"IF(Data!$E$83=1,Data!$L$117+Data!$F$59+AQ163/Data!$L$116/Data!$E$59/Data!$L$115,Data!$E$90+Data!$F$59+AQ163/Data!$G$90/Data!$E$59/Data!$D$90)","v":{"v":0.3,"d":"0.30"}},{"v":0.81496,"d":"0.81"},{"$f":"IF(Data!$C$59=1,TRUNC(($A106*0.9-AP163)/$P$87*2000*PI()*0.8,0),IF(Data!$C$59=2,TRUNC(($A106*0.8-(AP163+0.1))/$P$87*2000*PI()*0.8,0),\"\"))","v":232},null,160,3200,{"v":0.09000000000000001,"d":"0.09"},{"v":0.09000000000000001,"d":"0.09"},{"v":0.1,"d":"0.10"},{"$f":"IF(Data!$E$83=1,Data!$L$117+Data!$F$59+AZ163/Data!$L$116/Data!$E$59/Data!$L$115,Data!$E$90+Data!$F$59+AZ163/Data!$G$90/Data!$E$59/Data!$D$90)","v":{"v":0.1,"d":"0.10"}},{"v":0.81496,"d":"0.81"},{"$f":"IF(Data!$C$59=1,TRUNC(($A106*0.9-AY163)/$P$86*2000*PI()*0.8,0),IF(Data!$C$59=2,TRUNC(($A106*0.8-(AY163+0.1))/$P$86*2000*PI()*0.8,0),\"\"))","v":1078},null,{"v":1.8868385054945054,"d":"1.89"},{"v":6873.6,"d":"6874"},{"v":1145.6,"d":"1146"},0.5924159999999999,{"$f":"IF(Data!$C$59=1,TRUNC(($A40*0.9-BI163)/$P$89*2000*PI()*0.8,0),IF(Data!$C$59=2,TRUNC(($A40*0.8-(BI163+0.1))/$P$89*2000*PI()*0.8,0),\"\"))","v":555},null,{"v":1.8868385054945054,"d":"1.89"},{"v":6873.6,"d":"6874"},{"v":458.24,"d":"458"},0.230384,{"$f":"IF(Data!$C$59=1,TRUNC(($A40*0.9-BO163)/$P$88*2000*PI()*0.8,0),IF(Data!$C$59=2,TRUNC(($A40*0.8-(BO163+0.1))/$P$88*2000*PI()*0.8,0),\"\"))","v":1844},null,{"v":1.8868385054945054,"d":"1.89"},{"v":6873.6,"d":"6874"},{"v":1145.6,"d":"1146"},0.40776,{"$f":"IF(Data!$C$59=1,TRUNC(($A40*0.9-BU163)/$P$87*2000*PI()*0.8,0),IF(Data!$C$59=2,TRUNC(($A40*0.8-(BU163+0.1))/$P$87*2000*PI()*0.8,0),\"\"))","v":648},null,{"v":1.8868385054945054,"d":"1.89"},{"v":6873.6,"d":"6874"},{"v":343.68,"d":"344"},0.13592,{"$f":"IF(Data!$C$59=1,TRUNC(($A40*0.9-CA163)/$P$86*2000*PI()*0.8,0),IF(Data!$C$59=2,TRUNC(($A40*0.8-(CA163+0.1))/$P$86*2000*PI()*0.8,0),\"\"))","v":2617}]
[{"$nulls":20},560,3360,{"v":0.3816,"d":"0.38"},{"v":0.3816,"d":"0.38"},{"v":0.424,"d":"0.42"},{"$f":"IF(Data!$E$83=1,Data!$L$117+Data!$F$59+X164/Data!$L$116/Data!$E$59/Data!$L$115,Data!$E$90+Data!$F$59+X164/Data!$G$90/Data!$E$59/Data!$D$90)","v":{"v":0.424,"d":"0.42"}},{"v":0.8124,"d":"0.81"},{"$f":"IF(Data!$C$59=1,TRUNC(($A107*0.9-W164)/$P$89*2000*PI()*0.8,0),IF(Data!$C$59=2,TRUNC(($A107*0.8-(W164+0.1))/$P$89*2000*PI()*0.8,0),\"\"))","v":175},null,null,224,3360,{"v":0.14840000000000003,"d":"0.15"},{"v":0.14840000000000003,"d":"0.15"},{"v":0.16488888888888892,"d":"0.16"},{"$f":"IF(Data!$E$83=1,Data!$L$117+Data!$F$59+AH164/Data!$L$116/Data!$E$59/Data!$L$115,Data!$E$90+Data!$F$59+AH164/Data!$G$90/Data!$E$59/Data!$D$90)","v":{"v":0.16488888888888892,"d":"0.16"}},{"v":0.8124,"d":"0.81"},{"$f":"IF(Data!$C$59=1,TRUNC(($A107*0.9-AG164)/$P$88*2000*PI()*0.8,0),IF(Data!$C$59=2,TRUNC(($A107*0.8-(AG164+0.1))/$P$88*2000*PI()*0.8,0),\"\"))","v":732},null,560,3360,{"v":0.276,"d":"0.28"},{"v":0.276,"d":"0.28"},{"v":0.3066666666666667,"d":"0.31"},{"$f":"IF(Data!$E$83=1,Data!$L$117+Data!$F$59+AQ164/Data!$L$116/Data!$E$59/Data!$L$115,Data!$E$90+Data!$F$59+AQ164/Data!$G$90/Data!$E$59/Data!$D$90)","v":{"v":0.3066666666666667,"d":"0.31"}},{"v":0.8124,"d":"0.81"},{"$f":"IF(Data!$C$59=1,TRUNC(($A107*0.9-AP164)/$P$87*2000*PI()*0.8,0),IF(Data!$C$59=2,TRUNC(($A107*0.8-(AP164+0.1))/$P$87*2000*PI()*0.8,0),\"\"))","v":228},null,168,3360,{"v":0.092,"d":"0.09"},{"v":0.092,"d":"0.09"},{"v":0.10222222222222221,"d":"0.10"},{"$f":"IF(Data!$E$83=1,Data!$L$117+Data!$F$59+AZ164/Data!$L$116/Data!$E$59/Data!$L$115,Data!$E$90+Data!$F$59+AZ164/Data!$G$90/Data!$E$59/Data!$D$90)","v":{"v":0.10222222222222221,"d":"0.10"}},{"v":0.8124,"d":"0.81"},{"$f":"IF(Data!$C$59=1,TRUNC(($A107*0.9-AY164)/$P$86*2000*PI()*0.8,0),IF(Data!$C$59=2,TRUNC(($A107*0.8-(AY164+0.1))/$P$86*2000*PI()*0.8,0),\"\"))","v":1070},null,{"v":1.834918681318681,"d":"1.83"},{"v":6980.1,"d":"6980"},{"v":1163.3500000000001,"d":"1163"},0.598806,{"$f":"IF(Data!$C$59=1,TRUNC(($A41*0.9-BI164)/$P$89*2000*PI()*0.8,0),IF(Data!$C$59=2,TRUNC(($A41*0.8-(BI164+0.1))/$P$89*2000*PI()*0.8,0),\"\"))","v":529},null,{"v":1.834918681318681,"d":"1.83"},{"v":6980.1,"d":"6980"},{"v":465.34000000000003,"d":"465"},0.23286900000000005,{"$f":"IF(Data!$C$59=1,TRUNC(($A41*0.9-BO164)/$P$88*2000*PI()*0.8,0),IF(Data!$C$59=2,TRUNC(($A41*0.8-(BO164+0.1))/$P$88*2000*PI()*0.8,0),\"\"))","v":1782},null,{"v":1.834918681318681,"d":"1.83"},{"v":6980.1,"d":"6980"},{"v":1163.3500000000001,"d":"1163"},0.41175375000000003,{"$f":"IF(Data!$C$59=1,TRUNC(($A41*0.9-BU164)/$P$87*2000*PI()*0.8,0),IF(Data!$C$59=2,TRUNC(($A41*0.8-(BU164+0.1))/$P$87*2000*PI()*0.8,0),\"\"))","v":623},null,{"v":1.834918681318681,"d":"1.83"},{"v":6980.1,"d":"6980"},{"v":349.005,"d":"349"},0.13725125,{"$f":"IF(Data!$C$59=1,TRUNC(($A41*0.9-CA164)/$P$86*2000*PI()*0.8,0),IF(Data!$C$59=2,TRUNC(($A41*0.8-(CA164+0.1))/$P$86*2000*PI()*0.8,0),\"\"))","v":2537}]
[{"$nulls":20},{"v":586.6666666666666,"d":"587"},3520,{"v":0.3912,"d":"0.39"},{"v":0.3912,"d":"0.39"},{"v":0.43466666666666665,"d":"0.43"},{"$f":"IF(Data!$E$83=1,Data!$L$117+Data!$F$59+X165/Data!$L$116/Data!$E$59/Data!$L$115,Data!$E$90+Data!$F$59+X165/Data!$G$90/Data!$E$59/Data!$D$90)","v":{"v":0.43466666666666665,"d":"0.43"}},{"v":0.8084888888888889,"d":"0.81"},{"$f":"IF(Data!$C$59=1,TRUNC(($A108*0.9-W165)/$P$89*2000*PI()*0.8,0),IF(Data!$C$59=2,TRUNC(($A108*0.8-(W165+0.1))/$P$89*2000*PI()*0.8,0),\"\"))","v":169},null,null,{"v":234.66666666666666,"d":"235"},3520,{"v":0.15213333333333334,"d":"0.15"},{"v":0.15213333333333334,"d":"0.15"},{"v":0.16903703703703704,"d":"0.17"},{"$f":"IF(Data!$E$83=1,Data!$L$117+Data!$F$59+AH165/Data!$L$116/Data!$E$59/Data!$L$115,Data!$E$90+Data!$F$59+AH165/Data!$G$90/Data!$E$59/Data!$D$90)","v":{"v":0.16903703703703704,"d":"0.17"}},{"v":0.8084888888888889,"d":"0.81"},{"$f":"IF(Data!$C$59=1,TRUNC(($A108*0.9-AG165)/$P$88*2000*PI()*0.8,0),IF(Data!$C$59=2,TRUNC(($A108*0.8-(AG165+0.1))/$P$88*2000*PI()*0.8,0),\"\"))","v":723},null,{"v":586.6666666666666,"d":"587"},3520,{"v":0.28200000000000003,"d":"0.28"},{"v":0.28200000000000003,"d":"0.28"},{"v":0.31333333333333335,"d":"0.31"},{"$f":"IF(Data!$E$83=1,Data!$L$117+Data!$F$59+AQ165/Data!$L$116/Data!$E$59/Data!$L$115,Data!$E$90+Data!$F$59+AQ165/Data!$G$90/Data!$E$59/Data!$D$90)","v":{"v":0.31333333333333335,"d":"0.31"}},{"v":0.8084888888888889,"d":"0.81"},{"$f":"IF(Data!$C$59=1,TRUNC(($A108*0.9-AP165)/$P$87*2000*PI()*0.8,0),IF(Data!$C$59=2,TRUNC(($A108*0.8-(AP165+0.1))/$P$87*2000*PI()*0.8,0),\"\"))","v":224},null,176,3520,{"v":0.094,"d":"0.09"},{"v":0.094,"d":"0.09"},{"v":0.10444444444444444,"d":"0.10"},{"$f":"IF(Data!$E$83=1,Data!$L$117+Data!$F$59+AZ165/Data!$L$116/Data!$E$59/Data!$L$115,Data!$E$90+Data!$F$59+AZ165/Data!$G$90/Data!$E$59/Data!$D$90)","v":{"v":0.10444444444444444,"d":"0.10"}},{"v":0.8084888888888889,"d":"0.81"},{"$f":"IF(Data!$C$59=1,TRUNC(($A108*0.9-AY165)/$P$86*2000*PI()*0.8,0),IF(Data!$C$59=2,TRUNC(($A108*0.8-(AY165+0.1))/$P$86*2000*PI()*0.8,0),\"\"))","v":1061},null,{"v":1.7824024615384615,"d":"1.78"},7088,{"v":1181.3333333333335,"d":"1181"},0.60528,{"$f":"IF(Data!$C$59=1,TRUNC(($A42*0.9-BI165)/$P$89*2000*PI()*0.8,0),IF(Data!$C$59=2,TRUNC(($A42*0.8-(BI165+0.1))/$P$89*2000*PI()*0.8,0),\"\"))","v":502},null,{"v":1.7824024615384615,"d":"1.78"},7088,{"v":472.53333333333336,"d":"473"},0.2353866666666667,{"$f":"IF(Data!$C$59=1,TRUNC(($A42*0.9-BO165)/$P$88*2000*PI()*0.8,0),IF(Data!$C$59=2,TRUNC(($A42*0.8-(BO165+0.1))/$P$88*2000*PI()*0.8,0),\"\"))","v":1720},null,{"v":1.7824024615384615,"d":"1.78"},7088,{"v":1181.3333333333335,"d":"1181"},0.41579999999999995,{"$f":"IF(Data!$C$59=1,TRUNC(($A42*0.9-BU165)/$P$87*2000*PI()*0.8,0),IF(Data!$C$59=2,TRUNC(($A42*0.8-(BU165+0.1))/$P$87*2000*PI()*0.8,0),\"\"))","v":597},null,{"v":1.7824024615384615,"d":"1.78"},7088,{"v":354.40000000000003,"d":"354"},0.1386,{"$f":"IF(Data!$C$59=1,TRUNC(($A42*0.9-CA165)/$P$86*2000*PI()*0.8,0),IF(Data!$C$59=2,TRUNC(($A42*0.8-(CA165+0.1))/$P$86*2000*PI()*0.8,0),\"\"))","v":2455}]
[{"$nulls":20},{"v":613.3333333333334,"d":"613"},3680,{"v":0.40079999999999993,"d":"0.40"},{"v":0.40079999999999993,"d":"0.40"},{"v":0.44533333333333325,"d":"0.45"},{"$f":"IF(Data!$E$83=1,Data!$L$117+Data!$F$59+X166/Data!$L$116/Data!$E$59/Data!$L$115,Data!$E$90+Data!$F$59+X166/Data!$G$90/Data!$E$59/Data!$D$90)","v":{"v":0.44533333333333325,"d":"0.45"}},{"v":0.8045777777777778,"d":"0.80"},{"$f":"IF(Data!$C$59=1,TRUNC(($A109*0.9-W166)/$P$89*2000*PI()*0.8,0),IF(Data!$C$59=2,TRUNC(($A109*0.8-(W166+0.1))/$P$89*2000*PI()*0.8,0),\"\"))","v":162},null,null,{"v":245.33333333333334,"d":"245"},3680,{"v":0.15586666666666668,"d":"0.16"},{"v":0.15586666666666668,"d":"0.16"},{"v":0.1731851851851852,"d":"0.17"},{"$f":"IF(Data!$E$83=1,Data!$L$117+Data!$F$59+AH166/Data!$L$116/Data!$E$59/Data!$L$115,Data!$E$90+Data!$F$59+AH166/Data!$G$90/Data!$E$59/Data!$D$90)","v":{"v":0.1731851851851852,"d":"0.17"}},{"v":0.8045777777777778,"d":"0.80"},{"$f":"IF(Data!$C$59=1,TRUNC(($A109*0.9-AG166)/$P$88*2000*PI()*0.8,0),IF(Data!$C$59=2,TRUNC(($A109*0.8-(AG166+0.1))/$P$88*2000*PI()*0.8,0),\"\"))","v":714},null,{"v":613.3333333333334,"d":"613"},3680,{"v":0.28800000000000003,"d":"0.29"},{"v":0.28800000000000003,"d":"0.29"},0.32,{"$f":"IF(Data!$E$83=1,Data!$L$117+Data!$F$59+AQ166/Data!$L$116/Data!$E$59/Data!$L$115,Data!$E$90+Data!$F$59+AQ166/Data!$G$90/Data!$E$59/Data!$D$90)","v":0.32},{"v":0.8045777777777778,"d":"0.80"},{"$f":"IF(Data!$C$59=1,TRUNC(($A109*0.9-AP166)/$P$87*2000*PI()*0.8,0),IF(Data!$C$59=2,TRUNC(($A109*0.8-(AP166+0.1))/$P$87*2000*PI()*0.8,0),\"\"))","v":219},null,184,3680,{"v":0.096,"d":"0.10"},{"v":0.096,"d":"0.10"},{"v":0.10666666666666666,"d":"0.11"},{"$f":"IF(Data!$E$83=1,Data!$L$117+Data!$F$59+AZ166/Data!$L$116/Data!$E$59/Data!$L$115,Data!$E$90+Data!$F$59+AZ166/Data!$G$90/Data!$E$59/Data!$D$90)","v":{"v":0.10666666666666666,"d":"0.11"}},{"v":0.8045777777777778,"d":"0.80"},{"$f":"IF(Data!$C$59=1,TRUNC(($A109*0.9-AY166)/$P$86*2000*PI()*0.8,0),IF(Data!$C$59=2,TRUNC(($A109*0.8-(AY166+0.1))/$P$86*2000*PI()*0.8,0),\"\"))","v":1052},null,{"v":1.7292898461538462,"d":"1.73"},{"v":7197.1,"d":"7197"},{"v":1199.5166666666667,"d":"1200"},0.611826,{"$f":"IF(Data!$C$59=1,TRUNC(($A43*0.9-BI166)/$P$89*2000*PI()*0.8,0),IF(Data!$C$59=2,TRUNC(($A43*0.8-(BI166+0.1))/$P$89*2000*PI()*0.8,0),\"\"))","v":474},null,{"v":1.7292898461538462,"d":"1.73"},{"v":7197.1,"d":"7197"},{"v":479.8066666666667,"d":"480"},0.23793233333333338,{"$f":"IF(Data!$C$59=1,TRUNC(($A43*0.9-BO166)/$P$88*2000*PI()*0.8,0),IF(Data!$C$59=2,TRUNC(($A43*0.8-(BO166+0.1))/$P$88*2000*PI()*0.8,0),\"\"))","v":1656},null,{"v":1.7292898461538462,"d":"1.73"},{"v":7197.1,"d":"7197"},{"v":1199.5166666666667,"d":"1200"},0.41989125000000005,{"$f":"IF(Data!$C$59=1,TRUNC(($A43*0.9-BU166)/$P$87*2000*PI()*0.8,0),IF(Data!$C$59=2,TRUNC(($A43*0.8-(BU166+0.1))/$P$87*2000*PI()*0.8,0),\"\"))","v":571},null,{"v":1.7292898461538462,"d":"1.73"},{"v":7197.1,"d":"7197"},{"v":359.855,"d":"360"},0.13996375,{"$f":"IF(Data!$C$59=1,TRUNC(($A43*0.9-CA166)/$P$86*2000*PI()*0.8,0),IF(Data!$C$59=2,TRUNC(($A43*0.8-(CA166+0.1))/$P$86*2000*PI()*0.8,0),\"\"))","v":2373}]
[{"$nulls":20},640,3840,{"v":0.4104,"d":"0.41"},{"v":0.4104,"d":"0.41"},{"v":0.45599999999999996,"d":"0.46"},{"$f":"IF(Data!$E$83=1,Data!$L$117+Data!$F$59+X167/Data!$L$116/Data!$E$59/Data!$L$115,Data!$E$90+Data!$F$59+X167/Data!$G$90/Data!$E$59/Data!$D$90)","v":{"v":0.45599999999999996,"d":"0.46"}},{"v":0.8006666666666667,"d":"0.80"},{"$f":"IF(Data!$C$59=1,TRUNC(($A110*0.9-W167)/$P$89*2000*PI()*0.8,0),IF(Data!$C$59=2,TRUNC(($A110*0.8-(W167+0.1))/$P$89*2000*PI()*0.8,0),\"\"))","v":155},null,null,256,3840,{"v":0.15960000000000002,"d":"0.16"},{"v":0.15960000000000002,"d":"0.16"},{"v":0.17733333333333334,"d":"0.18"},{"$f":"IF(Data!$E$83=1,Data!$L$117+Data!$F$59+AH167/Data!$L$116/Data!$E$59/Data!$L$115,Data!$E$90+Data!$F$59+AH167/Data!$G$90/Data!$E$59/Data!$D$90)","v":{"v":0.17733333333333334,"d":"0.18"}},{"v":0.8006666666666667,"d":"0.80"},{"$f":"IF(Data!$C$59=1,TRUNC(($A110*0.9-AG167)/$P$88*2000*PI()*0.8,0),IF(Data!$C$59=2,TRUNC(($A110*0.8-(AG167+0.1))/$P$88*2000*PI()*0.8,0),\"\"))","v":704},null,640,3840,{"v":0.294,"d":"0.29"},{"v":0.294,"d":"0.29"},{"v":0.32666666666666666,"d":"0.33"},{"$f":"IF(Data!$E$83=1,Data!$L$117+Data!$F$59+AQ167/Data!$L$116/Data!$E$59/Data!$L$115,Data!$E$90+Data!$F$59+AQ167/Data!$G$90/Data!$E$59/Data!$D$90)","v":{"v":0.32666666666666666,"d":"0.33"}},{"v":0.8006666666666667,"d":"0.80"},{"$f":"IF(Data!$C$59=1,TRUNC(($A110*0.9-AP167)/$P$87*2000*PI()*0.8,0),IF(Data!$C$59=2,TRUNC(($A110*0.8-(AP167+0.1))/$P$87*2000*PI()*0.8,0),\"\"))","v":214},null,192,3840,{"v":0.098,"d":"0.10"},{"v":0.098,"d":"0.10"},{"v":0.1088888888888889,"d":"0.11"},{"$f":"IF(Data!$E$83=1,Data!$L$117+Data!$F$59+AZ167/Data!$L$116/Data!$E$59/Data!$L$115,Data!$E$90+Data!$F$59+AZ167/Data!$G$90/Data!$E$59/Data!$D$90)","v":{"v":0.1088888888888889,"d":"0.11"}},{"v":0.8006666666666667,"d":"0.80"},{"$f":"IF(Data!$C$59=1,TRUNC(($A110*0.9-AY167)/$P$86*2000*PI()*0.8,0),IF(Data!$C$59=2,TRUNC(($A110*0.8-(AY167+0.1))/$P$86*2000*PI()*0.8,0),\"\"))","v":1043},null,{"v":1.6755808351648354,"d":"1.68"},{"v":7307.4,"d":"7307"},{"v":1217.8999999999999,"d":"1218"},0.618444,{"$f":"IF(Data!$C$59=1,TRUNC(($A44*0.9-BI167)/$P$89*2000*PI()*0.8,0),IF(Data!$C$59=2,TRUNC(($A44*0.8-(BI167+0.1))/$P$89*2000*PI()*0.8,0),\"\"))","v":447},null,{"v":1.6755808351648354,"d":"1.68"},{"v":7307.4,"d":"7307"},{"v":487.15999999999997,"d":"487"},0.24050600000000003,{"$f":"IF(Data!$C$59=1,TRUNC(($A44*0.9-BO167)/$P$88*2000*PI()*0.8,0),IF(Data!$C$59=2,TRUNC(($A44*0.8-(BO167+0.1))/$P$88*2000*PI()*0.8,0),\"\"))","v":1592},null,{"v":1.6755808351648354,"d":"1.68"},{"v":7307.4,"d":"7307"},{"v":1217.8999999999999,"d":"1218"},0.4240275,{"$f":"IF(Data!$C$59=1,TRUNC(($A44*0.9-BU167)/$P$87*2000*PI()*0.8,0),IF(Data!$C$59=2,TRUNC(($A44*0.8-(BU167+0.1))/$P$87*2000*PI()*0.8,0),\"\"))","v":544},null,{"v":1.6755808351648354,"d":"1.68"},{"v":7307.4,"d":"7307"},{"v":365.37,"d":"365"},0.14134249999999998,{"$f":"IF(Data!$C$59=1,TRUNC(($A44*0.9-CA167)/$P$86*2000*PI()*0.8,0),IF(Data!$C$59=2,TRUNC(($A44*0.8-(CA167+0.1))/$P$86*2000*PI()*0.8,0),\"\"))","v":2289}]
[{"$nulls":20},{"v":666.6666666666667,"d":"667"},4000,0.42,0.42,{"v":0.4666666666666666,"d":"0.47"},{"$f":"IF(Data!$E$83=1,Data!$L$117+Data!$F$59+X168/Data!$L$116/Data!$E$59/Data!$L$115,Data!$E$90+Data!$F$59+X168/Data!$G$90/Data!$E$59/Data!$D$90)","v":{"v":0.4666666666666666,"d":"0.47"}},{"v":0.7967555555555557,"d":"0.80"},{"$f":"IF(Data!$C$59=1,TRUNC(($A111*0.9-W168)/$P$89*2000*PI()*0.8,0),IF(Data!$C$59=2,TRUNC(($A111*0.8-(W168+0.1))/$P$89*2000*PI()*0.8,0),\"\"))","v":149},null,null,{"v":266.6666666666667,"d":"267"},4000,{"v":0.16333333333333333,"d":"0.16"},{"v":0.16333333333333333,"d":"0.16"},{"v":0.18148148148148147,"d":"0.18"},{"$f":"IF(Data!$E$83=1,Data!$L$117+Data!$F$59+AH168/Data!$L$116/Data!$E$59/Data!$L$115,Data!$E$90+Data!$F$59+AH168/Data!$G$90/Data!$E$59/Data!$D$90)","v":{"v":0.18148148148148147,"d":"0.18"}},{"v":0.7967555555555557,"d":"0.80"},{"$f":"IF(Data!$C$59=1,TRUNC(($A111*0.9-AG168)/$P$88*2000*PI()*0.8,0),IF(Data!$C$59=2,TRUNC(($A111*0.8-(AG168+0.1))/$P$88*2000*PI()*0.8,0),\"\"))","v":695},null,{"v":666.6666666666667,"d":"667"},4000,{"v":0.3,"d":"0.30"},{"v":0.3,"d":"0.30"},{"v":0.3333333333333333,"d":"0.33"},{"$f":"IF(Data!$E$83=1,Data!$L$117+Data!$F$59+AQ168/Data!$L$116/Data!$E$59/Data!$L$115,Data!$E$90+Data!$F$59+AQ168/Data!$G$90/Data!$E$59/Data!$D$90)","v":{"v":0.3333333333333333,"d":"0.33"}},{"v":0.7967555555555557,"d":"0.80"},{"$f":"IF(Data!$C$59=1,TRUNC(($A111*0.9-AP168)/$P$87*2000*PI()*0.8,0),IF(Data!$C$59=2,TRUNC(($A111*0.8-(AP168+0.1))/$P$87*2000*PI()*0.8,0),\"\"))","v":209},null,200,4000,{"v":0.1,"d":"0.10"},{"v":0.1,"d":"0.10"},{"v":0.11111111111111112,"d":"0.11"},{"$f":"IF(Data!$E$83=1,Data!$L$117+Data!$F$59+AZ168/Data!$L$116/Data!$E$59/Data!$L$115,Data!$E$90+Data!$F$59+AZ168/Data!$G$90/Data!$E$59/Data!$D$90)","v":{"v":0.11111111111111112,"d":"0.11"}},{"v":0.7967555555555557,"d":"0.80"},{"$f":"IF(Data!$C$59=1,TRUNC(($A111*0.9-AY168)/$P$86*2000*PI()*0.8,0),IF(Data!$C$59=2,TRUNC(($A111*0.8-(AY168+0.1))/$P$86*2000*PI()*0.8,0),\"\"))","v":1033},null,{"v":1.6212754285714288,"d":"1.62"},{"v":7418.7,"d":"7419"},{"v":1236.45,"d":"1236"},0.625122,{"$f":"IF(Data!$C$59=1,TRUNC(($A45*0.9-BI168)/$P$89*2000*PI()*0.8,0),IF(Data!$C$59=2,TRUNC(($A45*0.8-(BI168+0.1))/$P$89*2000*PI()*0.8,0),\"\"))","v":419},null,{"v":1.6212754285714288,"d":"1.62"},{"v":7418.7,"d":"7419"},{"v":494.58,"d":"495"},0.24310300000000004,{"$f":"IF(Data!$C$59=1,TRUNC(($A45*0.9-BO168)/$P$88*2000*PI()*0.8,0),IF(Data!$C$59=2,TRUNC(($A45*0.8-(BO168+0.1))/$P$88*2000*PI()*0.8,0),\"\"))","v":1528},null,{"v":1.6212754285714288,"d":"1.62"},{"v":7418.7,"d":"7419"},{"v":1236.45,"d":"1236"},0.42820125,{"$f":"IF(Data!$C$59=1,TRUNC(($A45*0.9-BU168)/$P$87*2000*PI()*0.8,0),IF(Data!$C$59=2,TRUNC(($A45*0.8-(BU168+0.1))/$P$87*2000*PI()*0.8,0),\"\"))","v":518},null,{"v":1.6212754285714288,"d":"1.62"},{"v":7418.7,"d":"7419"},{"v":370.935,"d":"371"},0.14273375,{"$f":"IF(Data!$C$59=1,TRUNC(($A45*0.9-CA168)/$P$86*2000*PI()*0.8,0),IF(Data!$C$59=2,TRUNC(($A45*0.8-(CA168+0.1))/$P$86*2000*PI()*0.8,0),\"\"))","v":2205}]
[{"$nulls":20},{"v":693.3333333333333,"d":"693"},4160,{"v":0.4296,"d":"0.43"},{"v":0.4296,"d":"0.43"},{"v":0.4773333333333333,"d":"0.48"},{"$f":"IF(Data!$E$83=1,Data!$L$117+Data!$F$59+X169/Data!$L$116/Data!$E$59/Data!$L$115,Data!$E$90+Data!$F$59+X169/Data!$G$90/Data!$E$59/Data!$D$90)","v":{"v":0.4773333333333333,"d":"0.48"}},{"v":0.7928444444444446,"d":"0.79"},{"$f":"IF(Data!$C$59=1,TRUNC(($A112*0.9-W169)/$P$89*2000*PI()*0.8,0),IF(Data!$C$59=2,TRUNC(($A112*0.8-(W169+0.1))/$P$89*2000*PI()*0.8,0),\"\"))","v":142},null,null,{"v":277.3333333333333,"d":"277"},4160,{"v":0.1670666666666667,"d":"0.17"},{"v":0.1670666666666667,"d":"0.17"},{"v":0.18562962962962967,"d":"0.19"},{"$f":"IF(Data!$E$83=1,Data!$L$117+Data!$F$59+AH169/Data!$L$116/Data!$E$59/Data!$L$115,Data!$E$90+Data!$F$59+AH169/Data!$G$90/Data!$E$59/Data!$D$90)","v":{"v":0.18562962962962967,"d":"0.19"}},{"v":0.7928444444444446,"d":"0.79"},{"$f":"IF(Data!$C$59=1,TRUNC(($A112*0.9-AG169)/$P$88*2000*PI()*0.8,0),IF(Data!$C$59=2,TRUNC(($A112*0.8-(AG169+0.1))/$P$88*2000*PI()*0.8,0),\"\"))","v":686},null,{"v":693.3333333333333,"d":"693"},4160,{"v":0.306,"d":"0.31"},{"v":0.306,"d":"0.31"},{"v":0.33999999999999997,"d":"0.34"},{"$f":"IF(Data!$E$83=1,Data!$L$117+Data!$F$59+AQ169/Data!$L$116/Data!$E$59/Data!$L$115,Data!$E$90+Data!$F$59+AQ169/Data!$G$90/Data!$E$59/Data!$D$90)","v":{"v":0.33999999999999997,"d":"0.34"}},{"v":0.7928444444444446,"d":"0.79"},{"$f":"IF(Data!$C$59=1,TRUNC(($A112*0.9-AP169)/$P$87*2000*PI()*0.8,0),IF(Data!$C$59=2,TRUNC(($A112*0.8-(AP169+0.1))/$P$87*2000*PI()*0.8,0),\"\"))","v":204},null,208,4160,{"v":0.10200000000000001,"d":"0.10"},{"v":0.10200000000000001,"d":"0.10"},{"v":0.11333333333333334,"d":"0.11"},{"$f":"IF(Data!$E$83=1,Data!$L$117+Data!$F$59+AZ169/Data!$L$116/Data!$E$59/Data!$L$115,Data!$E$90+Data!$F$59+AZ169/Data!$G$90/Data!$E$59/Data!$D$90)","v":{"v":0.11333333333333334,"d":"0.11"}},{"v":0.7928444444444446,"d":"0.79"},{"$f":"IF(Data!$C$59=1,TRUNC(($A112*0.9-AY169)/$P$86*2000*PI()*0.8,0),IF(Data!$C$59=2,TRUNC(($A112*0.8-(AY169+0.1))/$P$86*2000*PI()*0.8,0),\"\"))","v":1024},null,{"v":1.5663736263736265,"d":"1.57"},{"v":7530.8,"d":"7531"},{"v":1255.1333333333334,"d":"1255"},0.631848,{"$f":"IF(Data!$C$59=1,TRUNC(($A46*0.9-BI169)/$P$89*2000*PI()*0.8,0),IF(Data!$C$59=2,TRUNC(($A46*0.8-(BI169+0.1))/$P$89*2000*PI()*0.8,0),\"\"))","v":391},null,{"v":1.5663736263736265,"d":"1.57"},{"v":7530.8,"d":"7531"},{"v":502.05333333333334,"d":"502"},0.2457186666666667,{"$f":"IF(Data!$C$59=1,TRUNC(($A46*0.9-BO169)/$P$88*2000*PI()*0.8,0),IF(Data!$C$59=2,TRUNC(($A46*0.8-(BO169+0.1))/$P$88*2000*PI()*0.8,0),\"\"))","v":1462},null,{"v":1.5663736263736265,"d":"1.57"},{"v":7530.8,"d":"7531"},{"v":1255.1333333333334,"d":"1255"},0.43240500000000004,{"$f":"IF(Data!$C$59=1,TRUNC(($A46*0.9-BU169)/$P$87*2000*PI()*0.8,0),IF(Data!$C$59=2,TRUNC(($A46*0.8-(BU169+0.1))/$P$87*2000*PI()*0.8,0),\"\"))","v":491},null,{"v":1.5663736263736265,"d":"1.57"},{"v":7530.8,"d":"7531"},{"v":376.54,"d":"377"},0.144135,{"$f":"IF(Data!$C$59=1,TRUNC(($A46*0.9-CA169)/$P$86*2000*PI()*0.8,0),IF(Data!$C$59=2,TRUNC(($A46*0.8-(CA169+0.1))/$P$86*2000*PI()*0.8,0),\"\"))","v":2120}]
[{"$nulls":20},720,4320,{"v":0.4392,"d":"0.44"},{"v":0.4392,"d":"0.44"},{"v":0.488,"d":"0.49"},{"$f":"IF(Data!$E$83=1,Data!$L$117+Data!$F$59+X170/Data!$L$116/Data!$E$59/Data!$L$115,Data!$E$90+Data!$F$59+X170/Data!$G$90/Data!$E$59/Data!$D$90)","v":{"v":0.488,"d":"0.49"}},{"v":0.7889333333333335,"d":"0.79"},{"$f":"IF(Data!$C$59=1,TRUNC(($A113*0.9-W170)/$P$89*2000*PI()*0.8,0),IF(Data!$C$59=2,TRUNC(($A113*0.8-(W170+0.1))/$P$89*2000*PI()*0.8,0),\"\"))","v":136},null,null,288,4320,{"v":0.1708,"d":"0.17"},{"v":0.1708,"d":"0.17"},{"v":0.18977777777777777,"d":"0.19"},{"$f":"IF(Data!$E$83=1,Data!$L$117+Data!$F$59+AH170/Data!$L$116/Data!$E$59/Data!$L$115,Data!$E$90+Data!$F$59+AH170/Data!$G$90/Data!$E$59/Data!$D$90)","v":{"v":0.18977777777777777,"d":"0.19"}},{"v":0.7889333333333335,"d":"0.79"},{"$f":"IF(Data!$C$59=1,TRUNC(($A113*0.9-AG170)/$P$88*2000*PI()*0.8,0),IF(Data!$C$59=2,TRUNC(($A113*0.8-(AG170+0.1))/$P$88*2000*PI()*0.8,0),\"\"))","v":677},null,720,4320,{"v":0.312,"d":"0.31"},{"v":0.312,"d":"0.31"},{"v":0.3466666666666667,"d":"0.35"},{"$f":"IF(Data!$E$83=1,Data!$L$117+Data!$F$59+AQ170/Data!$L$116/Data!$E$59/Data!$L$115,Data!$E$90+Data!$F$59+AQ170/Data!$G$90/Data!$E$59/Data!$D$90)","v":{"v":0.3466666666666667,"d":"0.35"}},{"v":0.7889333333333335,"d":"0.79"},{"$f":"IF(Data!$C$59=1,TRUNC(($A113*0.9-AP170)/$P$87*2000*PI()*0.8,0),IF(Data!$C$59=2,TRUNC(($A113*0.8-(AP170+0.1))/$P$87*2000*PI()*0.8,0),\"\"))","v":200},null,216,4320,{"v":0.10400000000000001,"d":"0.10"},{"v":0.10400000000000001,"d":"0.10"},{"v":0.11555555555555556,"d":"0.12"},{"$f":"IF(Data!$E$83=1,Data!$L$117+Data!$F$59+AZ170/Data!$L$116/Data!$E$59/Data!$L$115,Data!$E$90+Data!$F$59+AZ170/Data!$G$90/Data!$E$59/Data!$D$90)","v":{"v":0.11555555555555556,"d":"0.12"}},{"v":0.7889333333333335,"d":"0.79"},{"$f":"IF(Data!$C$59=1,TRUNC(($A113*0.9-AY170)/$P$86*2000*PI()*0.8,0),IF(Data!$C$59=2,TRUNC(($A113*0.8-(AY170+0.1))/$P$86*2000*PI()*0.8,0),\"\"))","v":1015},null,{"v":1.5108754285714285,"d":"1.51"},{"v":7643.7,"d":"7644"},{"v":1273.95,"d":"1274"},0.638622,{"$f":"IF(Data!$C$59=1,TRUNC(($A47*0.9-BI170)/$P$89*2000*PI()*0.8,0),IF(Data!$C$59=2,TRUNC(($A47*0.8-(BI170+0.1))/$P$89*2000*PI()*0.8,0),\"\"))","v":362},null,{"v":1.5108754285714285,"d":"1.51"},{"v":7643.7,"d":"7644"},{"v":509.58,"d":"510"},0.24835300000000002,{"$f":"IF(Data!$C$59=1,TRUNC(($A47*0.9-BO170)/$P$88*2000*PI()*0.8,0),IF(Data!$C$59=2,TRUNC(($A47*0.8-(BO170+0.1))/$P$88*2000*PI()*0.8,0),\"\"))","v":1396},null,{"v":1.5108754285714285,"d":"1.51"},{"v":7643.7,"d":"7644"},{"v":1273.95,"d":"1274"},0.43663874999999996,{"$f":"IF(Data!$C$59=1,TRUNC(($A47*0.9-BU170)/$P$87*2000*PI()*0.8,0),IF(Data!$C$59=2,TRUNC(($A47*0.8-(BU170+0.1))/$P$87*2000*PI()*0.8,0),\"\"))","v":464},null,{"v":1.5108754285714285,"d":"1.51"},{"v":7643.7,"d":"7644"},{"v":382.185,"d":"382"},0.14554625,{"$f":"IF(Data!$C$59=1,TRUNC(($A47*0.9-CA170)/$P$86*2000*PI()*0.8,0),IF(Data!$C$59=2,TRUNC(($A47*0.8-(CA170+0.1))/$P$86*2000*PI()*0.8,0),\"\"))","v":2034}]
[{"$nulls":20},{"v":746.6666666666667,"d":"747"},4480,{"v":0.4488,"d":"0.45"},{"v":0.4488,"d":"0.45"},{"v":0.49866666666666665,"d":"0.50"},{"$f":"IF(Data!$E$83=1,Data!$L$117+Data!$F$59+X171/Data!$L$116/Data!$E$59/Data!$L$115,Data!$E$90+Data!$F$59+X171/Data!$G$90/Data!$E$59/Data!$D$90)","v":{"v":0.49866666666666665,"d":"0.50"}},{"v":0.7850222222222224,"d":"0.79"},{"$f":"IF(Data!$C$59=1,TRUNC(($A114*0.9-W171)/$P$89*2000*PI()*0.8,0),IF(Data!$C$59=2,TRUNC(($A114*0.8-(W171+0.1))/$P$89*2000*PI()*0.8,0),\"\"))","v":129},null,null,{"v":298.6666666666667,"d":"299"},4480,{"v":0.17453333333333337,"d":"0.17"},{"v":0.17453333333333337,"d":"0.17"},{"v":0.19392592592592597,"d":"0.19"},{"$f":"IF(Data!$E$83=1,Data!$L$117+Data!$F$59+AH171/Data!$L$116/Data!$E$59/Data!$L$115,Data!$E$90+Data!$F$59+AH171/Data!$G$90/Data!$E$59/Data!$D$90)","v":{"v":0.19392592592592597,"d":"0.19"}},{"v":0.7850222222222224,"d":"0.79"},{"$f":"IF(Data!$C$59=1,TRUNC(($A114*0.9-AG171)/$P$88*2000*PI()*0.8,0),IF(Data!$C$59=2,TRUNC(($A114*0.8-(AG171+0.1))/$P$88*2000*PI()*0.8,0),\"\"))","v":668},null,{"v":746.6666666666667,"d":"747"},4480,{"v":0.318,"d":"0.32"},{"v":0.318,"d":"0.32"},{"v":0.35333333333333333,"d":"0.35"},{"$f":"IF(Data!$E$83=1,Data!$L$117+Data!$F$59+AQ171/Data!$L$116/Data!$E$59/Data!$L$115,Data!$E$90+Data!$F$59+AQ171/Data!$G$90/Data!$E$59/Data!$D$90)","v":{"v":0.35333333333333333,"d":"0.35"}},{"v":0.7850222222222224,"d":"0.79"},{"$f":"IF(Data!$C$59=1,TRUNC(($A114*0.9-AP171)/$P$87*2000*PI()*0.8,0),IF(Data!$C$59=2,TRUNC(($A114*0.8-(AP171+0.1))/$P$87*2000*PI()*0.8,0),\"\"))","v":195},null,224,4480,{"v":0.10600000000000001,"d":"0.11"},{"v":0.10600000000000001,"d":"0.11"},{"v":0.11777777777777779,"d":"0.12"},{"$f":"IF(Data!$E$83=1,Data!$L$117+Data!$F$59+AZ171/Data!$L$116/Data!$E$59/Data!$L$115,Data!$E$90+Data!$F$59+AZ171/Data!$G$90/Data!$E$59/Data!$D$90)","v":{"v":0.11777777777777779,"d":"0.12"}},{"v":0.7850222222222224,"d":"0.79"},{"$f":"IF(Data!$C$59=1,TRUNC(($A114*0.9-AY171)/$P$86*2000*PI()*0.8,0),IF(Data!$C$59=2,TRUNC(($A114*0.8-(AY171+0.1))/$P$86*2000*PI()*0.8,0),\"\"))","v":1006},null,{"v":1.4547808351648353,"d":"1.45"},{"v":7757.2,"d":"7757"},{"v":1292.8666666666666,"d":"1293"},0.645432,{"$f":"IF(Data!$C$59=1,TRUNC(($A48*0.9-BI171)/$P$89*2000*PI()*0.8,0),IF(Data!$C$59=2,TRUNC(($A48*0.8-(BI171+0.1))/$P$89*2000*PI()*0.8,0),\"\"))","v":333},null,{"v":1.4547808351648353,"d":"1.45"},{"v":7757.2,"d":"7757"},{"v":517.1466666666666,"d":"517"},0.25100133333333335,{"$f":"IF(Data!$C$59=1,TRUNC(($A48*0.9-BO171)/$P$88*2000*PI()*0.8,0),IF(Data!$C$59=2,TRUNC(($A48*0.8-(BO171+0.1))/$P$88*2000*PI()*0.8,0),\"\"))","v":1329},null,{"v":1.4547808351648353,"d":"1.45"},{"v":7757.2,"d":"7757"},{"v":1292.8666666666666,"d":"1293"},0.44089500000000004,{"$f":"IF(Data!$C$59=1,TRUNC(($A48*0.9-BU171)/$P$87*2000*PI()*0.8,0),IF(Data!$C$59=2,TRUNC(($A48*0.8-(BU171+0.1))/$P$87*2000*PI()*0.8,0),\"\"))","v":436},null,{"v":1.4547808351648353,"d":"1.45"},{"v":7757.2,"d":"7757"},{"v":387.86,"d":"388"},0.146965,{"$f":"IF(Data!$C$59=1,TRUNC(($A48*0.9-CA171)/$P$86*2000*PI()*0.8,0),IF(Data!$C$59=2,TRUNC(($A48*0.8-(CA171+0.1))/$P$86*2000*PI()*0.8,0),\"\"))","v":1947}]
[{"$nulls":20},{"v":773.3333333333333,"d":"773"},4640,{"v":0.4584,"d":"0.46"},{"v":0.4584,"d":"0.46"},{"v":0.5093333333333333,"d":"0.51"},{"$f":"IF(Data!$E$83=1,Data!$L$117+Data!$F$59+X172/Data!$L$116/Data!$E$59/Data!$L$115,Data!$E$90+Data!$F$59+X172/Data!$G$90/Data!$E$59/Data!$D$90)","v":{"v":0.5093333333333333,"d":"0.51"}},{"v":0.7811111111111113,"d":"0.78"},{"$f":"IF(Data!$C$59=1,TRUNC(($A115*0.9-W172)/$P$89*2000*PI()*0.8,0),IF(Data!$C$59=2,TRUNC(($A115*0.8-(W172+0.1))/$P$89*2000*PI()*0.8,0),\"\"))","v":122},null,null,{"v":309.3333333333333,"d":"309"},4640,{"v":0.17826666666666668,"d":"0.18"},{"v":0.17826666666666668,"d":"0.18"},{"v":0.1980740740740741,"d":"0.20"},{"$f":"IF(Data!$E$83=1,Data!$L$117+Data!$F$59+AH172/Data!$L$116/Data!$E$59/Data!$L$115,Data!$E$90+Data!$F$59+AH172/Data!$G$90/Data!$E$59/Data!$D$90)","v":{"v":0.1980740740740741,"d":"0.20"}},{"v":0.7811111111111113,"d":"0.78"},{"$f":"IF(Data!$C$59=1,TRUNC(($A115*0.9-AG172)/$P$88*2000*PI()*0.8,0),IF(Data!$C$59=2,TRUNC(($A115*0.8-(AG172+0.1))/$P$88*2000*PI()*0.8,0),\"\"))","v":659},null,{"v":773.3333333333333,"d":"773"},4640,{"v":0.32399999999999995,"d":"0.32"},{"v":0.32399999999999995,"d":"0.32"},{"v":0.35999999999999993,"d":"0.36"},{"$f":"IF(Data!$E$83=1,Data!$L$117+Data!$F$59+AQ172/Data!$L$116/Data!$E$59/Data!$L$115,Data!$E$90+Data!$F$59+AQ172/Data!$G$90/Data!$E$59/Data!$D$90)","v":{"v":0.35999999999999993,"d":"0.36"}},{"v":0.7811111111111113,"d":"0.78"},{"$f":"IF(Data!$C$59=1,TRUNC(($A115*0.9-AP172)/$P$87*2000*PI()*0.8,0),IF(Data!$C$59=2,TRUNC(($A115*0.8-(AP172+0.1))/$P$87*2000*PI()*0.8,0),\"\"))","v":190},null,232,4640,{"v":0.108,"d":"0.11"},{"v":0.108,"d":"0.11"},0.12,{"$f":"IF(Data!$E$83=1,Data!$L$117+Data!$F$59+AZ172/Data!$L$116/Data!$E$59/Data!$L$115,Data!$E$90+Data!$F$59+AZ172/Data!$G$90/Data!$E$59/Data!$D$90)","v":0.12},{"v":0.7811111111111113,"d":"0.78"},{"$f":"IF(Data!$C$59=1,TRUNC(($A115*0.9-AY172)/$P$86*2000*PI()*0.8,0),IF(Data!$C$59=2,TRUNC(($A115*0.8-(AY172+0.1))/$P$86*2000*PI()*0.8,0),\"\"))","v":996},null,{"v":1.398089846153846,"d":"1.40"},{"v":7871.1,"d":"7871"},{"v":1311.85,"d":"1312"},0.652266,{"$f":"IF(Data!$C$59=1,TRUNC(($A49*0.9-BI172)/$P$89*2000*PI()*0.8,0),IF(Data!$C$59=2,TRUNC(($A49*0.8-(BI172+0.1))/$P$89*2000*PI()*0.8,0),\"\"))","v":304},null,{"v":1.398089846153846,"d":"1.40"},{"v":7871.1,"d":"7871"},{"v":524.74,"d":"525"},0.253659,{"$f":"IF(Data!$C$59=1,TRUNC(($A49*0.9-BO172)/$P$88*2000*PI()*0.8,0),IF(Data!$C$59=2,TRUNC(($A49*0.8-(BO172+0.1))/$P$88*2000*PI()*0.8,0),\"\"))","v":1262},null,{"v":1.398089846153846,"d":"1.40"},{"v":7871.1,"d":"7871"},{"v":1311.85,"d":"1312"},0.44516625,{"$f":"IF(Data!$C$59=1,TRUNC(($A49*0.9-BU172)/$P$87*2000*PI()*0.8,0),IF(Data!$C$59=2,TRUNC(($A49*0.8-(BU172+0.1))/$P$87*2000*PI()*0.8,0),\"\"))","v":408},null,{"v":1.398089846153846,"d":"1.40"},{"v":7871.1,"d":"7871"},{"v":393.555,"d":"394"},0.14838875,{"$f":"IF(Data!$C$59=1,TRUNC(($A49*0.9-CA172)/$P$86*2000*PI()*0.8,0),IF(Data!$C$59=2,TRUNC(($A49*0.8-(CA172+0.1))/$P$86*2000*PI()*0.8,0),\"\"))","v":1859}]
[{"$nulls":20},800,4800,{"v":0.46799999999999997,"d":"0.47"},{"v":0.46799999999999997,"d":"0.47"},{"v":0.5199999999999999,"d":"0.52"},{"$f":"IF(Data!$E$83=1,Data!$L$117+Data!$F$59+X173/Data!$L$116/Data!$E$59/Data!$L$115,Data!$E$90+Data!$F$59+X173/Data!$G$90/Data!$E$59/Data!$D$90)","v":{"v":0.5199999999999999,"d":"0.52"}},{"v":0.7772000000000002,"d":"0.78"},{"$f":"IF(Data!$C$59=1,TRUNC(($A116*0.9-W173)/$P$89*2000*PI()*0.8,0),IF(Data!$C$59=2,TRUNC(($A116*0.8-(W173+0.1))/$P$89*2000*PI()*0.8,0),\"\"))","v":116},null,null,320,4800,{"v":0.18200000000000002,"d":"0.18"},{"v":0.18200000000000002,"d":"0.18"},{"v":0.20222222222222225,"d":"0.20"},{"$f":"IF(Data!$E$83=1,Data!$L$117+Data!$F$59+AH173/Data!$L$116/Data!$E$59/Data!$L$115,Data!$E$90+Data!$F$59+AH173/Data!$G$90/Data!$E$59/Data!$D$90)","v":{"v":0.20222222222222225,"d":"0.20"}},{"v":0.7772000000000002,"d":"0.78"},{"$f":"IF(Data!$C$59=1,TRUNC(($A116*0.9-AG173)/$P$88*2000*PI()*0.8,0),IF(Data!$C$59=2,TRUNC(($A116*0.8-(AG173+0.1))/$P$88*2000*PI()*0.8,0),\"\"))","v":650},null,800,4800,{"v":0.32999999999999996,"d":"0.33"},{"v":0.32999999999999996,"d":"0.33"},{"v":0.36666666666666664,"d":"0.37"},{"$f":"IF(Data!$E$83=1,Data!$L$117+Data!$F$59+AQ173/Data!$L$116/Data!$E$59/Data!$L$115,Data!$E$90+Data!$F$59+AQ173/Data!$G$90/Data!$E$59/Data!$D$90)","v":{"v":0.36666666666666664,"d":"0.37"}},{"v":0.7772000000000002,"d":"0.78"},{"$f":"IF(Data!$C$59=1,TRUNC(($A116*0.9-AP173)/$P$87*2000*PI()*0.8,0),IF(Data!$C$59=2,TRUNC(($A116*0.8-(AP173+0.1))/$P$87*2000*PI()*0.8,0),\"\"))","v":185},null,240,4800,0.11,0.11,{"v":0.12222222222222222,"d":"0.12"},{"$f":"IF(Data!$E$83=1,Data!$L$117+Data!$F$59+AZ173/Data!$L$116/Data!$E$59/Data!$L$115,Data!$E$90+Data!$F$59+AZ173/Data!$G$90/Data!$E$59/Data!$D$90)","v":{"v":0.12222222222222222,"d":"0.12"}},{"v":0.7772000000000002,"d":"0.78"},{"$f":"IF(Data!$C$59=1,TRUNC(($A116*0.9-AY173)/$P$86*2000*PI()*0.8,0),IF(Data!$C$59=2,TRUNC(($A116*0.8-(AY173+0.1))/$P$86*2000*PI()*0.8,0),\"\"))","v":987},null,{"v":1.3408024615384615,"d":"1.34"},{"v":7985.2,"d":"7985"},{"v":1330.8666666666668,"d":"1331"},0.6591119999999999,{"$f":"IF(Data!$C$59=1,TRUNC(($A50*0.9-BI173)/$P$89*2000*PI()*0.8,0),IF(Data!$C$59=2,TRUNC(($A50*0.8-(BI173+0.1))/$P$89*2000*PI()*0.8,0),\"\"))","v":275},null,{"v":1.3408024615384615,"d":"1.34"},{"v":7985.2,"d":"7985"},{"v":532.3466666666667,"d":"532"},0.25632133333333335,{"$f":"IF(Data!$C$59=1,TRUNC(($A50*0.9-BO173)/$P$88*2000*PI()*0.8,0),IF(Data!$C$59=2,TRUNC(($A50*0.8-(BO173+0.1))/$P$88*2000*PI()*0.8,0),\"\"))","v":1194},null,{"v":1.3408024615384615,"d":"1.34"},{"v":7985.2,"d":"7985"},{"v":1330.8666666666668,"d":"1331"},0.449445,{"$f":"IF(Data!$C$59=1,TRUNC(($A50*0.9-BU173)/$P$87*2000*PI()*0.8,0),IF(Data!$C$59=2,TRUNC(($A50*0.8-(BU173+0.1))/$P$87*2000*PI()*0.8,0),\"\"))","v":380},null,{"v":1.3408024615384615,"d":"1.34"},{"v":7985.2,"d":"7985"},{"v":399.26,"d":"399"},0.149815,{"$f":"IF(Data!$C$59=1,TRUNC(($A50*0.9-CA173)/$P$86*2000*PI()*0.8,0),IF(Data!$C$59=2,TRUNC(($A50*0.8-(CA173+0.1))/$P$86*2000*PI()*0.8,0),\"\"))","v":1770}]
[{"$nulls":20},{"v":826.6666666666667,"d":"827"},4960,{"v":0.47759999999999997,"d":"0.48"},{"v":0.47759999999999997,"d":"0.48"},{"v":0.5306666666666666,"d":"0.53"},{"$f":"IF(Data!$E$83=1,Data!$L$117+Data!$F$59+X174/Data!$L$116/Data!$E$59/Data!$L$115,Data!$E$90+Data!$F$59+X174/Data!$G$90/Data!$E$59/Data!$D$90)","v":{"v":0.5306666666666666,"d":"0.53"}},{"v":0.7732888888888891,"d":"0.77"},{"$f":"IF(Data!$C$59=1,TRUNC(($A117*0.9-W174)/$P$89*2000*PI()*0.8,0),IF(Data!$C$59=2,TRUNC(($A117*0.8-(W174+0.1))/$P$89*2000*PI()*0.8,0),\"\"))","v":109},null,null,{"v":330.6666666666667,"d":"331"},4960,{"v":0.18573333333333336,"d":"0.19"},{"v":0.18573333333333336,"d":"0.19"},{"v":0.2063703703703704,"d":"0.21"},{"$f":"IF(Data!$E$83=1,Data!$L$117+Data!$F$59+AH174/Data!$L$116/Data!$E$59/Data!$L$115,Data!$E$90+Data!$F$59+AH174/Data!$G$90/Data!$E$59/Data!$D$90)","v":{"v":0.2063703703703704,"d":"0.21"}},{"v":0.7732888888888891,"d":"0.77"},{"$f":"IF(Data!$C$59=1,TRUNC(($A117*0.9-AG174)/$P$88*2000*PI()*0.8,0),IF(Data!$C$59=2,TRUNC(($A117*0.8-(AG174+0.1))/$P$88*2000*PI()*0.8,0),\"\"))","v":641},null,{"v":826.6666666666667,"d":"827"},4960,{"v":0.33599999999999997,"d":"0.34"},{"v":0.33599999999999997,"d":"0.34"},{"v":0.3733333333333333,"d":"0.37"},{"$f":"IF(Data!$E$83=1,Data!$L$117+Data!$F$59+AQ174/Data!$L$116/Data!$E$59/Data!$L$115,Data!$E$90+Data!$F$59+AQ174/Data!$G$90/Data!$E$59/Data!$D$90)","v":{"v":0.3733333333333333,"d":"0.37"}},{"v":0.7732888888888891,"d":"0.77"},{"$f":"IF(Data!$C$59=1,TRUNC(($A117*0.9-AP174)/$P$87*2000*PI()*0.8,0),IF(Data!$C$59=2,TRUNC(($A117*0.8-(AP174+0.1))/$P$87*2000*PI()*0.8,0),\"\"))","v":180},null,248,4960,{"v":0.112,"d":"0.11"},{"v":0.112,"d":"0.11"},{"v":0.12444444444444444,"d":"0.12"},{"$f":"IF(Data!$E$83=1,Data!$L$117+Data!$F$59+AZ174/Data!$L$116/Data!$E$59/Data!$L$115,Data!$E$90+Data!$F$59+AZ174/Data!$G$90/Data!$E$59/Data!$D$90)","v":{"v":0.12444444444444444,"d":"0.12"}},{"v":0.7732888888888891,"d":"0.77"},{"$f":"IF(Data!$C$59=1,TRUNC(($A117*0.9-AY174)/$P$86*2000*PI()*0.8,0),IF(Data!$C$59=2,TRUNC(($A117*0.8-(AY174+0.1))/$P$86*2000*PI()*0.8,0),\"\"))","v":978},null,{"v":1.2829186813186786,"d":"1.28"},8000,{"v":1333.3333333333335,"d":"1333"},0.6599999999999999,{"$f":"IF(Data!$C$59=1,TRUNC(($A51*0.9-BI174)/$P$89*2000*PI()*0.8,0),IF(Data!$C$59=2,TRUNC(($A51*0.8-(BI174+0.1))/$P$89*2000*PI()*0.8,0),\"\"))","v":248},null,{"v":1.2829186813186786,"d":"1.28"},8000,{"v":533.3333333333334,"d":"533"},0.2566666666666667,{"$f":"IF(Data!$C$59=1,TRUNC(($A51*0.9-BO174)/$P$88*2000*PI()*0.8,0),IF(Data!$C$59=2,TRUNC(($A51*0.8-(BO174+0.1))/$P$88*2000*PI()*0.8,0),\"\"))","v":1128},null,{"v":1.2829186813186786,"d":"1.28"},8000,{"v":1333.3333333333335,"d":"1333"},0.44999999999999996,{"$f":"IF(Data!$C$59=1,TRUNC(($A51*0.9-BU174)/$P$87*2000*PI()*0.8,0),IF(Data!$C$59=2,TRUNC(($A51*0.8-(BU174+0.1))/$P$87*2000*PI()*0.8,0),\"\"))","v":354},null,{"v":1.2829186813186786,"d":"1.28"},8000,400,0.15000000000000002,{"$f":"IF(Data!$C$59=1,TRUNC(($A51*0.9-CA174)/$P$86*2000*PI()*0.8,0),IF(Data!$C$59=2,TRUNC(($A51*0.8-(CA174+0.1))/$P$86*2000*PI()*0.8,0),\"\"))","v":1683}]
[{"$nulls":20},{"v":853.3333333333333,"d":"853"},5120,{"v":0.4872,"d":"0.49"},{"v":0.4872,"d":"0.49"},{"v":0.5413333333333333,"d":"0.54"},{"$f":"IF(Data!$E$83=1,Data!$L$117+Data!$F$59+X175/Data!$L$116/Data!$E$59/Data!$L$115,Data!$E$90+Data!$F$59+X175/Data!$G$90/Data!$E$59/Data!$D$90)","v":{"v":0.5413333333333333,"d":"0.54"}},{"v":0.769377777777778,"d":"0.77"},{"$f":"IF(Data!$C$59=1,TRUNC(($A118*0.9-W175)/$P$89*2000*PI()*0.8,0),IF(Data!$C$59=2,TRUNC(($A118*0.8-(W175+0.1))/$P$89*2000*PI()*0.8,0),\"\"))","v":103},null,null,{"v":341.3333333333333,"d":"341"},5120,{"v":0.18946666666666667,"d":"0.19"},{"v":0.18946666666666667,"d":"0.19"},{"v":0.21051851851851852,"d":"0.21"},{"$f":"IF(Data!$E$83=1,Data!$L$117+Data!$F$59+AH175/Data!$L$116/Data!$E$59/Data!$L$115,Data!$E$90+Data!$F$59+AH175/Data!$G$90/Data!$E$59/Data!$D$90)","v":{"v":0.21051851851851852,"d":"0.21"}},{"v":0.769377777777778,"d":"0.77"},{"$f":"IF(Data!$C$59=1,TRUNC(($A118*0.9-AG175)/$P$88*2000*PI()*0.8,0),IF(Data!$C$59=2,TRUNC(($A118*0.8-(AG175+0.1))/$P$88*2000*PI()*0.8,0),\"\"))","v":632},null,{"v":853.3333333333333,"d":"853"},5120,{"v":0.34199999999999997,"d":"0.34"},{"v":0.34199999999999997,"d":"0.34"},{"v":0.37999999999999995,"d":"0.38"},{"$f":"IF(Data!$E$83=1,Data!$L$117+Data!$F$59+AQ175/Data!$L$116/Data!$E$59/Data!$L$115,Data!$E$90+Data!$F$59+AQ175/Data!$G$90/Data!$E$59/Data!$D$90)","v":{"v":0.37999999999999995,"d":"0.38"}},{"v":0.769377777777778,"d":"0.77"},{"$f":"IF(Data!$C$59=1,TRUNC(($A118*0.9-AP175)/$P$87*2000*PI()*0.8,0),IF(Data!$C$59=2,TRUNC(($A118*0.8-(AP175+0.1))/$P$87*2000*PI()*0.8,0),\"\"))","v":176},null,256,5120,{"v":0.114,"d":"0.11"},{"v":0.114,"d":"0.11"},{"v":0.12666666666666668,"d":"0.13"},{"$f":"IF(Data!$E$83=1,Data!$L$117+Data!$F$59+AZ175/Data!$L$116/Data!$E$59/Data!$L$115,Data!$E$90+Data!$F$59+AZ175/Data!$G$90/Data!$E$59/Data!$D$90)","v":{"v":0.12666666666666668,"d":"0.13"}},{"v":0.769377777777778,"d":"0.77"},{"$f":"IF(Data!$C$59=1,TRUNC(($A118*0.9-AY175)/$P$86*2000*PI()*0.8,0),IF(Data!$C$59=2,TRUNC(($A118*0.8-(AY175+0.1))/$P$86*2000*PI()*0.8,0),\"\"))","v":969},null,{"v":1.2244385054945026,"d":"1.22"},8000,{"v":1333.3333333333335,"d":"1333"},0.6599999999999999,{"$f":"IF(Data!$C$59=1,TRUNC(($A52*0.9-BI175)/$P$89*2000*PI()*0.8,0),IF(Data!$C$59=2,TRUNC(($A52*0.8-(BI175+0.1))/$P$89*2000*PI()*0.8,0),\"\"))","v":222},null,{"v":1.2244385054945026,"d":"1.22"},8000,{"v":533.3333333333334,"d":"533"},0.2566666666666667,{"$f":"IF(Data!$C$59=1,TRUNC(($A52*0.9-BO175)/$P$88*2000*PI()*0.8,0),IF(Data!$C$59=2,TRUNC(($A52*0.8-(BO175+0.1))/$P$88*2000*PI()*0.8,0),\"\"))","v":1062},null,{"v":1.2244385054945026,"d":"1.22"},8000,{"v":1333.3333333333335,"d":"1333"},0.44999999999999996,{"$f":"IF(Data!$C$59=1,TRUNC(($A52*0.9-BU175)/$P$87*2000*PI()*0.8,0),IF(Data!$C$59=2,TRUNC(($A52*0.8-(BU175+0.1))/$P$87*2000*PI()*0.8,0),\"\"))","v":327},null,{"v":1.2244385054945026,"d":"1.22"},8000,400,0.15000000000000002,{"$f":"IF(Data!$C$59=1,TRUNC(($A52*0.9-CA175)/$P$86*2000*PI()*0.8,0),IF(Data!$C$59=2,TRUNC(($A52*0.8-(CA175+0.1))/$P$86*2000*PI()*0.8,0),\"\"))","v":1595}]
[{"$nulls":20},880,5280,{"v":0.49679999999999996,"d":"0.50"},{"v":0.49679999999999996,"d":"0.50"},{"v":0.5519999999999999,"d":"0.55"},{"$f":"IF(Data!$E$83=1,Data!$L$117+Data!$F$59+X176/Data!$L$116/Data!$E$59/Data!$L$115,Data!$E$90+Data!$F$59+X176/Data!$G$90/Data!$E$59/Data!$D$90)","v":{"v":0.5519999999999999,"d":"0.55"}},{"v":0.765466666666667,"d":"0.77"},{"$f":"IF(Data!$C$59=1,TRUNC(($A119*0.9-W176)/$P$89*2000*PI()*0.8,0),IF(Data!$C$59=2,TRUNC(($A119*0.8-(W176+0.1))/$P$89*2000*PI()*0.8,0),\"\"))","v":96},null,null,352,5280,{"v":0.19320000000000004,"d":"0.19"},{"v":0.19320000000000004,"d":"0.19"},{"v":0.2146666666666667,"d":"0.21"},{"$f":"IF(Data!$E$83=1,Data!$L$117+Data!$F$59+AH176/Data!$L$116/Data!$E$59/Data!$L$115,Data!$E$90+Data!$F$59+AH176/Data!$G$90/Data!$E$59/Data!$D$90)","v":{"v":0.2146666666666667,"d":"0.21"}},{"v":0.765466666666667,"d":"0.77"},{"$f":"IF(Data!$C$59=1,TRUNC(($A119*0.9-AG176)/$P$88*2000*PI()*0.8,0),IF(Data!$C$59=2,TRUNC(($A119*0.8-(AG176+0.1))/$P$88*2000*PI()*0.8,0),\"\"))","v":622},null,880,5280,{"v":0.348,"d":"0.35"},{"v":0.348,"d":"0.35"},{"v":0.3866666666666666,"d":"0.39"},{"$f":"IF(Data!$E$83=1,Data!$L$117+Data!$F$59+AQ176/Data!$L$116/Data!$E$59/Data!$L$115,Data!$E$90+Data!$F$59+AQ176/Data!$G$90/Data!$E$59/Data!$D$90)","v":{"v":0.3866666666666666,"d":"0.39"}},{"v":0.765466666666667,"d":"0.77"},{"$f":"IF(Data!$C$59=1,TRUNC(($A119*0.9-AP176)/$P$87*2000*PI()*0.8,0),IF(Data!$C$59=2,TRUNC(($A119*0.8-(AP176+0.1))/$P$87*2000*PI()*0.8,0),\"\"))","v":171},null,264,5280,{"v":0.116,"d":"0.12"},{"v":0.116,"d":"0.12"},{"v":0.1288888888888889,"d":"0.13"},{"$f":"IF(Data!$E$83=1,Data!$L$117+Data!$F$59+AZ176/Data!$L$116/Data!$E$59/Data!$L$115,Data!$E$90+Data!$F$59+AZ176/Data!$G$90/Data!$E$59/Data!$D$90)","v":{"v":0.1288888888888889,"d":"0.13"}},{"v":0.765466666666667,"d":"0.77"},{"$f":"IF(Data!$C$59=1,TRUNC(($A119*0.9-AY176)/$P$86*2000*PI()*0.8,0),IF(Data!$C$59=2,TRUNC(($A119*0.8-(AY176+0.1))/$P$86*2000*PI()*0.8,0),\"\"))","v":959},null,{"v":1.1653619340659311,"d":"1.17"},8000,{"v":1333.3333333333335,"d":"1333"},0.6599999999999999,{"$f":"IF(Data!$C$59=1,TRUNC(($A53*0.9-BI176)/$P$89*2000*PI()*0.8,0),IF(Data!$C$59=2,TRUNC(($A53*0.8-(BI176+0.1))/$P$89*2000*PI()*0.8,0),\"\"))","v":195},null,{"v":1.1653619340659311,"d":"1.17"},8000,{"v":533.3333333333334,"d":"533"},0.2566666666666667,{"$f":"IF(Data!$C$59=1,TRUNC(($A53*0.9-BO176)/$P$88*2000*PI()*0.8,0),IF(Data!$C$59=2,TRUNC(($A53*0.8-(BO176+0.1))/$P$88*2000*PI()*0.8,0),\"\"))","v":995},null,{"v":1.1653619340659311,"d":"1.17"},8000,{"v":1333.3333333333335,"d":"1333"},0.44999999999999996,{"$f":"IF(Data!$C$59=1,TRUNC(($A53*0.9-BU176)/$P$87*2000*PI()*0.8,0),IF(Data!$C$59=2,TRUNC(($A53*0.8-(BU176+0.1))/$P$87*2000*PI()*0.8,0),\"\"))","v":301},null,{"v":1.1653619340659311,"d":"1.17"},8000,400,0.15000000000000002,{"$f":"IF(Data!$C$59=1,TRUNC(($A53*0.9-CA176)/$P$86*2000*PI()*0.8,0),IF(Data!$C$59=2,TRUNC(($A53*0.8-(CA176+0.1))/$P$86*2000*PI()*0.8,0),\"\"))","v":1505}]
[{"$nulls":20},{"v":906.6666666666667,"d":"907"},5440,{"v":0.5064,"d":"0.51"},{"v":0.5064,"d":"0.51"},{"v":0.5626666666666666,"d":"0.56"},{"$f":"IF(Data!$E$83=1,Data!$L$117+Data!$F$59+X177/Data!$L$116/Data!$E$59/Data!$L$115,Data!$E$90+Data!$F$59+X177/Data!$G$90/Data!$E$59/Data!$D$90)","v":{"v":0.5626666666666666,"d":"0.56"}},{"v":0.7615555555555559,"d":"0.76"},{"$f":"IF(Data!$C$59=1,TRUNC(($A120*0.9-W177)/$P$89*2000*PI()*0.8,0),IF(Data!$C$59=2,TRUNC(($A120*0.8-(W177+0.1))/$P$89*2000*PI()*0.8,0),\"\"))","v":89},null,null,{"v":362.6666666666667,"d":"363"},5440,{"v":0.19693333333333335,"d":"0.20"},{"v":0.19693333333333335,"d":"0.20"},{"v":0.21881481481481482,"d":"0.22"},{"$f":"IF(Data!$E$83=1,Data!$L$117+Data!$F$59+AH177/Data!$L$116/Data!$E$59/Data!$L$115,Data!$E$90+Data!$F$59+AH177/Data!$G$90/Data!$E$59/Data!$D$90)","v":{"v":0.21881481481481482,"d":"0.22"}},{"v":0.7615555555555559,"d":"0.76"},{"$f":"IF(Data!$C$59=1,TRUNC(($A120*0.9-AG177)/$P$88*2000*PI()*0.8,0),IF(Data!$C$59=2,TRUNC(($A120*0.8-(AG177+0.1))/$P$88*2000*PI()*0.8,0),\"\"))","v":613},null,{"v":906.6666666666667,"d":"907"},5440,{"v":0.354,"d":"0.35"},{"v":0.354,"d":"0.35"},{"v":0.3933333333333333,"d":"0.39"},{"$f":"IF(Data!$E$83=1,Data!$L$117+Data!$F$59+AQ177/Data!$L$116/Data!$E$59/Data!$L$115,Data!$E$90+Data!$F$59+AQ177/Data!$G$90/Data!$E$59/Data!$D$90)","v":{"v":0.3933333333333333,"d":"0.39"}},{"v":0.7615555555555559,"d":"0.76"},{"$f":"IF(Data!$C$59=1,TRUNC(($A120*0.9-AP177)/$P$87*2000*PI()*0.8,0),IF(Data!$C$59=2,TRUNC(($A120*0.8-(AP177+0.1))/$P$87*2000*PI()*0.8,0),\"\"))","v":166},null,272,5440,{"v":0.11800000000000001,"d":"0.12"},{"v":0.11800000000000001,"d":"0.12"},{"v":0.13111111111111112,"d":"0.13"},{"$f":"IF(Data!$E$83=1,Data!$L$117+Data!$F$59+AZ177/Data!$L$116/Data!$E$59/Data!$L$115,Data!$E$90+Data!$F$59+AZ177/Data!$G$90/Data!$E$59/Data!$D$90)","v":{"v":0.13111111111111112,"d":"0.13"}},{"v":0.7615555555555559,"d":"0.76"},{"$f":"IF(Data!$C$59=1,TRUNC(($A120*0.9-AY177)/$P$86*2000*PI()*0.8,0),IF(Data!$C$59=2,TRUNC(($A120*0.8-(AY177+0.1))/$P$86*2000*PI()*0.8,0),\"\"))","v":950},null,{"v":1.1056889670329642,"d":"1.11"},8000,{"v":1333.3333333333335,"d":"1333"},0.6599999999999999,{"$f":"IF(Data!$C$59=1,TRUNC(($A54*0.9-BI177)/$P$89*2000*PI()*0.8,0),IF(Data!$C$59=2,TRUNC(($A54*0.8-(BI177+0.1))/$P$89*2000*PI()*0.8,0),\"\"))","v":168},null,{"v":1.1056889670329642,"d":"1.11"},8000,{"v":533.3333333333334,"d":"533"},0.2566666666666667,{"$f":"IF(Data!$C$59=1,TRUNC(($A54*0.9-BO177)/$P$88*2000*PI()*0.8,0),IF(Data!$C$59=2,TRUNC(($A54*0.8-(BO177+0.1))/$P$88*2000*PI()*0.8,0),\"\"))","v":927},null,{"v":1.1056889670329642,"d":"1.11"},8000,{"v":1333.3333333333335,"d":"1333"},0.44999999999999996,{"$f":"IF(Data!$C$59=1,TRUNC(($A54*0.9-BU177)/$P$87*2000*PI()*0.8,0),IF(Data!$C$59=2,TRUNC(($A54*0.8-(BU177+0.1))/$P$87*2000*PI()*0.8,0),\"\"))","v":274},null,{"v":1.1056889670329642,"d":"1.11"},8000,400,0.15000000000000002,{"$f":"IF(Data!$C$59=1,TRUNC(($A54*0.9-CA177)/$P$86*2000*PI()*0.8,0),IF(Data!$C$59=2,TRUNC(($A54*0.8-(CA177+0.1))/$P$86*2000*PI()*0.8,0),\"\"))","v":1416}]
[{"$nulls":20},{"v":933.3333333333333,"d":"933"},5600,{"v":0.516,"d":"0.52"},{"v":0.516,"d":"0.52"},{"v":0.5733333333333334,"d":"0.57"},{"$f":"IF(Data!$E$83=1,Data!$L$117+Data!$F$59+X178/Data!$L$116/Data!$E$59/Data!$L$115,Data!$E$90+Data!$F$59+X178/Data!$G$90/Data!$E$59/Data!$D$90)","v":{"v":0.5733333333333334,"d":"0.57"}},{"v":0.7576444444444448,"d":"0.76"},{"$f":"IF(Data!$C$59=1,TRUNC(($A121*0.9-W178)/$P$89*2000*PI()*0.8,0),IF(Data!$C$59=2,TRUNC(($A121*0.8-(W178+0.1))/$P$89*2000*PI()*0.8,0),\"\"))","v":83},null,null,{"v":373.3333333333333,"d":"373"},5600,{"v":0.2006666666666667,"d":"0.20"},{"v":0.2006666666666667,"d":"0.20"},{"v":0.22296296296296297,"d":"0.22"},{"$f":"IF(Data!$E$83=1,Data!$L$117+Data!$F$59+AH178/Data!$L$116/Data!$E$59/Data!$L$115,Data!$E$90+Data!$F$59+AH178/Data!$G$90/Data!$E$59/Data!$D$90)","v":{"v":0.22296296296296297,"d":"0.22"}},{"v":0.7576444444444448,"d":"0.76"},{"$f":"IF(Data!$C$59=1,TRUNC(($A121*0.9-AG178)/$P$88*2000*PI()*0.8,0),IF(Data!$C$59=2,TRUNC(($A121*0.8-(AG178+0.1))/$P$88*2000*PI()*0.8,0),\"\"))","v":604},null,{"v":933.3333333333333,"d":"933"},5600,0.36,0.36,{"v":0.39999999999999997,"d":"0.40"},{"$f":"IF(Data!$E$83=1,Data!$L$117+Data!$F$59+AQ178/Data!$L$116/Data!$E$59/Data!$L$115,Data!$E$90+Data!$F$59+AQ178/Data!$G$90/Data!$E$59/Data!$D$90)","v":{"v":0.39999999999999997,"d":"0.40"}},{"v":0.7576444444444448,"d":"0.76"},{"$f":"IF(Data!$C$59=1,TRUNC(($A121*0.9-AP178)/$P$87*2000*PI()*0.8,0),IF(Data!$C$59=2,TRUNC(($A121*0.8-(AP178+0.1))/$P$87*2000*PI()*0.8,0),\"\"))","v":161},null,280,5600,0.12,0.12,{"v":0.13333333333333333,"d":"0.13"},{"$f":"IF(Data!$E$83=1,Data!$L$117+Data!$F$59+AZ178/Data!$L$116/Data!$E$59/Data!$L$115,Data!$E$90+Data!$F$59+AZ178/Data!$G$90/Data!$E$59/Data!$D$90)","v":{"v":0.13333333333333333,"d":"0.13"}},{"v":0.7576444444444448,"d":"0.76"},{"$f":"IF(Data!$C$59=1,TRUNC(($A121*0.9-AY178)/$P$86*2000*PI()*0.8,0),IF(Data!$C$59=2,TRUNC(($A121*0.8-(AY178+0.1))/$P$86*2000*PI()*0.8,0),\"\"))","v":941},null,{"v":1.0454196043956014,"d":"1.05"},8000,{"v":1333.3333333333335,"d":"1333"},0.6599999999999999,{"$f":"IF(Data!$C$59=1,TRUNC(($A55*0.9-BI178)/$P$89*2000*PI()*0.8,0),IF(Data!$C$59=2,TRUNC(($A55*0.8-(BI178+0.1))/$P$89*2000*PI()*0.8,0),\"\"))","v":141},null,{"v":1.0454196043956014,"d":"1.05"},8000,{"v":533.3333333333334,"d":"533"},0.2566666666666667,{"$f":"IF(Data!$C$59=1,TRUNC(($A55*0.9-BO178)/$P$88*2000*PI()*0.8,0),IF(Data!$C$59=2,TRUNC(($A55*0.8-(BO178+0.1))/$P$88*2000*PI()*0.8,0),\"\"))","v":859},null,{"v":1.0454196043956014,"d":"1.05"},8000,{"v":1333.3333333333335,"d":"1333"},0.44999999999999996,{"$f":"IF(Data!$C$59=1,TRUNC(($A55*0.9-BU178)/$P$87*2000*PI()*0.8,0),IF(Data!$C$59=2,TRUNC(($A55*0.8-(BU178+0.1))/$P$87*2000*PI()*0.8,0),\"\"))","v":246},null,{"v":1.0454196043956014,"d":"1.05"},8000,400,0.15000000000000002,{"$f":"IF(Data!$C$59=1,TRUNC(($A55*0.9-CA178)/$P$86*2000*PI()*0.8,0),IF(Data!$C$59=2,TRUNC(($A55*0.8-(CA178+0.1))/$P$86*2000*PI()*0.8,0),\"\"))","v":1325}]
[{"$nulls":20},960,5760,{"v":0.5256,"d":"0.53"},{"v":0.5256,"d":"0.53"},{"v":0.584,"d":"0.58"},{"$f":"IF(Data!$E$83=1,Data!$L$117+Data!$F$59+X179/Data!$L$116/Data!$E$59/Data!$L$115,Data!$E$90+Data!$F$59+X179/Data!$G$90/Data!$E$59/Data!$D$90)","v":{"v":0.584,"d":"0.58"}},{"v":0.7537333333333337,"d":"0.75"},{"$f":"IF(Data!$C$59=1,TRUNC(($A122*0.9-W179)/$P$89*2000*PI()*0.8,0),IF(Data!$C$59=2,TRUNC(($A122*0.8-(W179+0.1))/$P$89*2000*PI()*0.8,0),\"\"))","v":76},null,null,384,5760,{"v":0.20440000000000003,"d":"0.20"},{"v":0.20440000000000003,"d":"0.20"},{"v":0.22711111111111112,"d":"0.23"},{"$f":"IF(Data!$E$83=1,Data!$L$117+Data!$F$59+AH179/Data!$L$116/Data!$E$59/Data!$L$115,Data!$E$90+Data!$F$59+AH179/Data!$G$90/Data!$E$59/Data!$D$90)","v":{"v":0.22711111111111112,"d":"0.23"}},{"v":0.7537333333333337,"d":"0.75"},{"$f":"IF(Data!$C$59=1,TRUNC(($A122*0.9-AG179)/$P$88*2000*PI()*0.8,0),IF(Data!$C$59=2,TRUNC(($A122*0.8-(AG179+0.1))/$P$88*2000*PI()*0.8,0),\"\"))","v":595},null,960,5760,{"v":0.366,"d":"0.37"},{"v":0.366,"d":"0.37"},{"v":0.4066666666666666,"d":"0.41"},{"$f":"IF(Data!$E$83=1,Data!$L$117+Data!$F$59+AQ179/Data!$L$116/Data!$E$59/Data!$L$115,Data!$E$90+Data!$F$59+AQ179/Data!$G$90/Data!$E$59/Data!$D$90)","v":{"v":0.4066666666666666,"d":"0.41"}},{"v":0.7537333333333337,"d":"0.75"},{"$f":"IF(Data!$C$59=1,TRUNC(($A122*0.9-AP179)/$P$87*2000*PI()*0.8,0),IF(Data!$C$59=2,TRUNC(($A122*0.8-(AP179+0.1))/$P$87*2000*PI()*0.8,0),\"\"))","v":157},null,288,5760,{"v":0.122,"d":"0.12"},{"v":0.122,"d":"0.12"},{"v":0.13555555555555554,"d":"0.14"},{"$f":"IF(Data!$E$83=1,Data!$L$117+Data!$F$59+AZ179/Data!$L$116/Data!$E$59/Data!$L$115,Data!$E$90+Data!$F$59+AZ179/Data!$G$90/Data!$E$59/Data!$D$90)","v":{"v":0.13555555555555554,"d":"0.14"}},{"v":0.7537333333333337,"d":"0.75"},{"$f":"IF(Data!$C$59=1,TRUNC(($A122*0.9-AY179)/$P$86*2000*PI()*0.8,0),IF(Data!$C$59=2,TRUNC(($A122*0.8-(AY179+0.1))/$P$86*2000*PI()*0.8,0),\"\"))","v":932},null,{"v":0.9845538461538429,"d":"0.98"},8000,{"v":1333.3333333333335,"d":"1333"},0.6599999999999999,{"$f":"IF(Data!$C$59=1,TRUNC(($A56*0.9-BI179)/$P$89*2000*PI()*0.8,0),IF(Data!$C$59=2,TRUNC(($A56*0.8-(BI179+0.1))/$P$89*2000*PI()*0.8,0),\"\"))","v":113},null,{"v":0.9845538461538429,"d":"0.98"},8000,{"v":533.3333333333334,"d":"533"},0.2566666666666667,{"$f":"IF(Data!$C$59=1,TRUNC(($A56*0.9-BO179)/$P$88*2000*PI()*0.8,0),IF(Data!$C$59=2,TRUNC(($A56*0.8-(BO179+0.1))/$P$88*2000*PI()*0.8,0),\"\"))","v":790},null,{"v":0.9845538461538429,"d":"0.98"},8000,{"v":1333.3333333333335,"d":"1333"},0.44999999999999996,{"$f":"IF(Data!$C$59=1,TRUNC(($A56*0.9-BU179)/$P$87*2000*PI()*0.8,0),IF(Data!$C$59=2,TRUNC(($A56*0.8-(BU179+0.1))/$P$87*2000*PI()*0.8,0),\"\"))","v":219},null,{"v":0.9845538461538429,"d":"0.98"},8000,400,0.15000000000000002,{"$f":"IF(Data!$C$59=1,TRUNC(($A56*0.9-CA179)/$P$86*2000*PI()*0.8,0),IF(Data!$C$59=2,TRUNC(($A56*0.8-(CA179+0.1))/$P$86*2000*PI()*0.8,0),\"\"))","v":1233}]
[{"$nulls":20},{"v":986.6666666666667,"d":"987"},5920,{"v":0.5352,"d":"0.54"},{"v":0.5352,"d":"0.54"},{"v":0.5946666666666667,"d":"0.59"},{"$f":"IF(Data!$E$83=1,Data!$L$117+Data!$F$59+X180/Data!$L$116/Data!$E$59/Data!$L$115,Data!$E$90+Data!$F$59+X180/Data!$G$90/Data!$E$59/Data!$D$90)","v":{"v":0.5946666666666667,"d":"0.59"}},{"v":0.7498222222222226,"d":"0.75"},{"$f":"IF(Data!$C$59=1,TRUNC(($A123*0.9-W180)/$P$89*2000*PI()*0.8,0),IF(Data!$C$59=2,TRUNC(($A123*0.8-(W180+0.1))/$P$89*2000*PI()*0.8,0),\"\"))","v":70},null,null,{"v":394.6666666666667,"d":"395"},5920,{"v":0.20813333333333336,"d":"0.21"},{"v":0.20813333333333336,"d":"0.21"},{"v":0.23125925925925928,"d":"0.23"},{"$f":"IF(Data!$E$83=1,Data!$L$117+Data!$F$59+AH180/Data!$L$116/Data!$E$59/Data!$L$115,Data!$E$90+Data!$F$59+AH180/Data!$G$90/Data!$E$59/Data!$D$90)","v":{"v":0.23125925925925928,"d":"0.23"}},{"v":0.7498222222222226,"d":"0.75"},{"$f":"IF(Data!$C$59=1,TRUNC(($A123*0.9-AG180)/$P$88*2000*PI()*0.8,0),IF(Data!$C$59=2,TRUNC(($A123*0.8-(AG180+0.1))/$P$88*2000*PI()*0.8,0),\"\"))","v":586},null,{"v":986.6666666666667,"d":"987"},5920,{"v":0.372,"d":"0.37"},{"v":0.372,"d":"0.37"},{"v":0.41333333333333333,"d":"0.41"},{"$f":"IF(Data!$E$83=1,Data!$L$117+Data!$F$59+AQ180/Data!$L$116/Data!$E$59/Data!$L$115,Data!$E$90+Data!$F$59+AQ180/Data!$G$90/Data!$E$59/Data!$D$90)","v":{"v":0.41333333333333333,"d":"0.41"}},{"v":0.7498222222222226,"d":"0.75"},{"$f":"IF(Data!$C$59=1,TRUNC(($A123*0.9-AP180)/$P$87*2000*PI()*0.8,0),IF(Data!$C$59=2,TRUNC(($A123*0.8-(AP180+0.1))/$P$87*2000*PI()*0.8,0),\"\"))","v":152},null,296,5920,{"v":0.124,"d":"0.12"},{"v":0.124,"d":"0.12"},{"v":0.13777777777777778,"d":"0.14"},{"$f":"IF(Data!$E$83=1,Data!$L$117+Data!$F$59+AZ180/Data!$L$116/Data!$E$59/Data!$L$115,Data!$E$90+Data!$F$59+AZ180/Data!$G$90/Data!$E$59/Data!$D$90)","v":{"v":0.13777777777777778,"d":"0.14"}},{"v":0.7498222222222226,"d":"0.75"},{"$f":"IF(Data!$C$59=1,TRUNC(($A123*0.9-AY180)/$P$86*2000*PI()*0.8,0),IF(Data!$C$59=2,TRUNC(($A123*0.8-(AY180+0.1))/$P$86*2000*PI()*0.8,0),\"\"))","v":922},null,{"v":0.9230916923076893,"d":"0.92"},8000,{"v":1333.3333333333335,"d":"1333"},0.6599999999999999,{"$f":"IF(Data!$C$59=1,TRUNC(($A57*0.9-BI180)/$P$89*2000*PI()*0.8,0),IF(Data!$C$59=2,TRUNC(($A57*0.8-(BI180+0.1))/$P$89*2000*PI()*0.8,0),\"\"))","v":85},null,{"v":0.9230916923076893,"d":"0.92"},8000,{"v":533.3333333333334,"d":"533"},0.2566666666666667,{"$f":"IF(Data!$C$59=1,TRUNC(($A57*0.9-BO180)/$P$88*2000*PI()*0.8,0),IF(Data!$C$59=2,TRUNC(($A57*0.8-(BO180+0.1))/$P$88*2000*PI()*0.8,0),\"\"))","v":721},null,{"v":0.9230916923076893,"d":"0.92"},8000,{"v":1333.3333333333335,"d":"1333"},0.44999999999999996,{"$f":"IF(Data!$C$59=1,TRUNC(($A57*0.9-BU180)/$P$87*2000*PI()*0.8,0),IF(Data!$C$59=2,TRUNC(($A57*0.8-(BU180+0.1))/$P$87*2000*PI()*0.8,0),\"\"))","v":191},null,{"v":0.9230916923076893,"d":"0.92"},8000,400,0.15000000000000002,{"$f":"IF(Data!$C$59=1,TRUNC(($A57*0.9-CA180)/$P$86*2000*PI()*0.8,0),IF(Data!$C$59=2,TRUNC(($A57*0.8-(CA180+0.1))/$P$86*2000*PI()*0.8,0),\"\"))","v":1140}]
[{"$nulls":20},{"v":1013.3333333333333,"d":"1013"},6080,{"v":0.5448,"d":"0.54"},{"v":0.5448,"d":"0.54"},{"v":0.6053333333333333,"d":"0.61"},{"$f":"IF(Data!$E$83=1,Data!$L$117+Data!$F$59+X181/Data!$L$116/Data!$E$59/Data!$L$115,Data!$E$90+Data!$F$59+X181/Data!$G$90/Data!$E$59/Data!$D$90)","v":{"v":0.6053333333333333,"d":"0.61"}},{"v":0.7459111111111115,"d":"0.75"},{"$f":"IF(Data!$C$59=1,TRUNC(($A124*0.9-W181)/$P$89*2000*PI()*0.8,0),IF(Data!$C$59=2,TRUNC(($A124*0.8-(W181+0.1))/$P$89*2000*PI()*0.8,0),\"\"))","v":63},null,null,{"v":405.3333333333333,"d":"405"},6080,{"v":0.2118666666666667,"d":"0.21"},{"v":0.2118666666666667,"d":"0.21"},{"v":0.23540740740740745,"d":"0.24"},{"$f":"IF(Data!$E$83=1,Data!$L$117+Data!$F$59+AH181/Data!$L$116/Data!$E$59/Data!$L$115,Data!$E$90+Data!$F$59+AH181/Data!$G$90/Data!$E$59/Data!$D$90)","v":{"v":0.23540740740740745,"d":"0.24"}},{"v":0.7459111111111115,"d":"0.75"},{"$f":"IF(Data!$C$59=1,TRUNC(($A124*0.9-AG181)/$P$88*2000*PI()*0.8,0),IF(Data!$C$59=2,TRUNC(($A124*0.8-(AG181+0.1))/$P$88*2000*PI()*0.8,0),\"\"))","v":577},null,{"v":1013.3333333333333,"d":"1013"},6080,{"v":0.378,"d":"0.38"},{"v":0.378,"d":"0.38"},0.42,{"$f":"IF(Data!$E$83=1,Data!$L$117+Data!$F$59+AQ181/Data!$L$116/Data!$E$59/Data!$L$115,Data!$E$90+Data!$F$59+AQ181/Data!$G$90/Data!$E$59/Data!$D$90)","v":0.42},{"v":0.7459111111111115,"d":"0.75"},{"$f":"IF(Data!$C$59=1,TRUNC(($A124*0.9-AP181)/$P$87*2000*PI()*0.8,0),IF(Data!$C$59=2,TRUNC(($A124*0.8-(AP181+0.1))/$P$87*2000*PI()*0.8,0),\"\"))","v":147},null,304,6080,{"v":0.126,"d":"0.13"},{"v":0.126,"d":"0.13"},{"v":0.13999999999999999,"d":"0.14"},{"$f":"IF(Data!$E$83=1,Data!$L$117+Data!$F$59+AZ181/Data!$L$116/Data!$E$59/Data!$L$115,Data!$E$90+Data!$F$59+AZ181/Data!$G$90/Data!$E$59/Data!$D$90)","v":{"v":0.13999999999999999,"d":"0.14"}},{"v":0.7459111111111115,"d":"0.75"},{"$f":"IF(Data!$C$59=1,TRUNC(($A124*0.9-AY181)/$P$86*2000*PI()*0.8,0),IF(Data!$C$59=2,TRUNC(($A124*0.8-(AY181+0.1))/$P$86*2000*PI()*0.8,0),\"\"))","v":913},null,{"v":0.8610331428571397,"d":"0.86"},8000,{"v":1333.3333333333335,"d":"1333"},0.6599999999999999,{"$f":"IF(Data!$C$59=1,TRUNC(($A58*0.9-BI181)/$P$89*2000*PI()*0.8,0),IF(Data!$C$59=2,TRUNC(($A58*0.8-(BI181+0.1))/$P$89*2000*PI()*0.8,0),\"\"))","v":57},null,{"v":0.8610331428571397,"d":"0.86"},8000,{"v":533.3333333333334,"d":"533"},0.2566666666666667,{"$f":"IF(Data!$C$59=1,TRUNC(($A58*0.9-BO181)/$P$88*2000*PI()*0.8,0),IF(Data!$C$59=2,TRUNC(($A58*0.8-(BO181+0.1))/$P$88*2000*PI()*0.8,0),\"\"))","v":651},null,{"v":0.8610331428571397,"d":"0.86"},8000,{"v":1333.3333333333335,"d":"1333"},0.44999999999999996,{"$f":"IF(Data!$C$59=1,TRUNC(($A58*0.9-BU181)/$P$87*2000*PI()*0.8,0),IF(Data!$C$59=2,TRUNC(($A58*0.8-(BU181+0.1))/$P$87*2000*PI()*0.8,0),\"\"))","v":163},null,{"v":0.8610331428571397,"d":"0.86"},8000,400,0.15000000000000002,{"$f":"IF(Data!$C$59=1,TRUNC(($A58*0.9-CA181)/$P$86*2000*PI()*0.8,0),IF(Data!$C$59=2,TRUNC(($A58*0.8-(CA181+0.1))/$P$86*2000*PI()*0.8,0),\"\"))","v":1047}]
[{"$nulls":20},1040,6240,{"v":0.5544,"d":"0.55"},{"v":0.5544,"d":"0.55"},{"v":0.616,"d":"0.62"},{"$f":"IF(Data!$E$83=1,Data!$L$117+Data!$F$59+X182/Data!$L$116/Data!$E$59/Data!$L$115,Data!$E$90+Data!$F$59+X182/Data!$G$90/Data!$E$59/Data!$D$90)","v":{"v":0.616,"d":"0.62"}},{"v":0.7420000000000004,"d":"0.74"},{"$f":"IF(Data!$C$59=1,TRUNC(($A125*0.9-W182)/$P$89*2000*PI()*0.8,0),IF(Data!$C$59=2,TRUNC(($A125*0.8-(W182+0.1))/$P$89*2000*PI()*0.8,0),\"\"))","v":57},null,null,416,6240,{"v":0.2156,"d":"0.22"},{"v":0.2156,"d":"0.22"},{"v":0.23955555555555558,"d":"0.24"},{"$f":"IF(Data!$E$83=1,Data!$L$117+Data!$F$59+AH182/Data!$L$116/Data!$E$59/Data!$L$115,Data!$E$90+Data!$F$59+AH182/Data!$G$90/Data!$E$59/Data!$D$90)","v":{"v":0.23955555555555558,"d":"0.24"}},{"v":0.7420000000000004,"d":"0.74"},{"$f":"IF(Data!$C$59=1,TRUNC(($A125*0.9-AG182)/$P$88*2000*PI()*0.8,0),IF(Data!$C$59=2,TRUNC(($A125*0.8-(AG182+0.1))/$P$88*2000*PI()*0.8,0),\"\"))","v":568},null,1040,6240,{"v":0.384,"d":"0.38"},{"v":0.384,"d":"0.38"},{"v":0.42666666666666664,"d":"0.43"},{"$f":"IF(Data!$E$83=1,Data!$L$117+Data!$F$59+AQ182/Data!$L$116/Data!$E$59/Data!$L$115,Data!$E$90+Data!$F$59+AQ182/Data!$G$90/Data!$E$59/Data!$D$90)","v":{"v":0.42666666666666664,"d":"0.43"}},{"v":0.7420000000000004,"d":"0.74"},{"$f":"IF(Data!$C$59=1,TRUNC(($A125*0.9-AP182)/$P$87*2000*PI()*0.8,0),IF(Data!$C$59=2,TRUNC(($A125*0.8-(AP182+0.1))/$P$87*2000*PI()*0.8,0),\"\"))","v":142},null,312,6240,{"v":0.128,"d":"0.13"},{"v":0.128,"d":"0.13"},{"v":0.14222222222222222,"d":"0.14"},{"$f":"IF(Data!$E$83=1,Data!$L$117+Data!$F$59+AZ182/Data!$L$116/Data!$E$59/Data!$L$115,Data!$E$90+Data!$F$59+AZ182/Data!$G$90/Data!$E$59/Data!$D$90)","v":{"v":0.14222222222222222,"d":"0.14"}},{"v":0.7420000000000004,"d":"0.74"},{"$f":"IF(Data!$C$59=1,TRUNC(($A125*0.9-AY182)/$P$86*2000*PI()*0.8,0),IF(Data!$C$59=2,TRUNC(($A125*0.8-(AY182+0.1))/$P$86*2000*PI()*0.8,0),\"\"))","v":904},null,{"v":0.7983781978021947,"d":"0.80"},8000,{"v":1333.3333333333335,"d":"1333"},0.6599999999999999,{"$f":"IF(Data!$C$59=1,TRUNC(($A59*0.9-BI182)/$P$89*2000*PI()*0.8,0),IF(Data!$C$59=2,TRUNC(($A59*0.8-(BI182+0.1))/$P$89*2000*PI()*0.8,0),\"\"))","v":29},null,{"v":0.7983781978021947,"d":"0.80"},8000,{"v":533.3333333333334,"d":"533"},0.2566666666666667,{"$f":"IF(Data!$C$59=1,TRUNC(($A59*0.9-BO182)/$P$88*2000*PI()*0.8,0),IF(Data!$C$59=2,TRUNC(($A59*0.8-(BO182+0.1))/$P$88*2000*PI()*0.8,0),\"\"))","v":580},null,{"v":0.7983781978021947,"d":"0.80"},8000,{"v":1333.3333333333335,"d":"1333"},0.44999999999999996,{"$f":"IF(Data!$C$59=1,TRUNC(($A59*0.9-BU182)/$P$87*2000*PI()*0.8,0),IF(Data!$C$59=2,TRUNC(($A59*0.8-(BU182+0.1))/$P$87*2000*PI()*0.8,0),\"\"))","v":134},null,{"v":0.7983781978021947,"d":"0.80"},8000,400,0.15000000000000002,{"$f":"IF(Data!$C$59=1,TRUNC(($A59*0.9-CA182)/$P$86*2000*PI()*0.8,0),IF(Data!$C$59=2,TRUNC(($A59*0.8-(CA182+0.1))/$P$86*2000*PI()*0.8,0),\"\"))","v":952}]
[{"$nulls":20},{"v":1066.6666666666667,"d":"1067"},6400,{"v":0.5640000000000001,"d":"0.56"},{"v":0.5640000000000001,"d":"0.56"},{"v":0.6266666666666667,"d":"0.63"},{"$f":"IF(Data!$E$83=1,Data!$L$117+Data!$F$59+X183/Data!$L$116/Data!$E$59/Data!$L$115,Data!$E$90+Data!$F$59+X183/Data!$G$90/Data!$E$59/Data!$D$90)","v":{"v":0.6266666666666667,"d":"0.63"}},{"v":0.7380888888888893,"d":"0.74"},{"$f":"IF(Data!$C$59=1,TRUNC(($A126*0.9-W183)/$P$89*2000*PI()*0.8,0),IF(Data!$C$59=2,TRUNC(($A126*0.8-(W183+0.1))/$P$89*2000*PI()*0.8,0),\"\"))","v":50},null,null,{"v":426.6666666666667,"d":"427"},6400,{"v":0.21933333333333335,"d":"0.22"},{"v":0.21933333333333335,"d":"0.22"},{"v":0.24370370370370373,"d":"0.24"},{"$f":"IF(Data!$E$83=1,Data!$L$117+Data!$F$59+AH183/Data!$L$116/Data!$E$59/Data!$L$115,Data!$E$90+Data!$F$59+AH183/Data!$G$90/Data!$E$59/Data!$D$90)","v":{"v":0.24370370370370373,"d":"0.24"}},{"v":0.7380888888888893,"d":"0.74"},{"$f":"IF(Data!$C$59=1,TRUNC(($A126*0.9-AG183)/$P$88*2000*PI()*0.8,0),IF(Data!$C$59=2,TRUNC(($A126*0.8-(AG183+0.1))/$P$88*2000*PI()*0.8,0),\"\"))","v":559},null,{"v":1066.6666666666667,"d":"1067"},6400,0.39,0.39,{"v":0.43333333333333335,"d":"0.43"},{"$f":"IF(Data!$E$83=1,Data!$L$117+Data!$F$59+AQ183/Data!$L$116/Data!$E$59/Data!$L$115,Data!$E$90+Data!$F$59+AQ183/Data!$G$90/Data!$E$59/Data!$D$90)","v":{"v":0.43333333333333335,"d":"0.43"}},{"v":0.7380888888888893,"d":"0.74"},{"$f":"IF(Data!$C$59=1,TRUNC(($A126*0.9-AP183)/$P$87*2000*PI()*0.8,0),IF(Data!$C$59=2,TRUNC(($A126*0.8-(AP183+0.1))/$P$87*2000*PI()*0.8,0),\"\"))","v":137},null,320,6400,0.13,0.13,{"v":0.14444444444444446,"d":"0.14"},{"$f":"IF(Data!$E$83=1,Data!$L$117+Data!$F$59+AZ183/Data!$L$116/Data!$E$59/Data!$L$115,Data!$E$90+Data!$F$59+AZ183/Data!$G$90/Data!$E$59/Data!$D$90)","v":{"v":0.14444444444444446,"d":"0.14"}},{"v":0.7380888888888893,"d":"0.74"},{"$f":"IF(Data!$C$59=1,TRUNC(($A126*0.9-AY183)/$P$86*2000*PI()*0.8,0),IF(Data!$C$59=2,TRUNC(($A126*0.8-(AY183+0.1))/$P$86*2000*PI()*0.8,0),\"\"))","v":895},null,{"v":0.7351268571428539,"d":"0.74"},8000,{"v":1333.3333333333335,"d":"1333"},0.6599999999999999,{"$f":"IF(Data!$C$59=1,TRUNC(($A60*0.9-BI183)/$P$89*2000*PI()*0.8,0),IF(Data!$C$59=2,TRUNC(($A60*0.8-(BI183+0.1))/$P$89*2000*PI()*0.8,0),\"\"))","v":0},null,{"v":0.7351268571428539,"d":"0.74"},8000,{"v":533.3333333333334,"d":"533"},0.2566666666666667,{"$f":"IF(Data!$C$59=1,TRUNC(($A60*0.9-BO183)/$P$88*2000*PI()*0.8,0),IF(Data!$C$59=2,TRUNC(($A60*0.8-(BO183+0.1))/$P$88*2000*PI()*0.8,0),\"\"))","v":508},null,{"v":0.7351268571428539,"d":"0.74"},8000,{"v":1333.3333333333335,"d":"1333"},0.44999999999999996,{"$f":"IF(Data!$C$59=1,TRUNC(($A60*0.9-BU183)/$P$87*2000*PI()*0.8,0),IF(Data!$C$59=2,TRUNC(($A60*0.8-(BU183+0.1))/$P$87*2000*PI()*0.8,0),\"\"))","v":106},null,{"v":0.7351268571428539,"d":"0.74"},8000,400,0.15000000000000002,{"$f":"IF(Data!$C$59=1,TRUNC(($A60*0.9-CA183)/$P$86*2000*PI()*0.8,0),IF(Data!$C$59=2,TRUNC(($A60*0.8-(CA183+0.1))/$P$86*2000*PI()*0.8,0),\"\"))","v":857}]
[{"$nulls":20},{"v":1093.3333333333333,"d":"1093"},6560,{"v":0.5735999999999999,"d":"0.57"},{"v":0.5735999999999999,"d":"0.57"},{"v":0.6373333333333332,"d":"0.64"},{"$f":"IF(Data!$E$83=1,Data!$L$117+Data!$F$59+X184/Data!$L$116/Data!$E$59/Data!$L$115,Data!$E$90+Data!$F$59+X184/Data!$G$90/Data!$E$59/Data!$D$90)","v":{"v":0.6373333333333332,"d":"0.64"}},{"v":0.7341777777777783,"d":"0.73"},{"$f":"IF(Data!$C$59=1,TRUNC(($A127*0.9-W184)/$P$89*2000*PI()*0.8,0),IF(Data!$C$59=2,TRUNC(($A127*0.8-(W184+0.1))/$P$89*2000*PI()*0.8,0),\"\"))","v":43},null,null,{"v":437.3333333333333,"d":"437"},6560,{"v":0.2230666666666667,"d":"0.22"},{"v":0.2230666666666667,"d":"0.22"},{"v":0.24785185185185188,"d":"0.25"},{"$f":"IF(Data!$E$83=1,Data!$L$117+Data!$F$59+AH184/Data!$L$116/Data!$E$59/Data!$L$115,Data!$E$90+Data!$F$59+AH184/Data!$G$90/Data!$E$59/Data!$D$90)","v":{"v":0.24785185185185188,"d":"0.25"}},{"v":0.7341777777777783,"d":"0.73"},{"$f":"IF(Data!$C$59=1,TRUNC(($A127*0.9-AG184)/$P$88*2000*PI()*0.8,0),IF(Data!$C$59=2,TRUNC(($A127*0.8-(AG184+0.1))/$P$88*2000*PI()*0.8,0),\"\"))","v":550},null,{"v":1093.3333333333333,"d":"1093"},6560,{"v":0.39599999999999996,"d":"0.40"},{"v":0.39599999999999996,"d":"0.40"},{"v":0.43999999999999995,"d":"0.44"},{"$f":"IF(Data!$E$83=1,Data!$L$117+Data!$F$59+AQ184/Data!$L$116/Data!$E$59/Data!$L$115,Data!$E$90+Data!$F$59+AQ184/Data!$G$90/Data!$E$59/Data!$D$90)","v":{"v":0.43999999999999995,"d":"0.44"}},{"v":0.7341777777777783,"d":"0.73"},{"$f":"IF(Data!$C$59=1,TRUNC(($A127*0.9-AP184)/$P$87*2000*PI()*0.8,0),IF(Data!$C$59=2,TRUNC(($A127*0.8-(AP184+0.1))/$P$87*2000*PI()*0.8,0),\"\"))","v":133},null,328,6560,{"v":0.132,"d":"0.13"},{"v":0.132,"d":"0.13"},{"v":0.14666666666666667,"d":"0.15"},{"$f":"IF(Data!$E$83=1,Data!$L$117+Data!$F$59+AZ184/Data!$L$116/Data!$E$59/Data!$L$115,Data!$E$90+Data!$F$59+AZ184/Data!$G$90/Data!$E$59/Data!$D$90)","v":{"v":0.14666666666666667,"d":"0.15"}},{"v":0.7341777777777783,"d":"0.73"},{"$f":"IF(Data!$C$59=1,TRUNC(($A127*0.9-AY184)/$P$86*2000*PI()*0.8,0),IF(Data!$C$59=2,TRUNC(($A127*0.8-(AY184+0.1))/$P$86*2000*PI()*0.8,0),\"\"))","v":885},null,{"v":0.6712791208791177,"d":"0.67"},8000,{"v":1333.3333333333335,"d":"1333"},0.6599999999999999,{"$f":"IF(Data!$C$59=1,TRUNC(($A61*0.9-BI184)/$P$89*2000*PI()*0.8,0),IF(Data!$C$59=2,TRUNC(($A61*0.8-(BI184+0.1))/$P$89*2000*PI()*0.8,0),\"\"))","v":-28},null,{"v":0.6712791208791177,"d":"0.67"},8000,{"v":533.3333333333334,"d":"533"},0.2566666666666667,{"$f":"IF(Data!$C$59=1,TRUNC(($A61*0.9-BO184)/$P$88*2000*PI()*0.8,0),IF(Data!$C$59=2,TRUNC(($A61*0.8-(BO184+0.1))/$P$88*2000*PI()*0.8,0),\"\"))","v":436},null,{"v":0.6712791208791177,"d":"0.67"},8000,{"v":1333.3333333333335,"d":"1333"},0.44999999999999996,{"$f":"IF(Data!$C$59=1,TRUNC(($A61*0.9-BU184)/$P$87*2000*PI()*0.8,0),IF(Data!$C$59=2,TRUNC(($A61*0.8-(BU184+0.1))/$P$87*2000*PI()*0.8,0),\"\"))","v":77},null,{"v":0.6712791208791177,"d":"0.67"},8000,400,0.15000000000000002,{"$f":"IF(Data!$C$59=1,TRUNC(($A61*0.9-CA184)/$P$86*2000*PI()*0.8,0),IF(Data!$C$59=2,TRUNC(($A61*0.8-(CA184+0.1))/$P$86*2000*PI()*0.8,0),\"\"))","v":760}]
[{"$nulls":20},1120,6720,{"v":0.5831999999999999,"d":"0.58"},{"v":0.5831999999999999,"d":"0.58"},{"v":0.6479999999999999,"d":"0.65"},{"$f":"IF(Data!$E$83=1,Data!$L$117+Data!$F$59+X185/Data!$L$116/Data!$E$59/Data!$L$115,Data!$E$90+Data!$F$59+X185/Data!$G$90/Data!$E$59/Data!$D$90)","v":{"v":0.6479999999999999,"d":"0.65"}},{"v":0.7302666666666672,"d":"0.73"},{"$f":"IF(Data!$C$59=1,TRUNC(($A128*0.9-W185)/$P$89*2000*PI()*0.8,0),IF(Data!$C$59=2,TRUNC(($A128*0.8-(W185+0.1))/$P$89*2000*PI()*0.8,0),\"\"))","v":37},null,null,448,6720,{"v":0.22680000000000003,"d":"0.23"},{"v":0.22680000000000003,"d":"0.23"},{"v":0.252,"d":"0.25"},{"$f":"IF(Data!$E$83=1,Data!$L$117+Data!$F$59+AH185/Data!$L$116/Data!$E$59/Data!$L$115,Data!$E$90+Data!$F$59+AH185/Data!$G$90/Data!$E$59/Data!$D$90)","v":{"v":0.252,"d":"0.25"}},{"v":0.7302666666666672,"d":"0.73"},{"$f":"IF(Data!$C$59=1,TRUNC(($A128*0.9-AG185)/$P$88*2000*PI()*0.8,0),IF(Data!$C$59=2,TRUNC(($A128*0.8-(AG185+0.1))/$P$88*2000*PI()*0.8,0),\"\"))","v":540},null,1120,6720,{"v":0.402,"d":"0.40"},{"v":0.402,"d":"0.40"},{"v":0.44666666666666666,"d":"0.45"},{"$f":"IF(Data!$E$83=1,Data!$L$117+Data!$F$59+AQ185/Data!$L$116/Data!$E$59/Data!$L$115,Data!$E$90+Data!$F$59+AQ185/Data!$G$90/Data!$E$59/Data!$D$90)","v":{"v":0.44666666666666666,"d":"0.45"}},{"v":0.7302666666666672,"d":"0.73"},{"$f":"IF(Data!$C$59=1,TRUNC(($A128*0.9-AP185)/$P$87*2000*PI()*0.8,0),IF(Data!$C$59=2,TRUNC(($A128*0.8-(AP185+0.1))/$P$87*2000*PI()*0.8,0),\"\"))","v":128},null,336,6720,{"v":0.134,"d":"0.13"},{"v":0.134,"d":"0.13"},{"v":0.1488888888888889,"d":"0.15"},{"$f":"IF(Data!$E$83=1,Data!$L$117+Data!$F$59+AZ185/Data!$L$116/Data!$E$59/Data!$L$115,Data!$E$90+Data!$F$59+AZ185/Data!$G$90/Data!$E$59/Data!$D$90)","v":{"v":0.1488888888888889,"d":"0.15"}},{"v":0.7302666666666672,"d":"0.73"},{"$f":"IF(Data!$C$59=1,TRUNC(($A128*0.9-AY185)/$P$86*2000*PI()*0.8,0),IF(Data!$C$59=2,TRUNC(($A128*0.8-(AY185+0.1))/$P$86*2000*PI()*0.8,0),\"\"))","v":876},null,{"v":0.6068349890109856,"d":"0.61"},8000,{"v":1333.3333333333335,"d":"1333"},0.6599999999999999,{"$f":"IF(Data!$C$59=1,TRUNC(($A62*0.9-BI185)/$P$89*2000*PI()*0.8,0),IF(Data!$C$59=2,TRUNC(($A62*0.8-(BI185+0.1))/$P$89*2000*PI()*0.8,0),\"\"))","v":-57},null,{"v":0.6068349890109856,"d":"0.61"},8000,{"v":533.3333333333334,"d":"533"},0.2566666666666667,{"$f":"IF(Data!$C$59=1,TRUNC(($A62*0.9-BO185)/$P$88*2000*PI()*0.8,0),IF(Data!$C$59=2,TRUNC(($A62*0.8-(BO185+0.1))/$P$88*2000*PI()*0.8,0),\"\"))","v":363},null,{"v":0.6068349890109856,"d":"0.61"},8000,{"v":1333.3333333333335,"d":"1333"},0.44999999999999996,{"$f":"IF(Data!$C$59=1,TRUNC(($A62*0.9-BU185)/$P$87*2000*PI()*0.8,0),IF(Data!$C$59=2,TRUNC(($A62*0.8-(BU185+0.1))/$P$87*2000*PI()*0.8,0),\"\"))","v":48},null,{"v":0.6068349890109856,"d":"0.61"},8000,400,0.15000000000000002,{"$f":"IF(Data!$C$59=1,TRUNC(($A62*0.9-CA185)/$P$86*2000*PI()*0.8,0),IF(Data!$C$59=2,TRUNC(($A62*0.8-(CA185+0.1))/$P$86*2000*PI()*0.8,0),\"\"))","v":663}]
[{"$nulls":20},{"v":1146.6666666666667,"d":"1147"},6880,{"v":0.5928,"d":"0.59"},{"v":0.5928,"d":"0.59"},{"v":0.6586666666666666,"d":"0.66"},{"$f":"IF(Data!$E$83=1,Data!$L$117+Data!$F$59+X186/Data!$L$116/Data!$E$59/Data!$L$115,Data!$E$90+Data!$F$59+X186/Data!$G$90/Data!$E$59/Data!$D$90)","v":{"v":0.6586666666666666,"d":"0.66"}},{"v":0.7263555555555561,"d":"0.73"},{"$f":"IF(Data!$C$59=1,TRUNC(($A129*0.9-W186)/$P$89*2000*PI()*0.8,0),IF(Data!$C$59=2,TRUNC(($A129*0.8-(W186+0.1))/$P$89*2000*PI()*0.8,0),\"\"))","v":30},null,null,{"v":458.6666666666667,"d":"459"},6880,{"v":0.23053333333333337,"d":"0.23"},{"v":0.23053333333333337,"d":"0.23"},{"v":0.2561481481481482,"d":"0.26"},{"$f":"IF(Data!$E$83=1,Data!$L$117+Data!$F$59+AH186/Data!$L$116/Data!$E$59/Data!$L$115,Data!$E$90+Data!$F$59+AH186/Data!$G$90/Data!$E$59/Data!$D$90)","v":{"v":0.2561481481481482,"d":"0.26"}},{"v":0.7263555555555561,"d":"0.73"},{"$f":"IF(Data!$C$59=1,TRUNC(($A129*0.9-AG186)/$P$88*2000*PI()*0.8,0),IF(Data!$C$59=2,TRUNC(($A129*0.8-(AG186+0.1))/$P$88*2000*PI()*0.8,0),\"\"))","v":531},null,{"v":1146.6666666666667,"d":"1147"},6880,{"v":0.40800000000000003,"d":"0.41"},{"v":0.40800000000000003,"d":"0.41"},{"v":0.45333333333333337,"d":"0.45"},{"$f":"IF(Data!$E$83=1,Data!$L$117+Data!$F$59+AQ186/Data!$L$116/Data!$E$59/Data!$L$115,Data!$E$90+Data!$F$59+AQ186/Data!$G$90/Data!$E$59/Data!$D$90)","v":{"v":0.45333333333333337,"d":"0.45"}},{"v":0.7263555555555561,"d":"0.73"},{"$f":"IF(Data!$C$59=1,TRUNC(($A129*0.9-AP186)/$P$87*2000*PI()*0.8,0),IF(Data!$C$59=2,TRUNC(($A129*0.8-(AP186+0.1))/$P$87*2000*PI()*0.8,0),\"\"))","v":123},null,344,6880,{"v":0.136,"d":"0.14"},{"v":0.136,"d":"0.14"},{"v":0.1511111111111111,"d":"0.15"},{"$f":"IF(Data!$E$83=1,Data!$L$117+Data!$F$59+AZ186/Data!$L$116/Data!$E$59/Data!$L$115,Data!$E$90+Data!$F$59+AZ186/Data!$G$90/Data!$E$59/Data!$D$90)","v":{"v":0.1511111111111111,"d":"0.15"}},{"v":0.7263555555555561,"d":"0.73"},{"$f":"IF(Data!$C$59=1,TRUNC(($A129*0.9-AY186)/$P$86*2000*PI()*0.8,0),IF(Data!$C$59=2,TRUNC(($A129*0.8-(AY186+0.1))/$P$86*2000*PI()*0.8,0),\"\"))","v":867},null,{"v":0.5417944615384582,"d":"0.54"},8000,{"v":1333.3333333333335,"d":"1333"},0.6599999999999999,{"$f":"IF(Data!$C$59=1,TRUNC(($A63*0.9-BI186)/$P$89*2000*PI()*0.8,0),IF(Data!$C$59=2,TRUNC(($A63*0.8-(BI186+0.1))/$P$89*2000*PI()*0.8,0),\"\"))","v":-86},null,{"v":0.5417944615384582,"d":"0.54"},8000,{"v":533.3333333333334,"d":"533"},0.2566666666666667,{"$f":"IF(Data!$C$59=1,TRUNC(($A63*0.9-BO186)/$P$88*2000*PI()*0.8,0),IF(Data!$C$59=2,TRUNC(($A63*0.8-(BO186+0.1))/$P$88*2000*PI()*0.8,0),\"\"))","v":290},null,{"v":0.5417944615384582,"d":"0.54"},8000,{"v":1333.3333333333335,"d":"1333"},0.44999999999999996,{"$f":"IF(Data!$C$59=1,TRUNC(($A63*0.9-BU186)/$P$87*2000*PI()*0.8,0),IF(Data!$C$59=2,TRUNC(($A63*0.8-(BU186+0.1))/$P$87*2000*PI()*0.8,0),\"\"))","v":18},null,{"v":0.5417944615384582,"d":"0.54"},8000,400,0.15000000000000002,{"$f":"IF(Data!$C$59=1,TRUNC(($A63*0.9-CA186)/$P$86*2000*PI()*0.8,0),IF(Data!$C$59=2,TRUNC(($A63*0.8-(CA186+0.1))/$P$86*2000*PI()*0.8,0),\"\"))","v":565}]
[{"$nulls":20},{"v":1173.3333333333333,"d":"1173"},7040,{"v":0.6024,"d":"0.60"},{"v":0.6024,"d":"0.60"},{"v":0.6693333333333333,"d":"0.67"},{"$f":"IF(Data!$E$83=1,Data!$L$117+Data!$F$59+X187/Data!$L$116/Data!$E$59/Data!$L$115,Data!$E$90+Data!$F$59+X187/Data!$G$90/Data!$E$59/Data!$D$90)","v":{"v":0.6693333333333333,"d":"0.67"}},{"v":0.722444444444445,"d":"0.72"},{"$f":"IF(Data!$C$59=1,TRUNC(($A130*0.9-W187)/$P$89*2000*PI()*0.8,0),IF(Data!$C$59=2,TRUNC(($A130*0.8-(W187+0.1))/$P$89*2000*PI()*0.8,0),\"\"))","v":24},null,null,{"v":469.3333333333333,"d":"469"},7040,{"v":0.23426666666666668,"d":"0.23"},{"v":0.23426666666666668,"d":"0.23"},{"v":0.2602962962962963,"d":"0.26"},{"$f":"IF(Data!$E$83=1,Data!$L$117+Data!$F$59+AH187/Data!$L$116/Data!$E$59/Data!$L$115,Data!$E$90+Data!$F$59+AH187/Data!$G$90/Data!$E$59/Data!$D$90)","v":{"v":0.2602962962962963,"d":"0.26"}},{"v":0.722444444444445,"d":"0.72"},{"$f":"IF(Data!$C$59=1,TRUNC(($A130*0.9-AG187)/$P$88*2000*PI()*0.8,0),IF(Data!$C$59=2,TRUNC(($A130*0.8-(AG187+0.1))/$P$88*2000*PI()*0.8,0),\"\"))","v":522},null,{"v":1173.3333333333333,"d":"1173"},7040,{"v":0.41400000000000003,"d":"0.41"},{"v":0.41400000000000003,"d":"0.41"},0.46,{"$f":"IF(Data!$E$83=1,Data!$L$117+Data!$F$59+AQ187/Data!$L$116/Data!$E$59/Data!$L$115,Data!$E$90+Data!$F$59+AQ187/Data!$G$90/Data!$E$59/Data!$D$90)","v":0.46},{"v":0.722444444444445,"d":"0.72"},{"$f":"IF(Data!$C$59=1,TRUNC(($A130*0.9-AP187)/$P$87*2000*PI()*0.8,0),IF(Data!$C$59=2,TRUNC(($A130*0.8-(AP187+0.1))/$P$87*2000*PI()*0.8,0),\"\"))","v":118},null,352,7040,{"v":0.138,"d":"0.14"},{"v":0.138,"d":"0.14"},{"v":0.15333333333333335,"d":"0.15"},{"$f":"IF(Data!$E$83=1,Data!$L$117+Data!$F$59+AZ187/Data!$L$116/Data!$E$59/Data!$L$115,Data!$E$90+Data!$F$59+AZ187/Data!$G$90/Data!$E$59/Data!$D$90)","v":{"v":0.15333333333333335,"d":"0.15"}},{"v":0.722444444444445,"d":"0.72"},{"$f":"IF(Data!$C$59=1,TRUNC(($A130*0.9-AY187)/$P$86*2000*PI()*0.8,0),IF(Data!$C$59=2,TRUNC(($A130*0.8-(AY187+0.1))/$P$86*2000*PI()*0.8,0),\"\"))","v":858},null,{"v":0.4761575384615351,"d":"0.48"},8000,{"v":1333.3333333333335,"d":"1333"},0.6599999999999999,{"$f":"IF(Data!$C$59=1,TRUNC(($A64*0.9-BI187)/$P$89*2000*PI()*0.8,0),IF(Data!$C$59=2,TRUNC(($A64*0.8-(BI187+0.1))/$P$89*2000*PI()*0.8,0),\"\"))","v":-116},null,{"v":0.4761575384615351,"d":"0.48"},8000,{"v":533.3333333333334,"d":"533"},0.2566666666666667,{"$f":"IF(Data!$C$59=1,TRUNC(($A64*0.9-BO187)/$P$88*2000*PI()*0.8,0),IF(Data!$C$59=2,TRUNC(($A64*0.8-(BO187+0.1))/$P$88*2000*PI()*0.8,0),\"\"))","v":215},null,{"v":0.4761575384615351,"d":"0.48"},8000,{"v":1333.3333333333335,"d":"1333"},0.44999999999999996,{"$f":"IF(Data!$C$59=1,TRUNC(($A64*0.9-BU187)/$P$87*2000*PI()*0.8,0),IF(Data!$C$59=2,TRUNC(($A64*0.8-(BU187+0.1))/$P$87*2000*PI()*0.8,0),\"\"))","v":-10},null,{"v":0.4761575384615351,"d":"0.48"},8000,400,0.15000000000000002,{"$f":"IF(Data!$C$59=1,TRUNC(($A64*0.9-CA187)/$P$86*2000*PI()*0.8,0),IF(Data!$C$59=2,TRUNC(($A64*0.8-(CA187+0.1))/$P$86*2000*PI()*0.8,0),\"\"))","v":466}]
[{"$nulls":20},{"$f":"B131/60*$P$89","v":1200},7200,{"v":0.612,"d":"0.61"},{"v":0.612,"d":"0.61"},{"v":0.6799999999999999,"d":"0.68"},{"$f":"IF(Data!$E$83=1,Data!$L$117+Data!$F$59+X188/Data!$L$116/Data!$E$59/Data!$L$115,Data!$E$90+Data!$F$59+X188/Data!$G$90/Data!$E$59/Data!$D$90)","v":{"v":0.6799999999999999,"d":"0.68"}},{"v":0.7185333333333339,"d":"0.72"},{"$f":"IF(Data!$C$59=1,TRUNC(($A131*0.9-W188)/$P$89*2000*PI()*0.8,0),IF(Data!$C$59=2,TRUNC(($A131*0.8-(W188+0.1))/$P$89*2000*PI()*0.8,0),\"\"))","v":17},null,null,480,7200,{"v":0.23800000000000002,"d":"0.24"},{"v":0.23800000000000002,"d":"0.24"},{"v":0.2644444444444445,"d":"0.26"},{"$f":"IF(Data!$E$83=1,Data!$L$117+Data!$F$59+AH188/Data!$L$116/Data!$E$59/Data!$L$115,Data!$E$90+Data!$F$59+AH188/Data!$G$90/Data!$E$59/Data!$D$90)","v":{"v":0.2644444444444445,"d":"0.26"}},{"v":0.7185333333333339,"d":"0.72"},{"$f":"IF(Data!$C$59=1,TRUNC(($A131*0.9-AG188)/$P$88*2000*PI()*0.8,0),IF(Data!$C$59=2,TRUNC(($A131*0.8-(AG188+0.1))/$P$88*2000*PI()*0.8,0),\"\"))","v":513},null,1200,7200,{"v":0.42000000000000004,"d":"0.42"},{"v":0.42000000000000004,"d":"0.42"},{"v":0.4666666666666667,"d":"0.47"},{"$f":"IF(Data!$E$83=1,Data!$L$117+Data!$F$59+AQ188/Data!$L$116/Data!$E$59/Data!$L$115,Data!$E$90+Data!$F$59+AQ188/Data!$G$90/Data!$E$59/Data!$D$90)","v":{"v":0.4666666666666667,"d":"0.47"}},{"v":0.7185333333333339,"d":"0.72"},{"$f":"IF(Data!$C$59=1,TRUNC(($A131*0.9-AP188)/$P$87*2000*PI()*0.8,0),IF(Data!$C$59=2,TRUNC(($A131*0.8-(AP188+0.1))/$P$87*2000*PI()*0.8,0),\"\"))","v":113},null,360,7200,0.14,0.14,{"v":0.15555555555555556,"d":"0.16"},{"$f":"IF(Data!$E$83=1,Data!$L$117+Data!$F$59+AZ188/Data!$L$116/Data!$E$59/Data!$L$115,Data!$E$90+Data!$F$59+AZ188/Data!$G$90/Data!$E$59/Data!$D$90)","v":{"v":0.15555555555555556,"d":"0.16"}},{"v":0.7185333333333339,"d":"0.72"},{"$f":"IF(Data!$C$59=1,TRUNC(($A131*0.9-AY188)/$P$86*2000*PI()*0.8,0),IF(Data!$C$59=2,TRUNC(($A131*0.8-(AY188+0.1))/$P$86*2000*PI()*0.8,0),\"\"))","v":848},null,{"v":0.4099242197802164,"d":"0.41"},8000,{"v":1333.3333333333335,"d":"1333"},0.6599999999999999,{"$f":"IF(Data!$C$59=1,TRUNC(($A65*0.9-BI188)/$P$89*2000*PI()*0.8,0),IF(Data!$C$59=2,TRUNC(($A65*0.8-(BI188+0.1))/$P$89*2000*PI()*0.8,0),\"\"))","v":-146},null,{"v":0.4099242197802164,"d":"0.41"},8000,{"v":533.3333333333334,"d":"533"},0.2566666666666667,{"$f":"IF(Data!$C$59=1,TRUNC(($A65*0.9-BO188)/$P$88*2000*PI()*0.8,0),IF(Data!$C$59=2,TRUNC(($A65*0.8-(BO188+0.1))/$P$88*2000*PI()*0.8,0),\"\"))","v":141},null,{"v":0.4099242197802164,"d":"0.41"},8000,{"v":1333.3333333333335,"d":"1333"},0.44999999999999996,{"$f":"IF(Data!$C$59=1,TRUNC(($A65*0.9-BU188)/$P$87*2000*PI()*0.8,0),IF(Data!$C$59=2,TRUNC(($A65*0.8-(BU188+0.1))/$P$87*2000*PI()*0.8,0),\"\"))","v":-40},null,{"v":0.4099242197802164,"d":"0.41"},8000,400,0.15000000000000002,{"$f":"IF(Data!$C$59=1,TRUNC(($A65*0.9-CA188)/$P$86*2000*PI()*0.8,0),IF(Data!$C$59=2,TRUNC(($A65*0.8-(CA188+0.1))/$P$86*2000*PI()*0.8,0),\"\"))","v":366}]
[{"$nulls":20},{"v":1226.6666666666667,"d":"1227"},7360,{"v":0.6215999999999999,"d":"0.62"},{"v":0.6215999999999999,"d":"0.62"},{"v":0.6906666666666665,"d":"0.69"},{"$f":"IF(Data!$E$83=1,Data!$L$117+Data!$F$59+X189/Data!$L$116/Data!$E$59/Data!$L$115,Data!$E$90+Data!$F$59+X189/Data!$G$90/Data!$E$59/Data!$D$90)","v":{"v":0.6906666666666665,"d":"0.69"}},{"v":0.7146222222222228,"d":"0.71"},{"$f":"IF(Data!$C$59=1,TRUNC(($A132*0.9-W189)/$P$89*2000*PI()*0.8,0),IF(Data!$C$59=2,TRUNC(($A132*0.8-(W189+0.1))/$P$89*2000*PI()*0.8,0),\"\"))","v":10},null,null,{"v":490.6666666666667,"d":"491"},7360,{"v":0.24173333333333336,"d":"0.24"},{"v":0.24173333333333336,"d":"0.24"},{"v":0.2685925925925926,"d":"0.27"},{"$f":"IF(Data!$E$83=1,Data!$L$117+Data!$F$59+AH189/Data!$L$116/Data!$E$59/Data!$L$115,Data!$E$90+Data!$F$59+AH189/Data!$G$90/Data!$E$59/Data!$D$90)","v":{"v":0.2685925925925926,"d":"0.27"}},{"v":0.7146222222222228,"d":"0.71"},{"$f":"IF(Data!$C$59=1,TRUNC(($A132*0.9-AG189)/$P$88*2000*PI()*0.8,0),IF(Data!$C$59=2,TRUNC(($A132*0.8-(AG189+0.1))/$P$88*2000*PI()*0.8,0),\"\"))","v":504},null,{"v":1226.6666666666667,"d":"1227"},7360,{"v":0.42600000000000005,"d":"0.43"},{"v":0.42600000000000005,"d":"0.43"},{"v":0.4733333333333334,"d":"0.47"},{"$f":"IF(Data!$E$83=1,Data!$L$117+Data!$F$59+AQ189/Data!$L$116/Data!$E$59/Data!$L$115,Data!$E$90+Data!$F$59+AQ189/Data!$G$90/Data!$E$59/Data!$D$90)","v":{"v":0.4733333333333334,"d":"0.47"}},{"v":0.7146222222222228,"d":"0.71"},{"$f":"IF(Data!$C$59=1,TRUNC(($A132*0.9-AP189)/$P$87*2000*PI()*0.8,0),IF(Data!$C$59=2,TRUNC(($A132*0.8-(AP189+0.1))/$P$87*2000*PI()*0.8,0),\"\"))","v":109},null,368,7360,{"v":0.14200000000000002,"d":"0.14"},{"v":0.14200000000000002,"d":"0.14"},{"v":0.1577777777777778,"d":"0.16"},{"$f":"IF(Data!$E$83=1,Data!$L$117+Data!$F$59+AZ189/Data!$L$116/Data!$E$59/Data!$L$115,Data!$E$90+Data!$F$59+AZ189/Data!$G$90/Data!$E$59/Data!$D$90)","v":{"v":0.1577777777777778,"d":"0.16"}},{"v":0.7146222222222228,"d":"0.71"},{"$f":"IF(Data!$C$59=1,TRUNC(($A132*0.9-AY189)/$P$86*2000*PI()*0.8,0),IF(Data!$C$59=2,TRUNC(($A132*0.8-(AY189+0.1))/$P$86*2000*PI()*0.8,0),\"\"))","v":839},null,{"v":0.3430945054945021,"d":"0.34"},8000,{"v":1333.3333333333335,"d":"1333"},0.6599999999999999,{"$f":"IF(Data!$C$59=1,TRUNC(($A66*0.9-BI189)/$P$89*2000*PI()*0.8,0),IF(Data!$C$59=2,TRUNC(($A66*0.8-(BI189+0.1))/$P$89*2000*PI()*0.8,0),\"\"))","v":-176},null,{"v":0.3430945054945021,"d":"0.34"},8000,{"v":533.3333333333334,"d":"533"},0.2566666666666667,{"$f":"IF(Data!$C$59=1,TRUNC(($A66*0.9-BO189)/$P$88*2000*PI()*0.8,0),IF(Data!$C$59=2,TRUNC(($A66*0.8-(BO189+0.1))/$P$88*2000*PI()*0.8,0),\"\"))","v":65},null,{"v":0.3430945054945021,"d":"0.34"},8000,{"v":1333.3333333333335,"d":"1333"},0.44999999999999996,{"$f":"IF(Data!$C$59=1,TRUNC(($A66*0.9-BU189)/$P$87*2000*PI()*0.8,0),IF(Data!$C$59=2,TRUNC(($A66*0.8-(BU189+0.1))/$P$87*2000*PI()*0.8,0),\"\"))","v":-70},null,{"v":0.3430945054945021,"d":"0.34"},8000,400,0.15000000000000002,{"$f":"IF(Data!$C$59=1,TRUNC(($A66*0.9-CA189)/$P$86*2000*PI()*0.8,0),IF(Data!$C$59=2,TRUNC(($A66*0.8-(CA189+0.1))/$P$86*2000*PI()*0.8,0),\"\"))","v":266}]
[{"$nulls":20},{"v":1253.3333333333333,"d":"1253"},7520,{"v":0.6312,"d":"0.63"},{"v":0.6312,"d":"0.63"},{"v":0.7013333333333333,"d":"0.70"},{"$f":"IF(Data!$E$83=1,Data!$L$117+Data!$F$59+X190/Data!$L$116/Data!$E$59/Data!$L$115,Data!$E$90+Data!$F$59+X190/Data!$G$90/Data!$E$59/Data!$D$90)","v":{"v":0.7013333333333333,"d":"0.70"}},{"v":0.7107111111111117,"d":"0.71"},{"$f":"IF(Data!$C$59=1,TRUNC(($A133*0.9-W190)/$P$89*2000*PI()*0.8,0),IF(Data!$C$59=2,TRUNC(($A133*0.8-(W190+0.1))/$P$89*2000*PI()*0.8,0),\"\"))","v":4},null,null,{"v":501.3333333333333,"d":"501"},7520,{"v":0.2454666666666667,"d":"0.25"},{"v":0.2454666666666667,"d":"0.25"},{"v":0.2727407407407408,"d":"0.27"},{"$f":"IF(Data!$E$83=1,Data!$L$117+Data!$F$59+AH190/Data!$L$116/Data!$E$59/Data!$L$115,Data!$E$90+Data!$F$59+AH190/Data!$G$90/Data!$E$59/Data!$D$90)","v":{"v":0.2727407407407408,"d":"0.27"}},{"v":0.7107111111111117,"d":"0.71"},{"$f":"IF(Data!$C$59=1,TRUNC(($A133*0.9-AG190)/$P$88*2000*PI()*0.8,0),IF(Data!$C$59=2,TRUNC(($A133*0.8-(AG190+0.1))/$P$88*2000*PI()*0.8,0),\"\"))","v":495},null,{"v":1253.3333333333333,"d":"1253"},7520,{"v":0.43199999999999994,"d":"0.43"},{"v":0.43199999999999994,"d":"0.43"},{"v":0.4799999999999999,"d":"0.48"},{"$f":"IF(Data!$E$83=1,Data!$L$117+Data!$F$59+AQ190/Data!$L$116/Data!$E$59/Data!$L$115,Data!$E$90+Data!$F$59+AQ190/Data!$G$90/Data!$E$59/Data!$D$90)","v":{"v":0.4799999999999999,"d":"0.48"}},{"v":0.7107111111111117,"d":"0.71"},{"$f":"IF(Data!$C$59=1,TRUNC(($A133*0.9-AP190)/$P$87*2000*PI()*0.8,0),IF(Data!$C$59=2,TRUNC(($A133*0.8-(AP190+0.1))/$P$87*2000*PI()*0.8,0),\"\"))","v":104},null,376,7520,{"v":0.14400000000000002,"d":"0.14"},{"v":0.14400000000000002,"d":"0.14"},0.16,{"$f":"IF(Data!$E$83=1,Data!$L$117+Data!$F$59+AZ190/Data!$L$116/Data!$E$59/Data!$L$115,Data!$E$90+Data!$F$59+AZ190/Data!$G$90/Data!$E$59/Data!$D$90)","v":0.16},{"v":0.7107111111111117,"d":"0.71"},{"$f":"IF(Data!$C$59=1,TRUNC(($A133*0.9-AY190)/$P$86*2000*PI()*0.8,0),IF(Data!$C$59=2,TRUNC(($A133*0.8-(AY190+0.1))/$P$86*2000*PI()*0.8,0),\"\"))","v":830},null,{"v":0.2756683956043922,"d":"0.28"},8000,{"v":1333.3333333333335,"d":"1333"},0.6599999999999999,{"$f":"IF(Data!$C$59=1,TRUNC(($A67*0.9-BI190)/$P$89*2000*PI()*0.8,0),IF(Data!$C$59=2,TRUNC(($A67*0.8-(BI190+0.1))/$P$89*2000*PI()*0.8,0),\"\"))","v":-207},null,{"v":0.2756683956043922,"d":"0.28"},8000,{"v":533.3333333333334,"d":"533"},0.2566666666666667,{"$f":"IF(Data!$C$59=1,TRUNC(($A67*0.9-BO190)/$P$88*2000*PI()*0.8,0),IF(Data!$C$59=2,TRUNC(($A67*0.8-(BO190+0.1))/$P$88*2000*PI()*0.8,0),\"\"))","v":-10},null,{"v":0.2756683956043922,"d":"0.28"},8000,{"v":1333.3333333333335,"d":"1333"},0.44999999999999996,{"$f":"IF(Data!$C$59=1,TRUNC(($A67*0.9-BU190)/$P$87*2000*PI()*0.8,0),IF(Data!$C$59=2,TRUNC(($A67*0.8-(BU190+0.1))/$P$87*2000*PI()*0.8,0),\"\"))","v":-101},null,{"v":0.2756683956043922,"d":"0.28"},8000,400,0.15000000000000002,{"$f":"IF(Data!$C$59=1,TRUNC(($A67*0.9-CA190)/$P$86*2000*PI()*0.8,0),IF(Data!$C$59=2,TRUNC(($A67*0.8-(CA190+0.1))/$P$86*2000*PI()*0.8,0),\"\"))","v":164}]
[{"$nulls":20},1280,7680,{"v":0.6408,"d":"0.64"},{"v":0.6408,"d":"0.64"},"",{"$f":"IF(Data!$E$83=1,Data!$L$117+Data!$F$59+X191/Data!$L$116/Data!$E$59/Data!$L$115,Data!$E$90+Data!$F$59+X191/Data!$G$90/Data!$E$59/Data!$D$90)","v":{"v":0.7120000000000001,"d":"0.71"}},{"v":0.7068000000000006,"d":"0.71"},{"$f":"IF(Data!$C$59=1,TRUNC(($A134*0.9-W191)/$P$89*2000*PI()*0.8,0),IF(Data!$C$59=2,TRUNC(($A134*0.8-(W191+0.1))/$P$89*2000*PI()*0.8,0),\"\"))","v":-2},null,null,512,7680,{"v":0.24920000000000003,"d":"0.25"},{"v":0.24920000000000003,"d":"0.25"},{"v":0.2768888888888889,"d":"0.28"},{"$f":"IF(Data!$E$83=1,Data!$L$117+Data!$F$59+AH191/Data!$L$116/Data!$E$59/Data!$L$115,Data!$E$90+Data!$F$59+AH191/Data!$G$90/Data!$E$59/Data!$D$90)","v":{"v":0.2768888888888889,"d":"0.28"}},{"v":0.7068000000000006,"d":"0.71"},{"$f":"IF(Data!$C$59=1,TRUNC(($A134*0.9-AG191)/$P$88*2000*PI()*0.8,0),IF(Data!$C$59=2,TRUNC(($A134*0.8-(AG191+0.1))/$P$88*2000*PI()*0.8,0),\"\"))","v":486},null,1280,7680,{"v":0.43799999999999994,"d":"0.44"},{"v":0.43799999999999994,"d":"0.44"},{"v":0.4866666666666666,"d":"0.49"},{"$f":"IF(Data!$E$83=1,Data!$L$117+Data!$F$59+AQ191/Data!$L$116/Data!$E$59/Data!$L$115,Data!$E$90+Data!$F$59+AQ191/Data!$G$90/Data!$E$59/Data!$D$90)","v":{"v":0.4866666666666666,"d":"0.49"}},{"v":0.7068000000000006,"d":"0.71"},{"$f":"IF(Data!$C$59=1,TRUNC(($A134*0.9-AP191)/$P$87*2000*PI()*0.8,0),IF(Data!$C$59=2,TRUNC(($A134*0.8-(AP191+0.1))/$P$87*2000*PI()*0.8,0),\"\"))","v":99},null,384,7680,{"v":0.14600000000000002,"d":"0.15"},{"v":0.14600000000000002,"d":"0.15"},{"v":0.16222222222222224,"d":"0.16"},{"$f":"IF(Data!$E$83=1,Data!$L$117+Data!$F$59+AZ191/Data!$L$116/Data!$E$59/Data!$L$115,Data!$E$90+Data!$F$59+AZ191/Data!$G$90/Data!$E$59/Data!$D$90)","v":{"v":0.16222222222222224,"d":"0.16"}},{"v":0.7068000000000006,"d":"0.71"},{"$f":"IF(Data!$C$59=1,TRUNC(($A134*0.9-AY191)/$P$86*2000*PI()*0.8,0),IF(Data!$C$59=2,TRUNC(($A134*0.8-(AY191+0.1))/$P$86*2000*PI()*0.8,0),\"\"))","v":821},null,{"v":0.20764589010988635,"d":"0.21"},8000,{"v":1333.3333333333335,"d":"1333"},0.6599999999999999,{"$f":"IF(Data!$C$59=1,TRUNC(($A68*0.9-BI191)/$P$89*2000*PI()*0.8,0),IF(Data!$C$59=2,TRUNC(($A68*0.8-(BI191+0.1))/$P$89*2000*PI()*0.8,0),\"\"))","v":-237},null,{"v":0.20764589010988635,"d":"0.21"},8000,{"v":533.3333333333334,"d":"533"},0.2566666666666667,{"$f":"IF(Data!$C$59=1,TRUNC(($A68*0.9-BO191)/$P$88*2000*PI()*0.8,0),IF(Data!$C$59=2,TRUNC(($A68*0.8-(BO191+0.1))/$P$88*2000*PI()*0.8,0),\"\"))","v":-87},null,{"v":0.20764589010988635,"d":"0.21"},8000,{"v":1333.3333333333335,"d":"1333"},0.44999999999999996,{"$f":"IF(Data!$C$59=1,TRUNC(($A68*0.9-BU191)/$P$87*2000*PI()*0.8,0),IF(Data!$C$59=2,TRUNC(($A68*0.8-(BU191+0.1))/$P$87*2000*PI()*0.8,0),\"\"))","v":-132},null,{"v":0.20764589010988635,"d":"0.21"},8000,400,0.15000000000000002,{"$f":"IF(Data!$C$59=1,TRUNC(($A68*0.9-CA191)/$P$86*2000*PI()*0.8,0),IF(Data!$C$59=2,TRUNC(($A68*0.8-(CA191+0.1))/$P$86*2000*PI()*0.8,0),\"\"))","v":61}]
[{"$nulls":20},{"v":1306.6666666666665,"d":"1307"},7840,{"v":0.6504,"d":"0.65"},{"v":0.6504,"d":"0.65"},"",{"$f":"IF(Data!$E$83=1,Data!$L$117+Data!$F$59+X192/Data!$L$116/Data!$E$59/Data!$L$115,Data!$E$90+Data!$F$59+X192/Data!$G$90/Data!$E$59/Data!$D$90)","v":{"v":0.7226666666666667,"d":"0.72"}},{"v":0.7028888888888896,"d":"0.70"},{"$f":"IF(Data!$C$59=1,TRUNC(($A135*0.9-W192)/$P$89*2000*PI()*0.8,0),IF(Data!$C$59=2,TRUNC(($A135*0.8-(W192+0.1))/$P$89*2000*PI()*0.8,0),\"\"))","v":-8},null,null,{"v":522.6666666666666,"d":"523"},7840,{"v":0.25293333333333334,"d":"0.25"},{"v":0.25293333333333334,"d":"0.25"},{"v":0.28103703703703703,"d":"0.28"},{"$f":"IF(Data!$E$83=1,Data!$L$117+Data!$F$59+AH192/Data!$L$116/Data!$E$59/Data!$L$115,Data!$E$90+Data!$F$59+AH192/Data!$G$90/Data!$E$59/Data!$D$90)","v":{"v":0.28103703703703703,"d":"0.28"}},{"v":0.7028888888888896,"d":"0.70"},{"$f":"IF(Data!$C$59=1,TRUNC(($A135*0.9-AG192)/$P$88*2000*PI()*0.8,0),IF(Data!$C$59=2,TRUNC(($A135*0.8-(AG192+0.1))/$P$88*2000*PI()*0.8,0),\"\"))","v":477},null,{"v":1306.6666666666665,"d":"1307"},7840,{"v":0.44399999999999995,"d":"0.44"},{"v":0.44399999999999995,"d":"0.44"},{"v":0.4933333333333333,"d":"0.49"},{"$f":"IF(Data!$E$83=1,Data!$L$117+Data!$F$59+AQ192/Data!$L$116/Data!$E$59/Data!$L$115,Data!$E$90+Data!$F$59+AQ192/Data!$G$90/Data!$E$59/Data!$D$90)","v":{"v":0.4933333333333333,"d":"0.49"}},{"v":0.7028888888888896,"d":"0.70"},{"$f":"IF(Data!$C$59=1,TRUNC(($A135*0.9-AP192)/$P$87*2000*PI()*0.8,0),IF(Data!$C$59=2,TRUNC(($A135*0.8-(AP192+0.1))/$P$87*2000*PI()*0.8,0),\"\"))","v":94},null,392,7840,{"v":0.14800000000000002,"d":"0.15"},{"v":0.14800000000000002,"d":"0.15"},{"v":0.16444444444444448,"d":"0.16"},{"$f":"IF(Data!$E$83=1,Data!$L$117+Data!$F$59+AZ192/Data!$L$116/Data!$E$59/Data!$L$115,Data!$E$90+Data!$F$59+AZ192/Data!$G$90/Data!$E$59/Data!$D$90)","v":{"v":0.16444444444444448,"d":"0.16"}},{"v":0.7028888888888896,"d":"0.70"},{"$f":"IF(Data!$C$59=1,TRUNC(($A135*0.9-AY192)/$P$86*2000*PI()*0.8,0),IF(Data!$C$59=2,TRUNC(($A135*0.8-(AY192+0.1))/$P$86*2000*PI()*0.8,0),\"\"))","v":811},null,{"v":0.13902698901098556,"d":"0.14"},8000,{"v":1333.3333333333335,"d":"1333"},0.6599999999999999,{"$f":"IF(Data!$C$59=1,TRUNC(($A69*0.9-BI192)/$P$89*2000*PI()*0.8,0),IF(Data!$C$59=2,TRUNC(($A69*0.8-(BI192+0.1))/$P$89*2000*PI()*0.8,0),\"\"))","v":-268},null,{"v":0.13902698901098556,"d":"0.14"},8000,{"v":533.3333333333334,"d":"533"},0.2566666666666667,{"$f":"IF(Data!$C$59=1,TRUNC(($A69*0.9-BO192)/$P$88*2000*PI()*0.8,0),IF(Data!$C$59=2,TRUNC(($A69*0.8-(BO192+0.1))/$P$88*2000*PI()*0.8,0),\"\"))","v":-165},null,{"v":0.13902698901098556,"d":"0.14"},8000,{"v":1333.3333333333335,"d":"1333"},0.44999999999999996,{"$f":"IF(Data!$C$59=1,TRUNC(($A69*0.9-BU192)/$P$87*2000*PI()*0.8,0),IF(Data!$C$59=2,TRUNC(($A69*0.8-(BU192+0.1))/$P$87*2000*PI()*0.8,0),\"\"))","v":-163},null,{"v":0.13902698901098556,"d":"0.14"},8000,400,0.15000000000000002,{"$f":"IF(Data!$C$59=1,TRUNC(($A69*0.9-CA192)/$P$86*2000*PI()*0.8,0),IF(Data!$C$59=2,TRUNC(($A69*0.8-(CA192+0.1))/$P$86*2000*PI()*0.8,0),\"\"))","v":-41}]
[{"$nulls":20},{"v":1333.3333333333335,"d":"1333"},8000,{"v":0.6599999999999999,"d":"0.66"},{"v":0.6599999999999999,"d":"0.66"},"",{"$f":"IF(Data!$E$83=1,Data!$L$117+Data!$F$59+X193/Data!$L$116/Data!$E$59/Data!$L$115,Data!$E$90+Data!$F$59+X193/Data!$G$90/Data!$E$59/Data!$D$90)","v":{"v":0.7333333333333333,"d":"0.73"}},{"v":0.7,"d":"0.70"},{"$f":"IF(Data!$C$59=1,TRUNC(($A136*0.9-W193)/$P$89*2000*PI()*0.8,0),IF(Data!$C$59=2,TRUNC(($A136*0.8-(W193+0.1))/$P$89*2000*PI()*0.8,0),\"\"))","v":-15},null,null,{"v":533.3333333333334,"d":"533"},8000,{"v":0.2566666666666667,"d":"0.26"},{"v":0.2566666666666667,"d":"0.26"},{"v":0.2851851851851852,"d":"0.29"},{"$f":"IF(Data!$E$83=1,Data!$L$117+Data!$F$59+AH193/Data!$L$116/Data!$E$59/Data!$L$115,Data!$E$90+Data!$F$59+AH193/Data!$G$90/Data!$E$59/Data!$D$90)","v":{"v":0.2851851851851852,"d":"0.29"}},{"v":0.7,"d":"0.70"},{"$f":"IF(Data!$C$59=1,TRUNC(($A136*0.9-AG193)/$P$88*2000*PI()*0.8,0),IF(Data!$C$59=2,TRUNC(($A136*0.8-(AG193+0.1))/$P$88*2000*PI()*0.8,0),\"\"))","v":469},null,{"v":1333.3333333333335,"d":"1333"},8000,{"v":0.44999999999999996,"d":"0.45"},{"v":0.44999999999999996,"d":"0.45"},{"v":0.49999999999999994,"d":"0.50"},{"$f":"IF(Data!$E$83=1,Data!$L$117+Data!$F$59+AQ193/Data!$L$116/Data!$E$59/Data!$L$115,Data!$E$90+Data!$F$59+AQ193/Data!$G$90/Data!$E$59/Data!$D$90)","v":{"v":0.49999999999999994,"d":"0.50"}},{"v":0.7,"d":"0.70"},{"$f":"IF(Data!$C$59=1,TRUNC(($A136*0.9-AP193)/$P$87*2000*PI()*0.8,0),IF(Data!$C$59=2,TRUNC(($A136*0.8-(AP193+0.1))/$P$87*2000*PI()*0.8,0),\"\"))","v":90},null,400,8000,{"v":0.15000000000000002,"d":"0.15"},{"v":0.15000000000000002,"d":"0.15"},{"v":0.16666666666666669,"d":"0.17"},{"$f":"IF(Data!$E$83=1,Data!$L$117+Data!$F$59+AZ193/Data!$L$116/Data!$E$59/Data!$L$115,Data!$E$90+Data!$F$59+AZ193/Data!$G$90/Data!$E$59/Data!$D$90)","v":{"v":0.16666666666666669,"d":"0.17"}},{"v":0.7,"d":"0.70"},{"$f":"IF(Data!$C$59=1,TRUNC(($A136*0.9-AY193)/$P$86*2000*PI()*0.8,0),IF(Data!$C$59=2,TRUNC(($A136*0.8-(AY193+0.1))/$P$86*2000*PI()*0.8,0),\"\"))","v":804},null,{"v":0.06981169230768883,"d":"0.07"},8000,{"v":1333.3333333333335,"d":"1333"},0.6599999999999999,{"$f":"IF(Data!$C$59=1,TRUNC(($A70*0.9-BI193)/$P$89*2000*PI()*0.8,0),IF(Data!$C$59=2,TRUNC(($A70*0.8-(BI193+0.1))/$P$89*2000*PI()*0.8,0),\"\"))","v":-300},null,{"v":0.06981169230768883,"d":"0.07"},8000,{"v":533.3333333333334,"d":"533"},0.2566666666666667,{"$f":"IF(Data!$C$59=1,TRUNC(($A70*0.9-BO193)/$P$88*2000*PI()*0.8,0),IF(Data!$C$59=2,TRUNC(($A70*0.8-(BO193+0.1))/$P$88*2000*PI()*0.8,0),\"\"))","v":-243},null,{"v":0.06981169230768883,"d":"0.07"},8000,{"v":1333.3333333333335,"d":"1333"},0.44999999999999996,{"$f":"IF(Data!$C$59=1,TRUNC(($A70*0.9-BU193)/$P$87*2000*PI()*0.8,0),IF(Data!$C$59=2,TRUNC(($A70*0.8-(BU193+0.1))/$P$87*2000*PI()*0.8,0),\"\"))","v":-194},null,{"v":0.06981169230768883,"d":"0.07"},8000,400,0.15000000000000002,{"$f":"IF(Data!$C$59=1,TRUNC(($A70*0.9-CA193)/$P$86*2000*PI()*0.8,0),IF(Data!$C$59=2,TRUNC(($A70*0.8-(CA193+0.1))/$P$86*2000*PI()*0.8,0),\"\"))","v":-146}]
[{"$nulls":20},{"$f":"U193","v":{"v":1333.3333333333335,"d":"1333"}},{"$nulls":4},{"$f":"IF(Data!$E$83=1,Data!$L$117+Data!$F$59+X194/Data!$L$116/Data!$E$59/Data!$L$115,Data!$E$90+Data!$F$59+X194/Data!$G$90/Data!$E$59/Data!$D$90)","v":{"v":0,"d":"0.00"}},{"$nulls":4},{"$f":"AE193","v":{"v":533.3333333333334,"d":"533"}},{"$nulls":4},{"$f":"IF(Data!$E$83=1,Data!$L$117+Data!$F$59+AH194/Data!$L$116/Data!$E$59/Data!$L$115,Data!$E$90+Data!$F$59+AH194/Data!$G$90/Data!$E$59/Data!$D$90)","v":{"v":0,"d":"0.00"}},{"$nulls":3},{"$f":"AN193","v":{"v":1333.3333333333335,"d":"1333"}},{"$nulls":4},{"$f":"IF(Data!$E$83=1,Data!$L$117+Data!$F$59+AQ194/Data!$L$116/Data!$E$59/Data!$L$115,Data!$E$90+Data!$F$59+AQ194/Data!$G$90/Data!$E$59/Data!$D$90)","v":{"v":0,"d":"0.00"}},{"$nulls":3},{"$f":"AW193","v":400},{"$nulls":4},{"$f":"IF(Data!$E$83=1,Data!$L$117+Data!$F$59+AZ194/Data!$L$116/Data!$E$59/Data!$L$115,Data!$E$90+Data!$F$59+AZ194/Data!$G$90/Data!$E$59/Data!$D$90)","v":{"v":0,"d":"0.00"}},{"$nulls":3},{"v":0,"d":"0.00"},8000,{"v":1333.3333333333335,"d":"1333"},0.6599999999999999,{"$f":"IF(Data!$C$59=1,TRUNC(($A71*0.9-BI194)/$P$89*2000*PI()*0.8,0),IF(Data!$C$59=2,TRUNC(($A71*0.8-(BI194+0.1))/$P$89*2000*PI()*0.8,0),\"\"))","v":-331},null,{"v":0,"d":"0.00"},8000,{"v":533.3333333333334,"d":"533"},0.2566666666666667,{"$f":"IF(Data!$C$59=1,TRUNC(($A71*0.9-BO194)/$P$88*2000*PI()*0.8,0),IF(Data!$C$59=2,TRUNC(($A71*0.8-(BO194+0.1))/$P$88*2000*PI()*0.8,0),\"\"))","v":-322},null,{"v":0,"d":"0.00"},8000,{"v":1333.3333333333335,"d":"1333"},0.44999999999999996,{"$f":"IF(Data!$C$59=1,TRUNC(($A71*0.9-BU194)/$P$87*2000*PI()*0.8,0),IF(Data!$C$59=2,TRUNC(($A71*0.8-(BU194+0.1))/$P$87*2000*PI()*0.8,0),\"\"))","v":-226},null,{"v":0,"d":"0.00"},8000,400,0.15000000000000002,{"$f":"IF(Data!$C$59=1,TRUNC(($A71*0.9-CA194)/$P$86*2000*PI()*0.8,0),IF(Data!$C$59=2,TRUNC(($A71*0.8-(CA194+0.1))/$P$86*2000*PI()*0.8,0),\"\"))","v":-251}]

{"sheet":"Calc2","index":6,"n_rows":223,"n_cols":15,"rows_kept":223,"hidden":true}
["Motor Nr","Drive Nr","DC-Voltage",null,null,"AC","DC",{"$nulls":3},{"$f":"Calc!K1","v":"Drives"},{"$f":"Calc!L1","v":"AC-Voltage"},{"$f":"Calc!M1","v":"Icont"},{"$f":"Calc!N1","v":"Ipeak"},{"$f":"Calc!O1","v":"SFD \nUnterstützung?"}]
["AKM53K",{"$f":"Calc!B2","v":"max."},{"$f":"Calc!C2","v":320},null,2,{"$f":"75/SQRT(2)","v":53.03300858899106},75,{"$nulls":3},{"$f":"Calc!K2","v":"Servostar 303"},{"$f":"Calc!L2","v":230},{"$f":"Calc!M2","v":3},{"$f":"Calc!N2","v":9},{"$f":"Calc!O2","v":"Nein"}]
[{"$nulls":5},{"$f":"160/SQRT(2)","v":113.1370849898476},160,{"$nulls":3},{"$f":"Calc!K3","v":"Servostar 306"},{"$f":"Calc!L3","v":230},{"$f":"Calc!M3","v":6},{"$f":"Calc!N3","v":15},{"$f":"Calc!O3","v":"Nein"}]
[{"$nulls":5},{"$f":"320/SQRT(2)","v":226.2741699796952},320,{"$nulls":3},{"$f":"Calc!K4","v":"Servostar 310"},{"$f":"Calc!L4","v":230},{"$f":"Calc!M4","v":10},{"$f":"Calc!N4","v":20},{"$f":"Calc!O4","v":"Nein"}]
[{"$nulls":5},{"$f":"560/SQRT(2)","v":395.97979746446657},560,{"$nulls":3},{"$f":"Calc!K5","v":"Servostar 341"},{"$f":"Calc!L5","v":480},{"$f":"Calc!M5","v":1.5},{"$f":"Calc!N5","v":4.5},{"$f":"Calc!O5","v":"Nein"}]
[{"$nulls":5},{"$f":"640/SQRT(2)","v":452.5483399593904},640,{"$nulls":3},{"$f":"Calc!K6","v":"Servostar 343"},{"$f":"Calc!L6","v":480},{"$f":"Calc!M6","v":3},{"$f":"Calc!N6","v":7.5},{"$f":"Calc!O6","v":"Nein"}]
[{"$nulls":10},{"$f":"Calc!K7","v":"Servostar 346"},{"$f":"Calc!L7","v":480},{"$f":"Calc!M7","v":6},{"$f":"Calc!N7","v":12},{"$f":"Calc!O7","v":"Nein"}]
["Motor",{"$nulls":9},{"$f":"Calc!K8","v":"Servostar 403M/A"},{"$f":"Calc!L8","v":230},{"$f":"Calc!M8","v":3},{"$f":"Calc!N8","v":9},{"$f":"Calc!O8","v":"Nein"}]
["r","l","ke","Ipeak ","poles","nmax","Mo","Io","Mpeak",null,{"$f":"Calc!K9","v":"Servostar 406M/A"},{"$f":"Calc!L9","v":230},{"$f":"Calc!M9","v":6},{"$f":"Calc!N9","v":12},{"$f":"Calc!O9","v":"Nein"}]
[{"$f":"VLOOKUP($A$2,Motor!$A$9:$U$1219,18,FALSE)","v":1},{"$f":"VLOOKUP($A$2,Motor!$A$9:$U$1219,19,FALSE)","v":5.7},{"$f":"VLOOKUP($A$2,Motor!$A$9:$U$1219,20,FALSE)","v":79.8},{"$f":"VLOOKUP($A$2,Motor!$A$9:$U$1219,3,FALSE)","v":28.2},{"$f":"VLOOKUP($A$2,Motor!$A$9:$U$1219,21,FALSE)","v":10},{"$f":"VLOOKUP($A$2,Motor!$A$9:$U$1219,16,FALSE)","v":6000},{"$f":"VLOOKUP($A$2,Motor!$A$9:$U$1219,4,FALSE)","v":11.6},{"$f":"VLOOKUP($A$2,Motor!$A$9:$U$1219,5,FALSE)","v":9.4},{"$f":"VLOOKUP($A$2,Motor!$A$9:$U$1219,2,FALSE)","v":30.3},null,{"$f":"Calc!K10","v":"Servostar 443M/403A"},{"$f":"Calc!L10","v":400},{"$f":"Calc!M10","v":3},{"$f":"Calc!N10","v":9},{"$f":"Calc!O10","v":"Nein"}]
["Drive",{"$nulls":5},{"$f":"G10/H10","v":1.2340425531914894},null,{"$f":"I10/D10","v":1.074468085106383},null,{"$f":"Calc!K11","v":"Servostar 446M/406A"},{"$f":"Calc!L11","v":400},{"$f":"Calc!M11","v":6},{"$f":"Calc!N11","v":12},{"$f":"Calc!O11","v":"Nein"}]
["I peak","I rms",{"$nulls":8},{"$f":"Calc!K12","v":"Servostar 601"},{"$f":"Calc!L12","v":480},{"$f":"Calc!M12","v":1.5},{"$f":"Calc!N12","v":3},{"$f":"Calc!O12","v":"Nein"}]
[{"$f":"VALUE(VLOOKUP($B$2,$K$2:$N$43,4,FALSE))","v":1000},{"$f":"VALUE(VLOOKUP($B$2,$K$2:$N$43,3,FALSE))","v":1000},{"$nulls":8},{"$f":"Calc!K13","v":"Servostar 603"},{"$f":"Calc!L13","v":480},{"$f":"Calc!M13","v":3},{"$f":"Calc!N13","v":6},{"$f":"Calc!O13","v":"Nein"}]
[{"$f":"VALUE(VLOOKUP($B$2,$K$2:$N$43,4,FALSE))","v":1000},{"$nulls":9},{"$f":"Calc!K14","v":"Servostar 606"},{"$f":"Calc!L14","v":480},{"$f":"Calc!M14","v":6},{"$f":"Calc!N14","v":12},{"$f":"Calc!O14","v":"Nein"}]
[{"$nulls":10},{"$f":"Calc!K15","v":"Servostar 610"},{"$f":"Calc!L15","v":480},{"$f":"Calc!M15","v":10},{"$f":"Calc!N15","v":20},{"$f":"Calc!O15","v":"Nein"}]
[{"$nulls":10},{"$f":"Calc!K16","v":"Servostar 610/30"},{"$f":"Calc!L16","v":480},{"$f":"Calc!M16","v":10},{"$f":"Calc!N16","v":30},{"$f":"Calc!O16","v":"Nein"}]
[{"$nulls":10},{"$f":"Calc!K17","v":"Servostar 614"},{"$f":"Calc!L17","v":480},{"$f":"Calc!M17","v":14},{"$f":"Calc!N17","v":28},{"$f":"Calc!O17","v":"Nein"}]
["Cyclic duty",{"$nulls":9},{"$f":"Calc!K18","v":"Servostar 620"},{"$f":"Calc!L18","v":480},{"$f":"Calc!M18","v":20},{"$f":"Calc!N18","v":40},{"$f":"Calc!O18","v":"Nein"}]
["M","n","a","b","c","speed","Ipeak","Kt",null,null,{"$f":"Calc!K19","v":"Servostar 640"},{"$f":"Calc!L19","v":480},{"$f":"Calc!M19","v":40},{"$f":"Calc!N19","v":80},{"$f":"Calc!O19","v":"Nein"}]
[{"$f":"A21","v":30.3},0,{"$nulls":8},{"$f":"Calc!K20","v":"Servostar 670"},{"$f":"Calc!L20","v":480},{"$f":"Calc!M20","v":70},{"$f":"Calc!N20","v":140},{"$f":"Calc!O20","v":"Nein"}]
[{"$f":"G21*($G$10/$H$10-($G$10/$H$10-$I$10/$D$10)/$D$10*G21)","v":30.3},{"$f":"MAX(MIN(F21,$F$10),0)","v":1879.3},{"$f":"($C$10^2)/1000000+(($B$10/1000)^2*G21^2*PI()*PI()*($E$10/2)^2)/1200","v":0.011680631658029907},{"$f":"SQRT(3)*$C$10*$A$10*G21/1000","v":3.897737855320698},{"$f":"0.75*$A$10^2*G21^2-($C$2/SQRT(2)*0.98)^2","v":-48576.049999999996},{"$f":"ROUND((-D21/2/C21+SQRT((D21/2/C21)^2-E21/C21)),1)","v":1879.3},{"$f":"MIN($D$10,$A$13)*1","v":28.2},{"$f":"A21/G21","v":1.074468085106383},null,null,{"$f":"Calc!K21","v":"Servostar S20260"},{"$f":"Calc!L21","v":230},{"$f":"Calc!M21","v":1.5},{"$f":"Calc!N21","v":4.5},{"$f":"Calc!O21","v":"Ja"}]
[29.782200000000003,{"$f":"MAX(MIN(F22,$F$10),0)","v":1898.6},0.011470253028371923,3.819783098214284,-48599.668628,{"$f":"ROUND((-D22/2/C22+SQRT((D22/2/C22)^2-E22/C22)),1)","v":1898.6},{"$f":"MIN($D$10,$A$13)*0.98","v":27.636},1.0776595744680852,null,null,{"$f":"Calc!K22","v":"Servostar S20360"},{"$f":"Calc!L22","v":230},{"$f":"Calc!M22","v":3},{"$f":"Calc!N22","v":9},{"$f":"Calc!O22","v":"Ja"}]
[29.2608,1918.2,0.011264124472040362,3.74182834110787,-48622.810112,1918.2,{"$f":"MIN($D$10,$A$13)*0.96","v":27.072},1.0808510638297872,null,null,{"$f":"Calc!K23","v":"Servostar S20330"},{"$f":"Calc!L23","v":50},{"$f":"Calc!M23","v":3},{"$f":"Calc!N23","v":9},{"$f":"Calc!O23","v":"Ja"}]
[28.7358,1937.9,0.011062245989035227,3.6638735840014567,-48645.474451999995,1937.9,{"$f":"MIN($D$10,$A$13)*0.94","v":26.508},1.0840425531914895,null,null,{"$f":"Calc!K24","v":"Servostar S20630"},{"$f":"Calc!L24","v":50},{"$f":"Calc!M24","v":6},{"$f":"Calc!N24","v":18},{"$f":"Calc!O24","v":"Ja"}]
[28.207199999999997,1957.9,0.010864617579356514,3.5859188268950426,-48667.661647999994,1957.9,{"$f":"MIN($D$10,$A$13)*0.92","v":25.944},1.0872340425531914,null,null,{"$f":"Calc!K25","v":"S 701"},{"$f":"Calc!L25","v":480},{"$f":"Calc!M25","v":1.5},{"$f":"Calc!N25","v":4.5},{"$f":"Calc!O25","v":"Nein"}]
[27.675,1978,0.010671239243004225,3.5079640697886285,-48689.371699999996,1978,{"$f":"MIN($D$10,$A$13)*0.9","v":25.38},1.0904255319148937,null,null,{"$f":"Calc!K26","v":"S 703"},{"$f":"Calc!L26","v":480},{"$f":"Calc!M26","v":3},{"$f":"Calc!N26","v":9},{"$f":"Calc!O26","v":"Nein"}]
[27.139200000000002,1998.3,0.01048211097997836,3.4300093126822144,-48710.604607999994,1998.3,{"$f":"MIN($D$10,$A$13)*0.88","v":24.816},1.0936170212765959,null,null,{"$f":"Calc!K27","v":"S 706"},{"$f":"Calc!L27","v":480},{"$f":"Calc!M27","v":6},{"$f":"Calc!N27","v":18},{"$f":"Calc!O27","v":"Nein"}]
[26.5998,2018.7,0.01029723279027892,3.3520545555758003,-48731.360371999996,2018.7,{"$f":"MIN($D$10,$A$13)*0.86","v":24.252},1.0968085106382979,null,null,{"$f":"Calc!K28","v":"S 712"},{"$f":"Calc!L28","v":480},{"$f":"Calc!M28","v":12},{"$f":"Calc!N28","v":24},{"$f":"Calc!O28","v":"Nein"}]
[26.0568,2039.4,0.010116604673905903,3.2740997984693863,-48751.63899199999,2039.4,{"$f":"MIN($D$10,$A$13)*0.84","v":23.688},1.1,null,null,{"$f":"Calc!K29","v":"S 712P"},{"$f":"Calc!L29","v":480},{"$f":"Calc!M29","v":12},{"$f":"Calc!N29","v":30},{"$f":"Calc!O29","v":"Nein"}]
[25.510199999999998,2060.1,0.009940226630859311,3.196145041362972,-48771.44046799999,2060.1,{"$f":"MIN($D$10,$A$13)*0.82","v":23.124},1.103191489361702,null,null,{"$f":"Calc!K30","v":"S 724"},{"$f":"Calc!L30","v":480},{"$f":"Calc!M30","v":24},{"$f":"Calc!N30","v":48},{"$f":"Calc!O30","v":"Nein"}]
[24.960000000000004,2081,0.009768098661139143,3.118190284256559,-48790.7648,2081,{"$f":"MIN($D$10,$A$13)*0.8","v":22.560000000000002},1.1063829787234043,null,null,{"$f":"Calc!K31","v":"S 724P"},{"$f":"Calc!L31","v":480},{"$f":"Calc!M31","v":24},{"$f":"Calc!N31","v":72},{"$f":"Calc!O31","v":"Nein"}]
[24.406200000000002,2102,0.009600220764745395,3.0402355271501444,-48809.611988,2102,{"$f":"MIN($D$10,$A$13)*0.78","v":21.996},1.1095744680851065,null,null,{"$f":"Calc!K32","v":"S 748"},{"$f":"Calc!L32","v":480},{"$f":"Calc!M32","v":48},{"$f":"Calc!N32","v":96},{"$f":"Calc!O32","v":"Nein"}]
[23.848799999999997,2123.2,0.009436592941678075,2.962280770043731,-48827.98203199999,2123.2,{"$f":"MIN($D$10,$A$13)*0.76","v":21.432},1.1127659574468085,null,null,{"$f":"Calc!K33","v":"S 772"},{"$f":"Calc!L33","v":480},{"$f":"Calc!M33","v":72},{"$f":"Calc!N33","v":140},{"$f":"Calc!O33","v":"Nein"}]
[23.2878,2144.4,0.009277215191937178,2.8843260129373167,-48845.874932,2144.4,{"$f":"MIN($D$10,$A$13)*0.74","v":20.868},1.1159574468085107,null,null,{"$f":"Calc!K34","v":"AKD-x00306"},{"$f":"Calc!L34","v":230},{"$f":"Calc!M34","v":3},{"$f":"Calc!N34","v":9},{"$f":"Calc!O34","v":"Ja"}]
[22.7232,2165.7,0.009122087515522704,2.8063712558309026,-48863.290687999994,2165.7,{"$f":"MIN($D$10,$A$13)*0.72","v":20.304},1.1191489361702127,null,null,{"$f":"Calc!K35","v":"AKD-x00606"},{"$f":"Calc!L35","v":230},{"$f":"Calc!M35","v":6},{"$f":"Calc!N35","v":18},{"$f":"Calc!O35","v":"Ja"}]
[22.154999999999998,2187.1,0.008971209912434655,2.7284164987244885,-48880.2293,2187.1,{"$f":"MIN($D$10,$A$13)*0.7","v":19.74},1.122340425531915,null,null,{"$f":"Calc!K36","v":"AKD-x01206"},{"$f":"Calc!L36","v":230},{"$f":"Calc!M36","v":12},{"$f":"Calc!N36","v":30},{"$f":"Calc!O36","v":"Ja"}]
[21.5832,2208.5,0.00882458238267303,2.650461741618075,-48896.69076799999,2208.5,{"$f":"MIN($D$10,$A$13)*0.68","v":19.176000000000002},1.125531914893617,null,null,{"$f":"Calc!K37","v":"AKD-x02406"},{"$f":"Calc!L37","v":230},{"$f":"Calc!M37","v":24},{"$f":"Calc!N37","v":48},{"$f":"Calc!O37","v":"Ja"}]
[21.007800000000003,2230,0.008682204926237828,2.5725069845116613,-48912.675092,2230,{"$f":"MIN($D$10,$A$13)*0.66","v":18.612000000000002},1.1287234042553191,null,null,{"$f":"Calc!K38","v":"AKD-x00307"},{"$f":"Calc!L38","v":480},{"$f":"Calc!M38","v":3},{"$f":"Calc!N38","v":9},{"$f":"Calc!O38","v":"Ja"}]
[20.4288,2251.5,0.00854407754312905,2.4945522274052467,-48928.182272,2251.5,{"$f":"MIN($D$10,$A$13)*0.64","v":18.048},1.1319148936170214,null,null,{"$f":"Calc!K39","v":"AKD-x00607"},{"$f":"Calc!L39","v":480},{"$f":"Calc!M39","v":6},{"$f":"Calc!N39","v":18},{"$f":"Calc!O39","v":"Ja"}]
[19.846199999999996,2273,0.008410200233346696,2.4165974702988327,-48943.212307999995,2273,{"$f":"MIN($D$10,$A$13)*0.62","v":17.483999999999998},1.1351063829787233,null,null,{"$f":"Calc!K40","v":"AKD-x01207"},{"$f":"Calc!L40","v":480},{"$f":"Calc!M40","v":12},{"$f":"Calc!N40","v":30},{"$f":"Calc!O40","v":"Ja"}]
[19.259999999999998,2294.4,0.008280572996890768,2.338642713192419,-48957.765199999994,2294.4,{"$f":"MIN($D$10,$A$13)*0.6","v":16.919999999999998},1.1382978723404256,null,null,{"$f":"Calc!K41","v":"AKD-x02407"},{"$f":"Calc!L41","v":480},{"$f":"Calc!M41","v":24},{"$f":"Calc!N41","v":48},{"$f":"Calc!O41","v":"Ja"}]
[18.6702,2315.8,0.00815519583376126,2.260687956086005,-48971.840948,2315.8,{"$f":"MIN($D$10,$A$13)*0.58","v":16.355999999999998},1.1414893617021278,null,null,{"$f":"Calc!K42","v":"other drive"},{"$f":"Calc!L42","v":480},{"$f":"Calc!M42","v":"5"},{"$f":"Calc!N42","v":"15"},{"$f":"Calc!O42","v":"Nein"}]
[18.076800000000002,2337.1,0.00803406874395818,2.1827331989795913,-48985.439551999996,2337.1,{"$f":"MIN($D$10,$A$13)*0.56","v":15.792000000000002},1.1446808510638298,null,null,{"$f":"Calc!K43","v":"max."},{"$f":"Calc!L43","v":480},{"$f":"Calc!M43","v":1000},{"$f":"Calc!N43","v":1000},{"$f":"Calc!O43","v":"Nein"}]
[17.4798,2358.4,0.007917191727481522,2.104778441873177,-48998.561012,2358.4,{"$f":"MIN($D$10,$A$13)*0.54","v":15.228},1.147872340425532,null,null,{"$f":"Calc!K44","v":"S 131xx     5A 230V"},{"$f":"Calc!L44","v":"230 V"},{"$f":"Calc!M44","v":5},{"$f":"Calc!N44","v":10},{"$f":"Calc!O44","v":"Nein"}]
[16.879199999999997,2379.5,0.007804564784331287,2.026823684766763,-49011.205328,2379.5,{"$f":"MIN($D$10,$A$13)*0.52","v":14.664},1.151063829787234,null,null,{"$f":"Calc!K45","v":"S 132xx   10A 480V"},{"$f":"Calc!L45","v":480},{"$f":"Calc!M45","v":10},{"$f":"Calc!N45","v":20},{"$f":"Calc!O45","v":"Nein"}]
[16.275,2400.4,0.007696187914507477,1.948868927660349,-49023.3725,2400.4,{"$f":"MIN($D$10,$A$13)*0.5","v":14.1},1.1542553191489362,null,null,{"$f":"Calc!K46","v":"S 132xx   15A 480V"},{"$f":"Calc!L46","v":480},{"$f":"Calc!M46","v":15},{"$f":"Calc!N46","v":30},{"$f":"Calc!O46","v":"Nein"}]
[15.667200000000001,2421.2,0.00759206111801009,1.870914170553935,-49035.062527999995,2421.2,{"$f":"MIN($D$10,$A$13)*0.48","v":13.536},1.1574468085106384,null,null,{"$f":"Calc!K47","v":"S 132xx   20A 480V"},{"$f":"Calc!L47","v":480},{"$f":"Calc!M47","v":20},{"$f":"Calc!N47","v":40},{"$f":"Calc!O47","v":"Nein"}]
[15.0558,2441.7,0.007492184394839129,1.7929594134475213,-49046.275411999995,2441.7,{"$f":"MIN($D$10,$A$13)*0.46","v":12.972},1.1606382978723404,null,null,{"$f":"Calc!K48","v":0},{"$f":"Calc!L48","v":0},{"$f":"Calc!M48","v":0},{"$f":"Calc!N48","v":0},{"$f":"Calc!O48","v":0}]
[14.4408,2462,0.00739655774499459,1.7150046563411072,-49057.011152,2462,{"$f":"MIN($D$10,$A$13)*0.44","v":12.408},1.1638297872340426,null,null,{"$f":"Calc!K49","v":0},{"$f":"Calc!L49","v":0},{"$f":"Calc!M49","v":0},{"$f":"Calc!N49","v":0},{"$f":"Calc!O49","v":0}]
[13.822199999999999,2482,0.007305181168476476,1.6370498992346931,-49067.269748,2482,{"$f":"MIN($D$10,$A$13)*0.42","v":11.844},1.1670212765957446]
[13.19999999999997,2501.8,7.218054665284781E-3,1.5590951421282755,-49077.051199999994,2501.8,{"$f":"MIN($D$10,$A$13)*0.399999999999999","v":11.279999999999973},1.170212765957447]
[12.574199999999967,2521.1,7.1351782354195144E-3,1.4811403850218614,-49086.35550799999,2521.1,{"$f":"MIN($D$10,$A$13)*0.379999999999999","v":10.71599999999997},1.173404255319149]
[11.944799999999967,2540.1,7.0565518788806725E-3,1.4031856279154473,-49095.182671999995,2540.1,{"$f":"MIN($D$10,$A$13)*0.359999999999999","v":10.15199999999997},1.1765957446808513]
[11.311799999999968,2558.7,0.006982175595668254,1.3252308708090337,-49103.53269199999,2558.7,{"$f":"MIN($D$10,$A$13)*0.339999999999999","v":9.587999999999973},1.1797872340425533]
[10.675199999999968,2576.9,0.006912049385782259,1.2472761137026196,-49111.405567999995,2576.9,{"$f":"MIN($D$10,$A$13)*0.319999999999999","v":9.023999999999972},1.1829787234042555]
[10.034999999999966,2594.5,0.006846173249222688,1.1693213565962055,-49118.8013,2594.5,{"$f":"MIN($D$10,$A$13)*0.299999999999999","v":8.45999999999997},1.1861702127659577]
[9.391199999999968,2611.6,0.006784547185989542,1.0913665994897916,-49125.719888,2611.6,{"$f":"MIN($D$10,$A$13)*0.279999999999999","v":7.895999999999972},1.1893617021276597]
[8.743799999999968,2628.2,0.006727171196082819,1.0134118423833778,-49132.161331999996,2628.2,{"$f":"MIN($D$10,$A$13)*0.259999999999999","v":7.331999999999972},1.192553191489362]
[8.092799999999967,2644.2,0.00667404527950252,0.9354570852769637,-49138.125631999996,2644.2,{"$f":"MIN($D$10,$A$13)*0.239999999999999","v":6.767999999999971},1.195744680851064]
[7.438199999999966,2659.6,6.625169436248645E-3,0.8575023281705496,-49143.612788,2659.6,{"$f":"MIN($D$10,$A$13)*0.219999999999999","v":6.203999999999971},1.198936170212766]
[6.779999999999968,2674.3,0.006580543666321195,0.7795475710641359,-49148.6228,2674.3,{"$f":"MIN($D$10,$A$13)*0.199999999999999","v":5.639999999999972},1.2021276595744683]
[6.118199999999966,2688.3,0.006540167969720167,0.7015928139577218,-49153.155668,2688.3,{"$f":"MIN($D$10,$A$13)*0.179999999999999","v":5.075999999999971},1.2053191489361703]
[5.452799999999967,2701.6,0.006504042346445564,0.6236380568513078,-49157.211392,2701.6,{"$f":"MIN($D$10,$A$13)*0.159999999999999","v":4.511999999999972},1.2085106382978725]
[4.7837999999999665,2714.2,0.006472166796497385,0.5456832997448938,-49160.789972,2714.2,{"$f":"MIN($D$10,$A$13)*0.139999999999999","v":3.9479999999999715},1.2117021276595747]
[4.1111999999999655,2726,0.006444541319875629,0.46772854263847985,-49163.891407999996,2726,{"$f":"MIN($D$10,$A$13)*0.119999999999999","v":3.3839999999999715},1.2148936170212767]
[3.4349999999999663,2736.9,0.006421165916580298,0.389773785532066,-49166.515699999996,2736.9,{"$f":"MIN($D$10,$A$13)*0.099999999999999","v":2.819999999999972},1.218085106382979]
[2.7551999999999657,2747.1,0.006402040586611391,0.311819028425652,-49168.66284799999,2747.1,{"$f":"MIN($D$10,$A$13)*0.079999999999999","v":2.255999999999972},1.221276595744681]
[2.0717999999999623,2756.3,6.3871653299689074E-3,0.23386427131923762,-49170.332852,2756.3,{"$f":"MIN($D$10,$A$13)*0.0599999999999989","v":1.691999999999969},1.2244680851063832]
[1.3847999999999658,2764.7,0.006376540146652848,0.15590951421282406,-49171.525711999995,2764.7,{"$f":"MIN($D$10,$A$13)*0.039999999999999","v":1.127999999999972},1.2276595744680854]
[0.6941999999999654,2772.2,0.006370165036663212,0.07795475710641007,-49172.241427999994,2772.2,{"$f":"MIN($D$10,$A$13)*0.019999999999999","v":0.5639999999999719},1.2308510638297874]
[{"$f":"G71*($G$10/$H$10+($G$10/$H$10-$I$10/$D$10)/$D$10*G71)","v":0},2778.8,0.00636804,0,-49172.479999999996,2778.8,{"$f":"MIN($D$10,$A$13)*0","v":0}]
[]
[null,2677,{"$f":"($C$10^2)/1000000+(($B$10/1000)^2*G73^2*PI()*PI()*($E$10/2)^2)/1200","v":0.006573879676702594},{"$f":"SQRT(3)*$C$10*$A$10*G73/1000","v":0.7672271353145627},{"$f":"0.75*$A$10^2*G73^2-($C$2/SQRT(2)*0.98)^2","v":-49149.37094771849},{"$f":"ROUND((-D73/2/C73+SQRT((D73/2/C73)^2-E73/C73)),0)","v":2677},{"$f":"MIN(B13,H10/G10*C83)","v":5.550862068965517}]
[]
[]
["S1"]
["M ","n"]
[{"$f":"IF(D78>$B$71,\"\",C78)","v":11.6},{"$f":"IF(D78>$B$71,\"\",D78)","v":0},{"$f":"G10","v":11.6},0,0,{"$f":"MIN(A78,$A$154)","v":11.6}]
[{"$f":"IF(D79>$B$71,A78,C79)","v":11.6},{"$f":"IF(D79>$B$71,B78,D79)","v":0},{"$f":"IF(VLOOKUP($A$2,Motorenmatrix,6,FALSE)=0,C78,VLOOKUP($A$2,Motorenmatrix,6,FALSE))","v":11.6},{"$f":"IF(VLOOKUP($A$2,Motorenmatrix,7,FALSE)=0,D78,VLOOKUP($A$2,Motorenmatrix,7,FALSE))","v":0},{"$f":"IF(D79-D78=0,E78,(C79-C78)/(D79-D78))","v":0},11.6]
[{"$f":"IF(D80>$B$71,A79,C80)","v":11.6},{"$f":"IF(D80>$B$71,B79,D80)","v":0},{"$f":"IF(VLOOKUP($A$2,Motorenmatrix,8,FALSE)=0,C79,VLOOKUP($A$2,Motorenmatrix,8,FALSE))","v":11.6},{"$f":"IF(VLOOKUP($A$2,Motorenmatrix,9,FALSE)=0,D79,VLOOKUP($A$2,Motorenmatrix,9,FALSE))","v":0},{"$f":"IF(D80-D79=0,E79,(C80-C79)/(D80-D79))","v":0},11.6]
[{"$f":"IF(D81>$B$71,A80,C81)","v":10.1},{"$f":"IF(D81>$B$71,B80,D81)","v":2000},{"$f":"IF(VLOOKUP($A$2,Motorenmatrix,10,FALSE)=0,C80,VLOOKUP($A$2,Motorenmatrix,10,FALSE))","v":10.1},{"$f":"IF(VLOOKUP($A$2,Motorenmatrix,11,FALSE)=0,D80,VLOOKUP($A$2,Motorenmatrix,11,FALSE))","v":2000},{"$f":"IF(D81-D80=0,E80,(C81-C80)/(D81-D80))","v":-0.00075},10.1]
[{"$f":"IF(D82>$B$71,A81,C82)","v":10.1},{"$f":"IF(D82>$B$71,B81,D82)","v":2000},{"$f":"IF(VLOOKUP($A$2,Motorenmatrix,12,FALSE)=0,C81,VLOOKUP($A$2,Motorenmatrix,12,FALSE))","v":7.65},{"$f":"IF(VLOOKUP($A$2,Motorenmatrix,13,FALSE)=0,D81,VLOOKUP($A$2,Motorenmatrix,13,FALSE))","v":4000},{"$f":"IF(D82-D81=0,E81,(C82-C81)/(D82-D81))","v":-1.2249999999999997E-3},10.1]
[{"$f":"IF(D83>$B$71,A82,C83)","v":10.1},{"$f":"IF(D83>$B$71,B82,D83)","v":2000},{"$f":"IF(VLOOKUP($A$2,Motorenmatrix,14,FALSE)=0,C82,VLOOKUP($A$2,Motorenmatrix,14,FALSE))","v":6.85},{"$f":"IF(VLOOKUP($A$2,Motorenmatrix,15,FALSE)=0,D82,VLOOKUP($A$2,Motorenmatrix,15,FALSE))","v":4500},{"$f":"IF(D83-D82=0,E82,(C83-C82)/(D83-D82))","v":-1.6000000000000014E-3},10.1]
[{"$f":"A83+(B84-B83)*E83","v":9.016799999999998},{"$f":"B73","v":2677},{"$f":"A83+(B84-B83)*E83","v":9.016799999999998},null,null,9.016799999999998]
[]
[{"$f":"C78","v":11.6},0,null,{"$f":"MIN(A86,$A$154)","v":11.6}]
[{"$f":"A86+(B87-B86)*C87","v":11.559845},{"$f":"0.02*$B$84","v":53.54},{"$f":"IF(B87<$B$79,$E$79,IF(B87<$B$80,$E$80,IF(B87<$B$81,$E$81,IF(B87<$B$82,$E$82,$E$83 ) ) ))","v":-0.00075},11.559845]
[{"$f":"A87+(B88-B87)*C88","v":11.519689999999999},{"$f":"0.04*$B$84","v":107.08},{"$f":"IF(B88<$B$79,$E$79,IF(B88<$B$80,$E$80,IF(B88<$B$81,$E$81,IF(B88<$B$82,$E$82,$E$83 ) ) ))","v":-0.00075},11.519689999999999]
[11.479534999999998,{"$f":"0.06*$B$84","v":160.62},-0.00075,11.479534999999998]
[11.439379999999998,{"$f":"0.08*$B$84","v":214.16},-0.00075,11.439379999999998]
[11.399224999999998,{"$f":"0.1*$B$84","v":{"v":267.7,"d":"267.70"}},-0.00075,11.399224999999998]
[11.359069999999997,{"$f":"0.12*$B$84","v":321.24},-0.00075,11.359069999999997]
[11.318914999999997,{"$f":"0.14*$B$84","v":{"v":374.78000000000003,"d":"374.78"}},-0.00075,11.318914999999997]
[11.278759999999997,{"$f":"0.16*$B$84","v":428.32},-0.00075,11.278759999999997]
[11.238604999999996,{"$f":"0.18*$B$84","v":{"v":481.85999999999996,"d":"481.86"}},-0.00075,11.238604999999996]
[11.198449999999996,{"$f":"0.2*$B$84","v":{"v":535.4,"d":"535.40"}},-0.00075,11.198449999999996]
[11.158294999999995,{"$f":"0.22*$B$84","v":588.94},-0.00075,11.158294999999995]
[11.118139999999995,{"$f":"0.24*$B$84","v":642.48},-0.00075,11.118139999999995]
[11.077984999999995,{"$f":"0.26*$B$84","v":696.02},-0.00075,11.077984999999995]
[11.037829999999994,{"$f":"0.28*$B$84","v":{"v":749.5600000000001,"d":"749.56"}},-0.00075,11.037829999999994]
[10.997674999999994,{"$f":"0.3*$B$84","v":{"v":803.1,"d":"803.10"}},-0.00075,10.997674999999994]
[10.957519999999993,{"$f":"0.32*$B$84","v":856.64},-0.00075,10.957519999999993]
[10.917364999999993,{"$f":"0.34*$B$84","v":{"v":910.1800000000001,"d":"910.18"}},-0.00075,10.917364999999993]
[10.877209999999993,{"$f":"0.36*$B$84","v":{"v":963.7199999999999,"d":"963.72"}},-0.00075,10.877209999999993]
[10.837054999999992,{"$f":"0.38*$B$84","v":1017.26},-0.00075,10.837054999999992]
[10.796899999999992,{"$f":"0.4*$B$84","v":{"v":1070.8,"d":"1070.80"}},-0.00075,10.796899999999992]
[10.756744999999992,{"$f":"0.42*$B$84","v":1124.34},-0.00075,10.756744999999992]
[10.716589999999991,{"$f":"0.44*$B$84","v":1177.88},-0.00075,10.716589999999991]
[10.67643499999999,{"$f":"0.46*$B$84","v":1231.42},-0.00075,10.67643499999999]
[10.63627999999999,{"$f":"0.48*$B$84","v":1284.96},-0.00075,10.63627999999999]
[10.59612499999999,{"$f":"0.5*$B$84","v":{"v":1338.5,"d":"1338.50"}},-0.00075,10.59612499999999]
[10.55596999999999,{"$f":"0.52*$B$84","v":1392.04},-0.00075,10.55596999999999]
[10.51581499999999,{"$f":"0.54*$B$84","v":{"v":1445.5800000000002,"d":"1445.58"}},-0.00075,10.51581499999999]
[10.475659999999989,{"$f":"0.56*$B$84","v":{"v":1499.1200000000001,"d":"1499.12"}},-0.00075,10.475659999999989]
[10.435504999999988,{"$f":"0.58*$B$84","v":{"v":1552.6599999999999,"d":"1552.66"}},-0.00075,10.435504999999988]
[10.395349999999988,{"$f":"0.6*$B$84","v":{"v":1606.2,"d":"1606.20"}},-0.00075,10.395349999999988]
[10.355194999999988,{"$f":"0.62*$B$84","v":1659.74},-0.00075,10.355194999999988]
[10.315039999999987,{"$f":"0.64*$B$84","v":1713.28},-0.00075,10.315039999999987]
[10.274884999999987,{"$f":"0.66*$B$84","v":{"v":1766.8200000000002,"d":"1766.82"}},-0.00075,10.274884999999987]
[10.234729999999987,{"$f":"0.68*$B$84","v":{"v":1820.3600000000001,"d":"1820.36"}},-0.00075,10.234729999999987]
[10.194574999999986,{"$f":"0.7*$B$84","v":{"v":1873.8999999999999,"d":"1873.90"}},-0.00075,10.194574999999986]
[10.154419999999986,{"$f":"0.72*$B$84","v":{"v":1927.4399999999998,"d":"1927.44"}},-0.00075,10.154419999999986]
[10.114264999999985,{"$f":"0.74*$B$84","v":1980.98},-0.00075,10.114264999999985]
[10.028600999999986,{"$f":"0.76*$B$84","v":2034.52},-1.6000000000000014E-3,10.028600999999986]
[9.942936999999986,{"$f":"0.78*$B$84","v":2088.06},-1.6000000000000014E-3,9.942936999999986]
[9.857272999999987,{"$f":"0.8*$B$84","v":{"v":2141.6,"d":"2141.60"}},-1.6000000000000014E-3,9.857272999999987]
[9.771608999999987,{"$f":"0.82*$B$84","v":2195.14},-1.6000000000000014E-3,9.771608999999987]
[9.685944999999988,{"$f":"0.84*$B$84","v":2248.68},-1.6000000000000014E-3,9.685944999999988]
[9.600280999999988,{"$f":"0.86*$B$84","v":2302.22},-1.6000000000000014E-3,9.600280999999988]
[9.514616999999987,{"$f":"0.88*$B$84","v":2355.76},-1.6000000000000014E-3,9.514616999999987]
[9.428952999999987,{"$f":"0.9*$B$84","v":{"v":2409.3,"d":"2409.30"}},-1.6000000000000014E-3,9.428952999999987]
[9.343288999999988,{"$f":"0.92*$B$84","v":2462.84},-1.6000000000000014E-3,9.343288999999988]
[9.257624999999988,{"$f":"0.94*$B$84","v":{"v":2516.3799999999997,"d":"2516.38"}},-1.6000000000000014E-3,9.257624999999988]
[9.171960999999987,{"$f":"0.96*$B$84","v":2569.92},-1.6000000000000014E-3,9.171960999999987]
[9.086296999999988,{"$f":"0.98*$B$84","v":2623.46},-1.6000000000000014E-3,9.086296999999988]
[{"$f":"C84","v":9.016799999999998},{"$f":"1*$B$73","v":2677},null,9.016799999999998]
[]
[]
[]
["Rated"]
["M","n",{"$f":"$C$2*1","v":320}]
[{"$f":"MIN(VLOOKUP(C141,C142:E146,2,FALSE),A154)","v":10.1},{"$f":"VLOOKUP(C141,C142:E146,3,FALSE)","v":2000},75,{"$f":"IF(VLOOKUP($A$2,Motorenmatrix,6,FALSE)=0,A78,VLOOKUP($A$2,Motorenmatrix,6,FALSE))","v":11.6},{"$f":"IF(VLOOKUP($A$2,Motorenmatrix,7,FALSE)=0,B78,VLOOKUP($A$2,Motorenmatrix,7,FALSE))","v":0}]
[null,null,160,{"$f":"IF(VLOOKUP($A$2,Motorenmatrix,8,FALSE)=0,D142,VLOOKUP($A$2,Motorenmatrix,8,FALSE))","v":11.6},{"$f":"IF(VLOOKUP($A$2,Motorenmatrix,9,FALSE)=0,E142,VLOOKUP($A$2,Motorenmatrix,9,FALSE))","v":0}]
[null,null,320,{"$f":"IF(VLOOKUP($A$2,Motorenmatrix,10,FALSE)=0,D143,VLOOKUP($A$2,Motorenmatrix,10,FALSE))","v":10.1},{"$f":"IF(VLOOKUP($A$2,Motorenmatrix,11,FALSE)=0,E143,VLOOKUP($A$2,Motorenmatrix,11,FALSE))","v":2000}]
[null,null,560,{"$f":"IF(VLOOKUP($A$2,Motorenmatrix,12,FALSE)=0,D144,VLOOKUP($A$2,Motorenmatrix,12,FALSE))","v":7.65},{"$f":"IF(VLOOKUP($A$2,Motorenmatrix,13,FALSE)=0,E144,VLOOKUP($A$2,Motorenmatrix,13,FALSE))","v":4000}]
[null,null,640,{"$f":"IF(VLOOKUP($A$2,Motorenmatrix,14,FALSE)=0,D145,VLOOKUP($A$2,Motorenmatrix,14,FALSE))","v":6.85},{"$f":"IF(VLOOKUP($A$2,Motorenmatrix,15,FALSE)=0,E145,VLOOKUP($A$2,Motorenmatrix,15,FALSE))","v":4500}]
[]
["I peak"]
[{"$f":"A14*MAX(($G$10/$H$10-($G$10/$H$10-$I$10/$D$10)/$D$10*A14),I10/D10)","v":1074.4680851063831},0]
[{"$f":"A149","v":1074.4680851063831},{"$f":"B71*1.05","v":2917.7400000000002}]
[]
[]
["I rms"]
[{"$f":"B13*MAX(($G$10/$H$10-($G$10/$H$10-$I$10/$D$10)/$D$10*B13),I10/D10)","v":1074.4680851063831},0]
[{"$f":"A154","v":1074.4680851063831},{"$f":"B71*1.05","v":2917.7400000000002}]
{"$rows_empty":53}
[{"$nulls":9},"Linearmotor Calculator"]
[{"$nulls":9},"m/s in elek U/min"]
[{"$nulls":9},"Geschwindigkeit [m/s]",5]
[{"$nulls":9},"Polpitch [mm]",32]
[{"$nulls":9},"Umdrehungen [U/min]",{"$f":"K211*1000/K212*60","v":9375}]
[]
[{"$nulls":9},"Ke Umrechner",{"$nulls":3},"Kt Rechner"]
[{"$nulls":9},"Polpitch [mm]",32,null,null,"Ke mV/rpm",{"$f":"K218","v":{"v":21.866666666666667,"d":"21.87"}}]
[{"$nulls":9},"KE mV/(m/s)",41000,null,null,"Kt Nm/A",{"$f":"O216*(1.73/6.28)","v":{"v":6.023779193205945,"d":"6.02"}}]
[{"$nulls":9},"KE mV/rpm",{"$f":"K217/((1000/K216)*60)","v":21.866666666666667}]
[]
[{"$nulls":9},"Ele U/min in m/s"]
[{"$nulls":9},"Umdrehungen [U/min]",9375]
[{"$nulls":9},"Polpitch [mm]",32]
[{"$nulls":9},"Geschwindigkeit [m/s]",{"$f":"K221/60*K222/1000","v":5}]

{"sheet":"Micron Gear Data","index":7,"n_rows":34,"n_cols":22,"rows_kept":34,"hidden":true,"merged":[[5,16,5,19],[19,16,19,19]]}
[]
[]
[]
[{"$nulls":14},"Micron Gear Option"]
[]
[{"$nulls":14},"NT17",null,"Torque [Nm] at specified rpm for 20 000 H life time"]
[{"$nulls":14},"P/N","Ratio",1000,2000,3000,4000,"Idle Torque","Inertia"]
[{"$nulls":14},"NT17-003","3:1",4.7,3.8,3.3,3.1,1E-3,0.013]
[{"$nulls":15},"5:1",5,4.2,3.7,3.4,1E-3,0.005]
[{"$nulls":15},"10:1",3.4,3.1,2.8,2.6,1E-3,0.003]
[{"$nulls":15},"15:1",5.3,5.3,5.3,4.7,1E-3,0.004]
[{"$nulls":15},"25:1",8.8,6.6,6,5.5,1E-3,0.004]
[{"$nulls":15},"30:1",6.4,5.9,5.4,5.2,1E-3,0.003]
[{"$nulls":15},"50:1",10.3,8.8,7.4,6.7,1E-3,0.003]
[{"$nulls":14},"NT17-100","100:1",4.5,4.3,4,3.8,1E-3,0.003]
[]
[]
[]
[]
[{"$nulls":14},"NT60",null,"Torque [Nm] at specified rpm for 20 000 H life time"]
[{"$nulls":14},"P/N","Ratio",1000,2000,3000,4000,"Idle Torque","Inertia"]
[{"$nulls":14},"NT60-003","3:1",11.1,9,7.9,7.3,1E-3,0.076]
[{"$nulls":15},"4:1",12.1,10.2,9,8.2,1E-3,0.024]
[{"$nulls":15},"5:1",11.9,9.9,8.8,8,1E-3,0.025]
[{"$nulls":15},"7:1",11.3,9.4,8.4,7.5,1E-3,0.024]
[{"$nulls":15},"10:1",7.1,6.6,6.1,5.9,1E-3,0.016]
[{"$nulls":15},"15:1",14,12.4,11.9,11.3,1E-3,0.024]
[{"$nulls":15},"20:1",20.3,16.6,14.7,13.6,1E-3,0.024]
[{"$nulls":15},"25:1",9.8,16,14.1,13,1E-3,0.024]
[{"$nulls":15},"30:1",23.4,20.6,17.7,16.6,1E-3,0.015]
[{"$nulls":15},"40:1",23.4,20.6,17.7,16.6,1E-3,0.015]
[{"$nulls":15},"50:1",22.8,19.8,17.2,16,1E-3,0.015]
[{"$nulls":15},"70:1",22.3,19.4,16.6,15.5,1E-3,0.015]
[{"$nulls":14},"NT60-100","100:1",9.6,8.9,8.9,8.2,1E-3,0.015]

{"sheet":"Change LOG","index":8,"n_rows":20,"n_cols":4,"rows_kept":20,"hidden":true}
[]
[null,null,"Change log Alexander"]
[]
[]
[]
[null,null,"2016-01-08","Har ändrat villkordstyrd formatering i cellerna A74-A80"]
[null,null,"2016-01-13","Har ändrat fomel för PC P/N från att hämta cell&cell…. Till Sammanfoga(cell;cell…)"]
[null,null,"2016-01-15","Har ändrat formler för beräkning av D74:80 samt E74:80 i \"Data\" har istället låtit Ratio, Efficiency etc tas från \"Data\""]
[null,null,"2016-02-05","Har ändrat formler för beräkning i kolumner AK, AL, AM och AN samt ändrat referenserna i input-bladet för att hämta uppdaterade formler i nämnda kolumner AK, AL osv."]
[null,null,"2016-02-10","Har ändrat i formel för M71 där OM(J71=4;1,6;1) ändrades till OM(J71=3;1,6;1) eftersom den förra gav felaktigt OK för lösningen"]
[null,null,"2016-02-10","Har ändrat i formel för K84 enligt M71 ovan, samma resonemang."]
[null,null,"2016-03-11","Har ändrat i formel för system inertia så att PA-inertia är medtaget i celler AN21:AN27"]
[null,null,"2016-04-12","PMX-motorerna har rensats upp"]
[null,null,"2016-04-12","Data performance har ändrats OM(OCH(G73<OM(Data!J69=2;Data!L157;Data!$F$68);F73>Data!M72*Data!G68;H73<Data!$E$68;F73<=Data!$G$68*Data!$M$69;Data!AM27<7;I73<=Data!$D$68);\"OK\";\"Not OK\") var tidigare AM11 "]
[null,null,"2016-04-14","Motor Performance OK eller NOT OK har ändrats OM(OCH(G67<OM(Data!J69=2;Data!L151;Data!$F$68);F67>Data!M72*Data!G68;H67<Data!$E$68;F67<=Data!$G$68*Data!$M$69;Data!AM21<7;I67<=Data!$F$68);\"OK\";\"Not OK\") var tidigare G68, G69 osv."]
[null,null,"2016-04-26","Har lagt in kontroll som finns i data AF7-AF13; Om fel finns så blankas alla fält ut."]
[null,null,"2016-04-26","Har ändrat i formler för RediMount ID i datafilen, har infört en koll vid sidan som går igenom samtliga fall enligt tabell AG75:AL101"]
[null,null,"2016-05-04","Har ändrat i formeln för systeminertia där ratio^2 är infört jämför med gammal selektor."]
[null,null,"2016-05-04","Har ändrat så att när inte hastigheten uppnås i inch/s visar rätt tal."]
[null,null,"2016-05-04","Har infört villkorsstyrning på tabellen över möjliga lösningar inte visar lösningar då duty cycle är över 100%"]

{"sheet":"PC40 Graphs","index":9,"n_rows":120,"n_cols":23,"rows_kept":120,"hidden":true,"merged":[[57,11,57,15]]}
[null,"Current Motor",null,"Voltage"]
[null,{"$f":"Calc!$A$2","v":"AKM22E"},null,{"$f":"IF(Calc!$C$2=160,\"(120 VAC)\",IF(Calc!$C$2=320,\"(240 VAC)\",\"(400 VAC)\"))","v":"(240 VAC)"},{"$nulls":6},"Max speed","mm/s",null,null,"Motor to be used"]
[null,"PC40B20",null,"PC40B10",null,"PC40B05",{"$nulls":8},"AKM33H",null,null,"Cyclic"]
[null,"mm/s","Fx (N)","mm/s","Fx (N)","mm/s","Fx (N)",{"$nulls":3},"PC40…B05",416.66666666666663,null,null,"AKM33E","for 400 VAC",null,"mm/s","Output"]
[null,{"$f":"IF(Calc!U86<$L$6,Calc!U86,\"\")","v":0},{"$f":"IF(Calc!AB86<0,0,IF(Calc!AB86<=$L$8,Calc!AB86,$L$8))","v":121},{"$f":"IF(Calc!AE86<L5,Calc!AE86,\"\")","v":0},{"$f":"IF(Calc!AL86<0,0,IF(Calc!AL86<=$L$8,Calc!AL86,$L$8))","v":293},{"$f":"IF(Calc!AN86<L4,Calc!AN86,\"\")","v":0},{"$f":"IF(Calc!AU86<0,0,IF(Calc!AU86<=$L$8,Calc!AU86,$L$8))","v":686},{"$nulls":3},"PC40…B10",833.3333333333333,null,null,"AKM44H",null,null,0,1166]
[null,{"$f":"IF(Calc!U87<$L$6,Calc!U87,IF(B5>$L$6,B5,B5))","v":{"v":53.33333333333333,"d":"53"}},{"$f":"IF(Calc!AB87<0,0,IF(Calc!AB87<=$L$8,Calc!AB87,$L$8))","v":115},{"$f":"IF(Calc!AE87<$L$5,Calc!AE87,IF(D5>$L$5,D5,D5))","v":{"v":26.666666666666664,"d":"27"}},{"$f":"IF(Calc!AL87<0,0,IF(Calc!AL87<=$L$8,Calc!AL87,$L$8))","v":285},{"$f":"IF(Calc!AN87<$L$4,Calc!AN87,IF(F5>$L$5,F5,F5))","v":{"v":13.333333333333332,"d":"13"}},{"$f":"IF(Calc!AU87<0,0,IF(Calc!AU87<=$L$8,Calc!AU87,$L$8))","v":677},{"$nulls":3},"PC40…B20",1666.6666666666665,{"$nulls":5},1398,1166]
[null,{"$f":"IF(Calc!U88<$L$6,Calc!U88,IF(B6>$L$6,B6,B6))","v":{"v":106.66666666666666,"d":"107"}},{"$f":"IF(Calc!AB88<0,0,IF(Calc!AB88<=$L$8,Calc!AB88,$L$8))","v":110},{"$f":"IF(Calc!AE88<$L$5,Calc!AE88,IF(D6>$L$5,D6,D6))","v":{"v":53.33333333333333,"d":"53"}},{"$f":"IF(Calc!AL88<0,0,IF(Calc!AL88<=$L$8,Calc!AL88,$L$8))","v":277},{"$f":"IF(Calc!AN88<$L$4,Calc!AN88,IF(F6>$L$5,F6,F6))","v":{"v":26.666666666666664,"d":"27"}},{"$f":"IF(Calc!AU88<0,0,IF(Calc!AU88<=$L$8,Calc!AU88,$L$8))","v":667},{"$nulls":10},0,0]
[null,{"$f":"IF(Calc!U89<$L$6,Calc!U89,IF(B7>$L$6,B7,B7))","v":160},{"$f":"IF(Calc!AB89<0,0,IF(Calc!AB89<=$L$8,Calc!AB89,$L$8))","v":104},{"$f":"IF(Calc!AE89<$L$5,Calc!AE89,IF(D7>$L$5,D7,D7))","v":80},{"$f":"IF(Calc!AL89<0,0,IF(Calc!AL89<=$L$8,Calc!AL89,$L$8))","v":269},{"$f":"IF(Calc!AN89<$L$4,Calc!AN89,IF(F7>$L$5,F7,F7))","v":40},{"$f":"IF(Calc!AU89<0,0,IF(Calc!AU89<=$L$8,Calc!AU89,$L$8))","v":658},{"$nulls":3},"Max Load",6000,"N"]
[null,{"$f":"IF(Calc!U90<$L$6,Calc!U90,IF(B8>$L$6,B8,B8))","v":{"v":213.33333333333331,"d":"213"}},{"$f":"IF(Calc!AB90<0,0,IF(Calc!AB90<=$L$8,Calc!AB90,$L$8))","v":99},{"$f":"IF(Calc!AE90<$L$5,Calc!AE90,IF(D8>$L$5,D8,D8))","v":{"v":106.66666666666666,"d":"107"}},{"$f":"IF(Calc!AL90<0,0,IF(Calc!AL90<=$L$8,Calc!AL90,$L$8))","v":261},{"$f":"IF(Calc!AN90<$L$4,Calc!AN90,IF(F8>$L$5,F8,F8))","v":{"v":53.33333333333333,"d":"53"}},{"$f":"IF(Calc!AU90<0,0,IF(Calc!AU90<=$L$8,Calc!AU90,$L$8))","v":649}]
[null,{"$f":"IF(Calc!U91<$L$6,Calc!U91,IF(B9>$L$6,B9,B9))","v":{"v":266.6666666666667,"d":"267"}},{"$f":"IF(Calc!AB91<0,0,IF(Calc!AB91<=$L$8,Calc!AB91,$L$8))","v":93},{"$f":"IF(Calc!AE91<$L$5,Calc!AE91,IF(D9>$L$5,D9,D9))","v":{"v":133.33333333333334,"d":"133"}},{"$f":"IF(Calc!AL91<0,0,IF(Calc!AL91<=$L$8,Calc!AL91,$L$8))","v":253},{"$f":"IF(Calc!AN91<$L$4,Calc!AN91,IF(F9>$L$5,F9,F9))","v":{"v":66.66666666666667,"d":"67"}},{"$f":"IF(Calc!AU91<0,0,IF(Calc!AU91<=$L$8,Calc!AU91,$L$8))","v":639}]
[null,{"$f":"IF(Calc!U92<$L$6,Calc!U92,IF(B10>$L$6,B10,B10))","v":320},{"$f":"IF(Calc!AB92<0,0,IF(Calc!AB92<=$L$8,Calc!AB92,$L$8))","v":88},{"$f":"IF(Calc!AE92<$L$5,Calc!AE92,IF(D10>$L$5,D10,D10))","v":160},{"$f":"IF(Calc!AL92<0,0,IF(Calc!AL92<=$L$8,Calc!AL92,$L$8))","v":245},{"$f":"IF(Calc!AN92<$L$4,Calc!AN92,IF(F10>$L$5,F10,F10))","v":80},{"$f":"IF(Calc!AU92<0,0,IF(Calc!AU92<=$L$8,Calc!AU92,$L$8))","v":630}]
[null,{"$f":"IF(Calc!U93<$L$6,Calc!U93,IF(B11>$L$6,B11,B11))","v":{"v":373.33333333333337,"d":"373"}},{"$f":"IF(Calc!AB93<0,0,IF(Calc!AB93<=$L$8,Calc!AB93,$L$8))","v":82},{"$f":"IF(Calc!AE93<$L$5,Calc!AE93,IF(D11>$L$5,D11,D11))","v":{"v":186.66666666666669,"d":"187"}},{"$f":"IF(Calc!AL93<0,0,IF(Calc!AL93<=$L$8,Calc!AL93,$L$8))","v":238},{"$f":"IF(Calc!AN93<$L$4,Calc!AN93,IF(F11>$L$5,F11,F11))","v":{"v":93.33333333333334,"d":"93"}},{"$f":"IF(Calc!AU93<0,0,IF(Calc!AU93<=$L$8,Calc!AU93,$L$8))","v":621}]
[null,{"$f":"IF(Calc!U94<$L$6,Calc!U94,IF(B12>$L$6,B12,B12))","v":{"v":426.66666666666663,"d":"427"}},{"$f":"IF(Calc!AB94<0,0,IF(Calc!AB94<=$L$8,Calc!AB94,$L$8))","v":77},{"$f":"IF(Calc!AE94<$L$5,Calc!AE94,IF(D12>$L$5,D12,D12))","v":{"v":213.33333333333331,"d":"213"}},{"$f":"IF(Calc!AL94<0,0,IF(Calc!AL94<=$L$8,Calc!AL94,$L$8))","v":230},{"$f":"IF(Calc!AN94<$L$4,Calc!AN94,IF(F12>$L$5,F12,F12))","v":{"v":106.66666666666666,"d":"107"}},{"$f":"IF(Calc!AU94<0,0,IF(Calc!AU94<=$L$8,Calc!AU94,$L$8))","v":613}]
[null,{"$f":"IF(Calc!U95<$L$6,Calc!U95,IF(B13>$L$6,B13,B13))","v":480},{"$f":"IF(Calc!AB95<0,0,IF(Calc!AB95<=$L$8,Calc!AB95,$L$8))","v":71},{"$f":"IF(Calc!AE95<$L$5,Calc!AE95,IF(D13>$L$5,D13,D13))","v":240},{"$f":"IF(Calc!AL95<0,0,IF(Calc!AL95<=$L$8,Calc!AL95,$L$8))","v":222},{"$f":"IF(Calc!AN95<$L$4,Calc!AN95,IF(F13>$L$5,F13,F13))","v":120},{"$f":"IF(Calc!AU95<0,0,IF(Calc!AU95<=$L$8,Calc!AU95,$L$8))","v":604}]
[null,{"$f":"IF(Calc!U96<$L$6,Calc!U96,IF(B14>$L$6,B14,B14))","v":{"v":533.3333333333334,"d":"533"}},{"$f":"IF(Calc!AB96<0,0,IF(Calc!AB96<=$L$8,Calc!AB96,$L$8))","v":66},{"$f":"IF(Calc!AE96<$L$5,Calc!AE96,IF(D14>$L$5,D14,D14))","v":{"v":266.6666666666667,"d":"267"}},{"$f":"IF(Calc!AL96<0,0,IF(Calc!AL96<=$L$8,Calc!AL96,$L$8))","v":215},{"$f":"IF(Calc!AN96<$L$4,Calc!AN96,IF(F14>$L$5,F14,F14))","v":{"v":133.33333333333334,"d":"133"}},{"$f":"IF(Calc!AU96<0,0,IF(Calc!AU96<=$L$8,Calc!AU96,$L$8))","v":595}]
[null,{"$f":"IF(Calc!U97<$L$6,Calc!U97,IF(B15>$L$6,B15,B15))","v":{"v":586.6666666666666,"d":"587"}},{"$f":"IF(Calc!AB97<0,0,IF(Calc!AB97<=$L$8,Calc!AB97,$L$8))","v":61},{"$f":"IF(Calc!AE97<$L$5,Calc!AE97,IF(D15>$L$5,D15,D15))","v":{"v":293.3333333333333,"d":"293"}},{"$f":"IF(Calc!AL97<0,0,IF(Calc!AL97<=$L$8,Calc!AL97,$L$8))","v":207},{"$f":"IF(Calc!AN97<$L$4,Calc!AN97,IF(F15>$L$5,F15,F15))","v":{"v":146.66666666666666,"d":"147"}},{"$f":"IF(Calc!AU97<0,0,IF(Calc!AU97<=$L$8,Calc!AU97,$L$8))","v":586}]
[null,{"$f":"IF(Calc!U98<$L$6,Calc!U98,IF(B16>$L$6,B16,B16))","v":640},{"$f":"IF(Calc!AB98<0,0,IF(Calc!AB98<=$L$8,Calc!AB98,$L$8))","v":55},{"$f":"IF(Calc!AE98<$L$5,Calc!AE98,IF(D16>$L$5,D16,D16))","v":320},{"$f":"IF(Calc!AL98<0,0,IF(Calc!AL98<=$L$8,Calc!AL98,$L$8))","v":200},{"$f":"IF(Calc!AN98<$L$4,Calc!AN98,IF(F16>$L$5,F16,F16))","v":160},{"$f":"IF(Calc!AU98<0,0,IF(Calc!AU98<=$L$8,Calc!AU98,$L$8))","v":578}]
[null,{"$f":"IF(Calc!U99<$L$6,Calc!U99,IF(B17>$L$6,B17,B17))","v":{"v":693.3333333333333,"d":"693"}},{"$f":"IF(Calc!AB99<0,0,IF(Calc!AB99<=$L$8,Calc!AB99,$L$8))","v":50},{"$f":"IF(Calc!AE99<$L$5,Calc!AE99,IF(D17>$L$5,D17,D17))","v":{"v":346.66666666666663,"d":"347"}},{"$f":"IF(Calc!AL99<0,0,IF(Calc!AL99<=$L$8,Calc!AL99,$L$8))","v":192},{"$f":"IF(Calc!AN99<$L$4,Calc!AN99,IF(F17>$L$5,F17,F17))","v":{"v":173.33333333333331,"d":"173"}},{"$f":"IF(Calc!AU99<0,0,IF(Calc!AU99<=$L$8,Calc!AU99,$L$8))","v":569}]
[null,{"$f":"IF(Calc!U100<$L$6,Calc!U100,IF(B18>$L$6,B18,B18))","v":{"v":746.6666666666667,"d":"747"}},{"$f":"IF(Calc!AB100<0,0,IF(Calc!AB100<=$L$8,Calc!AB100,$L$8))","v":44},{"$f":"IF(Calc!AE100<$L$5,Calc!AE100,IF(D18>$L$5,D18,D18))","v":{"v":373.33333333333337,"d":"373"}},{"$f":"IF(Calc!AL100<0,0,IF(Calc!AL100<=$L$8,Calc!AL100,$L$8))","v":185},{"$f":"IF(Calc!AN100<$L$4,Calc!AN100,IF(F18>$L$5,F18,F18))","v":{"v":186.66666666666669,"d":"187"}},{"$f":"IF(Calc!AU100<0,0,IF(Calc!AU100<=$L$8,Calc!AU100,$L$8))","v":560}]
[null,{"$f":"IF(Calc!U101<$L$6,Calc!U101,IF(B19>$L$6,B19,B19))","v":800},{"$f":"IF(Calc!AB101<0,0,IF(Calc!AB101<=$L$8,Calc!AB101,$L$8))","v":39},{"$f":"IF(Calc!AE101<$L$5,Calc!AE101,IF(D19>$L$5,D19,D19))","v":400},{"$f":"IF(Calc!AL101<0,0,IF(Calc!AL101<=$L$8,Calc!AL101,$L$8))","v":177},{"$f":"IF(Calc!AN101<$L$4,Calc!AN101,IF(F19>$L$5,F19,F19))","v":200},{"$f":"IF(Calc!AU101<0,0,IF(Calc!AU101<=$L$8,Calc!AU101,$L$8))","v":551}]
[null,{"$f":"IF(Calc!U102<$L$6,Calc!U102,IF(B20>$L$6,B20,B20))","v":{"v":853.3333333333333,"d":"853"}},{"$f":"IF(Calc!AB102<0,0,IF(Calc!AB102<=$L$8,Calc!AB102,$L$8))","v":34},{"$f":"IF(Calc!AE102<$L$5,Calc!AE102,IF(D20>$L$5,D20,D20))","v":{"v":426.66666666666663,"d":"427"}},{"$f":"IF(Calc!AL102<0,0,IF(Calc!AL102<=$L$8,Calc!AL102,$L$8))","v":169},{"$f":"IF(Calc!AN102<$L$4,Calc!AN102,IF(F20>$L$5,F20,F20))","v":{"v":213.33333333333331,"d":"213"}},{"$f":"IF(Calc!AU102<0,0,IF(Calc!AU102<=$L$8,Calc!AU102,$L$8))","v":543}]
[null,{"$f":"IF(Calc!U103<$L$6,Calc!U103,IF(B21>$L$6,B21,B21))","v":{"v":906.6666666666667,"d":"907"}},{"$f":"IF(Calc!AB103<0,0,IF(Calc!AB103<=$L$8,Calc!AB103,$L$8))","v":28},{"$f":"IF(Calc!AE103<$L$5,Calc!AE103,IF(D21>$L$5,D21,D21))","v":{"v":453.33333333333337,"d":"453"}},{"$f":"IF(Calc!AL103<0,0,IF(Calc!AL103<=$L$8,Calc!AL103,$L$8))","v":162},{"$f":"IF(Calc!AN103<$L$4,Calc!AN103,IF(F21>$L$5,F21,F21))","v":{"v":226.66666666666669,"d":"227"}},{"$f":"IF(Calc!AU103<0,0,IF(Calc!AU103<=$L$8,Calc!AU103,$L$8))","v":534}]
[null,{"$f":"IF(Calc!U104<$L$6,Calc!U104,IF(B22>$L$6,B22,B22))","v":960},{"$f":"IF(Calc!AB104<0,0,IF(Calc!AB104<=$L$8,Calc!AB104,$L$8))","v":23},{"$f":"IF(Calc!AE104<$L$5,Calc!AE104,IF(D22>$L$5,D22,D22))","v":480},{"$f":"IF(Calc!AL104<0,0,IF(Calc!AL104<=$L$8,Calc!AL104,$L$8))","v":154},{"$f":"IF(Calc!AN104<$L$4,Calc!AN104,IF(F22>$L$5,F22,F22))","v":240},{"$f":"IF(Calc!AU104<0,0,IF(Calc!AU104<=$L$8,Calc!AU104,$L$8))","v":525}]
[null,{"$f":"IF(Calc!U105<$L$6,Calc!U105,IF(B23>$L$6,B23,B23))","v":{"v":1013.3333333333333,"d":"1013"}},{"$f":"IF(Calc!AB105<0,0,IF(Calc!AB105<=$L$8,Calc!AB105,$L$8))","v":17},{"$f":"IF(Calc!AE105<$L$5,Calc!AE105,IF(D23>$L$5,D23,D23))","v":{"v":506.66666666666663,"d":"507"}},{"$f":"IF(Calc!AL105<0,0,IF(Calc!AL105<=$L$8,Calc!AL105,$L$8))","v":147},{"$f":"IF(Calc!AN105<$L$4,Calc!AN105,IF(F23>$L$5,F23,F23))","v":{"v":253.33333333333331,"d":"253"}},{"$f":"IF(Calc!AU105<0,0,IF(Calc!AU105<=$L$8,Calc!AU105,$L$8))","v":516}]
[null,{"$f":"IF(Calc!U106<$L$6,Calc!U106,IF(B24>$L$6,B24,B24))","v":{"v":1066.6666666666667,"d":"1067"}},{"$f":"IF(Calc!AB106<0,0,IF(Calc!AB106<=$L$8,Calc!AB106,$L$8))","v":12},{"$f":"IF(Calc!AE106<$L$5,Calc!AE106,IF(D24>$L$5,D24,D24))","v":{"v":533.3333333333334,"d":"533"}},{"$f":"IF(Calc!AL106<0,0,IF(Calc!AL106<=$L$8,Calc!AL106,$L$8))","v":139},{"$f":"IF(Calc!AN106<$L$4,Calc!AN106,IF(F24>$L$5,F24,F24))","v":{"v":266.6666666666667,"d":"267"}},{"$f":"IF(Calc!AU106<0,0,IF(Calc!AU106<=$L$8,Calc!AU106,$L$8))","v":508}]
[null,{"$f":"IF(Calc!U107<$L$6,Calc!U107,IF(B25>$L$6,B25,B25))","v":1120},{"$f":"IF(Calc!AB107<0,0,IF(Calc!AB107<=$L$8,Calc!AB107,$L$8))","v":7},{"$f":"IF(Calc!AE107<$L$5,Calc!AE107,IF(D25>$L$5,D25,D25))","v":560},{"$f":"IF(Calc!AL107<0,0,IF(Calc!AL107<=$L$8,Calc!AL107,$L$8))","v":131},{"$f":"IF(Calc!AN107<$L$4,Calc!AN107,IF(F25>$L$5,F25,F25))","v":280},{"$f":"IF(Calc!AU107<0,0,IF(Calc!AU107<=$L$8,Calc!AU107,$L$8))","v":499}]
[null,{"$f":"IF(Calc!U108<$L$6,Calc!U108,IF(B26>$L$6,B26,B26))","v":{"v":1173.3333333333333,"d":"1173"}},{"$f":"IF(Calc!AB108<0,0,IF(Calc!AB108<=$L$8,Calc!AB108,$L$8))","v":1},{"$f":"IF(Calc!AE108<$L$5,Calc!AE108,IF(D26>$L$5,D26,D26))","v":{"v":586.6666666666666,"d":"587"}},{"$f":"IF(Calc!AL108<0,0,IF(Calc!AL108<=$L$8,Calc!AL108,$L$8))","v":123},{"$f":"IF(Calc!AN108<$L$4,Calc!AN108,IF(F26>$L$5,F26,F26))","v":{"v":293.3333333333333,"d":"293"}},{"$f":"IF(Calc!AU108<0,0,IF(Calc!AU108<=$L$8,Calc!AU108,$L$8))","v":489}]
[null,{"$f":"IF(Calc!U109<$L$6,Calc!U109,IF(B27>$L$6,B27,B27))","v":{"v":1226.6666666666667,"d":"1227"}},{"$f":"IF(Calc!AB109<0,0,IF(Calc!AB109<=$L$8,Calc!AB109,$L$8))","v":0},{"$f":"IF(Calc!AE109<$L$5,Calc!AE109,IF(D27>$L$5,D27,D27))","v":{"v":613.3333333333334,"d":"613"}},{"$f":"IF(Calc!AL109<0,0,IF(Calc!AL109<=$L$8,Calc!AL109,$L$8))","v":115},{"$f":"IF(Calc!AN109<$L$4,Calc!AN109,IF(F27>$L$5,F27,F27))","v":{"v":306.6666666666667,"d":"307"}},{"$f":"IF(Calc!AU109<0,0,IF(Calc!AU109<=$L$8,Calc!AU109,$L$8))","v":479}]
[null,{"$f":"IF(Calc!U110<$L$6,Calc!U110,IF(B28>$L$6,B28,B28))","v":1280},{"$f":"IF(Calc!AB110<0,0,IF(Calc!AB110<=$L$8,Calc!AB110,$L$8))","v":0},{"$f":"IF(Calc!AE110<$L$5,Calc!AE110,IF(D28>$L$5,D28,D28))","v":640},{"$f":"IF(Calc!AL110<0,0,IF(Calc!AL110<=$L$8,Calc!AL110,$L$8))","v":107},{"$f":"IF(Calc!AN110<$L$4,Calc!AN110,IF(F28>$L$5,F28,F28))","v":320},{"$f":"IF(Calc!AU110<0,0,IF(Calc!AU110<=$L$8,Calc!AU110,$L$8))","v":469}]
[null,{"$f":"IF(Calc!U111<$L$6,Calc!U111,IF(B29>$L$6,B29,B29))","v":{"v":1333.3333333333335,"d":"1333"}},{"$f":"IF(Calc!AB111<0,0,IF(Calc!AB111<=$L$8,Calc!AB111,$L$8))","v":0},{"$f":"IF(Calc!AE111<$L$5,Calc!AE111,IF(D29>$L$5,D29,D29))","v":{"v":666.6666666666667,"d":"667"}},{"$f":"IF(Calc!AL111<0,0,IF(Calc!AL111<=$L$8,Calc!AL111,$L$8))","v":99},{"$f":"IF(Calc!AN111<$L$4,Calc!AN111,IF(F29>$L$5,F29,F29))","v":{"v":333.33333333333337,"d":"333"}},{"$f":"IF(Calc!AU111<0,0,IF(Calc!AU111<=$L$8,Calc!AU111,$L$8))","v":459}]
[null,{"$f":"IF(Calc!U112<$L$6,Calc!U112,IF(B30>$L$6,B30,B30))","v":{"v":1386.6666666666665,"d":"1387"}},{"$f":"IF(Calc!AB112<0,0,IF(Calc!AB112<=$L$8,Calc!AB112,$L$8))","v":0},{"$f":"IF(Calc!AE112<$L$5,Calc!AE112,IF(D30>$L$5,D30,D30))","v":{"v":693.3333333333333,"d":"693"}},{"$f":"IF(Calc!AL112<0,0,IF(Calc!AL112<=$L$8,Calc!AL112,$L$8))","v":90},{"$f":"IF(Calc!AN112<$L$4,Calc!AN112,IF(F30>$L$5,F30,F30))","v":{"v":346.66666666666663,"d":"347"}},{"$f":"IF(Calc!AU112<0,0,IF(Calc!AU112<=$L$8,Calc!AU112,$L$8))","v":449}]
[null,{"$f":"IF(Calc!U113<$L$6,Calc!U113,IF(B31>$L$6,B31,B31))","v":1440},{"$f":"IF(Calc!AB113<0,0,IF(Calc!AB113<=$L$8,Calc!AB113,$L$8))","v":0},{"$f":"IF(Calc!AE113<$L$5,Calc!AE113,IF(D31>$L$5,D31,D31))","v":720},{"$f":"IF(Calc!AL113<0,0,IF(Calc!AL113<=$L$8,Calc!AL113,$L$8))","v":82},{"$f":"IF(Calc!AN113<$L$4,Calc!AN113,IF(F31>$L$5,F31,F31))","v":360},{"$f":"IF(Calc!AU113<0,0,IF(Calc!AU113<=$L$8,Calc!AU113,$L$8))","v":439}]
[null,{"$f":"IF(Calc!U114<$L$6,Calc!U114,IF(B32>$L$6,B32,B32))","v":{"v":1493.3333333333335,"d":"1493"}},{"$f":"IF(Calc!AB114<0,0,IF(Calc!AB114<=$L$8,Calc!AB114,$L$8))","v":0},{"$f":"IF(Calc!AE114<$L$5,Calc!AE114,IF(D32>$L$5,D32,D32))","v":{"v":746.6666666666667,"d":"747"}},{"$f":"IF(Calc!AL114<0,0,IF(Calc!AL114<=$L$8,Calc!AL114,$L$8))","v":74},{"$f":"IF(Calc!AN114<$L$4,Calc!AN114,IF(F32>$L$5,F32,F32))","v":{"v":373.33333333333337,"d":"373"}},{"$f":"IF(Calc!AU114<0,0,IF(Calc!AU114<=$L$8,Calc!AU114,$L$8))","v":429}]
[null,{"$f":"IF(Calc!U115<$L$6,Calc!U115,IF(B33>$L$6,B33,B33))","v":{"v":1546.6666666666665,"d":"1547"}},{"$f":"IF(Calc!AB115<0,0,IF(Calc!AB115<=$L$8,Calc!AB115,$L$8))","v":0},{"$f":"IF(Calc!AE115<$L$5,Calc!AE115,IF(D33>$L$5,D33,D33))","v":{"v":773.3333333333333,"d":"773"}},{"$f":"IF(Calc!AL115<0,0,IF(Calc!AL115<=$L$8,Calc!AL115,$L$8))","v":66},{"$f":"IF(Calc!AN115<$L$4,Calc!AN115,IF(F33>$L$5,F33,F33))","v":{"v":386.66666666666663,"d":"387"}},{"$f":"IF(Calc!AU115<0,0,IF(Calc!AU115<=$L$8,Calc!AU115,$L$8))","v":419}]
[null,{"$f":"IF(Calc!U116<$L$6,Calc!U116,IF(B34>$L$6,B34,B34))","v":1600},{"$f":"IF(Calc!AB116<0,0,IF(Calc!AB116<=$L$8,Calc!AB116,$L$8))","v":0},{"$f":"IF(Calc!AE116<$L$5,Calc!AE116,IF(D34>$L$5,D34,D34))","v":800},{"$f":"IF(Calc!AL116<0,0,IF(Calc!AL116<=$L$8,Calc!AL116,$L$8))","v":58},{"$f":"IF(Calc!AN116<$L$4,Calc!AN116,IF(F34>$L$5,F34,F34))","v":400},{"$f":"IF(Calc!AU116<0,0,IF(Calc!AU116<=$L$8,Calc!AU116,$L$8))","v":409}]
[null,{"$f":"IF(Calc!U117<$L$6,Calc!U117,IF(B35>$L$6,B35,B35))","v":{"v":1653.3333333333335,"d":"1653"}},{"$f":"IF(Calc!AB117<0,0,IF(Calc!AB117<=$L$8,Calc!AB117,$L$8))","v":0},{"$f":"IF(Calc!AE117<$L$5,Calc!AE117,IF(D35>$L$5,D35,D35))","v":{"v":826.6666666666667,"d":"827"}},{"$f":"IF(Calc!AL117<0,0,IF(Calc!AL117<=$L$8,Calc!AL117,$L$8))","v":49},{"$f":"IF(Calc!AN117<$L$4,Calc!AN117,IF(F35>$L$5,F35,F35))","v":{"v":413.33333333333337,"d":"413"}},{"$f":"IF(Calc!AU117<0,0,IF(Calc!AU117<=$L$8,Calc!AU117,$L$8))","v":399}]
[null,{"$f":"IF(Calc!U118<$L$6,Calc!U118,IF(B36>$L$6,B36,B36))","v":{"v":1653.3333333333335,"d":"1653"}},{"$f":"IF(Calc!AB118<0,0,IF(Calc!AB118<=$L$8,Calc!AB118,$L$8))","v":0},{"$f":"IF(Calc!AE118<$L$5,Calc!AE118,IF(D36>$L$5,D36,D36))","v":{"v":826.6666666666667,"d":"827"}},{"$f":"IF(Calc!AL118<0,0,IF(Calc!AL118<=$L$8,Calc!AL118,$L$8))","v":41},{"$f":"IF(Calc!AN118<$L$4,Calc!AN118,IF(F36>$L$5,F36,F36))","v":{"v":413.33333333333337,"d":"413"}},{"$f":"IF(Calc!AU118<0,0,IF(Calc!AU118<=$L$8,Calc!AU118,$L$8))","v":389}]
[null,{"$f":"IF(Calc!U119<$L$6,Calc!U119,IF(B37>$L$6,B37,B37))","v":{"v":1653.3333333333335,"d":"1653"}},{"$f":"IF(Calc!AB119<0,0,IF(Calc!AB119<=$L$8,Calc!AB119,$L$8))","v":0},{"$f":"IF(Calc!AE119<$L$5,Calc!AE119,IF(D37>$L$5,D37,D37))","v":{"v":826.6666666666667,"d":"827"}},{"$f":"IF(Calc!AL119<0,0,IF(Calc!AL119<=$L$8,Calc!AL119,$L$8))","v":33},{"$f":"IF(Calc!AN119<$L$4,Calc!AN119,IF(F37>$L$5,F37,F37))","v":{"v":413.33333333333337,"d":"413"}},{"$f":"IF(Calc!AU119<0,0,IF(Calc!AU119<=$L$8,Calc!AU119,$L$8))","v":379}]
[null,{"$f":"IF(Calc!U120<$L$6,Calc!U120,IF(B38>$L$6,B38,B38))","v":{"v":1653.3333333333335,"d":"1653"}},{"$f":"IF(Calc!AB120<0,0,IF(Calc!AB120<=$L$8,Calc!AB120,$L$8))","v":0},{"$f":"IF(Calc!AE120<$L$5,Calc!AE120,IF(D38>$L$5,D38,D38))","v":{"v":826.6666666666667,"d":"827"}},{"$f":"IF(Calc!AL120<0,0,IF(Calc!AL120<=$L$8,Calc!AL120,$L$8))","v":25},{"$f":"IF(Calc!AN120<$L$4,Calc!AN120,IF(F38>$L$5,F38,F38))","v":{"v":413.33333333333337,"d":"413"}},{"$f":"IF(Calc!AU120<0,0,IF(Calc!AU120<=$L$8,Calc!AU120,$L$8))","v":369}]
[null,{"$f":"IF(Calc!U121<$L$6,Calc!U121,IF(B39>$L$6,B39,B39))","v":{"v":1653.3333333333335,"d":"1653"}},{"$f":"IF(Calc!AB121<0,0,IF(Calc!AB121<=$L$8,Calc!AB121,$L$8))","v":0},{"$f":"IF(Calc!AE121<$L$5,Calc!AE121,IF(D39>$L$5,D39,D39))","v":{"v":826.6666666666667,"d":"827"}},{"$f":"IF(Calc!AL121<0,0,IF(Calc!AL121<=$L$8,Calc!AL121,$L$8))","v":17},{"$f":"IF(Calc!AN121<$L$4,Calc!AN121,IF(F39>$L$5,F39,F39))","v":{"v":413.33333333333337,"d":"413"}},{"$f":"IF(Calc!AU121<0,0,IF(Calc!AU121<=$L$8,Calc!AU121,$L$8))","v":359}]
[null,{"$f":"IF(Calc!U122<$L$6,Calc!U122,IF(B40>$L$6,B40,B40))","v":{"v":1653.3333333333335,"d":"1653"}},{"$f":"IF(Calc!AB122<0,0,IF(Calc!AB122<=$L$8,Calc!AB122,$L$8))","v":0},{"$f":"IF(Calc!AE122<$L$5,Calc!AE122,IF(D40>$L$5,D40,D40))","v":{"v":826.6666666666667,"d":"827"}},{"$f":"IF(Calc!AL122<0,0,IF(Calc!AL122<=$L$8,Calc!AL122,$L$8))","v":8},{"$f":"IF(Calc!AN122<$L$4,Calc!AN122,IF(F40>$L$5,F40,F40))","v":{"v":413.33333333333337,"d":"413"}},{"$f":"IF(Calc!AU122<0,0,IF(Calc!AU122<=$L$8,Calc!AU122,$L$8))","v":349}]
[null,{"$f":"IF(Calc!U123<$L$6,Calc!U123,IF(B41>$L$6,B41,B41))","v":{"v":1653.3333333333335,"d":"1653"}},{"$f":"IF(Calc!AB123<0,0,IF(Calc!AB123<=$L$8,Calc!AB123,$L$8))","v":0},{"$f":"IF(Calc!AE123<$L$5,Calc!AE123,IF(D41>$L$5,D41,D41))","v":{"v":826.6666666666667,"d":"827"}},{"$f":"IF(Calc!AL123<0,0,IF(Calc!AL123<=$L$8,Calc!AL123,$L$8))","v":0},{"$f":"IF(Calc!AN123<$L$4,Calc!AN123,IF(F41>$L$5,F41,F41))","v":{"v":413.33333333333337,"d":"413"}},{"$f":"IF(Calc!AU123<0,0,IF(Calc!AU123<=$L$8,Calc!AU123,$L$8))","v":339}]
[null,{"$f":"IF(Calc!U124<$L$6,Calc!U124,IF(B42>$L$6,B42,B42))","v":{"v":1653.3333333333335,"d":"1653"}},{"$f":"IF(Calc!AB124<0,0,IF(Calc!AB124<=$L$8,Calc!AB124,$L$8))","v":0},{"$f":"IF(Calc!AE124<$L$5,Calc!AE124,IF(D42>$L$5,D42,D42))","v":{"v":826.6666666666667,"d":"827"}},{"$f":"IF(Calc!AL124<0,0,IF(Calc!AL124<=$L$8,Calc!AL124,$L$8))","v":0},{"$f":"IF(Calc!AN124<$L$4,Calc!AN124,IF(F42>$L$5,F42,F42))","v":{"v":413.33333333333337,"d":"413"}},{"$f":"IF(Calc!AU124<0,0,IF(Calc!AU124<=$L$8,Calc!AU124,$L$8))","v":329}]
[null,{"$f":"IF(Calc!U125<$L$6,Calc!U125,IF(B43>$L$6,B43,B43))","v":{"v":1653.3333333333335,"d":"1653"}},{"$f":"IF(Calc!AB125<0,0,IF(Calc!AB125<=$L$8,Calc!AB125,$L$8))","v":0},{"$f":"IF(Calc!AE125<$L$5,Calc!AE125,IF(D43>$L$5,D43,D43))","v":{"v":826.6666666666667,"d":"827"}},{"$f":"IF(Calc!AL125<0,0,IF(Calc!AL125<=$L$8,Calc!AL125,$L$8))","v":0},{"$f":"IF(Calc!AN125<$L$4,Calc!AN125,IF(F43>$L$5,F43,F43))","v":{"v":413.33333333333337,"d":"413"}},{"$f":"IF(Calc!AU125<0,0,IF(Calc!AU125<=$L$8,Calc!AU125,$L$8))","v":319}]
[null,{"$f":"IF(Calc!U126<$L$6,Calc!U126,IF(B44>$L$6,B44,B44))","v":{"v":1653.3333333333335,"d":"1653"}},{"$f":"IF(Calc!AB126<0,0,IF(Calc!AB126<=$L$8,Calc!AB126,$L$8))","v":0},{"$f":"IF(Calc!AE126<$L$5,Calc!AE126,IF(D44>$L$5,D44,D44))","v":{"v":826.6666666666667,"d":"827"}},{"$f":"IF(Calc!AL126<0,0,IF(Calc!AL126<=$L$8,Calc!AL126,$L$8))","v":0},{"$f":"IF(Calc!AN126<$L$4,Calc!AN126,IF(F44>$L$5,F44,F44))","v":{"v":413.33333333333337,"d":"413"}},{"$f":"IF(Calc!AU126<0,0,IF(Calc!AU126<=$L$8,Calc!AU126,$L$8))","v":309}]
[null,{"$f":"IF(Calc!U127<$L$6,Calc!U127,IF(B45>$L$6,B45,B45))","v":{"v":1653.3333333333335,"d":"1653"}},{"$f":"IF(Calc!AB127<0,0,IF(Calc!AB127<=$L$8,Calc!AB127,$L$8))","v":0},{"$f":"IF(Calc!AE127<$L$5,Calc!AE127,IF(D45>$L$5,D45,D45))","v":{"v":826.6666666666667,"d":"827"}},{"$f":"IF(Calc!AL127<0,0,IF(Calc!AL127<=$L$8,Calc!AL127,$L$8))","v":0},{"$f":"IF(Calc!AN127<$L$4,Calc!AN127,IF(F45>$L$5,F45,F45))","v":{"v":413.33333333333337,"d":"413"}},{"$f":"IF(Calc!AU127<0,0,IF(Calc!AU127<=$L$8,Calc!AU127,$L$8))","v":299}]
[null,{"$f":"IF(Calc!U128<$L$6,Calc!U128,IF(B46>$L$6,B46,B46))","v":{"v":1653.3333333333335,"d":"1653"}},{"$f":"IF(Calc!AB128<0,0,IF(Calc!AB128<=$L$8,Calc!AB128,$L$8))","v":0},{"$f":"IF(Calc!AE128<$L$5,Calc!AE128,IF(D46>$L$5,D46,D46))","v":{"v":826.6666666666667,"d":"827"}},{"$f":"IF(Calc!AL128<0,0,IF(Calc!AL128<=$L$8,Calc!AL128,$L$8))","v":0},{"$f":"IF(Calc!AN128<$L$4,Calc!AN128,IF(F46>$L$5,F46,F46))","v":{"v":413.33333333333337,"d":"413"}},{"$f":"IF(Calc!AU128<0,0,IF(Calc!AU128<=$L$8,Calc!AU128,$L$8))","v":289}]
[null,{"$f":"IF(Calc!U129<$L$6,Calc!U129,IF(B47>$L$6,B47,B47))","v":{"v":1653.3333333333335,"d":"1653"}},{"$f":"IF(Calc!AB129<0,0,IF(Calc!AB129<=$L$8,Calc!AB129,$L$8))","v":0},{"$f":"IF(Calc!AE129<$L$5,Calc!AE129,IF(D47>$L$5,D47,D47))","v":{"v":826.6666666666667,"d":"827"}},{"$f":"IF(Calc!AL129<0,0,IF(Calc!AL129<=$L$8,Calc!AL129,$L$8))","v":0},{"$f":"IF(Calc!AN129<$L$4,Calc!AN129,IF(F47>$L$5,F47,F47))","v":{"v":413.33333333333337,"d":"413"}},{"$f":"IF(Calc!AU129<0,0,IF(Calc!AU129<=$L$8,Calc!AU129,$L$8))","v":279}]
[null,{"$f":"IF(Calc!U130<$L$6,Calc!U130,IF(B48>$L$6,B48,B48))","v":{"v":1653.3333333333335,"d":"1653"}},{"$f":"IF(Calc!AB130<0,0,IF(Calc!AB130<=$L$8,Calc!AB130,$L$8))","v":0},{"$f":"IF(Calc!AE130<$L$5,Calc!AE130,IF(D48>$L$5,D48,D48))","v":{"v":826.6666666666667,"d":"827"}},{"$f":"IF(Calc!AL130<0,0,IF(Calc!AL130<=$L$8,Calc!AL130,$L$8))","v":0},{"$f":"IF(Calc!AN130<$L$4,Calc!AN130,IF(F48>$L$5,F48,F48))","v":{"v":413.33333333333337,"d":"413"}},{"$f":"IF(Calc!AU130<0,0,IF(Calc!AU130<=$L$8,Calc!AU130,$L$8))","v":270}]
[null,{"$f":"IF(Calc!U131<$L$6,Calc!U131,IF(B49>$L$6,B49,B49))","v":{"v":1653.3333333333335,"d":"1653"}},{"$f":"IF(Calc!AB131<0,0,IF(Calc!AB131<=$L$8,Calc!AB131,$L$8))","v":0},{"$f":"IF(Calc!AE131<$L$5,Calc!AE131,IF(D49>$L$5,D49,D49))","v":{"v":826.6666666666667,"d":"827"}},{"$f":"IF(Calc!AL131<0,0,IF(Calc!AL131<=$L$8,Calc!AL131,$L$8))","v":0},{"$f":"IF(Calc!AN131<$L$4,Calc!AN131,IF(F49>$L$5,F49,F49))","v":{"v":413.33333333333337,"d":"413"}},{"$f":"IF(Calc!AU131<0,0,IF(Calc!AU131<=$L$8,Calc!AU131,$L$8))","v":260}]
[null,{"$f":"IF(Calc!U132<$L$6,Calc!U132,IF(B50>$L$6,B50,B50))","v":{"v":1653.3333333333335,"d":"1653"}},{"$f":"IF(Calc!AB132<0,0,IF(Calc!AB132<=$L$8,Calc!AB132,$L$8))","v":0},{"$f":"IF(Calc!AE132<$L$5,Calc!AE132,IF(D50>$L$5,D50,D50))","v":{"v":826.6666666666667,"d":"827"}},{"$f":"IF(Calc!AL132<0,0,IF(Calc!AL132<=$L$8,Calc!AL132,$L$8))","v":0},{"$f":"IF(Calc!AN132<$L$4,Calc!AN132,IF(F50>$L$5,F50,F50))","v":{"v":413.33333333333337,"d":"413"}},{"$f":"IF(Calc!AU132<0,0,IF(Calc!AU132<=$L$8,Calc!AU132,$L$8))","v":250}]
[null,{"$f":"IF(Calc!U133<$L$6,Calc!U133,IF(B51>$L$6,B51,B51))","v":{"v":1653.3333333333335,"d":"1653"}},{"$f":"IF(Calc!AB133<0,0,IF(Calc!AB133<=$L$8,Calc!AB133,$L$8))","v":0},{"$f":"IF(Calc!AE133<$L$5,Calc!AE133,IF(D51>$L$5,D51,D51))","v":{"v":826.6666666666667,"d":"827"}},{"$f":"IF(Calc!AL133<0,0,IF(Calc!AL133<=$L$8,Calc!AL133,$L$8))","v":0},{"$f":"IF(Calc!AN133<$L$4,Calc!AN133,IF(F51>$L$5,F51,F51))","v":{"v":413.33333333333337,"d":"413"}},{"$f":"IF(Calc!AU133<0,0,IF(Calc!AU133<=$L$8,Calc!AU133,$L$8))","v":240}]
[null,{"$f":"IF(Calc!U134<$L$6,Calc!U134,IF(B52>$L$6,B52,B52))","v":{"v":1653.3333333333335,"d":"1653"}},{"$f":"IF(Calc!AB134<0,0,IF(Calc!AB134<=$L$8,Calc!AB134,$L$8))","v":0},{"$f":"IF(Calc!AE134<$L$5,Calc!AE134,IF(D52>$L$5,D52,D52))","v":{"v":826.6666666666667,"d":"827"}},{"$f":"IF(Calc!AL134<0,0,IF(Calc!AL134<=$L$8,Calc!AL134,$L$8))","v":0},{"$f":"IF(Calc!AN134<$L$4,Calc!AN134,IF(F52>$L$5,F52,F52))","v":{"v":413.33333333333337,"d":"413"}},{"$f":"IF(Calc!AU134<0,0,IF(Calc!AU134<=$L$8,Calc!AU134,$L$8))","v":230}]
[null,{"$f":"IF(Calc!U135<$L$6,Calc!U135,IF(B53>$L$6,B53,B53))","v":{"v":1653.3333333333335,"d":"1653"}},{"$f":"IF(Calc!AB135<0,0,IF(Calc!AB135<=$L$8,Calc!AB135,$L$8))","v":0},{"$f":"IF(Calc!AE135<$L$5,Calc!AE135,IF(D53>$L$5,D53,D53))","v":{"v":826.6666666666667,"d":"827"}},{"$f":"IF(Calc!AL135<0,0,IF(Calc!AL135<=$L$8,Calc!AL135,$L$8))","v":0},{"$f":"IF(Calc!AN135<$L$4,Calc!AN135,IF(F53>$L$5,F53,F53))","v":{"v":413.33333333333337,"d":"413"}},{"$f":"IF(Calc!AU135<0,0,IF(Calc!AU135<=$L$8,Calc!AU135,$L$8))","v":220}]
[null,{"$f":"IF(Calc!U136<$L$6,Calc!U136,IF(B54>$L$6,B54,B54))","v":{"v":1653.3333333333335,"d":"1653"}},{"$f":"IF(Calc!AB136<0,0,IF(Calc!AB136<=$L$8,Calc!AB136,$L$8))","v":0},{"$f":"IF(Calc!AE136<$L$5,Calc!AE136,IF(D54>$L$5,D54,D54))","v":{"v":826.6666666666667,"d":"827"}},{"$f":"IF(Calc!AL136<0,0,IF(Calc!AL136<=$L$8,Calc!AL136,$L$8))","v":0},{"$f":"IF(Calc!AN136<$L$4,Calc!AN136,IF(F54>$L$5,F54,F54))","v":{"v":413.33333333333337,"d":"413"}},{"$f":"IF(Calc!AU136<0,0,IF(Calc!AU136<=$L$8,Calc!AU136,$L$8))","v":211}]
[null,{"$f":"IF(Calc!U137<$L$6,Calc!U137,IF(B55>$L$6,B55,B55))","v":{"v":1653.3333333333335,"d":"1653"}},{"$f":"IF(Calc!AB137<0,0,IF(Calc!AB137<=$L$8,Calc!AB137,$L$8))","v":0},{"$f":"IF(Calc!AE137<$L$5,Calc!AE137,IF(D55>$L$5,D55,D55))","v":{"v":826.6666666666667,"d":"827"}},{"$f":"IF(Calc!AL137<0,0,IF(Calc!AL137<=$L$8,Calc!AL137,$L$8))","v":0},{"$f":"IF(Calc!AN137<$L$4,Calc!AN137,IF(F55>$L$5,F55,F55))","v":{"v":413.33333333333337,"d":"413"}},{"$f":"IF(Calc!AU137<0,0,IF(Calc!AU137<=$L$8,Calc!AU137,$L$8))","v":0}]
[{"$nulls":11},"Cyclic",{"$nulls":6},"Continuous"]
[{"$nulls":3},"Max input torque for RediMount",{"$nulls":7},"Output"]
[null,"Cyclic duty",null,"PC40",5.8,"Nm",{"$nulls":4},"Förskjutning",null,"Förskjutning",null,"Förskjutning"]
[{"$nulls":11},"PC40B20",null,"PC40B10",null,"PC40B05",null,null,"PC40B20",null,"PC40B10",null,"PC40B05"]
[null,"PC40B20",null,"PC40B10",null,"PC40B05",null,"Motor ","High torque test",null,0]
[null,"mm/s","Fx (N)","mm/s","Fx (N)","mm/s","Fx (N)","torque","1 = high torque",null,null,"Fx (N)",null,"Fx (N)",null,"Fx (N)",null,"mm/s","Fx (N)","mm/s","Fx (N)","mm/s","Fx (N)"]
[null,{"$f":"IF(Calc!AZ86<$L$6,Calc!AZ86,$L$6)","v":0},{"$f":"IF(Calc!BB86<0,0,IF(Calc!BB86<=$L$8,Calc!BB86,$L$8))","v":548},{"$f":"IF(Calc!BF86<$L$5,Calc!BF86,$L$5)","v":0},{"$f":"IF(Calc!BH86<0,0,IF(Calc!BH86<=$L$8,Calc!BH86,$L$8))","v":1148},{"$f":"IF(Calc!BL86<$L$4,Calc!BL86,$L$4)","v":0},{"$f":"IF(Calc!BN86<0,0,IF(Calc!BN86<=$L$8,Calc!BN86,$L$8))","v":2396},{"$f":"Calc!BJ86","v":{"v":2.7600000000000002,"d":"2.76"}},{"$f":"IF(AND(H63>$E$59,I62<>0),1,0)","v":0},null,{"$f":"IF(I63=1,MATCH($K$61,$I$63:$I$114,0),C63)","v":548},{"$f":"IF(C63<0,0,IF(K63<>C63,OFFSET(B62,K63,1,1,1),C63))","v":548},{"$f":"IF(I63=1,MATCH($K$61,$I$63:$I$114,0),E63)","v":1148},{"$f":"IF(E63<0,0,IF(M63<>E63,OFFSET(D62,M63,1,1,1),E63))","v":1148},{"$f":"IF(I63=1,MATCH($K$61,I63:$I$114,0),G63)","v":2396},{"$f":"IF(G63<0,0,IF(O63<>G63,OFFSET(F62,O63,1,1,1),G63))","v":2396},null,{"$f":"B5","v":0},{"$f":"C5","v":121},0,293,0,686]
[null,{"$f":"IF(Calc!AZ87<$L$6,Calc!AZ87,$L$6)","v":{"v":1666.6666666666665,"d":"1667"}},{"$f":"IF(Calc!BB87<0,0,IF(Calc!BB87<=$L$8,Calc!BB87,$L$8))","v":393},{"$f":"IF(Calc!BF87<$L$5,Calc!BF87,$L$5)","v":{"v":833.3333333333333,"d":"833"}},{"$f":"IF(Calc!BH87<0,0,IF(Calc!BH87<=$L$8,Calc!BH87,$L$8))","v":941},{"$f":"IF(Calc!BL87<$L$4,Calc!BL87,$L$4)","v":{"v":416.66666666666663,"d":"417"}},{"$f":"IF(Calc!BN87<0,0,IF(Calc!BN87<=$L$8,Calc!BN87,$L$8))","v":2189},{"$f":"Calc!BJ87","v":{"v":2.7600000000000002,"d":"2.76"}},{"$f":"IF(AND(H64>$E$59,I63<>0),1,0)","v":0},null,{"$f":"IF(I64=1,MATCH($K$61,I64:$I$114,0),C64)","v":393},{"$f":"IF(C64<0,0,IF(K64<>C64,OFFSET(B63,K64,1,1,1),C64))","v":393},{"$f":"IF(I64=1,MATCH($K$61,I64:$I$114,0),E64)","v":941},{"$f":"IF(E64<0,0,IF(M64<>E64,OFFSET(D63,M64,1,1,1),E64))","v":941},{"$f":"IF(I64=1,MATCH($K$61,I64:$I$114,0),G64)","v":2189},{"$f":"IF(G64<0,0,IF(O64<>G64,OFFSET(F63,O64,1,1,1),G64))","v":2189},null,{"$f":"B6","v":{"v":53.33333333333333,"d":"53"}},115,{"$f":"D6","v":{"v":26.666666666666664,"d":"27"}},285,{"$f":"F6","v":{"v":13.333333333333332,"d":"13"}},677]
[null,{"$f":"IF(Calc!AZ88<$L$6,Calc!AZ88,$L$6)","v":{"v":1666.6666666666665,"d":"1667"}},{"$f":"IF(Calc!BB88<0,0,IF(Calc!BB88<=$L$8,Calc!BB88,$L$8))","v":382},{"$f":"IF(Calc!BF88<$L$5,Calc!BF88,$L$5)","v":{"v":833.3333333333333,"d":"833"}},{"$f":"IF(Calc!BH88<0,0,IF(Calc!BH88<=$L$8,Calc!BH88,$L$8))","v":919},{"$f":"IF(Calc!BL88<$L$4,Calc!BL88,$L$4)","v":{"v":416.66666666666663,"d":"417"}},{"$f":"IF(Calc!BN88<0,0,IF(Calc!BN88<=$L$8,Calc!BN88,$L$8))","v":2149},{"$f":"Calc!BJ88","v":{"v":2.719411692307692,"d":"2.72"}},0,null,{"$f":"IF(I65=1,MATCH($K$61,I65:$I$114,0),C65)","v":382},382,{"$f":"IF(I65=1,MATCH($K$61,I65:$I$114,0),E65)","v":919},919,{"$f":"IF(I65=1,MATCH($K$61,I65:$I$114,0),G65)","v":2149},2149,null,{"v":106.66666666666666,"d":"107"},110,{"v":53.33333333333333,"d":"53"},277,{"v":26.666666666666664,"d":"27"},667]
[null,{"$f":"IF(Calc!AZ89<$L$6,Calc!AZ89,$L$6)","v":{"v":1666.6666666666665,"d":"1667"}},{"$f":"IF(Calc!BB89<0,0,IF(Calc!BB89<=$L$8,Calc!BB89,$L$8))","v":370},{"$f":"IF(Calc!BF89<$L$5,Calc!BF89,$L$5)","v":{"v":833.3333333333333,"d":"833"}},{"$f":"IF(Calc!BH89<0,0,IF(Calc!BH89<=$L$8,Calc!BH89,$L$8))","v":897},{"$f":"IF(Calc!BL89<$L$4,Calc!BL89,$L$4)","v":{"v":416.66666666666663,"d":"417"}},{"$f":"IF(Calc!BN89<0,0,IF(Calc!BN89<=$L$8,Calc!BN89,$L$8))","v":2109},{"$f":"Calc!BJ89","v":{"v":2.678226989010989,"d":"2.68"}},0,null,{"$f":"IF(I66=1,MATCH($K$61,I66:$I$114,0),C66)","v":370},370,{"$f":"IF(I66=1,MATCH($K$61,I66:$I$114,0),E66)","v":897},897,{"$f":"IF(I66=1,MATCH($K$61,I66:$I$114,0),G66)","v":2109},2109,null,160,104,80,269,40,658]
[null,{"$f":"IF(Calc!AZ90<$L$6,Calc!AZ90,$L$6)","v":{"v":1666.6666666666665,"d":"1667"}},{"$f":"IF(Calc!BB90<0,0,IF(Calc!BB90<=$L$8,Calc!BB90,$L$8))","v":358},{"$f":"IF(Calc!BF90<$L$5,Calc!BF90,$L$5)","v":{"v":833.3333333333333,"d":"833"}},{"$f":"IF(Calc!BH90<0,0,IF(Calc!BH90<=$L$8,Calc!BH90,$L$8))","v":875},{"$f":"IF(Calc!BL90<$L$4,Calc!BL90,$L$4)","v":{"v":416.66666666666663,"d":"417"}},{"$f":"IF(Calc!BN90<0,0,IF(Calc!BN90<=$L$8,Calc!BN90,$L$8))","v":2068},{"$f":"Calc!BJ90","v":{"v":2.6364458901098904,"d":"2.64"}},0,null,{"$f":"IF(I67=1,MATCH($K$61,I67:$I$114,0),C67)","v":358},358,{"$f":"IF(I67=1,MATCH($K$61,I67:$I$114,0),E67)","v":875},875,{"$f":"IF(I67=1,MATCH($K$61,I67:$I$114,0),G67)","v":2068},2068,null,{"v":213.33333333333331,"d":"213"},99,{"v":106.66666666666666,"d":"107"},261,{"v":53.33333333333333,"d":"53"},649]
[null,{"$f":"IF(Calc!AZ91<$L$6,Calc!AZ91,$L$6)","v":{"v":1666.6666666666665,"d":"1667"}},{"$f":"IF(Calc!BB91<0,0,IF(Calc!BB91<=$L$8,Calc!BB91,$L$8))","v":346},{"$f":"IF(Calc!BF91<$L$5,Calc!BF91,$L$5)","v":{"v":833.3333333333333,"d":"833"}},{"$f":"IF(Calc!BH91<0,0,IF(Calc!BH91<=$L$8,Calc!BH91,$L$8))","v":853},{"$f":"IF(Calc!BL91<$L$4,Calc!BL91,$L$4)","v":{"v":416.66666666666663,"d":"417"}},{"$f":"IF(Calc!BN91<0,0,IF(Calc!BN91<=$L$8,Calc!BN91,$L$8))","v":2026},{"$f":"Calc!BJ91","v":{"v":2.5940683956043955,"d":"2.59"}},0,null,{"$f":"IF(I68=1,MATCH($K$61,I68:$I$114,0),C68)","v":346},346,{"$f":"IF(I68=1,MATCH($K$61,I68:$I$114,0),E68)","v":853},853,{"$f":"IF(I68=1,MATCH($K$61,I68:$I$114,0),G68)","v":2026},2026,null,{"v":266.6666666666667,"d":"267"},93,{"v":133.33333333333334,"d":"133"},253,{"v":66.66666666666667,"d":"67"},639]
[null,{"$f":"IF(Calc!AZ92<$L$6,Calc!AZ92,$L$6)","v":{"v":1666.6666666666665,"d":"1667"}},{"$f":"IF(Calc!BB92<0,0,IF(Calc!BB92<=$L$8,Calc!BB92,$L$8))","v":334},{"$f":"IF(Calc!BF92<$L$5,Calc!BF92,$L$5)","v":{"v":833.3333333333333,"d":"833"}},{"$f":"IF(Calc!BH92<0,0,IF(Calc!BH92<=$L$8,Calc!BH92,$L$8))","v":830},{"$f":"IF(Calc!BL92<$L$4,Calc!BL92,$L$4)","v":{"v":416.66666666666663,"d":"417"}},{"$f":"IF(Calc!BN92<0,0,IF(Calc!BN92<=$L$8,Calc!BN92,$L$8))","v":1984},{"$f":"Calc!BJ92","v":{"v":2.5510945054945053,"d":"2.55"}},0,null,{"$f":"IF(I69=1,MATCH($K$61,I69:$I$114,0),C69)","v":334},334,{"$f":"IF(I69=1,MATCH($K$61,I69:$I$114,0),E69)","v":830},830,{"$f":"IF(I69=1,MATCH($K$61,I69:$I$114,0),G69)","v":1984},1984,null,320,88,160,245,80,630]
[null,{"$f":"IF(Calc!AZ93<$L$6,Calc!AZ93,$L$6)","v":{"v":1666.6666666666665,"d":"1667"}},{"$f":"IF(Calc!BB93<0,0,IF(Calc!BB93<=$L$8,Calc!BB93,$L$8))","v":321},{"$f":"IF(Calc!BF93<$L$5,Calc!BF93,$L$5)","v":{"v":833.3333333333333,"d":"833"}},{"$f":"IF(Calc!BH93<0,0,IF(Calc!BH93<=$L$8,Calc!BH93,$L$8))","v":807},{"$f":"IF(Calc!BL93<$L$4,Calc!BL93,$L$4)","v":{"v":416.66666666666663,"d":"417"}},{"$f":"IF(Calc!BN93<0,0,IF(Calc!BN93<=$L$8,Calc!BN93,$L$8))","v":1941},{"$f":"Calc!BJ93","v":{"v":2.5075242197802194,"d":"2.51"}},0,null,{"$f":"IF(I70=1,MATCH($K$61,I70:$I$114,0),C70)","v":321},321,{"$f":"IF(I70=1,MATCH($K$61,I70:$I$114,0),E70)","v":807},807,{"$f":"IF(I70=1,MATCH($K$61,I70:$I$114,0),G70)","v":1941},1941,null,{"v":373.33333333333337,"d":"373"},82,{"v":186.66666666666669,"d":"187"},238,{"v":93.33333333333334,"d":"93"},621]
[null,{"$f":"IF(Calc!AZ94<$L$6,Calc!AZ94,$L$6)","v":{"v":1666.6666666666665,"d":"1667"}},{"$f":"IF(Calc!BB94<0,0,IF(Calc!BB94<=$L$8,Calc!BB94,$L$8))","v":309},{"$f":"IF(Calc!BF94<$L$5,Calc!BF94,$L$5)","v":{"v":833.3333333333333,"d":"833"}},{"$f":"IF(Calc!BH94<0,0,IF(Calc!BH94<=$L$8,Calc!BH94,$L$8))","v":784},{"$f":"IF(Calc!BL94<$L$4,Calc!BL94,$L$4)","v":{"v":416.66666666666663,"d":"417"}},{"$f":"IF(Calc!BN94<0,0,IF(Calc!BN94<=$L$8,Calc!BN94,$L$8))","v":1898},{"$f":"Calc!BJ94","v":{"v":2.4633575384615383,"d":"2.46"}},0,null,{"$f":"IF(I71=1,MATCH($K$61,I71:$I$114,0),C71)","v":309},309,{"$f":"IF(I71=1,MATCH($K$61,I71:$I$114,0),E71)","v":784},784,{"$f":"IF(I71=1,MATCH($K$61,I71:$I$114,0),G71)","v":1898},1898,null,{"v":426.66666666666663,"d":"427"},77,{"v":213.33333333333331,"d":"213"},230,{"v":106.66666666666666,"d":"107"},613]
[null,{"$f":"IF(Calc!AZ95<$L$6,Calc!AZ95,$L$6)","v":{"v":1666.6666666666665,"d":"1667"}},{"$f":"IF(Calc!BB95<0,0,IF(Calc!BB95<=$L$8,Calc!BB95,$L$8))","v":296},{"$f":"IF(Calc!BF95<$L$5,Calc!BF95,$L$5)","v":{"v":833.3333333333333,"d":"833"}},{"$f":"IF(Calc!BH95<0,0,IF(Calc!BH95<=$L$8,Calc!BH95,$L$8))","v":760},{"$f":"IF(Calc!BL95<$L$4,Calc!BL95,$L$4)","v":{"v":416.66666666666663,"d":"417"}},{"$f":"IF(Calc!BN95<0,0,IF(Calc!BN95<=$L$8,Calc!BN95,$L$8))","v":1854},{"$f":"Calc!BJ95","v":{"v":2.418594461538462,"d":"2.42"}},0,null,{"$f":"IF(I72=1,MATCH($K$61,I72:$I$114,0),C72)","v":296},296,{"$f":"IF(I72=1,MATCH($K$61,I72:$I$114,0),E72)","v":760},760,{"$f":"IF(I72=1,MATCH($K$61,I72:$I$114,0),G72)","v":1854},1854,null,480,71,240,222,120,604]
[null,{"$f":"IF(Calc!AZ96<$L$6,Calc!AZ96,$L$6)","v":{"v":1666.6666666666665,"d":"1667"}},{"$f":"IF(Calc!BB96<0,0,IF(Calc!BB96<=$L$8,Calc!BB96,$L$8))","v":283},{"$f":"IF(Calc!BF96<$L$5,Calc!BF96,$L$5)","v":{"v":833.3333333333333,"d":"833"}},{"$f":"IF(Calc!BH96<0,0,IF(Calc!BH96<=$L$8,Calc!BH96,$L$8))","v":736},{"$f":"IF(Calc!BL96<$L$4,Calc!BL96,$L$4)","v":{"v":416.66666666666663,"d":"417"}},{"$f":"IF(Calc!BN96<0,0,IF(Calc!BN96<=$L$8,Calc!BN96,$L$8))","v":1809},{"$f":"Calc!BJ96","v":{"v":2.373234989010989,"d":"2.37"}},0,null,{"$f":"IF(I73=1,MATCH($K$61,I73:$I$114,0),C73)","v":283},283,{"$f":"IF(I73=1,MATCH($K$61,I73:$I$114,0),E73)","v":736},736,{"$f":"IF(I73=1,MATCH($K$61,I73:$I$114,0),G73)","v":1809},1809,null,{"v":533.3333333333334,"d":"533"},66,{"v":266.6666666666667,"d":"267"},215,{"v":133.33333333333334,"d":"133"},595]
[null,{"$f":"IF(Calc!AZ97<$L$6,Calc!AZ97,$L$6)","v":{"v":1666.6666666666665,"d":"1667"}},{"$f":"IF(Calc!BB97<0,0,IF(Calc!BB97<=$L$8,Calc!BB97,$L$8))","v":270},{"$f":"IF(Calc!BF97<$L$5,Calc!BF97,$L$5)","v":{"v":833.3333333333333,"d":"833"}},{"$f":"IF(Calc!BH97<0,0,IF(Calc!BH97<=$L$8,Calc!BH97,$L$8))","v":711},{"$f":"IF(Calc!BL97<$L$4,Calc!BL97,$L$4)","v":{"v":416.66666666666663,"d":"417"}},{"$f":"IF(Calc!BN97<0,0,IF(Calc!BN97<=$L$8,Calc!BN97,$L$8))","v":1764},{"$f":"Calc!BJ97","v":{"v":2.3272791208791213,"d":"2.33"}},0,null,{"$f":"IF(I74=1,MATCH($K$61,I74:$I$114,0),C74)","v":270},270,{"$f":"IF(I74=1,MATCH($K$61,I74:$I$114,0),E74)","v":711},711,{"$f":"IF(I74=1,MATCH($K$61,I74:$I$114,0),G74)","v":1764},1764,null,{"v":586.6666666666666,"d":"587"},61,{"v":293.3333333333333,"d":"293"},207,{"v":146.66666666666666,"d":"147"},586]
[null,{"$f":"IF(Calc!AZ98<$L$6,Calc!AZ98,$L$6)","v":{"v":1666.6666666666665,"d":"1667"}},{"$f":"IF(Calc!BB98<0,0,IF(Calc!BB98<=$L$8,Calc!BB98,$L$8))","v":257},{"$f":"IF(Calc!BF98<$L$5,Calc!BF98,$L$5)","v":{"v":833.3333333333333,"d":"833"}},{"$f":"IF(Calc!BH98<0,0,IF(Calc!BH98<=$L$8,Calc!BH98,$L$8))","v":686},{"$f":"IF(Calc!BL98<$L$4,Calc!BL98,$L$4)","v":{"v":416.66666666666663,"d":"417"}},{"$f":"IF(Calc!BN98<0,0,IF(Calc!BN98<=$L$8,Calc!BN98,$L$8))","v":1718},{"$f":"Calc!BJ98","v":{"v":2.2807268571428576,"d":"2.28"}},0,null,{"$f":"IF(I75=1,MATCH($K$61,I75:$I$114,0),C75)","v":257},257,{"$f":"IF(I75=1,MATCH($K$61,I75:$I$114,0),E75)","v":686},686,{"$f":"IF(I75=1,MATCH($K$61,I75:$I$114,0),G75)","v":1718},1718,null,640,55,320,200,160,578]
[null,{"$f":"IF(Calc!AZ99<$L$6,Calc!AZ99,$L$6)","v":{"v":1666.6666666666665,"d":"1667"}},{"$f":"IF(Calc!BB99<0,0,IF(Calc!BB99<=$L$8,Calc!BB99,$L$8))","v":243},{"$f":"IF(Calc!BF99<$L$5,Calc!BF99,$L$5)","v":{"v":833.3333333333333,"d":"833"}},{"$f":"IF(Calc!BH99<0,0,IF(Calc!BH99<=$L$8,Calc!BH99,$L$8))","v":661},{"$f":"IF(Calc!BL99<$L$4,Calc!BL99,$L$4)","v":{"v":416.66666666666663,"d":"417"}},{"$f":"IF(Calc!BN99<0,0,IF(Calc!BN99<=$L$8,Calc!BN99,$L$8))","v":1672},{"$f":"Calc!BJ99","v":{"v":2.2335781978021974,"d":"2.23"}},0,null,{"$f":"IF(I76=1,MATCH($K$61,I76:$I$114,0),C76)","v":243},243,{"$f":"IF(I76=1,MATCH($K$61,I76:$I$114,0),E76)","v":661},661,{"$f":"IF(I76=1,MATCH($K$61,I76:$I$114,0),G76)","v":1672},1672,null,{"v":693.3333333333333,"d":"693"},50,{"v":346.66666666666663,"d":"347"},192,{"v":173.33333333333331,"d":"173"},569]
[null,{"$f":"IF(Calc!AZ100<$L$6,Calc!AZ100,$L$6)","v":{"v":1666.6666666666665,"d":"1667"}},{"$f":"IF(Calc!BB100<0,0,IF(Calc!BB100<=$L$8,Calc!BB100,$L$8))","v":230},{"$f":"IF(Calc!BF100<$L$5,Calc!BF100,$L$5)","v":{"v":833.3333333333333,"d":"833"}},{"$f":"IF(Calc!BH100<0,0,IF(Calc!BH100<=$L$8,Calc!BH100,$L$8))","v":636},{"$f":"IF(Calc!BL100<$L$4,Calc!BL100,$L$4)","v":{"v":416.66666666666663,"d":"417"}},{"$f":"IF(Calc!BN100<0,0,IF(Calc!BN100<=$L$8,Calc!BN100,$L$8))","v":1625},{"$f":"Calc!BJ100","v":{"v":2.1858331428571427,"d":"2.19"}},0,null,{"$f":"IF(I77=1,MATCH($K$61,I77:$I$114,0),C77)","v":230},230,{"$f":"IF(I77=1,MATCH($K$61,I77:$I$114,0),E77)","v":636},636,{"$f":"IF(I77=1,MATCH($K$61,I77:$I$114,0),G77)","v":1625},1625,null,{"v":746.6666666666667,"d":"747"},44,{"v":373.33333333333337,"d":"373"},185,{"v":186.66666666666669,"d":"187"},560]
[null,{"$f":"IF(Calc!AZ101<$L$6,Calc!AZ101,$L$6)","v":{"v":1666.6666666666665,"d":"1667"}},{"$f":"IF(Calc!BB101<0,0,IF(Calc!BB101<=$L$8,Calc!BB101,$L$8))","v":216},{"$f":"IF(Calc!BF101<$L$5,Calc!BF101,$L$5)","v":{"v":833.3333333333333,"d":"833"}},{"$f":"IF(Calc!BH101<0,0,IF(Calc!BH101<=$L$8,Calc!BH101,$L$8))","v":610},{"$f":"IF(Calc!BL101<$L$4,Calc!BL101,$L$4)","v":{"v":416.66666666666663,"d":"417"}},{"$f":"IF(Calc!BN101<0,0,IF(Calc!BN101<=$L$8,Calc!BN101,$L$8))","v":1577},{"$f":"Calc!BJ101","v":{"v":2.1374916923076923,"d":"2.14"}},0,null,{"$f":"IF(I78=1,MATCH($K$61,I78:$I$114,0),C78)","v":216},216,{"$f":"IF(I78=1,MATCH($K$61,I78:$I$114,0),E78)","v":610},610,{"$f":"IF(I78=1,MATCH($K$61,I78:$I$114,0),G78)","v":1577},1577,null,800,39,400,177,200,551]
[null,{"$f":"IF(Calc!AZ102<$L$6,Calc!AZ102,$L$6)","v":{"v":1666.6666666666665,"d":"1667"}},{"$f":"IF(Calc!BB102<0,0,IF(Calc!BB102<=$L$8,Calc!BB102,$L$8))","v":202},{"$f":"IF(Calc!BF102<$L$5,Calc!BF102,$L$5)","v":{"v":833.3333333333333,"d":"833"}},{"$f":"IF(Calc!BH102<0,0,IF(Calc!BH102<=$L$8,Calc!BH102,$L$8))","v":584},{"$f":"IF(Calc!BL102<$L$4,Calc!BL102,$L$4)","v":{"v":416.66666666666663,"d":"417"}},{"$f":"IF(Calc!BN102<0,0,IF(Calc!BN102<=$L$8,Calc!BN102,$L$8))","v":1529},{"$f":"Calc!BJ102","v":{"v":2.088553846153846,"d":"2.09"}},0,null,{"$f":"IF(I79=1,MATCH($K$61,I79:$I$114,0),C79)","v":202},202,{"$f":"IF(I79=1,MATCH($K$61,I79:$I$114,0),E79)","v":584},584,{"$f":"IF(I79=1,MATCH($K$61,I79:$I$114,0),G79)","v":1529},1529,null,{"v":853.3333333333333,"d":"853"},34,{"v":426.66666666666663,"d":"427"},169,{"v":213.33333333333331,"d":"213"},543]
[null,{"$f":"IF(Calc!AZ103<$L$6,Calc!AZ103,$L$6)","v":{"v":1666.6666666666665,"d":"1667"}},{"$f":"IF(Calc!BB103<0,0,IF(Calc!BB103<=$L$8,Calc!BB103,$L$8))","v":187},{"$f":"IF(Calc!BF103<$L$5,Calc!BF103,$L$5)","v":{"v":833.3333333333333,"d":"833"}},{"$f":"IF(Calc!BH103<0,0,IF(Calc!BH103<=$L$8,Calc!BH103,$L$8))","v":558},{"$f":"IF(Calc!BL103<$L$4,Calc!BL103,$L$4)","v":{"v":416.66666666666663,"d":"417"}},{"$f":"IF(Calc!BN103<0,0,IF(Calc!BN103<=$L$8,Calc!BN103,$L$8))","v":1480},{"$f":"Calc!BJ103","v":{"v":2.0390196043956044,"d":"2.04"}},0,null,{"$f":"IF(I80=1,MATCH($K$61,I80:$I$114,0),C80)","v":187},187,{"$f":"IF(I80=1,MATCH($K$61,I80:$I$114,0),E80)","v":558},558,{"$f":"IF(I80=1,MATCH($K$61,I80:$I$114,0),G80)","v":1480},1480,null,{"v":906.6666666666667,"d":"907"},28,{"v":453.33333333333337,"d":"453"},162,{"v":226.66666666666669,"d":"227"},534]
[null,{"$f":"IF(Calc!AZ104<$L$6,Calc!AZ104,$L$6)","v":{"v":1666.6666666666665,"d":"1667"}},{"$f":"IF(Calc!BB104<0,0,IF(Calc!BB104<=$L$8,Calc!BB104,$L$8))","v":173},{"$f":"IF(Calc!BF104<$L$5,Calc!BF104,$L$5)","v":{"v":833.3333333333333,"d":"833"}},{"$f":"IF(Calc!BH104<0,0,IF(Calc!BH104<=$L$8,Calc!BH104,$L$8))","v":531},{"$f":"IF(Calc!BL104<$L$4,Calc!BL104,$L$4)","v":{"v":416.66666666666663,"d":"417"}},{"$f":"IF(Calc!BN104<0,0,IF(Calc!BN104<=$L$8,Calc!BN104,$L$8))","v":1430},{"$f":"Calc!BJ104","v":{"v":1.9888889670329672,"d":"1.99"}},0,null,{"$f":"IF(I81=1,MATCH($K$61,I81:$I$114,0),C81)","v":173},173,{"$f":"IF(I81=1,MATCH($K$61,I81:$I$114,0),E81)","v":531},531,{"$f":"IF(I81=1,MATCH($K$61,I81:$I$114,0),G81)","v":1430},1430,null,960,23,480,154,240,525]
[null,{"$f":"IF(Calc!AZ105<$L$6,Calc!AZ105,$L$6)","v":{"v":1666.6666666666665,"d":"1667"}},{"$f":"IF(Calc!BB105<0,0,IF(Calc!BB105<=$L$8,Calc!BB105,$L$8))","v":158},{"$f":"IF(Calc!BF105<$L$5,Calc!BF105,$L$5)","v":{"v":833.3333333333333,"d":"833"}},{"$f":"IF(Calc!BH105<0,0,IF(Calc!BH105<=$L$8,Calc!BH105,$L$8))","v":504},{"$f":"IF(Calc!BL105<$L$4,Calc!BL105,$L$4)","v":{"v":416.66666666666663,"d":"417"}},{"$f":"IF(Calc!BN105<0,0,IF(Calc!BN105<=$L$8,Calc!BN105,$L$8))","v":1380},{"$f":"Calc!BJ105","v":{"v":1.938161934065934,"d":"1.94"}},0,null,{"$f":"IF(I82=1,MATCH($K$61,I82:$I$114,0),C82)","v":158},158,{"$f":"IF(I82=1,MATCH($K$61,I82:$I$114,0),E82)","v":504},504,{"$f":"IF(I82=1,MATCH($K$61,I82:$I$114,0),G82)","v":1380},1380,null,{"v":1013.3333333333333,"d":"1013"},17,{"v":506.66666666666663,"d":"507"},147,{"v":253.33333333333331,"d":"253"},516]
[null,{"$f":"IF(Calc!AZ106<$L$6,Calc!AZ106,$L$6)","v":{"v":1666.6666666666665,"d":"1667"}},{"$f":"IF(Calc!BB106<0,0,IF(Calc!BB106<=$L$8,Calc!BB106,$L$8))","v":144},{"$f":"IF(Calc!BF106<$L$5,Calc!BF106,$L$5)","v":{"v":833.3333333333333,"d":"833"}},{"$f":"IF(Calc!BH106<0,0,IF(Calc!BH106<=$L$8,Calc!BH106,$L$8))","v":476},{"$f":"IF(Calc!BL106<$L$4,Calc!BL106,$L$4)","v":{"v":416.66666666666663,"d":"417"}},{"$f":"IF(Calc!BN106<0,0,IF(Calc!BN106<=$L$8,Calc!BN106,$L$8))","v":1330},{"$f":"Calc!BJ106","v":{"v":1.8868385054945054,"d":"1.89"}},0,null,{"$f":"IF(I83=1,MATCH($K$61,I83:$I$114,0),C83)","v":144},144,{"$f":"IF(I83=1,MATCH($K$61,I83:$I$114,0),E83)","v":476},476,{"$f":"IF(I83=1,MATCH($K$61,I83:$I$114,0),G83)","v":1330},1330,null,{"v":1066.6666666666667,"d":"1067"},12,{"v":533.3333333333334,"d":"533"},139,{"v":266.6666666666667,"d":"267"},508]
[null,{"$f":"IF(Calc!AZ107<$L$6,Calc!AZ107,$L$6)","v":{"v":1666.6666666666665,"d":"1667"}},{"$f":"IF(Calc!BB107<0,0,IF(Calc!BB107<=$L$8,Calc!BB107,$L$8))","v":129},{"$f":"IF(Calc!BF107<$L$5,Calc!BF107,$L$5)","v":{"v":833.3333333333333,"d":"833"}},{"$f":"IF(Calc!BH107<0,0,IF(Calc!BH107<=$L$8,Calc!BH107,$L$8))","v":448},{"$f":"IF(Calc!BL107<$L$4,Calc!BL107,$L$4)","v":{"v":416.66666666666663,"d":"417"}},{"$f":"IF(Calc!BN107<0,0,IF(Calc!BN107<=$L$8,Calc!BN107,$L$8))","v":1278},{"$f":"Calc!BJ107","v":{"v":1.834918681318681,"d":"1.83"}},0,null,{"$f":"IF(I84=1,MATCH($K$61,I84:$I$114,0),C84)","v":129},129,{"$f":"IF(I84=1,MATCH($K$61,I84:$I$114,0),E84)","v":448},448,{"$f":"IF(I84=1,MATCH($K$61,I84:$I$114,0),G84)","v":1278},1278,null,1120,7,560,131,280,499]
[null,{"$f":"IF(Calc!AZ108<$L$6,Calc!AZ108,$L$6)","v":{"v":1666.6666666666665,"d":"1667"}},{"$f":"IF(Calc!BB108<0,0,IF(Calc!BB108<=$L$8,Calc!BB108,$L$8))","v":114},{"$f":"IF(Calc!BF108<$L$5,Calc!BF108,$L$5)","v":{"v":833.3333333333333,"d":"833"}},{"$f":"IF(Calc!BH108<0,0,IF(Calc!BH108<=$L$8,Calc!BH108,$L$8))","v":420},{"$f":"IF(Calc!BL108<$L$4,Calc!BL108,$L$4)","v":{"v":416.66666666666663,"d":"417"}},{"$f":"IF(Calc!BN108<0,0,IF(Calc!BN108<=$L$8,Calc!BN108,$L$8))","v":1227},{"$f":"Calc!BJ108","v":{"v":1.7824024615384615,"d":"1.78"}},0,null,{"$f":"IF(I85=1,MATCH($K$61,I85:$I$114,0),C85)","v":114},114,{"$f":"IF(I85=1,MATCH($K$61,I85:$I$114,0),E85)","v":420},420,{"$f":"IF(I85=1,MATCH($K$61,I85:$I$114,0),G85)","v":1227},1227,null,{"v":1173.3333333333333,"d":"1173"},1,{"v":586.6666666666666,"d":"587"},123,{"v":293.3333333333333,"d":"293"},489]
[null,{"$f":"IF(Calc!AZ109<$L$6,Calc!AZ109,$L$6)","v":{"v":1666.6666666666665,"d":"1667"}},{"$f":"IF(Calc!BB109<0,0,IF(Calc!BB109<=$L$8,Calc!BB109,$L$8))","v":98},{"$f":"IF(Calc!BF109<$L$5,Calc!BF109,$L$5)","v":{"v":833.3333333333333,"d":"833"}},{"$f":"IF(Calc!BH109<0,0,IF(Calc!BH109<=$L$8,Calc!BH109,$L$8))","v":392},{"$f":"IF(Calc!BL109<$L$4,Calc!BL109,$L$4)","v":{"v":416.66666666666663,"d":"417"}},{"$f":"IF(Calc!BN109<0,0,IF(Calc!BN109<=$L$8,Calc!BN109,$L$8))","v":1174},{"$f":"Calc!BJ109","v":{"v":1.7292898461538462,"d":"1.73"}},0,null,{"$f":"IF(I86=1,MATCH($K$61,I86:$I$114,0),C86)","v":98},98,{"$f":"IF(I86=1,MATCH($K$61,I86:$I$114,0),E86)","v":392},392,{"$f":"IF(I86=1,MATCH($K$61,I86:$I$114,0),G86)","v":1174},1174,null,{"v":1226.6666666666667,"d":"1227"},0,{"v":613.3333333333334,"d":"613"},115,{"v":306.6666666666667,"d":"307"},479]
[null,{"$f":"IF(Calc!AZ110<$L$6,Calc!AZ110,$L$6)","v":{"v":1666.6666666666665,"d":"1667"}},{"$f":"IF(Calc!BB110<0,0,IF(Calc!BB110<=$L$8,Calc!BB110,$L$8))","v":83},{"$f":"IF(Calc!BF110<$L$5,Calc!BF110,$L$5)","v":{"v":833.3333333333333,"d":"833"}},{"$f":"IF(Calc!BH110<0,0,IF(Calc!BH110<=$L$8,Calc!BH110,$L$8))","v":363},{"$f":"IF(Calc!BL110<$L$4,Calc!BL110,$L$4)","v":{"v":416.66666666666663,"d":"417"}},{"$f":"IF(Calc!BN110<0,0,IF(Calc!BN110<=$L$8,Calc!BN110,$L$8))","v":1121},{"$f":"Calc!BJ110","v":{"v":1.6755808351648354,"d":"1.68"}},0,null,{"$f":"IF(I87=1,MATCH($K$61,I87:$I$114,0),C87)","v":83},83,{"$f":"IF(I87=1,MATCH($K$61,I87:$I$114,0),E87)","v":363},363,{"$f":"IF(I87=1,MATCH($K$61,I87:$I$114,0),G87)","v":1121},1121,null,1280,0,640,107,320,469]
[null,{"$f":"IF(Calc!AZ111<$L$6,Calc!AZ111,$L$6)","v":{"v":1666.6666666666665,"d":"1667"}},{"$f":"IF(Calc!BB111<0,0,IF(Calc!BB111<=$L$8,Calc!BB111,$L$8))","v":67},{"$f":"IF(Calc!BF111<$L$5,Calc!BF111,$L$5)","v":{"v":833.3333333333333,"d":"833"}},{"$f":"IF(Calc!BH111<0,0,IF(Calc!BH111<=$L$8,Calc!BH111,$L$8))","v":334},{"$f":"IF(Calc!BL111<$L$4,Calc!BL111,$L$4)","v":{"v":416.66666666666663,"d":"417"}},{"$f":"IF(Calc!BN111<0,0,IF(Calc!BN111<=$L$8,Calc!BN111,$L$8))","v":1068},{"$f":"Calc!BJ111","v":{"v":1.6212754285714288,"d":"1.62"}},0,null,{"$f":"IF(I88=1,MATCH($K$61,I88:$I$114,0),C88)","v":67},67,{"$f":"IF(I88=1,MATCH($K$61,I88:$I$114,0),E88)","v":334},334,{"$f":"IF(I88=1,MATCH($K$61,I88:$I$114,0),G88)","v":1068},1068,null,{"v":1333.3333333333335,"d":"1333"},0,{"v":666.6666666666667,"d":"667"},99,{"v":333.33333333333337,"d":"333"},459]
[null,{"$f":"IF(Calc!AZ112<$L$6,Calc!AZ112,$L$6)","v":{"v":1666.6666666666665,"d":"1667"}},{"$f":"IF(Calc!BB112<0,0,IF(Calc!BB112<=$L$8,Calc!BB112,$L$8))","v":51},{"$f":"IF(Calc!BF112<$L$5,Calc!BF112,$L$5)","v":{"v":833.3333333333333,"d":"833"}},{"$f":"IF(Calc!BH112<0,0,IF(Calc!BH112<=$L$8,Calc!BH112,$L$8))","v":305},{"$f":"IF(Calc!BL112<$L$4,Calc!BL112,$L$4)","v":{"v":416.66666666666663,"d":"417"}},{"$f":"IF(Calc!BN112<0,0,IF(Calc!BN112<=$L$8,Calc!BN112,$L$8))","v":1013},{"$f":"Calc!BJ112","v":{"v":1.5663736263736265,"d":"1.57"}},0,null,{"$f":"IF(I89=1,MATCH($K$61,I89:$I$114,0),C89)","v":51},51,{"$f":"IF(I89=1,MATCH($K$61,I89:$I$114,0),E89)","v":305},305,{"$f":"IF(I89=1,MATCH($K$61,I89:$I$114,0),G89)","v":1013},1013,null,{"v":1386.6666666666665,"d":"1387"},0,{"v":693.3333333333333,"d":"693"},90,{"v":346.66666666666663,"d":"347"},449]
[null,{"$f":"IF(Calc!AZ113<$L$6,Calc!AZ113,$L$6)","v":{"v":1666.6666666666665,"d":"1667"}},{"$f":"IF(Calc!BB113<0,0,IF(Calc!BB113<=$L$8,Calc!BB113,$L$8))","v":35},{"$f":"IF(Calc!BF113<$L$5,Calc!BF113,$L$5)","v":{"v":833.3333333333333,"d":"833"}},{"$f":"IF(Calc!BH113<0,0,IF(Calc!BH113<=$L$8,Calc!BH113,$L$8))","v":275},{"$f":"IF(Calc!BL113<$L$4,Calc!BL113,$L$4)","v":{"v":416.66666666666663,"d":"417"}},{"$f":"IF(Calc!BN113<0,0,IF(Calc!BN113<=$L$8,Calc!BN113,$L$8))","v":959},{"$f":"Calc!BJ113","v":{"v":1.5108754285714285,"d":"1.51"}},0,null,{"$f":"IF(I90=1,MATCH($K$61,I90:$I$114,0),C90)","v":35},35,{"$f":"IF(I90=1,MATCH($K$61,I90:$I$114,0),E90)","v":275},275,{"$f":"IF(I90=1,MATCH($K$61,I90:$I$114,0),G90)","v":959},959,null,1440,0,720,82,360,439]
[null,{"$f":"IF(Calc!AZ114<$L$6,Calc!AZ114,$L$6)","v":{"v":1666.6666666666665,"d":"1667"}},{"$f":"IF(Calc!BB114<0,0,IF(Calc!BB114<=$L$8,Calc!BB114,$L$8))","v":19},{"$f":"IF(Calc!BF114<$L$5,Calc!BF114,$L$5)","v":{"v":833.3333333333333,"d":"833"}},{"$f":"IF(Calc!BH114<0,0,IF(Calc!BH114<=$L$8,Calc!BH114,$L$8))","v":245},{"$f":"IF(Calc!BL114<$L$4,Calc!BL114,$L$4)","v":{"v":416.66666666666663,"d":"417"}},{"$f":"IF(Calc!BN114<0,0,IF(Calc!BN114<=$L$8,Calc!BN114,$L$8))","v":903},{"$f":"Calc!BJ114","v":{"v":1.4547808351648353,"d":"1.45"}},0,null,{"$f":"IF(I91=1,MATCH($K$61,I91:$I$114,0),C91)","v":19},19,{"$f":"IF(I91=1,MATCH($K$61,I91:$I$114,0),E91)","v":245},245,{"$f":"IF(I91=1,MATCH($K$61,I91:$I$114,0),G91)","v":903},903,null,{"v":1493.3333333333335,"d":"1493"},0,{"v":746.6666666666667,"d":"747"},74,{"v":373.33333333333337,"d":"373"},429]
[null,{"$f":"IF(Calc!AZ115<$L$6,Calc!AZ115,$L$6)","v":{"v":1666.6666666666665,"d":"1667"}},{"$f":"IF(Calc!BB115<0,0,IF(Calc!BB115<=$L$8,Calc!BB115,$L$8))","v":3},{"$f":"IF(Calc!BF115<$L$5,Calc!BF115,$L$5)","v":{"v":833.3333333333333,"d":"833"}},{"$f":"IF(Calc!BH115<0,0,IF(Calc!BH115<=$L$8,Calc!BH115,$L$8))","v":215},{"$f":"IF(Calc!BL115<$L$4,Calc!BL115,$L$4)","v":{"v":416.66666666666663,"d":"417"}},{"$f":"IF(Calc!BN115<0,0,IF(Calc!BN115<=$L$8,Calc!BN115,$L$8))","v":847},{"$f":"Calc!BJ115","v":{"v":1.398089846153846,"d":"1.40"}},0,null,{"$f":"IF(I92=1,MATCH($K$61,I92:$I$114,0),C92)","v":3},3,{"$f":"IF(I92=1,MATCH($K$61,I92:$I$114,0),E92)","v":215},215,{"$f":"IF(I92=1,MATCH($K$61,I92:$I$114,0),G92)","v":847},847,null,{"v":1546.6666666666665,"d":"1547"},0,{"v":773.3333333333333,"d":"773"},66,{"v":386.66666666666663,"d":"387"},419]
[null,{"$f":"IF(Calc!AZ116<$L$6,Calc!AZ116,$L$6)","v":{"v":1666.6666666666665,"d":"1667"}},{"$f":"IF(Calc!BB116<0,0,IF(Calc!BB116<=$L$8,Calc!BB116,$L$8))","v":0},{"$f":"IF(Calc!BF116<$L$5,Calc!BF116,$L$5)","v":{"v":833.3333333333333,"d":"833"}},{"$f":"IF(Calc!BH116<0,0,IF(Calc!BH116<=$L$8,Calc!BH116,$L$8))","v":184},{"$f":"IF(Calc!BL116<$L$4,Calc!BL116,$L$4)","v":{"v":416.66666666666663,"d":"417"}},{"$f":"IF(Calc!BN116<0,0,IF(Calc!BN116<=$L$8,Calc!BN116,$L$8))","v":791},{"$f":"Calc!BJ116","v":{"v":1.3408024615384615,"d":"1.34"}},0,null,{"$f":"IF(I93=1,MATCH($K$61,I93:$I$114,0),C93)","v":0},0,{"$f":"IF(I93=1,MATCH($K$61,I93:$I$114,0),E93)","v":184},184,{"$f":"IF(I93=1,MATCH($K$61,I93:$I$114,0),G93)","v":791},791,null,1600,0,800,58,400,409]
[null,{"$f":"IF(Calc!AZ117<$L$6,Calc!AZ117,$L$6)","v":{"v":1666.6666666666665,"d":"1667"}},{"$f":"IF(Calc!BB117<0,0,IF(Calc!BB117<=$L$8,Calc!BB117,$L$8))","v":0},{"$f":"IF(Calc!BF117<$L$5,Calc!BF117,$L$5)","v":{"v":833.3333333333333,"d":"833"}},{"$f":"IF(Calc!BH117<0,0,IF(Calc!BH117<=$L$8,Calc!BH117,$L$8))","v":158},{"$f":"IF(Calc!BL117<$L$4,Calc!BL117,$L$4)","v":{"v":416.66666666666663,"d":"417"}},{"$f":"IF(Calc!BN117<0,0,IF(Calc!BN117<=$L$8,Calc!BN117,$L$8))","v":738},{"$f":"Calc!BJ117","v":{"v":1.2829186813186786,"d":"1.28"}},0,null,{"$f":"IF(I94=1,MATCH($K$61,I94:$I$114,0),C94)","v":0},0,{"$f":"IF(I94=1,MATCH($K$61,I94:$I$114,0),E94)","v":158},158,{"$f":"IF(I94=1,MATCH($K$61,I94:$I$114,0),G94)","v":738},738,null,{"v":1653.3333333333335,"d":"1653"},0,{"v":826.6666666666667,"d":"827"},49,{"v":413.33333333333337,"d":"413"},399]
[null,{"$f":"IF(Calc!AZ118<$L$6,Calc!AZ118,$L$6)","v":{"v":1666.6666666666665,"d":"1667"}},{"$f":"IF(Calc!BB118<0,0,IF(Calc!BB118<=$L$8,Calc!BB118,$L$8))","v":0},{"$f":"IF(Calc!BF118<$L$5,Calc!BF118,$L$5)","v":{"v":833.3333333333333,"d":"833"}},{"$f":"IF(Calc!BH118<0,0,IF(Calc!BH118<=$L$8,Calc!BH118,$L$8))","v":131},{"$f":"IF(Calc!BL118<$L$4,Calc!BL118,$L$4)","v":{"v":416.66666666666663,"d":"417"}},{"$f":"IF(Calc!BN118<0,0,IF(Calc!BN118<=$L$8,Calc!BN118,$L$8))","v":685},{"$f":"Calc!BJ118","v":{"v":1.2244385054945026,"d":"1.22"}},0,null,{"$f":"IF(I95=1,MATCH($K$61,I95:$I$114,0),C95)","v":0},0,{"$f":"IF(I95=1,MATCH($K$61,I95:$I$114,0),E95)","v":131},131,{"$f":"IF(I95=1,MATCH($K$61,I95:$I$114,0),G95)","v":685},685,null,{"v":1653.3333333333335,"d":"1653"},0,{"v":826.6666666666667,"d":"827"},41,{"v":413.33333333333337,"d":"413"},389]
[null,{"$f":"IF(Calc!AZ119<$L$6,Calc!AZ119,$L$6)","v":{"v":1666.6666666666665,"d":"1667"}},{"$f":"IF(Calc!BB119<0,0,IF(Calc!BB119<=$L$8,Calc!BB119,$L$8))","v":0},{"$f":"IF(Calc!BF119<$L$5,Calc!BF119,$L$5)","v":{"v":833.3333333333333,"d":"833"}},{"$f":"IF(Calc!BH119<0,0,IF(Calc!BH119<=$L$8,Calc!BH119,$L$8))","v":104},{"$f":"IF(Calc!BL119<$L$4,Calc!BL119,$L$4)","v":{"v":416.66666666666663,"d":"417"}},{"$f":"IF(Calc!BN119<0,0,IF(Calc!BN119<=$L$8,Calc!BN119,$L$8))","v":632},{"$f":"Calc!BJ119","v":{"v":1.1653619340659311,"d":"1.17"}},0,null,{"$f":"IF(I96=1,MATCH($K$61,I96:$I$114,0),C96)","v":0},0,{"$f":"IF(I96=1,MATCH($K$61,I96:$I$114,0),E96)","v":104},104,{"$f":"IF(I96=1,MATCH($K$61,I96:$I$114,0),G96)","v":632},632,null,{"v":1653.3333333333335,"d":"1653"},0,{"v":826.6666666666667,"d":"827"},33,{"v":413.33333333333337,"d":"413"},379]
[null,{"$f":"IF(Calc!AZ120<$L$6,Calc!AZ120,$L$6)","v":{"v":1666.6666666666665,"d":"1667"}},{"$f":"IF(Calc!BB120<0,0,IF(Calc!BB120<=$L$8,Calc!BB120,$L$8))","v":0},{"$f":"IF(Calc!BF120<$L$5,Calc!BF120,$L$5)","v":{"v":833.3333333333333,"d":"833"}},{"$f":"IF(Calc!BH120<0,0,IF(Calc!BH120<=$L$8,Calc!BH120,$L$8))","v":77},{"$f":"IF(Calc!BL120<$L$4,Calc!BL120,$L$4)","v":{"v":416.66666666666663,"d":"417"}},{"$f":"IF(Calc!BN120<0,0,IF(Calc!BN120<=$L$8,Calc!BN120,$L$8))","v":578},{"$f":"Calc!BJ120","v":{"v":1.1056889670329642,"d":"1.11"}},0,null,{"$f":"IF(I97=1,MATCH($K$61,I97:$I$114,0),C97)","v":0},0,{"$f":"IF(I97=1,MATCH($K$61,I97:$I$114,0),E97)","v":77},77,{"$f":"IF(I97=1,MATCH($K$61,I97:$I$114,0),G97)","v":578},578,null,{"v":1653.3333333333335,"d":"1653"},0,{"v":826.6666666666667,"d":"827"},25,{"v":413.33333333333337,"d":"413"},369]
[null,{"$f":"IF(Calc!AZ121<$L$6,Calc!AZ121,$L$6)","v":{"v":1666.6666666666665,"d":"1667"}},{"$f":"IF(Calc!BB121<0,0,IF(Calc!BB121<=$L$8,Calc!BB121,$L$8))","v":0},{"$f":"IF(Calc!BF121<$L$5,Calc!BF121,$L$5)","v":{"v":833.3333333333333,"d":"833"}},{"$f":"IF(Calc!BH121<0,0,IF(Calc!BH121<=$L$8,Calc!BH121,$L$8))","v":50},{"$f":"IF(Calc!BL121<$L$4,Calc!BL121,$L$4)","v":{"v":416.66666666666663,"d":"417"}},{"$f":"IF(Calc!BN121<0,0,IF(Calc!BN121<=$L$8,Calc!BN121,$L$8))","v":523},{"$f":"Calc!BJ121","v":{"v":1.0454196043956014,"d":"1.05"}},0,null,{"$f":"IF(I98=1,MATCH($K$61,I98:$I$114,0),C98)","v":0},0,{"$f":"IF(I98=1,MATCH($K$61,I98:$I$114,0),E98)","v":50},50,{"$f":"IF(I98=1,MATCH($K$61,I98:$I$114,0),G98)","v":523},523,null,{"v":1653.3333333333335,"d":"1653"},0,{"v":826.6666666666667,"d":"827"},17,{"v":413.33333333333337,"d":"413"},359]
[null,{"$f":"IF(Calc!AZ122<$L$6,Calc!AZ122,$L$6)","v":{"v":1666.6666666666665,"d":"1667"}},{"$f":"IF(Calc!BB122<0,0,IF(Calc!BB122<=$L$8,Calc!BB122,$L$8))","v":0},{"$f":"IF(Calc!BF122<$L$5,Calc!BF122,$L$5)","v":{"v":833.3333333333333,"d":"833"}},{"$f":"IF(Calc!BH122<0,0,IF(Calc!BH122<=$L$8,Calc!BH122,$L$8))","v":23},{"$f":"IF(Calc!BL122<$L$4,Calc!BL122,$L$4)","v":{"v":416.66666666666663,"d":"417"}},{"$f":"IF(Calc!BN122<0,0,IF(Calc!BN122<=$L$8,Calc!BN122,$L$8))","v":468},{"$f":"Calc!BJ122","v":{"v":0.9845538461538429,"d":"0.98"}},0,null,{"$f":"IF(I99=1,MATCH($K$61,I99:$I$114,0),C99)","v":0},0,{"$f":"IF(I99=1,MATCH($K$61,I99:$I$114,0),E99)","v":23},23,{"$f":"IF(I99=1,MATCH($K$61,I99:$I$114,0),G99)","v":468},468,null,{"v":1653.3333333333335,"d":"1653"},0,{"v":826.6666666666667,"d":"827"},8,{"v":413.33333333333337,"d":"413"},349]
[null,{"$f":"IF(Calc!AZ123<$L$6,Calc!AZ123,$L$6)","v":{"v":1666.6666666666665,"d":"1667"}},{"$f":"IF(Calc!BB123<0,0,IF(Calc!BB123<=$L$8,Calc!BB123,$L$8))","v":0},{"$f":"IF(Calc!BF123<$L$5,Calc!BF123,$L$5)","v":{"v":833.3333333333333,"d":"833"}},{"$f":"IF(Calc!BH123<0,0,IF(Calc!BH123<=$L$8,Calc!BH123,$L$8))","v":0},{"$f":"IF(Calc!BL123<$L$4,Calc!BL123,$L$4)","v":{"v":416.66666666666663,"d":"417"}},{"$f":"IF(Calc!BN123<0,0,IF(Calc!BN123<=$L$8,Calc!BN123,$L$8))","v":412},{"$f":"Calc!BJ123","v":{"v":0.9230916923076893,"d":"0.92"}},0,null,{"$f":"IF(I100=1,MATCH($K$61,I100:$I$114,0),C100)","v":0},0,{"$f":"IF(I100=1,MATCH($K$61,I100:$I$114,0),E100)","v":0},0,{"$f":"IF(I100=1,MATCH($K$61,I100:$I$114,0),G100)","v":412},412,null,{"v":1653.3333333333335,"d":"1653"},0,{"v":826.6666666666667,"d":"827"},0,{"v":413.33333333333337,"d":"413"},339]
[null,{"$f":"IF(Calc!AZ124<$L$6,Calc!AZ124,$L$6)","v":{"v":1666.6666666666665,"d":"1667"}},{"$f":"IF(Calc!BB124<0,0,IF(Calc!BB124<=$L$8,Calc!BB124,$L$8))","v":0},{"$f":"IF(Calc!BF124<$L$5,Calc!BF124,$L$5)","v":{"v":833.3333333333333,"d":"833"}},{"$f":"IF(Calc!BH124<0,0,IF(Calc!BH124<=$L$8,Calc!BH124,$L$8))","v":0},{"$f":"IF(Calc!BL124<$L$4,Calc!BL124,$L$4)","v":{"v":416.66666666666663,"d":"417"}},{"$f":"IF(Calc!BN124<0,0,IF(Calc!BN124<=$L$8,Calc!BN124,$L$8))","v":356},{"$f":"Calc!BJ124","v":{"v":0.8610331428571397,"d":"0.86"}},0,null,{"$f":"IF(I101=1,MATCH($K$61,I101:$I$114,0),C101)","v":0},0,{"$f":"IF(I101=1,MATCH($K$61,I101:$I$114,0),E101)","v":0},0,{"$f":"IF(I101=1,MATCH($K$61,I101:$I$114,0),G101)","v":356},356,null,{"v":1653.3333333333335,"d":"1653"},0,{"v":826.6666666666667,"d":"827"},0,{"v":413.33333333333337,"d":"413"},329]
[null,{"$f":"IF(Calc!AZ125<$L$6,Calc!AZ125,$L$6)","v":{"v":1666.6666666666665,"d":"1667"}},{"$f":"IF(Calc!BB125<0,0,IF(Calc!BB125<=$L$8,Calc!BB125,$L$8))","v":0},{"$f":"IF(Calc!BF125<$L$5,Calc!BF125,$L$5)","v":{"v":833.3333333333333,"d":"833"}},{"$f":"IF(Calc!BH125<0,0,IF(Calc!BH125<=$L$8,Calc!BH125,$L$8))","v":0},{"$f":"IF(Calc!BL125<$L$4,Calc!BL125,$L$4)","v":{"v":416.66666666666663,"d":"417"}},{"$f":"IF(Calc!BN125<0,0,IF(Calc!BN125<=$L$8,Calc!BN125,$L$8))","v":300},{"$f":"Calc!BJ125","v":{"v":0.7983781978021947,"d":"0.80"}},0,null,{"$f":"IF(I102=1,MATCH($K$61,I102:$I$114,0),C102)","v":0},0,{"$f":"IF(I102=1,MATCH($K$61,I102:$I$114,0),E102)","v":0},0,{"$f":"IF(I102=1,MATCH($K$61,I102:$I$114,0),G102)","v":300},300,null,{"v":1653.3333333333335,"d":"1653"},0,{"v":826.6666666666667,"d":"827"},0,{"v":413.33333333333337,"d":"413"},319]
[null,{"$f":"IF(Calc!AZ126<$L$6,Calc!AZ126,$L$6)","v":{"v":1666.6666666666665,"d":"1667"}},{"$f":"IF(Calc!BB126<0,0,IF(Calc!BB126<=$L$8,Calc!BB126,$L$8))","v":0},{"$f":"IF(Calc!BF126<$L$5,Calc!BF126,$L$5)","v":{"v":833.3333333333333,"d":"833"}},{"$f":"IF(Calc!BH126<0,0,IF(Calc!BH126<=$L$8,Calc!BH126,$L$8))","v":0},{"$f":"IF(Calc!BL126<$L$4,Calc!BL126,$L$4)","v":{"v":416.66666666666663,"d":"417"}},{"$f":"IF(Calc!BN126<0,0,IF(Calc!BN126<=$L$8,Calc!BN126,$L$8))","v":242},{"$f":"Calc!BJ126","v":{"v":0.7351268571428539,"d":"0.74"}},0,null,{"$f":"IF(I103=1,MATCH($K$61,I103:$I$114,0),C103)","v":0},0,{"$f":"IF(I103=1,MATCH($K$61,I103:$I$114,0),E103)","v":0},0,{"$f":"IF(I103=1,MATCH($K$61,I103:$I$114,0),G103)","v":242},242,null,{"v":1653.3333333333335,"d":"1653"},0,{"v":826.6666666666667,"d":"827"},0,{"v":413.33333333333337,"d":"413"},309]
[null,{"$f":"IF(Calc!AZ127<$L$6,Calc!AZ127,$L$6)","v":{"v":1666.6666666666665,"d":"1667"}},{"$f":"IF(Calc!BB127<0,0,IF(Calc!BB127<=$L$8,Calc!BB127,$L$8))","v":0},{"$f":"IF(Calc!BF127<$L$5,Calc!BF127,$L$5)","v":{"v":833.3333333333333,"d":"833"}},{"$f":"IF(Calc!BH127<0,0,IF(Calc!BH127<=$L$8,Calc!BH127,$L$8))","v":0},{"$f":"IF(Calc!BL127<$L$4,Calc!BL127,$L$4)","v":{"v":416.66666666666663,"d":"417"}},{"$f":"IF(Calc!BN127<0,0,IF(Calc!BN127<=$L$8,Calc!BN127,$L$8))","v":185},{"$f":"Calc!BJ127","v":{"v":0.6712791208791177,"d":"0.67"}},0,null,{"$f":"IF(I104=1,MATCH($K$61,I104:$I$114,0),C104)","v":0},0,{"$f":"IF(I104=1,MATCH($K$61,I104:$I$114,0),E104)","v":0},0,{"$f":"IF(I104=1,MATCH($K$61,I104:$I$114,0),G104)","v":185},185,null,{"v":1653.3333333333335,"d":"1653"},0,{"v":826.6666666666667,"d":"827"},0,{"v":413.33333333333337,"d":"413"},299]
[null,{"$f":"IF(Calc!AZ128<$L$6,Calc!AZ128,$L$6)","v":{"v":1666.6666666666665,"d":"1667"}},{"$f":"IF(Calc!BB128<0,0,IF(Calc!BB128<=$L$8,Calc!BB128,$L$8))","v":0},{"$f":"IF(Calc!BF128<$L$5,Calc!BF128,$L$5)","v":{"v":833.3333333333333,"d":"833"}},{"$f":"IF(Calc!BH128<0,0,IF(Calc!BH128<=$L$8,Calc!BH128,$L$8))","v":0},{"$f":"IF(Calc!BL128<$L$4,Calc!BL128,$L$4)","v":{"v":416.66666666666663,"d":"417"}},{"$f":"IF(Calc!BN128<0,0,IF(Calc!BN128<=$L$8,Calc!BN128,$L$8))","v":126},{"$f":"Calc!BJ128","v":{"v":0.6068349890109856,"d":"0.61"}},0,null,{"$f":"IF(I105=1,MATCH($K$61,I105:$I$114,0),C105)","v":0},0,{"$f":"IF(I105=1,MATCH($K$61,I105:$I$114,0),E105)","v":0},0,{"$f":"IF(I105=1,MATCH($K$61,I105:$I$114,0),G105)","v":126},126,null,{"v":1653.3333333333335,"d":"1653"},0,{"v":826.6666666666667,"d":"827"},0,{"v":413.33333333333337,"d":"413"},289]
[null,{"$f":"IF(Calc!AZ129<$L$6,Calc!AZ129,$L$6)","v":{"v":1666.6666666666665,"d":"1667"}},{"$f":"IF(Calc!BB129<0,0,IF(Calc!BB129<=$L$8,Calc!BB129,$L$8))","v":0},{"$f":"IF(Calc!BF129<$L$5,Calc!BF129,$L$5)","v":{"v":833.3333333333333,"d":"833"}},{"$f":"IF(Calc!BH129<0,0,IF(Calc!BH129<=$L$8,Calc!BH129,$L$8))","v":0},{"$f":"IF(Calc!BL129<$L$4,Calc!BL129,$L$4)","v":{"v":416.66666666666663,"d":"417"}},{"$f":"IF(Calc!BN129<0,0,IF(Calc!BN129<=$L$8,Calc!BN129,$L$8))","v":67},{"$f":"Calc!BJ129","v":{"v":0.5417944615384582,"d":"0.54"}},0,null,{"$f":"IF(I106=1,MATCH($K$61,I106:$I$114,0),C106)","v":0},0,{"$f":"IF(I106=1,MATCH($K$61,I106:$I$114,0),E106)","v":0},0,{"$f":"IF(I106=1,MATCH($K$61,I106:$I$114,0),G106)","v":67},67,null,{"v":1653.3333333333335,"d":"1653"},0,{"v":826.6666666666667,"d":"827"},0,{"v":413.33333333333337,"d":"413"},279]
[null,{"$f":"IF(Calc!AZ130<$L$6,Calc!AZ130,$L$6)","v":{"v":1666.6666666666665,"d":"1667"}},{"$f":"IF(Calc!BB130<0,0,IF(Calc!BB130<=$L$8,Calc!BB130,$L$8))","v":0},{"$f":"IF(Calc!BF130<$L$5,Calc!BF130,$L$5)","v":{"v":833.3333333333333,"d":"833"}},{"$f":"IF(Calc!BH130<0,0,IF(Calc!BH130<=$L$8,Calc!BH130,$L$8))","v":0},{"$f":"IF(Calc!BL130<$L$4,Calc!BL130,$L$4)","v":{"v":416.66666666666663,"d":"417"}},{"$f":"IF(Calc!BN130<0,0,IF(Calc!BN130<=$L$8,Calc!BN130,$L$8))","v":8},{"$f":"Calc!BJ130","v":{"v":0.4761575384615351,"d":"0.48"}},0,null,{"$f":"IF(I107=1,MATCH($K$61,I107:$I$114,0),C107)","v":0},0,{"$f":"IF(I107=1,MATCH($K$61,I107:$I$114,0),E107)","v":0},0,{"$f":"IF(I107=1,MATCH($K$61,I107:$I$114,0),G107)","v":8},8,null,{"v":1653.3333333333335,"d":"1653"},0,{"v":826.6666666666667,"d":"827"},0,{"v":413.33333333333337,"d":"413"},270]
[null,{"$f":"IF(Calc!AZ131<$L$6,Calc!AZ131,$L$6)","v":{"v":1666.6666666666665,"d":"1667"}},{"$f":"IF(Calc!BB131<0,0,IF(Calc!BB131<=$L$8,Calc!BB131,$L$8))","v":0},{"$f":"IF(Calc!BF131<$L$5,Calc!BF131,$L$5)","v":{"v":833.3333333333333,"d":"833"}},{"$f":"IF(Calc!BH131<0,0,IF(Calc!BH131<=$L$8,Calc!BH131,$L$8))","v":0},{"$f":"IF(Calc!BL131<$L$4,Calc!BL131,$L$4)","v":{"v":416.66666666666663,"d":"417"}},{"$f":"IF(Calc!BN131<0,0,IF(Calc!BN131<=$L$8,Calc!BN131,$L$8))","v":0},{"$f":"Calc!BJ131","v":{"v":0.4099242197802164,"d":"0.41"}},0,null,{"$f":"IF(I108=1,MATCH($K$61,I108:$I$114,0),C108)","v":0},0,{"$f":"IF(I108=1,MATCH($K$61,I108:$I$114,0),E108)","v":0},0,{"$f":"IF(I108=1,MATCH($K$61,I108:$I$114,0),G108)","v":0},0,null,{"v":1653.3333333333335,"d":"1653"},0,{"v":826.6666666666667,"d":"827"},0,{"v":413.33333333333337,"d":"413"},260]
[null,{"$f":"IF(Calc!AZ132<$L$6,Calc!AZ132,$L$6)","v":{"v":1666.6666666666665,"d":"1667"}},{"$f":"IF(Calc!BB132<0,0,IF(Calc!BB132<=$L$8,Calc!BB132,$L$8))","v":0},{"$f":"IF(Calc!BF132<$L$5,Calc!BF132,$L$5)","v":{"v":833.3333333333333,"d":"833"}},{"$f":"IF(Calc!BH132<0,0,IF(Calc!BH132<=$L$8,Calc!BH132,$L$8))","v":0},{"$f":"IF(Calc!BL132<$L$4,Calc!BL132,$L$4)","v":{"v":416.66666666666663,"d":"417"}},{"$f":"IF(Calc!BN132<0,0,IF(Calc!BN132<=$L$8,Calc!BN132,$L$8))","v":0},{"$f":"Calc!BJ132","v":{"v":0.3430945054945021,"d":"0.34"}},0,null,{"$f":"IF(I109=1,MATCH($K$61,I109:$I$114,0),C109)","v":0},0,{"$f":"IF(I109=1,MATCH($K$61,I109:$I$114,0),E109)","v":0},0,{"$f":"IF(I109=1,MATCH($K$61,I109:$I$114,0),G109)","v":0},0,null,{"v":1653.3333333333335,"d":"1653"},0,{"v":826.6666666666667,"d":"827"},0,{"v":413.33333333333337,"d":"413"},250]
[null,{"$f":"IF(Calc!AZ133<$L$6,Calc!AZ133,$L$6)","v":{"v":1666.6666666666665,"d":"1667"}},{"$f":"IF(Calc!BB133<0,0,IF(Calc!BB133<=$L$8,Calc!BB133,$L$8))","v":0},{"$f":"IF(Calc!BF133<$L$5,Calc!BF133,$L$5)","v":{"v":833.3333333333333,"d":"833"}},{"$f":"IF(Calc!BH133<0,0,IF(Calc!BH133<=$L$8,Calc!BH133,$L$8))","v":0},{"$f":"IF(Calc!BL133<$L$4,Calc!BL133,$L$4)","v":{"v":416.66666666666663,"d":"417"}},{"$f":"IF(Calc!BN133<0,0,IF(Calc!BN133<=$L$8,Calc!BN133,$L$8))","v":0},{"$f":"Calc!BJ133","v":{"v":0.2756683956043922,"d":"0.28"}},0,null,{"$f":"IF(I110=1,MATCH($K$61,I110:$I$114,0),C110)","v":0},0,{"$f":"IF(I110=1,MATCH($K$61,I110:$I$114,0),E110)","v":0},0,{"$f":"IF(I110=1,MATCH($K$61,I110:$I$114,0),G110)","v":0},0,null,{"v":1653.3333333333335,"d":"1653"},0,{"v":826.6666666666667,"d":"827"},0,{"v":413.33333333333337,"d":"413"},240]
[null,{"$f":"IF(Calc!AZ134<$L$6,Calc!AZ134,$L$6)","v":{"v":1666.6666666666665,"d":"1667"}},{"$f":"IF(Calc!BB134<0,0,IF(Calc!BB134<=$L$8,Calc!BB134,$L$8))","v":0},{"$f":"IF(Calc!BF134<$L$5,Calc!BF134,$L$5)","v":{"v":833.3333333333333,"d":"833"}},{"$f":"IF(Calc!BH134<0,0,IF(Calc!BH134<=$L$8,Calc!BH134,$L$8))","v":0},{"$f":"IF(Calc!BL134<$L$4,Calc!BL134,$L$4)","v":{"v":416.66666666666663,"d":"417"}},{"$f":"IF(Calc!BN134<0,0,IF(Calc!BN134<=$L$8,Calc!BN134,$L$8))","v":0},{"$f":"Calc!BJ134","v":{"v":0.20764589010988635,"d":"0.21"}},0,null,{"$f":"IF(I111=1,MATCH($K$61,I111:$I$114,0),C111)","v":0},0,{"$f":"IF(I111=1,MATCH($K$61,I111:$I$114,0),E111)","v":0},0,{"$f":"IF(I111=1,MATCH($K$61,I111:$I$114,0),G111)","v":0},0,null,{"v":1653.3333333333335,"d":"1653"},0,{"v":826.6666666666667,"d":"827"},0,{"v":413.33333333333337,"d":"413"},230]
[null,{"$f":"IF(Calc!AZ135<$L$6,Calc!AZ135,$L$6)","v":{"v":1666.6666666666665,"d":"1667"}},{"$f":"IF(Calc!BB135<0,0,IF(Calc!BB135<=$L$8,Calc!BB135,$L$8))","v":0},{"$f":"IF(Calc!BF135<$L$5,Calc!BF135,$L$5)","v":{"v":833.3333333333333,"d":"833"}},{"$f":"IF(Calc!BH135<0,0,IF(Calc!BH135<=$L$8,Calc!BH135,$L$8))","v":0},{"$f":"IF(Calc!BL135<$L$4,Calc!BL135,$L$4)","v":{"v":416.66666666666663,"d":"417"}},{"$f":"IF(Calc!BN135<0,0,IF(Calc!BN135<=$L$8,Calc!BN135,$L$8))","v":0},{"$f":"Calc!BJ135","v":{"v":0.13902698901098556,"d":"0.14"}},0,null,{"$f":"IF(I112=1,MATCH($K$61,I112:$I$114,0),C112)","v":0},0,{"$f":"IF(I112=1,MATCH($K$61,I112:$I$114,0),E112)","v":0},0,{"$f":"IF(I112=1,MATCH($K$61,I112:$I$114,0),G112)","v":0},0,null,{"v":1653.3333333333335,"d":"1653"},0,{"v":826.6666666666667,"d":"827"},0,{"v":413.33333333333337,"d":"413"},220]
[null,{"$f":"IF(Calc!AZ136<$L$6,Calc!AZ136,$L$6)","v":{"v":1666.6666666666665,"d":"1667"}},{"$f":"IF(Calc!BB136<0,0,IF(Calc!BB136<=$L$8,Calc!BB136,$L$8))","v":0},{"$f":"IF(Calc!BF136<$L$5,Calc!BF136,$L$5)","v":{"v":833.3333333333333,"d":"833"}},{"$f":"IF(Calc!BH136<0,0,IF(Calc!BH136<=$L$8,Calc!BH136,$L$8))","v":0},{"$f":"IF(Calc!BL136<$L$4,Calc!BL136,$L$4)","v":{"v":416.66666666666663,"d":"417"}},{"$f":"IF(Calc!BN136<0,0,IF(Calc!BN136<=$L$8,Calc!BN136,$L$8))","v":0},{"$f":"Calc!BJ136","v":{"v":0.06981169230768883,"d":"0.07"}},0,null,{"$f":"IF(I113=1,MATCH($K$61,I113:$I$114,0),C113)","v":0},0,{"$f":"IF(I113=1,MATCH($K$61,I113:$I$114,0),E113)","v":0},0,{"$f":"IF(I113=1,MATCH($K$61,I113:$I$114,0),G113)","v":0},0,null,{"v":1653.3333333333335,"d":"1653"},0,{"v":826.6666666666667,"d":"827"},0,{"v":413.33333333333337,"d":"413"},211]
[null,{"$f":"IF(Calc!AZ137<$L$6,Calc!AZ137,$L$6)","v":{"v":1666.6666666666665,"d":"1667"}},{"$f":"IF(Calc!BB137<0,0,IF(Calc!BB137<=$L$8,Calc!BB137,$L$8))","v":0},{"$f":"IF(Calc!BF137<$L$5,Calc!BF137,$L$5)","v":{"v":833.3333333333333,"d":"833"}},{"$f":"IF(Calc!BH137<0,0,IF(Calc!BH137<=$L$8,Calc!BH137,$L$8))","v":0},{"$f":"IF(Calc!BL137<$L$4,Calc!BL137,$L$4)","v":{"v":416.66666666666663,"d":"417"}},{"$f":"IF(Calc!BN137<0,0,IF(Calc!BN137<=$L$8,Calc!BN137,$L$8))","v":0},{"$f":"Calc!BJ137","v":{"v":0,"d":"0.00"}},0,null,{"$f":"IF(I114=1,MATCH($K$61,I114:$I$114,0),C114)","v":0},0,{"$f":"IF(I114=1,MATCH($K$61,I114:$I$114,0),E114)","v":0},0,{"$f":"IF(I114=1,MATCH($K$61,I114:$I$114,0),G114)","v":0},0,null,{"v":1653.3333333333335,"d":"1653"},0,{"v":826.6666666666667,"d":"827"},0,{"v":413.33333333333337,"d":"413"},0]
[]
[{"$f":"B2","v":"AKM22E"},{"$f":"D2","v":"(240 VAC)"}]
[null,"mm/s","Output",null,"mm/s","Output",null,"mm/s","Output"]
[null,0,{"$f":"C102","v":0},null,0,{"$f":"E102","v":0},null,0,{"$f":"G102","v":300}]
[null,{"$f":"B102","v":{"v":1666.6666666666665,"d":"1667"}},{"$f":"C118","v":0},null,{"$f":"D102","v":{"v":833.3333333333333,"d":"833"}},{"$f":"F118","v":0},null,{"$f":"F102","v":{"v":416.66666666666663,"d":"417"}},{"$f":"I118","v":300}]
[null,0,0,null,0,0,null,0,0]

{"sheet":"PC32 Graphs","index":10,"n_rows":121,"n_cols":18,"rows_kept":121,"hidden":true,"merged":[[57,11,57,13]]}
[null,"Current Motor",null,"Voltage"]
[null,{"$f":"Calc!$A$2","v":"AKM22E"},null,{"$f":"IF(Calc!$C$2=160,\"(120 VAC)\",IF(Calc!$C$2=320,\"(240 VAC)\",\"(400 VAC)\"))","v":"(240 VAC)"},{"$nulls":4},"Max speed","mm/s",null,null,"Motor to be used"]
[null,"PC32B10",null,"PC32B04",{"$nulls":4},"PC32…B04",400,null,null,"AKM24F"]
[null,"mm/s","Fx (N)","mm/s","Fx (N)",{"$nulls":3},"PC32…B10",1000,null,null,"AKM33E"]
[null,{"$f":"IF(Calc!U143<$J$4,Calc!U143,\"\")","v":0},{"$f":"IF(Calc!AB143<0,0,IF(Calc!AB143<=$J$6,Calc!AB143,$J$6))","v":303},{"$f":"IF(Calc!AE86<J3,Calc!AE143,\"\")","v":0},{"$f":"IF(Calc!AL143<0,0,IF(Calc!AL143<=$J$6,Calc!AL143,$J$6))","v":895},{"$nulls":7},"AKM24D?","400 VAC"]
[null,{"$f":"IF(Calc!U144<$J$4,Calc!U144,IF(B5>$J$4,B5,B5))","v":{"v":26.666666666666664,"d":"27"}},{"$f":"IF(Calc!AB144<0,0,IF(Calc!AB144<=$J$6,Calc!AB144,$J$6))","v":296},{"$f":"IF(Calc!AE144<$J$3,Calc!AE144,IF(D5>$J$3,D5,D5))","v":{"v":10.666666666666666,"d":"11"}},{"$f":"IF(Calc!AL144<0,0,IF(Calc!AL144<=$J$6,Calc!AL144,$J$6))","v":887},{"$nulls":3},"Max Load",3200,"N"]
[null,{"$f":"IF(Calc!U145<$J$4,Calc!U145,IF(B6>$J$4,B6,B6))","v":{"v":53.33333333333333,"d":"53"}},{"$f":"IF(Calc!AB145<0,0,IF(Calc!AB145<=$J$6,Calc!AB145,$J$6))","v":290},{"$f":"IF(Calc!AE145<$J$3,Calc!AE145,IF(D6>$J$3,D6,D6))","v":{"v":21.333333333333332,"d":"21"}},{"$f":"IF(Calc!AL145<0,0,IF(Calc!AL145<=$J$6,Calc!AL145,$J$6))","v":879}]
[null,{"$f":"IF(Calc!U146<$J$4,Calc!U146,IF(B7>$J$4,B7,B7))","v":80},{"$f":"IF(Calc!AB146<0,0,IF(Calc!AB146<=$J$6,Calc!AB146,$J$6))","v":284},{"$f":"IF(Calc!AE146<$J$3,Calc!AE146,IF(D7>$J$3,D7,D7))","v":32},{"$f":"IF(Calc!AL146<0,0,IF(Calc!AL146<=$J$6,Calc!AL146,$J$6))","v":871}]
[null,{"$f":"IF(Calc!U147<$J$4,Calc!U147,IF(B8>$J$4,B8,B8))","v":{"v":106.66666666666666,"d":"107"}},{"$f":"IF(Calc!AB147<0,0,IF(Calc!AB147<=$J$6,Calc!AB147,$J$6))","v":278},{"$f":"IF(Calc!AE147<$J$3,Calc!AE147,IF(D8>$J$3,D8,D8))","v":{"v":42.666666666666664,"d":"43"}},{"$f":"IF(Calc!AL147<0,0,IF(Calc!AL147<=$J$6,Calc!AL147,$J$6))","v":862}]
[null,{"$f":"IF(Calc!U148<$J$4,Calc!U148,IF(B9>$J$4,B9,B9))","v":{"v":133.33333333333334,"d":"133"}},{"$f":"IF(Calc!AB148<0,0,IF(Calc!AB148<=$J$6,Calc!AB148,$J$6))","v":271},{"$f":"IF(Calc!AE148<$J$3,Calc!AE148,IF(D9>$J$3,D9,D9))","v":{"v":53.333333333333336,"d":"53"}},{"$f":"IF(Calc!AL148<0,0,IF(Calc!AL148<=$J$6,Calc!AL148,$J$6))","v":854}]
[null,{"$f":"IF(Calc!U149<$J$4,Calc!U149,IF(B10>$J$4,B10,B10))","v":160},{"$f":"IF(Calc!AB149<0,0,IF(Calc!AB149<=$J$6,Calc!AB149,$J$6))","v":265},{"$f":"IF(Calc!AE149<$J$3,Calc!AE149,IF(D10>$J$3,D10,D10))","v":64},{"$f":"IF(Calc!AL149<0,0,IF(Calc!AL149<=$J$6,Calc!AL149,$J$6))","v":846}]
[null,{"$f":"IF(Calc!U150<$J$4,Calc!U150,IF(B11>$J$4,B11,B11))","v":{"v":186.66666666666669,"d":"187"}},{"$f":"IF(Calc!AB150<0,0,IF(Calc!AB150<=$J$6,Calc!AB150,$J$6))","v":259},{"$f":"IF(Calc!AE150<$J$3,Calc!AE150,IF(D11>$J$3,D11,D11))","v":{"v":74.66666666666667,"d":"75"}},{"$f":"IF(Calc!AL150<0,0,IF(Calc!AL150<=$J$6,Calc!AL150,$J$6))","v":838}]
[null,{"$f":"IF(Calc!U151<$J$4,Calc!U151,IF(B12>$J$4,B12,B12))","v":{"v":213.33333333333331,"d":"213"}},{"$f":"IF(Calc!AB151<0,0,IF(Calc!AB151<=$J$6,Calc!AB151,$J$6))","v":253},{"$f":"IF(Calc!AE151<$J$3,Calc!AE151,IF(D12>$J$3,D12,D12))","v":{"v":85.33333333333333,"d":"85"}},{"$f":"IF(Calc!AL151<0,0,IF(Calc!AL151<=$J$6,Calc!AL151,$J$6))","v":830}]
[null,{"$f":"IF(Calc!U152<$J$4,Calc!U152,IF(B13>$J$4,B13,B13))","v":240},{"$f":"IF(Calc!AB152<0,0,IF(Calc!AB152<=$J$6,Calc!AB152,$J$6))","v":247},{"$f":"IF(Calc!AE152<$J$3,Calc!AE152,IF(D13>$J$3,D13,D13))","v":96},{"$f":"IF(Calc!AL152<0,0,IF(Calc!AL152<=$J$6,Calc!AL152,$J$6))","v":823}]
[null,{"$f":"IF(Calc!U153<$J$4,Calc!U153,IF(B14>$J$4,B14,B14))","v":{"v":266.6666666666667,"d":"267"}},{"$f":"IF(Calc!AB153<0,0,IF(Calc!AB153<=$J$6,Calc!AB153,$J$6))","v":241},{"$f":"IF(Calc!AE153<$J$3,Calc!AE153,IF(D14>$J$3,D14,D14))","v":{"v":106.66666666666667,"d":"107"}},{"$f":"IF(Calc!AL153<0,0,IF(Calc!AL153<=$J$6,Calc!AL153,$J$6))","v":815}]
[null,{"$f":"IF(Calc!U154<$J$4,Calc!U154,IF(B15>$J$4,B15,B15))","v":{"v":293.3333333333333,"d":"293"}},{"$f":"IF(Calc!AB154<0,0,IF(Calc!AB154<=$J$6,Calc!AB154,$J$6))","v":235},{"$f":"IF(Calc!AE154<$J$3,Calc!AE154,IF(D15>$J$3,D15,D15))","v":{"v":117.33333333333333,"d":"117"}},{"$f":"IF(Calc!AL154<0,0,IF(Calc!AL154<=$J$6,Calc!AL154,$J$6))","v":808}]
[null,{"$f":"IF(Calc!U155<$J$4,Calc!U155,IF(B16>$J$4,B16,B16))","v":320},{"$f":"IF(Calc!AB155<0,0,IF(Calc!AB155<=$J$6,Calc!AB155,$J$6))","v":229},{"$f":"IF(Calc!AE155<$J$3,Calc!AE155,IF(D16>$J$3,D16,D16))","v":128},{"$f":"IF(Calc!AL155<0,0,IF(Calc!AL155<=$J$6,Calc!AL155,$J$6))","v":800}]
[null,{"$f":"IF(Calc!U156<$J$4,Calc!U156,IF(B17>$J$4,B17,B17))","v":{"v":346.66666666666663,"d":"347"}},{"$f":"IF(Calc!AB156<0,0,IF(Calc!AB156<=$J$6,Calc!AB156,$J$6))","v":223},{"$f":"IF(Calc!AE156<$J$3,Calc!AE156,IF(D17>$J$3,D17,D17))","v":{"v":138.66666666666666,"d":"139"}},{"$f":"IF(Calc!AL156<0,0,IF(Calc!AL156<=$J$6,Calc!AL156,$J$6))","v":793}]
[null,{"$f":"IF(Calc!U157<$J$4,Calc!U157,IF(B18>$J$4,B18,B18))","v":{"v":373.33333333333337,"d":"373"}},{"$f":"IF(Calc!AB157<0,0,IF(Calc!AB157<=$J$6,Calc!AB157,$J$6))","v":217},{"$f":"IF(Calc!AE157<$J$3,Calc!AE157,IF(D18>$J$3,D18,D18))","v":{"v":149.33333333333334,"d":"149"}},{"$f":"IF(Calc!AL157<0,0,IF(Calc!AL157<=$J$6,Calc!AL157,$J$6))","v":785}]
[null,{"$f":"IF(Calc!U158<$J$4,Calc!U158,IF(B19>$J$4,B19,B19))","v":400},{"$f":"IF(Calc!AB158<0,0,IF(Calc!AB158<=$J$6,Calc!AB158,$J$6))","v":211},{"$f":"IF(Calc!AE158<$J$3,Calc!AE158,IF(D19>$J$3,D19,D19))","v":160},{"$f":"IF(Calc!AL158<0,0,IF(Calc!AL158<=$J$6,Calc!AL158,$J$6))","v":777}]
[null,{"$f":"IF(Calc!U159<$J$4,Calc!U159,IF(B20>$J$4,B20,B20))","v":{"v":426.66666666666663,"d":"427"}},{"$f":"IF(Calc!AB159<0,0,IF(Calc!AB159<=$J$6,Calc!AB159,$J$6))","v":205},{"$f":"IF(Calc!AE159<$J$3,Calc!AE159,IF(D20>$J$3,D20,D20))","v":{"v":170.66666666666666,"d":"171"}},{"$f":"IF(Calc!AL159<0,0,IF(Calc!AL159<=$J$6,Calc!AL159,$J$6))","v":770}]
[null,{"$f":"IF(Calc!U160<$J$4,Calc!U160,IF(B21>$J$4,B21,B21))","v":{"v":453.33333333333337,"d":"453"}},{"$f":"IF(Calc!AB160<0,0,IF(Calc!AB160<=$J$6,Calc!AB160,$J$6))","v":199},{"$f":"IF(Calc!AE160<$J$3,Calc!AE160,IF(D21>$J$3,D21,D21))","v":{"v":181.33333333333334,"d":"181"}},{"$f":"IF(Calc!AL160<0,0,IF(Calc!AL160<=$J$6,Calc!AL160,$J$6))","v":762}]
[null,{"$f":"IF(Calc!U161<$J$4,Calc!U161,IF(B22>$J$4,B22,B22))","v":480},{"$f":"IF(Calc!AB161<0,0,IF(Calc!AB161<=$J$6,Calc!AB161,$J$6))","v":193},{"$f":"IF(Calc!AE161<$J$3,Calc!AE161,IF(D22>$J$3,D22,D22))","v":192},{"$f":"IF(Calc!AL161<0,0,IF(Calc!AL161<=$J$6,Calc!AL161,$J$6))","v":755}]
[null,{"$f":"IF(Calc!U162<$J$4,Calc!U162,IF(B23>$J$4,B23,B23))","v":{"v":506.66666666666663,"d":"507"}},{"$f":"IF(Calc!AB162<0,0,IF(Calc!AB162<=$J$6,Calc!AB162,$J$6))","v":187},{"$f":"IF(Calc!AE162<$J$3,Calc!AE162,IF(D23>$J$3,D23,D23))","v":{"v":202.66666666666666,"d":"203"}},{"$f":"IF(Calc!AL162<0,0,IF(Calc!AL162<=$J$6,Calc!AL162,$J$6))","v":747}]
[null,{"$f":"IF(Calc!U163<$J$4,Calc!U163,IF(B24>$J$4,B24,B24))","v":{"v":533.3333333333334,"d":"533"}},{"$f":"IF(Calc!AB163<0,0,IF(Calc!AB163<=$J$6,Calc!AB163,$J$6))","v":181},{"$f":"IF(Calc!AE163<$J$3,Calc!AE163,IF(D24>$J$3,D24,D24))","v":{"v":213.33333333333334,"d":"213"}},{"$f":"IF(Calc!AL163<0,0,IF(Calc!AL163<=$J$6,Calc!AL163,$J$6))","v":739}]
[null,{"$f":"IF(Calc!U164<$J$4,Calc!U164,IF(B25>$J$4,B25,B25))","v":560},{"$f":"IF(Calc!AB164<0,0,IF(Calc!AB164<=$J$6,Calc!AB164,$J$6))","v":175},{"$f":"IF(Calc!AE164<$J$3,Calc!AE164,IF(D25>$J$3,D25,D25))","v":224},{"$f":"IF(Calc!AL164<0,0,IF(Calc!AL164<=$J$6,Calc!AL164,$J$6))","v":732}]
[null,{"$f":"IF(Calc!U165<$J$4,Calc!U165,IF(B26>$J$4,B26,B26))","v":{"v":586.6666666666666,"d":"587"}},{"$f":"IF(Calc!AB165<0,0,IF(Calc!AB165<=$J$6,Calc!AB165,$J$6))","v":169},{"$f":"IF(Calc!AE165<$J$3,Calc!AE165,IF(D26>$J$3,D26,D26))","v":{"v":234.66666666666666,"d":"235"}},{"$f":"IF(Calc!AL165<0,0,IF(Calc!AL165<=$J$6,Calc!AL165,$J$6))","v":723}]
[null,{"$f":"IF(Calc!U166<$J$4,Calc!U166,IF(B27>$J$4,B27,B27))","v":{"v":613.3333333333334,"d":"613"}},{"$f":"IF(Calc!AB166<0,0,IF(Calc!AB166<=$J$6,Calc!AB166,$J$6))","v":162},{"$f":"IF(Calc!AE166<$J$3,Calc!AE166,IF(D27>$J$3,D27,D27))","v":{"v":245.33333333333334,"d":"245"}},{"$f":"IF(Calc!AL166<0,0,IF(Calc!AL166<=$J$6,Calc!AL166,$J$6))","v":714}]
[null,{"$f":"IF(Calc!U167<$J$4,Calc!U167,IF(B28>$J$4,B28,B28))","v":640},{"$f":"IF(Calc!AB167<0,0,IF(Calc!AB167<=$J$6,Calc!AB167,$J$6))","v":155},{"$f":"IF(Calc!AE167<$J$3,Calc!AE167,IF(D28>$J$3,D28,D28))","v":256},{"$f":"IF(Calc!AL167<0,0,IF(Calc!AL167<=$J$6,Calc!AL167,$J$6))","v":704}]
[null,{"$f":"IF(Calc!U168<$J$4,Calc!U168,IF(B29>$J$4,B29,B29))","v":{"v":666.6666666666667,"d":"667"}},{"$f":"IF(Calc!AB168<0,0,IF(Calc!AB168<=$J$6,Calc!AB168,$J$6))","v":149},{"$f":"IF(Calc!AE168<$J$3,Calc!AE168,IF(D29>$J$3,D29,D29))","v":{"v":266.6666666666667,"d":"267"}},{"$f":"IF(Calc!AL168<0,0,IF(Calc!AL168<=$J$6,Calc!AL168,$J$6))","v":695}]
[null,{"$f":"IF(Calc!U169<$J$4,Calc!U169,IF(B30>$J$4,B30,B30))","v":{"v":693.3333333333333,"d":"693"}},{"$f":"IF(Calc!AB169<0,0,IF(Calc!AB169<=$J$6,Calc!AB169,$J$6))","v":142},{"$f":"IF(Calc!AE169<$J$3,Calc!AE169,IF(D30>$J$3,D30,D30))","v":{"v":277.3333333333333,"d":"277"}},{"$f":"IF(Calc!AL169<0,0,IF(Calc!AL169<=$J$6,Calc!AL169,$J$6))","v":686}]
[null,{"$f":"IF(Calc!U170<$J$4,Calc!U170,IF(B31>$J$4,B31,B31))","v":720},{"$f":"IF(Calc!AB170<0,0,IF(Calc!AB170<=$J$6,Calc!AB170,$J$6))","v":136},{"$f":"IF(Calc!AE170<$J$3,Calc!AE170,IF(D31>$J$3,D31,D31))","v":288},{"$f":"IF(Calc!AL170<0,0,IF(Calc!AL170<=$J$6,Calc!AL170,$J$6))","v":677}]
[null,{"$f":"IF(Calc!U171<$J$4,Calc!U171,IF(B32>$J$4,B32,B32))","v":{"v":746.6666666666667,"d":"747"}},{"$f":"IF(Calc!AB171<0,0,IF(Calc!AB171<=$J$6,Calc!AB171,$J$6))","v":129},{"$f":"IF(Calc!AE171<$J$3,Calc!AE171,IF(D32>$J$3,D32,D32))","v":{"v":298.6666666666667,"d":"299"}},{"$f":"IF(Calc!AL171<0,0,IF(Calc!AL171<=$J$6,Calc!AL171,$J$6))","v":668}]
[null,{"$f":"IF(Calc!U172<$J$4,Calc!U172,IF(B33>$J$4,B33,B33))","v":{"v":773.3333333333333,"d":"773"}},{"$f":"IF(Calc!AB172<0,0,IF(Calc!AB172<=$J$6,Calc!AB172,$J$6))","v":122},{"$f":"IF(Calc!AE172<$J$3,Calc!AE172,IF(D33>$J$3,D33,D33))","v":{"v":309.3333333333333,"d":"309"}},{"$f":"IF(Calc!AL172<0,0,IF(Calc!AL172<=$J$6,Calc!AL172,$J$6))","v":659}]
[null,{"$f":"IF(Calc!U173<$J$4,Calc!U173,IF(B34>$J$4,B34,B34))","v":800},{"$f":"IF(Calc!AB173<0,0,IF(Calc!AB173<=$J$6,Calc!AB173,$J$6))","v":116},{"$f":"IF(Calc!AE173<$J$3,Calc!AE173,IF(D34>$J$3,D34,D34))","v":320},{"$f":"IF(Calc!AL173<0,0,IF(Calc!AL173<=$J$6,Calc!AL173,$J$6))","v":650}]
[null,{"$f":"IF(Calc!U174<$J$4,Calc!U174,IF(B35>$J$4,B35,B35))","v":{"v":826.6666666666667,"d":"827"}},{"$f":"IF(Calc!AB174<0,0,IF(Calc!AB174<=$J$6,Calc!AB174,$J$6))","v":109},{"$f":"IF(Calc!AE174<$J$3,Calc!AE174,IF(D35>$J$3,D35,D35))","v":{"v":330.6666666666667,"d":"331"}},{"$f":"IF(Calc!AL174<0,0,IF(Calc!AL174<=$J$6,Calc!AL174,$J$6))","v":641}]
[null,{"$f":"IF(Calc!U175<$J$4,Calc!U175,IF(B36>$J$4,B36,B36))","v":{"v":853.3333333333333,"d":"853"}},{"$f":"IF(Calc!AB175<0,0,IF(Calc!AB175<=$J$6,Calc!AB175,$J$6))","v":103},{"$f":"IF(Calc!AE175<$J$3,Calc!AE175,IF(D36>$J$3,D36,D36))","v":{"v":341.3333333333333,"d":"341"}},{"$f":"IF(Calc!AL175<0,0,IF(Calc!AL175<=$J$6,Calc!AL175,$J$6))","v":632}]
[null,{"$f":"IF(Calc!U176<$J$4,Calc!U176,IF(B37>$J$4,B37,B37))","v":880},{"$f":"IF(Calc!AB176<0,0,IF(Calc!AB176<=$J$6,Calc!AB176,$J$6))","v":96},{"$f":"IF(Calc!AE176<$J$3,Calc!AE176,IF(D37>$J$3,D37,D37))","v":352},{"$f":"IF(Calc!AL176<0,0,IF(Calc!AL176<=$J$6,Calc!AL176,$J$6))","v":622}]
[null,{"$f":"IF(Calc!U177<$J$4,Calc!U177,IF(B38>$J$4,B38,B38))","v":{"v":906.6666666666667,"d":"907"}},{"$f":"IF(Calc!AB177<0,0,IF(Calc!AB177<=$J$6,Calc!AB177,$J$6))","v":89},{"$f":"IF(Calc!AE177<$J$3,Calc!AE177,IF(D38>$J$3,D38,D38))","v":{"v":362.6666666666667,"d":"363"}},{"$f":"IF(Calc!AL177<0,0,IF(Calc!AL177<=$J$6,Calc!AL177,$J$6))","v":613}]
[null,{"$f":"IF(Calc!U178<$J$4,Calc!U178,IF(B39>$J$4,B39,B39))","v":{"v":933.3333333333333,"d":"933"}},{"$f":"IF(Calc!AB178<0,0,IF(Calc!AB178<=$J$6,Calc!AB178,$J$6))","v":83},{"$f":"IF(Calc!AE178<$J$3,Calc!AE178,IF(D39>$J$3,D39,D39))","v":{"v":373.3333333333333,"d":"373"}},{"$f":"IF(Calc!AL178<0,0,IF(Calc!AL178<=$J$6,Calc!AL178,$J$6))","v":604}]
[null,{"$f":"IF(Calc!U179<$J$4,Calc!U179,IF(B40>$J$4,B40,B40))","v":960},{"$f":"IF(Calc!AB179<0,0,IF(Calc!AB179<=$J$6,Calc!AB179,$J$6))","v":76},{"$f":"IF(Calc!AE179<$J$3,Calc!AE179,IF(D40>$J$3,D40,D40))","v":384},{"$f":"IF(Calc!AL179<0,0,IF(Calc!AL179<=$J$6,Calc!AL179,$J$6))","v":595}]
[null,{"$f":"IF(Calc!U180<$J$4,Calc!U180,IF(B41>$J$4,B41,B41))","v":{"v":986.6666666666667,"d":"987"}},{"$f":"IF(Calc!AB180<0,0,IF(Calc!AB180<=$J$6,Calc!AB180,$J$6))","v":70},{"$f":"IF(Calc!AE180<$J$3,Calc!AE180,IF(D41>$J$3,D41,D41))","v":{"v":394.6666666666667,"d":"395"}},{"$f":"IF(Calc!AL180<0,0,IF(Calc!AL180<=$J$6,Calc!AL180,$J$6))","v":586}]
[null,{"$f":"IF(Calc!U181<$J$4,Calc!U181,IF(B42>$J$4,B42,B42))","v":{"v":986.6666666666667,"d":"987"}},{"$f":"IF(Calc!AB181<0,0,IF(Calc!AB181<=$J$6,Calc!AB181,$J$6))","v":63},{"$f":"IF(Calc!AE181<$J$3,Calc!AE181,IF(D42>$J$3,D42,D42))","v":{"v":394.6666666666667,"d":"395"}},{"$f":"IF(Calc!AL181<0,0,IF(Calc!AL181<=$J$6,Calc!AL181,$J$6))","v":577}]
[null,{"$f":"IF(Calc!U182<$J$4,Calc!U182,IF(B43>$J$4,B43,B43))","v":{"v":986.6666666666667,"d":"987"}},{"$f":"IF(Calc!AB182<0,0,IF(Calc!AB182<=$J$6,Calc!AB182,$J$6))","v":57},{"$f":"IF(Calc!AE182<$J$3,Calc!AE182,IF(D43>$J$3,D43,D43))","v":{"v":394.6666666666667,"d":"395"}},{"$f":"IF(Calc!AL182<0,0,IF(Calc!AL182<=$J$6,Calc!AL182,$J$6))","v":568}]
[null,{"$f":"IF(Calc!U183<$J$4,Calc!U183,IF(B44>$J$4,B44,B44))","v":{"v":986.6666666666667,"d":"987"}},{"$f":"IF(Calc!AB183<0,0,IF(Calc!AB183<=$J$6,Calc!AB183,$J$6))","v":50},{"$f":"IF(Calc!AE183<$J$3,Calc!AE183,IF(D44>$J$3,D44,D44))","v":{"v":394.6666666666667,"d":"395"}},{"$f":"IF(Calc!AL183<0,0,IF(Calc!AL183<=$J$6,Calc!AL183,$J$6))","v":559}]
[null,{"$f":"IF(Calc!U184<$J$4,Calc!U184,IF(B45>$J$4,B45,B45))","v":{"v":986.6666666666667,"d":"987"}},{"$f":"IF(Calc!AB184<0,0,IF(Calc!AB184<=$J$6,Calc!AB184,$J$6))","v":43},{"$f":"IF(Calc!AE184<$J$3,Calc!AE184,IF(D45>$J$3,D45,D45))","v":{"v":394.6666666666667,"d":"395"}},{"$f":"IF(Calc!AL184<0,0,IF(Calc!AL184<=$J$6,Calc!AL184,$J$6))","v":550}]
[null,{"$f":"IF(Calc!U185<$J$4,Calc!U185,IF(B46>$J$4,B46,B46))","v":{"v":986.6666666666667,"d":"987"}},{"$f":"IF(Calc!AB185<0,0,IF(Calc!AB185<=$J$6,Calc!AB185,$J$6))","v":37},{"$f":"IF(Calc!AE185<$J$3,Calc!AE185,IF(D46>$J$3,D46,D46))","v":{"v":394.6666666666667,"d":"395"}},{"$f":"IF(Calc!AL185<0,0,IF(Calc!AL185<=$J$6,Calc!AL185,$J$6))","v":540}]
[null,{"$f":"IF(Calc!U186<$J$4,Calc!U186,IF(B47>$J$4,B47,B47))","v":{"v":986.6666666666667,"d":"987"}},{"$f":"IF(Calc!AB186<0,0,IF(Calc!AB186<=$J$6,Calc!AB186,$J$6))","v":30},{"$f":"IF(Calc!AE186<$J$3,Calc!AE186,IF(D47>$J$3,D47,D47))","v":{"v":394.6666666666667,"d":"395"}},{"$f":"IF(Calc!AL186<0,0,IF(Calc!AL186<=$J$6,Calc!AL186,$J$6))","v":531}]
[null,{"$f":"IF(Calc!U187<$J$4,Calc!U187,IF(B48>$J$4,B48,B48))","v":{"v":986.6666666666667,"d":"987"}},{"$f":"IF(Calc!AB187<0,0,IF(Calc!AB187<=$J$6,Calc!AB187,$J$6))","v":24},{"$f":"IF(Calc!AE187<$J$3,Calc!AE187,IF(D48>$J$3,D48,D48))","v":{"v":394.6666666666667,"d":"395"}},{"$f":"IF(Calc!AL187<0,0,IF(Calc!AL187<=$J$6,Calc!AL187,$J$6))","v":522}]
[null,{"$f":"IF(Calc!U188<$J$4,Calc!U188,IF(B49>$J$4,B49,B49))","v":{"v":986.6666666666667,"d":"987"}},{"$f":"IF(Calc!AB188<0,0,IF(Calc!AB188<=$J$6,Calc!AB188,$J$6))","v":17},{"$f":"IF(Calc!AE188<$J$3,Calc!AE188,IF(D49>$J$3,D49,D49))","v":{"v":394.6666666666667,"d":"395"}},{"$f":"IF(Calc!AL188<0,0,IF(Calc!AL188<=$J$6,Calc!AL188,$J$6))","v":513}]
[null,{"$f":"IF(Calc!U189<$J$4,Calc!U189,IF(B50>$J$4,B50,B50))","v":{"v":986.6666666666667,"d":"987"}},{"$f":"IF(Calc!AB189<0,0,IF(Calc!AB189<=$J$6,Calc!AB189,$J$6))","v":10},{"$f":"IF(Calc!AE189<$J$3,Calc!AE189,IF(D50>$J$3,D50,D50))","v":{"v":394.6666666666667,"d":"395"}},{"$f":"IF(Calc!AL189<0,0,IF(Calc!AL189<=$J$6,Calc!AL189,$J$6))","v":504}]
[null,{"$f":"IF(Calc!U190<$J$4,Calc!U190,IF(B51>$J$4,B51,B51))","v":{"v":986.6666666666667,"d":"987"}},{"$f":"IF(Calc!AB190<0,0,IF(Calc!AB190<=$J$6,Calc!AB190,$J$6))","v":4},{"$f":"IF(Calc!AE190<$J$3,Calc!AE190,IF(D51>$J$3,D51,D51))","v":{"v":394.6666666666667,"d":"395"}},{"$f":"IF(Calc!AL190<0,0,IF(Calc!AL190<=$J$6,Calc!AL190,$J$6))","v":495}]
[null,{"$f":"IF(Calc!U191<$J$4,Calc!U191,IF(B52>$J$4,B52,B52))","v":{"v":986.6666666666667,"d":"987"}},{"$f":"IF(Calc!AB191<0,0,IF(Calc!AB191<=$J$6,Calc!AB191,$J$6))","v":0},{"$f":"IF(Calc!AE191<$J$3,Calc!AE191,IF(D52>$J$3,D52,D52))","v":{"v":394.6666666666667,"d":"395"}},{"$f":"IF(Calc!AL191<0,0,IF(Calc!AL191<=$J$6,Calc!AL191,$J$6))","v":486}]
[null,{"$f":"IF(Calc!U192<$J$4,Calc!U192,IF(B53>$J$4,B53,B53))","v":{"v":986.6666666666667,"d":"987"}},{"$f":"IF(Calc!AB192<0,0,IF(Calc!AB192<=$J$6,Calc!AB192,$J$6))","v":0},{"$f":"IF(Calc!AE192<$J$3,Calc!AE192,IF(D53>$J$3,D53,D53))","v":{"v":394.6666666666667,"d":"395"}},{"$f":"IF(Calc!AL192<0,0,IF(Calc!AL192<=$J$6,Calc!AL192,$J$6))","v":477}]
[null,{"$f":"IF(Calc!U193<$J$4,Calc!U193,IF(B54>$J$4,B54,B54))","v":{"v":986.6666666666667,"d":"987"}},{"$f":"IF(Calc!AB193<0,0,IF(Calc!AB193<=$J$6,Calc!AB193,$J$6))","v":0},{"$f":"IF(Calc!AE193<$J$3,Calc!AE193,IF(D54>$J$3,D54,D54))","v":{"v":394.6666666666667,"d":"395"}},{"$f":"IF(Calc!AL193<0,0,IF(Calc!AL193<=$J$6,Calc!AL193,$J$6))","v":469}]
[null,{"$f":"IF(Calc!U194<$J$4,Calc!U194,IF(B55>$J$4,B55,B55))","v":{"v":986.6666666666667,"d":"987"}},{"$f":"IF(Calc!AB194<0,0,IF(Calc!AB194<=$J$6,Calc!AB194,$J$6))","v":0},{"$f":"IF(Calc!AE194<$J$3,Calc!AE194,IF(D55>$J$3,D55,D55))","v":{"v":394.6666666666667,"d":"395"}},{"$f":"IF(Calc!AL194<0,0,IF(Calc!AL194<=$J$6,Calc!AL194,$J$6))","v":0}]
[{"$nulls":10},"Cyclic",{"$nulls":4},"Continuous"]
[null,"Cyclic duty",null,null,"Max input torque for RediMount",{"$nulls":6},"Output"]
[{"$nulls":4},"PC32",5.1,"Nm",{"$nulls":3},"Förskjutning",null,"Förskjutning"]
[null,"PC32B10",null,"PC32B04",null,"Motor ","High torque test",{"$nulls":4},"PC32B10",null,"PC32B04",null,"PC32B10",null,"PC32B04"]
[null,"mm/s","Fx (N)","mm/s","Fx (N)","Torque","1 = high torque",{"$nulls":3},0,"Fx (N)",null,"Fx (N)"]
[null,{"$f":"IF(Calc!BH143<$J$4,Calc!BH143,$J$4)","v":0},{"$f":"IF(Calc!BJ143<0,0,IF(Calc!BJ143<=$J$6,Calc!BJ143,$J$6))","v":1158},{"$f":"IF(Calc!BN143<$J$3,Calc!BN143,$J$3)","v":0},{"$f":"IF(Calc!BP143<0,0,IF(Calc!BP143<=$J$6,Calc!BP143,$J$6))","v":3033},{"$f":"Calc!BL143","v":{"v":2.7600000000000002,"d":"2.76"}},{"$f":"IF(AND(F62>$F$59,G61<>0),1,0)","v":0},{"$nulls":3},{"$f":"IF(G62=1,MATCH($K$61,G62:$G$112,0),C62)","v":1158},{"$f":"IF(C62<0,0,IF(K62<>C62,OFFSET(B61,K62,1,1,1),C62))","v":1158},{"$f":"IF(G62=1,MATCH($K$61,G62:$G$112,0),E62)","v":3033},{"$f":"IF(E62<0,0,IF(M62<>E62,OFFSET(D61,M62,1,1,1),E62))","v":3033},null,{"$f":"IF(C5>L62,L62,C5)","v":303},null,{"$f":"IF(E5>N62,N62,E5)","v":895}]
[null,{"$f":"IF(Calc!BH144<$J$4,Calc!BH144,$J$4)","v":{"v":858.0666666666666,"d":"858"}},{"$f":"IF(Calc!BJ144<0,0,IF(Calc!BJ144<=$J$6,Calc!BJ144,$J$6))","v":1002},{"$f":"IF(Calc!BN144<$J$3,Calc!BN144,$J$3)","v":{"v":343.22666666666663,"d":"343"}},{"$f":"IF(Calc!BP144<0,0,IF(Calc!BP144<=$J$6,Calc!BP144,$J$6))","v":2882},{"$f":"Calc!BL144","v":{"v":2.7600000000000002,"d":"2.76"}},0,{"$nulls":3},{"$f":"IF(G63=1,MATCH($K$61,G63:$G$112,0),C63)","v":1002},{"$f":"IF(C63<0,0,IF(K63<>C63,OFFSET(B62,K63,1,1,1),C63))","v":1002},{"$f":"IF(G63=1,MATCH($K$61,G63:$G$112,0),E63)","v":2882},{"$f":"IF(E63<0,0,IF(M63<>E63,OFFSET(D62,M63,1,1,1),E63))","v":2882},null,{"$f":"IF(C6>L63,L63,C6)","v":296},null,{"$f":"IF(E6>N63,N63,E6)","v":887}]
[null,{"$f":"IF(Calc!BH145<$J$4,Calc!BH145,$J$4)","v":{"v":870.8,"d":"871"}},{"$f":"IF(Calc!BJ145<0,0,IF(Calc!BJ145<=$J$6,Calc!BJ145,$J$6))","v":982},{"$f":"IF(Calc!BN145<$J$3,Calc!BN145,$J$3)","v":{"v":348.32,"d":"348"}},{"$f":"IF(Calc!BP145<0,0,IF(Calc!BP145<=$J$6,Calc!BP145,$J$6))","v":2834},{"$f":"Calc!BL145","v":{"v":2.719411692307692,"d":"2.72"}},0,{"$nulls":3},{"$f":"IF(G64=1,MATCH($K$61,G64:$G$112,0),C64)","v":982},982,{"$f":"IF(G64=1,MATCH($K$61,G64:$G$112,0),E64)","v":2834},2834,null,290,null,879]
[null,{"$f":"IF(Calc!BH146<$J$4,Calc!BH146,$J$4)","v":{"v":883.7833333333333,"d":"884"}},{"$f":"IF(Calc!BJ146<0,0,IF(Calc!BJ146<=$J$6,Calc!BJ146,$J$6))","v":961},{"$f":"IF(Calc!BN146<$J$3,Calc!BN146,$J$3)","v":{"v":353.5133333333333,"d":"354"}},{"$f":"IF(Calc!BP146<0,0,IF(Calc!BP146<=$J$6,Calc!BP146,$J$6))","v":2785},{"$f":"Calc!BL146","v":{"v":2.678226989010989,"d":"2.68"}},0,{"$nulls":3},{"$f":"IF(G65=1,MATCH($K$61,G65:$G$112,0),C65)","v":961},961,{"$f":"IF(G65=1,MATCH($K$61,G65:$G$112,0),E65)","v":2785},2785,null,284,null,871]
[null,{"$f":"IF(Calc!BH147<$J$4,Calc!BH147,$J$4)","v":{"v":897.0166666666667,"d":"897"}},{"$f":"IF(Calc!BJ147<0,0,IF(Calc!BJ147<=$J$6,Calc!BJ147,$J$6))","v":939},{"$f":"IF(Calc!BN147<$J$3,Calc!BN147,$J$3)","v":{"v":358.8066666666667,"d":"359"}},{"$f":"IF(Calc!BP147<0,0,IF(Calc!BP147<=$J$6,Calc!BP147,$J$6))","v":2735},{"$f":"Calc!BL147","v":{"v":2.6364458901098904,"d":"2.64"}},0,{"$nulls":3},{"$f":"IF(G66=1,MATCH($K$61,G66:$G$112,0),C66)","v":939},939,{"$f":"IF(G66=1,MATCH($K$61,G66:$G$112,0),E66)","v":2735},2735,null,278,null,862]
[null,{"$f":"IF(Calc!BH148<$J$4,Calc!BH148,$J$4)","v":{"v":910.5166666666668,"d":"911"}},{"$f":"IF(Calc!BJ148<0,0,IF(Calc!BJ148<=$J$6,Calc!BJ148,$J$6))","v":918},{"$f":"IF(Calc!BN148<$J$3,Calc!BN148,$J$3)","v":{"v":364.2066666666667,"d":"364"}},{"$f":"IF(Calc!BP148<0,0,IF(Calc!BP148<=$J$6,Calc!BP148,$J$6))","v":2685},{"$f":"Calc!BL148","v":{"v":2.5940683956043955,"d":"2.59"}},0,{"$nulls":3},{"$f":"IF(G67=1,MATCH($K$61,G67:$G$112,0),C67)","v":918},918,{"$f":"IF(G67=1,MATCH($K$61,G67:$G$112,0),E67)","v":2685},2685,null,271,null,854]
[null,{"$f":"IF(Calc!BH149<$J$4,Calc!BH149,$J$4)","v":{"v":924.2833333333333,"d":"924"}},{"$f":"IF(Calc!BJ149<0,0,IF(Calc!BJ149<=$J$6,Calc!BJ149,$J$6))","v":896},{"$f":"IF(Calc!BN149<$J$3,Calc!BN149,$J$3)","v":{"v":369.7133333333333,"d":"370"}},{"$f":"IF(Calc!BP149<0,0,IF(Calc!BP149<=$J$6,Calc!BP149,$J$6))","v":2634},{"$f":"Calc!BL149","v":{"v":2.5510945054945053,"d":"2.55"}},0,{"$nulls":3},{"$f":"IF(G68=1,MATCH($K$61,G68:$G$112,0),C68)","v":896},896,{"$f":"IF(G68=1,MATCH($K$61,G68:$G$112,0),E68)","v":2634},2634,null,265,null,846]
[null,{"$f":"IF(Calc!BH150<$J$4,Calc!BH150,$J$4)","v":{"v":938.3333333333333,"d":"938"}},{"$f":"IF(Calc!BJ150<0,0,IF(Calc!BJ150<=$J$6,Calc!BJ150,$J$6))","v":874},{"$f":"IF(Calc!BN150<$J$3,Calc!BN150,$J$3)","v":{"v":375.3333333333333,"d":"375"}},{"$f":"IF(Calc!BP150<0,0,IF(Calc!BP150<=$J$6,Calc!BP150,$J$6))","v":2582},{"$f":"Calc!BL150","v":{"v":2.5075242197802194,"d":"2.51"}},0,{"$nulls":3},{"$f":"IF(G69=1,MATCH($K$61,G69:$G$112,0),C69)","v":874},874,{"$f":"IF(G69=1,MATCH($K$61,G69:$G$112,0),E69)","v":2582},2582,null,259,null,838]
[null,{"$f":"IF(Calc!BH151<$J$4,Calc!BH151,$J$4)","v":{"v":952.6333333333333,"d":"953"}},{"$f":"IF(Calc!BJ151<0,0,IF(Calc!BJ151<=$J$6,Calc!BJ151,$J$6))","v":851},{"$f":"IF(Calc!BN151<$J$3,Calc!BN151,$J$3)","v":{"v":381.05333333333334,"d":"381"}},{"$f":"IF(Calc!BP151<0,0,IF(Calc!BP151<=$J$6,Calc!BP151,$J$6))","v":2530},{"$f":"Calc!BL151","v":{"v":2.4633575384615383,"d":"2.46"}},0,{"$nulls":3},{"$f":"IF(G70=1,MATCH($K$61,G70:$G$112,0),C70)","v":851},851,{"$f":"IF(G70=1,MATCH($K$61,G70:$G$112,0),E70)","v":2530},2530,null,253,null,830]
[null,{"$f":"IF(Calc!BH152<$J$4,Calc!BH152,$J$4)","v":{"v":967.2166666666667,"d":"967"}},{"$f":"IF(Calc!BJ152<0,0,IF(Calc!BJ152<=$J$6,Calc!BJ152,$J$6))","v":828},{"$f":"IF(Calc!BN152<$J$3,Calc!BN152,$J$3)","v":{"v":386.88666666666666,"d":"387"}},{"$f":"IF(Calc!BP152<0,0,IF(Calc!BP152<=$J$6,Calc!BP152,$J$6))","v":2477},{"$f":"Calc!BL152","v":{"v":2.418594461538462,"d":"2.42"}},0,{"$nulls":3},{"$f":"IF(G71=1,MATCH($K$61,G71:$G$112,0),C71)","v":828},828,{"$f":"IF(G71=1,MATCH($K$61,G71:$G$112,0),E71)","v":2477},2477,null,247,null,823]
[null,{"$f":"IF(Calc!BH153<$J$4,Calc!BH153,$J$4)","v":{"v":982.0666666666666,"d":"982"}},{"$f":"IF(Calc!BJ153<0,0,IF(Calc!BJ153<=$J$6,Calc!BJ153,$J$6))","v":805},{"$f":"IF(Calc!BN153<$J$3,Calc!BN153,$J$3)","v":{"v":392.82666666666665,"d":"393"}},{"$f":"IF(Calc!BP153<0,0,IF(Calc!BP153<=$J$6,Calc!BP153,$J$6))","v":2423},{"$f":"Calc!BL153","v":{"v":2.373234989010989,"d":"2.37"}},0,{"$nulls":3},{"$f":"IF(G72=1,MATCH($K$61,G72:$G$112,0),C72)","v":805},805,{"$f":"IF(G72=1,MATCH($K$61,G72:$G$112,0),E72)","v":2423},2423,null,241,null,815]
[null,{"$f":"IF(Calc!BH154<$J$4,Calc!BH154,$J$4)","v":{"v":997.2,"d":"997"}},{"$f":"IF(Calc!BJ154<0,0,IF(Calc!BJ154<=$J$6,Calc!BJ154,$J$6))","v":781},{"$f":"IF(Calc!BN154<$J$3,Calc!BN154,$J$3)","v":{"v":398.88,"d":"399"}},{"$f":"IF(Calc!BP154<0,0,IF(Calc!BP154<=$J$6,Calc!BP154,$J$6))","v":2368},{"$f":"Calc!BL154","v":{"v":2.3272791208791213,"d":"2.33"}},0,{"$nulls":3},{"$f":"IF(G73=1,MATCH($K$61,G73:$G$112,0),C73)","v":781},781,{"$f":"IF(G73=1,MATCH($K$61,G73:$G$112,0),E73)","v":2368},2368,null,235,null,808]
[null,{"$f":"IF(Calc!BH155<$J$4,Calc!BH155,$J$4)","v":1000},{"$f":"IF(Calc!BJ155<0,0,IF(Calc!BJ155<=$J$6,Calc!BJ155,$J$6))","v":758},{"$f":"IF(Calc!BN155<$J$3,Calc!BN155,$J$3)","v":400},{"$f":"IF(Calc!BP155<0,0,IF(Calc!BP155<=$J$6,Calc!BP155,$J$6))","v":2313},{"$f":"Calc!BL155","v":{"v":2.2807268571428576,"d":"2.28"}},0,{"$nulls":3},{"$f":"IF(G74=1,MATCH($K$61,G74:$G$112,0),C74)","v":758},758,{"$f":"IF(G74=1,MATCH($K$61,G74:$G$112,0),E74)","v":2313},2313,null,229,null,800]
[null,{"$f":"IF(Calc!BH156<$J$4,Calc!BH156,$J$4)","v":1000},{"$f":"IF(Calc!BJ156<0,0,IF(Calc!BJ156<=$J$6,Calc!BJ156,$J$6))","v":733},{"$f":"IF(Calc!BN156<$J$3,Calc!BN156,$J$3)","v":400},{"$f":"IF(Calc!BP156<0,0,IF(Calc!BP156<=$J$6,Calc!BP156,$J$6))","v":2257},{"$f":"Calc!BL156","v":{"v":2.2335781978021974,"d":"2.23"}},0,{"$nulls":3},{"$f":"IF(G75=1,MATCH($K$61,G75:$G$112,0),C75)","v":733},733,{"$f":"IF(G75=1,MATCH($K$61,G75:$G$112,0),E75)","v":2257},2257,null,223,null,793]
[null,{"$f":"IF(Calc!BH157<$J$4,Calc!BH157,$J$4)","v":1000},{"$f":"IF(Calc!BJ157<0,0,IF(Calc!BJ157<=$J$6,Calc!BJ157,$J$6))","v":709},{"$f":"IF(Calc!BN157<$J$3,Calc!BN157,$J$3)","v":400},{"$f":"IF(Calc!BP157<0,0,IF(Calc!BP157<=$J$6,Calc!BP157,$J$6))","v":2200},{"$f":"Calc!BL157","v":{"v":2.1858331428571427,"d":"2.19"}},0,{"$nulls":3},{"$f":"IF(G76=1,MATCH($K$61,G76:$G$112,0),C76)","v":709},709,{"$f":"IF(G76=1,MATCH($K$61,G76:$G$112,0),E76)","v":2200},2200,null,217,null,785]
[null,{"$f":"IF(Calc!BH158<$J$4,Calc!BH158,$J$4)","v":1000},{"$f":"IF(Calc!BJ158<0,0,IF(Calc!BJ158<=$J$6,Calc!BJ158,$J$6))","v":684},{"$f":"IF(Calc!BN158<$J$3,Calc!BN158,$J$3)","v":400},{"$f":"IF(Calc!BP158<0,0,IF(Calc!BP158<=$J$6,Calc!BP158,$J$6))","v":2142},{"$f":"Calc!BL158","v":{"v":2.1374916923076923,"d":"2.14"}},0,{"$nulls":3},{"$f":"IF(G77=1,MATCH($K$61,G77:$G$112,0),C77)","v":684},684,{"$f":"IF(G77=1,MATCH($K$61,G77:$G$112,0),E77)","v":2142},2142,null,211,null,777]
[null,{"$f":"IF(Calc!BH159<$J$4,Calc!BH159,$J$4)","v":1000},{"$f":"IF(Calc!BJ159<0,0,IF(Calc!BJ159<=$J$6,Calc!BJ159,$J$6))","v":659},{"$f":"IF(Calc!BN159<$J$3,Calc!BN159,$J$3)","v":400},{"$f":"IF(Calc!BP159<0,0,IF(Calc!BP159<=$J$6,Calc!BP159,$J$6))","v":2084},{"$f":"Calc!BL159","v":{"v":2.088553846153846,"d":"2.09"}},0,{"$nulls":3},{"$f":"IF(G78=1,MATCH($K$61,G78:$G$112,0),C78)","v":659},659,{"$f":"IF(G78=1,MATCH($K$61,G78:$G$112,0),E78)","v":2084},2084,null,205,null,770]
[null,{"$f":"IF(Calc!BH160<$J$4,Calc!BH160,$J$4)","v":1000},{"$f":"IF(Calc!BJ160<0,0,IF(Calc!BJ160<=$J$6,Calc!BJ160,$J$6))","v":634},{"$f":"IF(Calc!BN160<$J$3,Calc!BN160,$J$3)","v":400},{"$f":"IF(Calc!BP160<0,0,IF(Calc!BP160<=$J$6,Calc!BP160,$J$6))","v":2025},{"$f":"Calc!BL160","v":{"v":2.0390196043956044,"d":"2.04"}},0,{"$nulls":3},{"$f":"IF(G79=1,MATCH($K$61,G79:$G$112,0),C79)","v":634},634,{"$f":"IF(G79=1,MATCH($K$61,G79:$G$112,0),E79)","v":2025},2025,null,199,null,762]
[null,{"$f":"IF(Calc!BH161<$J$4,Calc!BH161,$J$4)","v":1000},{"$f":"IF(Calc!BJ161<0,0,IF(Calc!BJ161<=$J$6,Calc!BJ161,$J$6))","v":608},{"$f":"IF(Calc!BN161<$J$3,Calc!BN161,$J$3)","v":400},{"$f":"IF(Calc!BP161<0,0,IF(Calc!BP161<=$J$6,Calc!BP161,$J$6))","v":1965},{"$f":"Calc!BL161","v":{"v":1.9888889670329672,"d":"1.99"}},0,{"$nulls":3},{"$f":"IF(G80=1,MATCH($K$61,G80:$G$112,0),C80)","v":608},608,{"$f":"IF(G80=1,MATCH($K$61,G80:$G$112,0),E80)","v":1965},1965,null,193,null,755]
[null,{"$f":"IF(Calc!BH162<$J$4,Calc!BH162,$J$4)","v":1000},{"$f":"IF(Calc!BJ162<0,0,IF(Calc!BJ162<=$J$6,Calc!BJ162,$J$6))","v":582},{"$f":"IF(Calc!BN162<$J$3,Calc!BN162,$J$3)","v":400},{"$f":"IF(Calc!BP162<0,0,IF(Calc!BP162<=$J$6,Calc!BP162,$J$6))","v":1905},{"$f":"Calc!BL162","v":{"v":1.938161934065934,"d":"1.94"}},0,{"$nulls":3},{"$f":"IF(G81=1,MATCH($K$61,G81:$G$112,0),C81)","v":582},582,{"$f":"IF(G81=1,MATCH($K$61,G81:$G$112,0),E81)","v":1905},1905,null,187,null,747]
[null,{"$f":"IF(Calc!BH163<$J$4,Calc!BH163,$J$4)","v":1000},{"$f":"IF(Calc!BJ163<0,0,IF(Calc!BJ163<=$J$6,Calc!BJ163,$J$6))","v":555},{"$f":"IF(Calc!BN163<$J$3,Calc!BN163,$J$3)","v":400},{"$f":"IF(Calc!BP163<0,0,IF(Calc!BP163<=$J$6,Calc!BP163,$J$6))","v":1844},{"$f":"Calc!BL163","v":{"v":1.8868385054945054,"d":"1.89"}},0,{"$nulls":3},{"$f":"IF(G82=1,MATCH($K$61,G82:$G$112,0),C82)","v":555},555,{"$f":"IF(G82=1,MATCH($K$61,G82:$G$112,0),E82)","v":1844},1844,null,181,null,739]
[null,{"$f":"IF(Calc!BH164<$J$4,Calc!BH164,$J$4)","v":1000},{"$f":"IF(Calc!BJ164<0,0,IF(Calc!BJ164<=$J$6,Calc!BJ164,$J$6))","v":529},{"$f":"IF(Calc!BN164<$J$3,Calc!BN164,$J$3)","v":400},{"$f":"IF(Calc!BP164<0,0,IF(Calc!BP164<=$J$6,Calc!BP164,$J$6))","v":1782},{"$f":"Calc!BL164","v":{"v":1.834918681318681,"d":"1.83"}},0,{"$nulls":3},{"$f":"IF(G83=1,MATCH($K$61,G83:$G$112,0),C83)","v":529},529,{"$f":"IF(G83=1,MATCH($K$61,G83:$G$112,0),E83)","v":1782},1782,null,175,null,732]
[null,{"$f":"IF(Calc!BH165<$J$4,Calc!BH165,$J$4)","v":1000},{"$f":"IF(Calc!BJ165<0,0,IF(Calc!BJ165<=$J$6,Calc!BJ165,$J$6))","v":502},{"$f":"IF(Calc!BN165<$J$3,Calc!BN165,$J$3)","v":400},{"$f":"IF(Calc!BP165<0,0,IF(Calc!BP165<=$J$6,Calc!BP165,$J$6))","v":1720},{"$f":"Calc!BL165","v":{"v":1.7824024615384615,"d":"1.78"}},0,{"$nulls":3},{"$f":"IF(G84=1,MATCH($K$61,G84:$G$112,0),C84)","v":502},502,{"$f":"IF(G84=1,MATCH($K$61,G84:$G$112,0),E84)","v":1720},1720,null,169,null,723]
[null,{"$f":"IF(Calc!BH166<$J$4,Calc!BH166,$J$4)","v":1000},{"$f":"IF(Calc!BJ166<0,0,IF(Calc!BJ166<=$J$6,Calc!BJ166,$J$6))","v":474},{"$f":"IF(Calc!BN166<$J$3,Calc!BN166,$J$3)","v":400},{"$f":"IF(Calc!BP166<0,0,IF(Calc!BP166<=$J$6,Calc!BP166,$J$6))","v":1656},{"$f":"Calc!BL166","v":{"v":1.7292898461538462,"d":"1.73"}},0,{"$nulls":3},{"$f":"IF(G85=1,MATCH($K$61,G85:$G$112,0),C85)","v":474},474,{"$f":"IF(G85=1,MATCH($K$61,G85:$G$112,0),E85)","v":1656},1656,null,162,null,714]
[null,{"$f":"IF(Calc!BH167<$J$4,Calc!BH167,$J$4)","v":1000},{"$f":"IF(Calc!BJ167<0,0,IF(Calc!BJ167<=$J$6,Calc!BJ167,$J$6))","v":447},{"$f":"IF(Calc!BN167<$J$3,Calc!BN167,$J$3)","v":400},{"$f":"IF(Calc!BP167<0,0,IF(Calc!BP167<=$J$6,Calc!BP167,$J$6))","v":1592},{"$f":"Calc!BL167","v":{"v":1.6755808351648354,"d":"1.68"}},0,{"$nulls":3},{"$f":"IF(G86=1,MATCH($K$61,G86:$G$112,0),C86)","v":447},447,{"$f":"IF(G86=1,MATCH($K$61,G86:$G$112,0),E86)","v":1592},1592,null,155,null,704]
[null,{"$f":"IF(Calc!BH168<$J$4,Calc!BH168,$J$4)","v":1000},{"$f":"IF(Calc!BJ168<0,0,IF(Calc!BJ168<=$J$6,Calc!BJ168,$J$6))","v":419},{"$f":"IF(Calc!BN168<$J$3,Calc!BN168,$J$3)","v":400},{"$f":"IF(Calc!BP168<0,0,IF(Calc!BP168<=$J$6,Calc!BP168,$J$6))","v":1528},{"$f":"Calc!BL168","v":{"v":1.6212754285714288,"d":"1.62"}},0,{"$nulls":3},{"$f":"IF(G87=1,MATCH($K$61,G87:$G$112,0),C87)","v":419},419,{"$f":"IF(G87=1,MATCH($K$61,G87:$G$112,0),E87)","v":1528},1528,null,149,null,695]
[null,{"$f":"IF(Calc!BH169<$J$4,Calc!BH169,$J$4)","v":1000},{"$f":"IF(Calc!BJ169<0,0,IF(Calc!BJ169<=$J$6,Calc!BJ169,$J$6))","v":391},{"$f":"IF(Calc!BN169<$J$3,Calc!BN169,$J$3)","v":400},{"$f":"IF(Calc!BP169<0,0,IF(Calc!BP169<=$J$6,Calc!BP169,$J$6))","v":1462},{"$f":"Calc!BL169","v":{"v":1.5663736263736265,"d":"1.57"}},0,{"$nulls":3},{"$f":"IF(G88=1,MATCH($K$61,G88:$G$112,0),C88)","v":391},391,{"$f":"IF(G88=1,MATCH($K$61,G88:$G$112,0),E88)","v":1462},1462,null,142,null,686]
[null,{"$f":"IF(Calc!BH170<$J$4,Calc!BH170,$J$4)","v":1000},{"$f":"IF(Calc!BJ170<0,0,IF(Calc!BJ170<=$J$6,Calc!BJ170,$J$6))","v":362},{"$f":"IF(Calc!BN170<$J$3,Calc!BN170,$J$3)","v":400},{"$f":"IF(Calc!BP170<0,0,IF(Calc!BP170<=$J$6,Calc!BP170,$J$6))","v":1396},{"$f":"Calc!BL170","v":{"v":1.5108754285714285,"d":"1.51"}},0,{"$nulls":3},{"$f":"IF(G89=1,MATCH($K$61,G89:$G$112,0),C89)","v":362},362,{"$f":"IF(G89=1,MATCH($K$61,G89:$G$112,0),E89)","v":1396},1396,null,136,null,677]
[null,{"$f":"IF(Calc!BH171<$J$4,Calc!BH171,$J$4)","v":1000},{"$f":"IF(Calc!BJ171<0,0,IF(Calc!BJ171<=$J$6,Calc!BJ171,$J$6))","v":333},{"$f":"IF(Calc!BN171<$J$3,Calc!BN171,$J$3)","v":400},{"$f":"IF(Calc!BP171<0,0,IF(Calc!BP171<=$J$6,Calc!BP171,$J$6))","v":1329},{"$f":"Calc!BL171","v":{"v":1.4547808351648353,"d":"1.45"}},0,{"$nulls":3},{"$f":"IF(G90=1,MATCH($K$61,G90:$G$112,0),C90)","v":333},333,{"$f":"IF(G90=1,MATCH($K$61,G90:$G$112,0),E90)","v":1329},1329,null,129,null,668]
[null,{"$f":"IF(Calc!BH172<$J$4,Calc!BH172,$J$4)","v":1000},{"$f":"IF(Calc!BJ172<0,0,IF(Calc!BJ172<=$J$6,Calc!BJ172,$J$6))","v":304},{"$f":"IF(Calc!BN172<$J$3,Calc!BN172,$J$3)","v":400},{"$f":"IF(Calc!BP172<0,0,IF(Calc!BP172<=$J$6,Calc!BP172,$J$6))","v":1262},{"$f":"Calc!BL172","v":{"v":1.398089846153846,"d":"1.40"}},0,{"$nulls":3},{"$f":"IF(G91=1,MATCH($K$61,G91:$G$112,0),C91)","v":304},304,{"$f":"IF(G91=1,MATCH($K$61,G91:$G$112,0),E91)","v":1262},1262,null,122,null,659]
[null,{"$f":"IF(Calc!BH173<$J$4,Calc!BH173,$J$4)","v":1000},{"$f":"IF(Calc!BJ173<0,0,IF(Calc!BJ173<=$J$6,Calc!BJ173,$J$6))","v":275},{"$f":"IF(Calc!BN173<$J$3,Calc!BN173,$J$3)","v":400},{"$f":"IF(Calc!BP173<0,0,IF(Calc!BP173<=$J$6,Calc!BP173,$J$6))","v":1194},{"$f":"Calc!BL173","v":{"v":1.3408024615384615,"d":"1.34"}},0,{"$nulls":3},{"$f":"IF(G92=1,MATCH($K$61,G92:$G$112,0),C92)","v":275},275,{"$f":"IF(G92=1,MATCH($K$61,G92:$G$112,0),E92)","v":1194},1194,null,116,null,650]
[null,{"$f":"IF(Calc!BH174<$J$4,Calc!BH174,$J$4)","v":1000},{"$f":"IF(Calc!BJ174<0,0,IF(Calc!BJ174<=$J$6,Calc!BJ174,$J$6))","v":248},{"$f":"IF(Calc!BN174<$J$3,Calc!BN174,$J$3)","v":400},{"$f":"IF(Calc!BP174<0,0,IF(Calc!BP174<=$J$6,Calc!BP174,$J$6))","v":1128},{"$f":"Calc!BL174","v":{"v":1.2829186813186786,"d":"1.28"}},0,{"$nulls":3},{"$f":"IF(G93=1,MATCH($K$61,G93:$G$112,0),C93)","v":248},248,{"$f":"IF(G93=1,MATCH($K$61,G93:$G$112,0),E93)","v":1128},1128,null,109,null,641]
[null,{"$f":"IF(Calc!BH175<$J$4,Calc!BH175,$J$4)","v":1000},{"$f":"IF(Calc!BJ175<0,0,IF(Calc!BJ175<=$J$6,Calc!BJ175,$J$6))","v":222},{"$f":"IF(Calc!BN175<$J$3,Calc!BN175,$J$3)","v":400},{"$f":"IF(Calc!BP175<0,0,IF(Calc!BP175<=$J$6,Calc!BP175,$J$6))","v":1062},{"$f":"Calc!BL175","v":{"v":1.2244385054945026,"d":"1.22"}},{"$f":"IF(AND(F94>$F$59,G93<>0),1,0)","v":0},{"$nulls":3},{"$f":"IF(G94=1,MATCH($K$61,G94:$G$112,0),C94)","v":222},222,{"$f":"IF(G94=1,MATCH($K$61,G94:$G$112,0),E94)","v":1062},1062,null,103,null,632]
[null,{"$f":"IF(Calc!BH176<$J$4,Calc!BH176,$J$4)","v":1000},{"$f":"IF(Calc!BJ176<0,0,IF(Calc!BJ176<=$J$6,Calc!BJ176,$J$6))","v":195},{"$f":"IF(Calc!BN176<$J$3,Calc!BN176,$J$3)","v":400},{"$f":"IF(Calc!BP176<0,0,IF(Calc!BP176<=$J$6,Calc!BP176,$J$6))","v":995},{"$f":"Calc!BL176","v":{"v":1.1653619340659311,"d":"1.17"}},0,{"$nulls":3},{"$f":"IF(G95=1,MATCH($K$61,G95:$G$112,0),C95)","v":195},195,{"$f":"IF(G95=1,MATCH($K$61,G95:$G$112,0),E95)","v":995},995,null,96,null,622]
[null,{"$f":"IF(Calc!BH177<$J$4,Calc!BH177,$J$4)","v":1000},{"$f":"IF(Calc!BJ177<0,0,IF(Calc!BJ177<=$J$6,Calc!BJ177,$J$6))","v":168},{"$f":"IF(Calc!BN177<$J$3,Calc!BN177,$J$3)","v":400},{"$f":"IF(Calc!BP177<0,0,IF(Calc!BP177<=$J$6,Calc!BP177,$J$6))","v":927},{"$f":"Calc!BL177","v":{"v":1.1056889670329642,"d":"1.11"}},0,{"$nulls":3},{"$f":"IF(G96=1,MATCH($K$61,G96:$G$112,0),C96)","v":168},168,{"$f":"IF(G96=1,MATCH($K$61,G96:$G$112,0),E96)","v":927},927,null,89,null,613]
[null,{"$f":"IF(Calc!BH178<$J$4,Calc!BH178,$J$4)","v":1000},{"$f":"IF(Calc!BJ178<0,0,IF(Calc!BJ178<=$J$6,Calc!BJ178,$J$6))","v":141},{"$f":"IF(Calc!BN178<$J$3,Calc!BN178,$J$3)","v":400},{"$f":"IF(Calc!BP178<0,0,IF(Calc!BP178<=$J$6,Calc!BP178,$J$6))","v":859},{"$f":"Calc!BL178","v":{"v":1.0454196043956014,"d":"1.05"}},0,{"$nulls":3},{"$f":"IF(G97=1,MATCH($K$61,G97:$G$112,0),C97)","v":141},141,{"$f":"IF(G97=1,MATCH($K$61,G97:$G$112,0),E97)","v":859},859,null,83,null,604]
[null,{"$f":"IF(Calc!BH179<$J$4,Calc!BH179,$J$4)","v":1000},{"$f":"IF(Calc!BJ179<0,0,IF(Calc!BJ179<=$J$6,Calc!BJ179,$J$6))","v":113},{"$f":"IF(Calc!BN179<$J$3,Calc!BN179,$J$3)","v":400},{"$f":"IF(Calc!BP179<0,0,IF(Calc!BP179<=$J$6,Calc!BP179,$J$6))","v":790},{"$f":"Calc!BL179","v":{"v":0.9845538461538429,"d":"0.98"}},0,{"$nulls":3},{"$f":"IF(G98=1,MATCH($K$61,G98:$G$112,0),C98)","v":113},113,{"$f":"IF(G98=1,MATCH($K$61,G98:$G$112,0),E98)","v":790},790,null,76,null,595]
[null,{"$f":"IF(Calc!BH180<$J$4,Calc!BH180,$J$4)","v":1000},{"$f":"IF(Calc!BJ180<0,0,IF(Calc!BJ180<=$J$6,Calc!BJ180,$J$6))","v":85},{"$f":"IF(Calc!BN180<$J$3,Calc!BN180,$J$3)","v":400},{"$f":"IF(Calc!BP180<0,0,IF(Calc!BP180<=$J$6,Calc!BP180,$J$6))","v":721},{"$f":"Calc!BL180","v":{"v":0.9230916923076893,"d":"0.92"}},0,{"$nulls":3},{"$f":"IF(G99=1,MATCH($K$61,G99:$G$112,0),C99)","v":85},85,{"$f":"IF(G99=1,MATCH($K$61,G99:$G$112,0),E99)","v":721},721,null,70,null,586]
[null,{"$f":"IF(Calc!BH181<$J$4,Calc!BH181,$J$4)","v":1000},{"$f":"IF(Calc!BJ181<0,0,IF(Calc!BJ181<=$J$6,Calc!BJ181,$J$6))","v":57},{"$f":"IF(Calc!BN181<$J$3,Calc!BN181,$J$3)","v":400},{"$f":"IF(Calc!BP181<0,0,IF(Calc!BP181<=$J$6,Calc!BP181,$J$6))","v":651},{"$f":"Calc!BL181","v":{"v":0.8610331428571397,"d":"0.86"}},0,{"$nulls":3},{"$f":"IF(G100=1,MATCH($K$61,G100:$G$112,0),C100)","v":57},57,{"$f":"IF(G100=1,MATCH($K$61,G100:$G$112,0),E100)","v":651},651,null,57,null,577]
[null,{"$f":"IF(Calc!BH182<$J$4,Calc!BH182,$J$4)","v":1000},{"$f":"IF(Calc!BJ182<0,0,IF(Calc!BJ182<=$J$6,Calc!BJ182,$J$6))","v":29},{"$f":"IF(Calc!BN182<$J$3,Calc!BN182,$J$3)","v":400},{"$f":"IF(Calc!BP182<0,0,IF(Calc!BP182<=$J$6,Calc!BP182,$J$6))","v":580},{"$f":"Calc!BL182","v":{"v":0.7983781978021947,"d":"0.80"}},0,{"$nulls":3},{"$f":"IF(G101=1,MATCH($K$61,G101:$G$112,0),C101)","v":29},29,{"$f":"IF(G101=1,MATCH($K$61,G101:$G$112,0),E101)","v":580},580,null,29,null,568]
[null,{"$f":"IF(Calc!BH183<$J$4,Calc!BH183,$J$4)","v":1000},{"$f":"IF(Calc!BJ183<0,0,IF(Calc!BJ183<=$J$6,Calc!BJ183,$J$6))","v":0},{"$f":"IF(Calc!BN183<$J$3,Calc!BN183,$J$3)","v":400},{"$f":"IF(Calc!BP183<0,0,IF(Calc!BP183<=$J$6,Calc!BP183,$J$6))","v":508},{"$f":"Calc!BL183","v":{"v":0.7351268571428539,"d":"0.74"}},0,{"$nulls":3},{"$f":"IF(G102=1,MATCH($K$61,G102:$G$112,0),C102)","v":0},0,{"$f":"IF(G102=1,MATCH($K$61,G102:$G$112,0),E102)","v":508},508,null,0,null,508]
[null,{"$f":"IF(Calc!BH184<$J$4,Calc!BH184,$J$4)","v":1000},{"$f":"IF(Calc!BJ184<0,0,IF(Calc!BJ184<=$J$6,Calc!BJ184,$J$6))","v":0},{"$f":"IF(Calc!BN184<$J$3,Calc!BN184,$J$3)","v":400},{"$f":"IF(Calc!BP184<0,0,IF(Calc!BP184<=$J$6,Calc!BP184,$J$6))","v":436},{"$f":"Calc!BL184","v":{"v":0.6712791208791177,"d":"0.67"}},0,{"$nulls":3},{"$f":"IF(G103=1,MATCH($K$61,G103:$G$112,0),C103)","v":0},0,{"$f":"IF(G103=1,MATCH($K$61,G103:$G$112,0),E103)","v":436},436,null,0,null,436]
[null,{"$f":"IF(Calc!BH185<$J$4,Calc!BH185,$J$4)","v":1000},{"$f":"IF(Calc!BJ185<0,0,IF(Calc!BJ185<=$J$6,Calc!BJ185,$J$6))","v":0},{"$f":"IF(Calc!BN185<$J$3,Calc!BN185,$J$3)","v":400},{"$f":"IF(Calc!BP185<0,0,IF(Calc!BP185<=$J$6,Calc!BP185,$J$6))","v":363},{"$f":"Calc!BL185","v":{"v":0.6068349890109856,"d":"0.61"}},0,{"$nulls":3},{"$f":"IF(G104=1,MATCH($K$61,G104:$G$112,0),C104)","v":0},0,{"$f":"IF(G104=1,MATCH($K$61,G104:$G$112,0),E104)","v":363},363,null,0,null,363]
[null,{"$f":"IF(Calc!BH186<$J$4,Calc!BH186,$J$4)","v":1000},{"$f":"IF(Calc!BJ186<0,0,IF(Calc!BJ186<=$J$6,Calc!BJ186,$J$6))","v":0},{"$f":"IF(Calc!BN186<$J$3,Calc!BN186,$J$3)","v":400},{"$f":"IF(Calc!BP186<0,0,IF(Calc!BP186<=$J$6,Calc!BP186,$J$6))","v":290},{"$f":"Calc!BL186","v":{"v":0.5417944615384582,"d":"0.54"}},0,{"$nulls":3},{"$f":"IF(G105=1,MATCH($K$61,G105:$G$112,0),C105)","v":0},0,{"$f":"IF(G105=1,MATCH($K$61,G105:$G$112,0),E105)","v":290},290,null,0,null,290]
[null,{"$f":"IF(Calc!BH187<$J$4,Calc!BH187,$J$4)","v":1000},{"$f":"IF(Calc!BJ187<0,0,IF(Calc!BJ187<=$J$6,Calc!BJ187,$J$6))","v":0},{"$f":"IF(Calc!BN187<$J$3,Calc!BN187,$J$3)","v":400},{"$f":"IF(Calc!BP187<0,0,IF(Calc!BP187<=$J$6,Calc!BP187,$J$6))","v":215},{"$f":"Calc!BL187","v":{"v":0.4761575384615351,"d":"0.48"}},0,{"$nulls":3},{"$f":"IF(G106=1,MATCH($K$61,G106:$G$112,0),C106)","v":0},0,{"$f":"IF(G106=1,MATCH($K$61,G106:$G$112,0),E106)","v":215},215,null,0,null,215]
[null,{"$f":"IF(Calc!BH188<$J$4,Calc!BH188,$J$4)","v":1000},{"$f":"IF(Calc!BJ188<0,0,IF(Calc!BJ188<=$J$6,Calc!BJ188,$J$6))","v":0},{"$f":"IF(Calc!BN188<$J$3,Calc!BN188,$J$3)","v":400},{"$f":"IF(Calc!BP188<0,0,IF(Calc!BP188<=$J$6,Calc!BP188,$J$6))","v":141},{"$f":"Calc!BL188","v":{"v":0.4099242197802164,"d":"0.41"}},0,{"$nulls":3},{"$f":"IF(G107=1,MATCH($K$61,G107:$G$112,0),C107)","v":0},0,{"$f":"IF(G107=1,MATCH($K$61,G107:$G$112,0),E107)","v":141},141,null,0,null,141]
[null,{"$f":"IF(Calc!BH189<$J$4,Calc!BH189,$J$4)","v":1000},{"$f":"IF(Calc!BJ189<0,0,IF(Calc!BJ189<=$J$6,Calc!BJ189,$J$6))","v":0},{"$f":"IF(Calc!BN189<$J$3,Calc!BN189,$J$3)","v":400},{"$f":"IF(Calc!BP189<0,0,IF(Calc!BP189<=$J$6,Calc!BP189,$J$6))","v":65},{"$f":"Calc!BL189","v":{"v":0.3430945054945021,"d":"0.34"}},0,{"$nulls":3},{"$f":"IF(G108=1,MATCH($K$61,G108:$G$112,0),C108)","v":0},0,{"$f":"IF(G108=1,MATCH($K$61,G108:$G$112,0),E108)","v":65},65,null,0,null,65]
[null,{"$f":"IF(Calc!BH190<$J$4,Calc!BH190,$J$4)","v":1000},{"$f":"IF(Calc!BJ190<0,0,IF(Calc!BJ190<=$J$6,Calc!BJ190,$J$6))","v":0},{"$f":"IF(Calc!BN190<$J$3,Calc!BN190,$J$3)","v":400},{"$f":"IF(Calc!BP190<0,0,IF(Calc!BP190<=$J$6,Calc!BP190,$J$6))","v":0},{"$f":"Calc!BL190","v":{"v":0.2756683956043922,"d":"0.28"}},0,{"$nulls":3},{"$f":"IF(G109=1,MATCH($K$61,G109:$G$112,0),C109)","v":0},0,{"$f":"IF(G109=1,MATCH($K$61,G109:$G$112,0),E109)","v":0},0,null,0,null,0]
[null,{"$f":"IF(Calc!BH191<$J$4,Calc!BH191,$J$4)","v":1000},{"$f":"IF(Calc!BJ191<0,0,IF(Calc!BJ191<=$J$6,Calc!BJ191,$J$6))","v":0},{"$f":"IF(Calc!BN191<$J$3,Calc!BN191,$J$3)","v":400},{"$f":"IF(Calc!BP191<0,0,IF(Calc!BP191<=$J$6,Calc!BP191,$J$6))","v":0},{"$f":"Calc!BL191","v":{"v":0.20764589010988635,"d":"0.21"}},0,{"$nulls":3},{"$f":"IF(G110=1,MATCH($K$61,G110:$G$112,0),C110)","v":0},0,{"$f":"IF(G110=1,MATCH($K$61,G110:$G$112,0),E110)","v":0},0,null,0,null,0]
[null,{"$f":"IF(Calc!BH192<$J$4,Calc!BH192,$J$4)","v":1000},{"$f":"IF(Calc!BJ192<0,0,IF(Calc!BJ192<=$J$6,Calc!BJ192,$J$6))","v":0},{"$f":"IF(Calc!BN192<$J$3,Calc!BN192,$J$3)","v":400},{"$f":"IF(Calc!BP192<0,0,IF(Calc!BP192<=$J$6,Calc!BP192,$J$6))","v":0},{"$f":"Calc!BL192","v":{"v":0.13902698901098556,"d":"0.14"}},0,{"$nulls":3},{"$f":"IF(G111=1,MATCH($K$61,G111:$G$112,0),C111)","v":0},0,{"$f":"IF(G111=1,MATCH($K$61,G111:$G$112,0),E111)","v":0},0,null,0,null,0]
[null,{"$f":"IF(Calc!BH193<$J$4,Calc!BH193,$J$4)","v":1000},{"$f":"IF(Calc!BJ193<0,0,IF(Calc!BJ193<=$J$6,Calc!BJ193,$J$6))","v":0},{"$f":"IF(Calc!BN193<$J$3,Calc!BN193,$J$3)","v":400},{"$f":"IF(Calc!BP193<0,0,IF(Calc!BP193<=$J$6,Calc!BP193,$J$6))","v":0},{"$f":"Calc!BL193","v":{"v":0.06981169230768883,"d":"0.07"}},0,{"$nulls":3},{"$f":"IF(G112=1,MATCH($K$61,G112:$G$112,0),C112)","v":0},0,{"$f":"IF(G112=1,MATCH($K$61,G112:$G$112,0),E112)","v":0},0,null,0,null,0]
[null,{"$f":"IF(Calc!BH194<$J$4,Calc!BH194,$J$4)","v":1000},{"$f":"IF(Calc!BJ194<0,0,IF(Calc!BJ194<=$J$6,Calc!BJ194,$J$6))","v":0},{"$f":"IF(Calc!BN194<$J$3,Calc!BN194,$J$3)","v":400},{"$f":"IF(Calc!BP194<0,0,IF(Calc!BP194<=$J$6,Calc!BP194,$J$6))","v":0},{"$f":"Calc!BL194","v":{"v":0,"d":"0.00"}},{"$f":"IF(AND(F113>$F$59,G112<>0),1,0)","v":0},{"$nulls":3},{"$f":"IF(G113=1,MATCH($K$61,G$112:$G113,0),C113)","v":0},{"$f":"IF(C113<0,0,IF(K113<>C113,OFFSET(B112,K113,1,1,1),C113))","v":0},{"$f":"IF(G113=1,MATCH($K$61,G$112:$G113,0),E113)","v":0},{"$f":"IF(E113<0,0,IF(M113<>E113,OFFSET(D112,M113,1,1,1),E113))","v":0},null,0,null,0]
[]
[]
[]
[{"$f":"B2","v":"AKM22E"},{"$f":"D2","v":"(240 VAC)"}]
[null,"mm/s","Output",null,"mm/s","Output"]
[null,0,{"$f":"C63","v":1002}]
[null,{"$f":"B63","v":{"v":858.0666666666666,"d":"858"}},{"$f":"C119","v":1002}]
[null,0,0]

{"sheet":"PC25 Graphs","index":11,"n_rows":120,"n_cols":14,"rows_kept":120,"hidden":true,"merged":[[57,11,57,13]]}
[{"$nulls":8},"Motors to be used"]
[null,"Current Motor",null,"Voltage",{"$nulls":4},"AKM13C",null,null,"Max speed","mm/s"]
[null,{"$f":"Calc!$A$2","v":"AKM22E"},null,{"$f":"IF(Calc!$C$2=160,\"(120 VAC)\",IF(Calc!$C$2=320,\"(240 VAC)\",\"(400 VAC)\"))","v":"(240 VAC)"},{"$nulls":4},"AKM24F",null,null,"PC25…B03",400]
[null,"PC25B10",null,"PC25B03",{"$nulls":4},"AKM24D?","400VAC",null,"PC25…B10",1333.3333333333335]
[null,"mm/s","Fx (N)","mm/s","Fx (N)"]
[null,{"$f":"IF(Calc!AN143<$M$4,Calc!AN143,\"\")","v":0},{"$f":"IF(Calc!AU143<0,0,IF(Calc!AU143<=$J$6,Calc!AU143,$J$6))","v":318},{"$f":"IF(Calc!AP143<$M$4,Calc!AW143,\"\")","v":0},{"$f":"IF(Calc!BD143<0,0,IF(Calc!BD143<=$J$6,Calc!BD143,$J$6))","v":1228},{"$nulls":3},"Max Load",1250,"N"]
[null,{"$f":"IF(Calc!AN144<$M$4,Calc!AN144,IF(B6>$M$4,B6,B6))","v":{"v":26.666666666666664,"d":"27"}},{"$f":"IF(Calc!AU144<0,0,IF(Calc!AU144<=$J$6,Calc!AU144,$J$6))","v":313},{"$f":"IF(Calc!AW144<$M$3,Calc!AW144,IF(D6>$M$3,D6,D6))","v":8},{"$f":"IF(Calc!BD144<0,0,IF(Calc!BD144<=$J$6,Calc!BD144,$J$6))","v":1219}]
[null,{"$f":"IF(Calc!AN145<$M$4,Calc!AN145,IF(B7>$M$4,B7,B7))","v":{"v":53.33333333333333,"d":"53"}},{"$f":"IF(Calc!AU145<0,0,IF(Calc!AU145<=$J$6,Calc!AU145,$J$6))","v":309},{"$f":"IF(Calc!AW145<$M$3,Calc!AW145,IF(D7>$M$3,D7,D7))","v":16},{"$f":"IF(Calc!BD145<0,0,IF(Calc!BD145<=$J$6,Calc!BD145,$J$6))","v":1211},{"$nulls":3},"AKM1 funkar bara med PC25B03, tas bort?"]
[null,{"$f":"IF(Calc!AN146<$M$4,Calc!AN146,IF(B8>$M$4,B8,B8))","v":80},{"$f":"IF(Calc!AU146<0,0,IF(Calc!AU146<=$J$6,Calc!AU146,$J$6))","v":304},{"$f":"IF(Calc!AW146<$M$3,Calc!AW146,IF(D8>$M$3,D8,D8))","v":24},{"$f":"IF(Calc!BD146<0,0,IF(Calc!BD146<=$J$6,Calc!BD146,$J$6))","v":1203}]
[null,{"$f":"IF(Calc!AN147<$M$4,Calc!AN147,IF(B9>$M$4,B9,B9))","v":{"v":106.66666666666666,"d":"107"}},{"$f":"IF(Calc!AU147<0,0,IF(Calc!AU147<=$J$6,Calc!AU147,$J$6))","v":300},{"$f":"IF(Calc!AW147<$M$3,Calc!AW147,IF(D9>$M$3,D9,D9))","v":32},{"$f":"IF(Calc!BD147<0,0,IF(Calc!BD147<=$J$6,Calc!BD147,$J$6))","v":1195}]
[null,{"$f":"IF(Calc!AN148<$M$4,Calc!AN148,IF(B10>$M$4,B10,B10))","v":{"v":133.33333333333334,"d":"133"}},{"$f":"IF(Calc!AU148<0,0,IF(Calc!AU148<=$J$6,Calc!AU148,$J$6))","v":295},{"$f":"IF(Calc!AW148<$M$3,Calc!AW148,IF(D10>$M$3,D10,D10))","v":40},{"$f":"IF(Calc!BD148<0,0,IF(Calc!BD148<=$J$6,Calc!BD148,$J$6))","v":1187}]
[null,{"$f":"IF(Calc!AN149<$M$4,Calc!AN149,IF(B11>$M$4,B11,B11))","v":160},{"$f":"IF(Calc!AU149<0,0,IF(Calc!AU149<=$J$6,Calc!AU149,$J$6))","v":291},{"$f":"IF(Calc!AW149<$M$3,Calc!AW149,IF(D11>$M$3,D11,D11))","v":48},{"$f":"IF(Calc!BD149<0,0,IF(Calc!BD149<=$J$6,Calc!BD149,$J$6))","v":1179}]
[null,{"$f":"IF(Calc!AN150<$M$4,Calc!AN150,IF(B12>$M$4,B12,B12))","v":{"v":186.66666666666669,"d":"187"}},{"$f":"IF(Calc!AU150<0,0,IF(Calc!AU150<=$J$6,Calc!AU150,$J$6))","v":287},{"$f":"IF(Calc!AW150<$M$3,Calc!AW150,IF(D12>$M$3,D12,D12))","v":56},{"$f":"IF(Calc!BD150<0,0,IF(Calc!BD150<=$J$6,Calc!BD150,$J$6))","v":1171}]
[null,{"$f":"IF(Calc!AN151<$M$4,Calc!AN151,IF(B13>$M$4,B13,B13))","v":{"v":213.33333333333331,"d":"213"}},{"$f":"IF(Calc!AU151<0,0,IF(Calc!AU151<=$J$6,Calc!AU151,$J$6))","v":283},{"$f":"IF(Calc!AW151<$M$3,Calc!AW151,IF(D13>$M$3,D13,D13))","v":64},{"$f":"IF(Calc!BD151<0,0,IF(Calc!BD151<=$J$6,Calc!BD151,$J$6))","v":1164}]
[null,{"$f":"IF(Calc!AN152<$M$4,Calc!AN152,IF(B14>$M$4,B14,B14))","v":240},{"$f":"IF(Calc!AU152<0,0,IF(Calc!AU152<=$J$6,Calc!AU152,$J$6))","v":278},{"$f":"IF(Calc!AW152<$M$3,Calc!AW152,IF(D14>$M$3,D14,D14))","v":72},{"$f":"IF(Calc!BD152<0,0,IF(Calc!BD152<=$J$6,Calc!BD152,$J$6))","v":1157}]
[null,{"$f":"IF(Calc!AN153<$M$4,Calc!AN153,IF(B15>$M$4,B15,B15))","v":{"v":266.6666666666667,"d":"267"}},{"$f":"IF(Calc!AU153<0,0,IF(Calc!AU153<=$J$6,Calc!AU153,$J$6))","v":274},{"$f":"IF(Calc!AW153<$M$3,Calc!AW153,IF(D15>$M$3,D15,D15))","v":80},{"$f":"IF(Calc!BD153<0,0,IF(Calc!BD153<=$J$6,Calc!BD153,$J$6))","v":1150}]
[null,{"$f":"IF(Calc!AN154<$M$4,Calc!AN154,IF(B16>$M$4,B16,B16))","v":{"v":293.3333333333333,"d":"293"}},{"$f":"IF(Calc!AU154<0,0,IF(Calc!AU154<=$J$6,Calc!AU154,$J$6))","v":270},{"$f":"IF(Calc!AW154<$M$3,Calc!AW154,IF(D16>$M$3,D16,D16))","v":88},{"$f":"IF(Calc!BD154<0,0,IF(Calc!BD154<=$J$6,Calc!BD154,$J$6))","v":1143}]
[null,{"$f":"IF(Calc!AN155<$M$4,Calc!AN155,IF(B17>$M$4,B17,B17))","v":320},{"$f":"IF(Calc!AU155<0,0,IF(Calc!AU155<=$J$6,Calc!AU155,$J$6))","v":266},{"$f":"IF(Calc!AW155<$M$3,Calc!AW155,IF(D17>$M$3,D17,D17))","v":96},{"$f":"IF(Calc!BD155<0,0,IF(Calc!BD155<=$J$6,Calc!BD155,$J$6))","v":1135}]
[null,{"$f":"IF(Calc!AN156<$M$4,Calc!AN156,IF(B18>$M$4,B18,B18))","v":{"v":346.66666666666663,"d":"347"}},{"$f":"IF(Calc!AU156<0,0,IF(Calc!AU156<=$J$6,Calc!AU156,$J$6))","v":262},{"$f":"IF(Calc!AW156<$M$3,Calc!AW156,IF(D18>$M$3,D18,D18))","v":104},{"$f":"IF(Calc!BD156<0,0,IF(Calc!BD156<=$J$6,Calc!BD156,$J$6))","v":1128}]
[null,{"$f":"IF(Calc!AN157<$M$4,Calc!AN157,IF(B19>$M$4,B19,B19))","v":{"v":373.33333333333337,"d":"373"}},{"$f":"IF(Calc!AU157<0,0,IF(Calc!AU157<=$J$6,Calc!AU157,$J$6))","v":258},{"$f":"IF(Calc!AW157<$M$3,Calc!AW157,IF(D19>$M$3,D19,D19))","v":112},{"$f":"IF(Calc!BD157<0,0,IF(Calc!BD157<=$J$6,Calc!BD157,$J$6))","v":1121}]
[null,{"$f":"IF(Calc!AN158<$M$4,Calc!AN158,IF(B20>$M$4,B20,B20))","v":400},{"$f":"IF(Calc!AU158<0,0,IF(Calc!AU158<=$J$6,Calc!AU158,$J$6))","v":253},{"$f":"IF(Calc!AW158<$M$3,Calc!AW158,IF(D20>$M$3,D20,D20))","v":120},{"$f":"IF(Calc!BD158<0,0,IF(Calc!BD158<=$J$6,Calc!BD158,$J$6))","v":1114}]
[null,{"$f":"IF(Calc!AN159<$M$4,Calc!AN159,IF(B21>$M$4,B21,B21))","v":{"v":426.66666666666663,"d":"427"}},{"$f":"IF(Calc!AU159<0,0,IF(Calc!AU159<=$J$6,Calc!AU159,$J$6))","v":249},{"$f":"IF(Calc!AW159<$M$3,Calc!AW159,IF(D21>$M$3,D21,D21))","v":128},{"$f":"IF(Calc!BD159<0,0,IF(Calc!BD159<=$J$6,Calc!BD159,$J$6))","v":1106}]
[null,{"$f":"IF(Calc!AN160<$M$4,Calc!AN160,IF(B22>$M$4,B22,B22))","v":{"v":453.33333333333337,"d":"453"}},{"$f":"IF(Calc!AU160<0,0,IF(Calc!AU160<=$J$6,Calc!AU160,$J$6))","v":245},{"$f":"IF(Calc!AW160<$M$3,Calc!AW160,IF(D22>$M$3,D22,D22))","v":136},{"$f":"IF(Calc!BD160<0,0,IF(Calc!BD160<=$J$6,Calc!BD160,$J$6))","v":1099}]
[null,{"$f":"IF(Calc!AN161<$M$4,Calc!AN161,IF(B23>$M$4,B23,B23))","v":480},{"$f":"IF(Calc!AU161<0,0,IF(Calc!AU161<=$J$6,Calc!AU161,$J$6))","v":241},{"$f":"IF(Calc!AW161<$M$3,Calc!AW161,IF(D23>$M$3,D23,D23))","v":144},{"$f":"IF(Calc!BD161<0,0,IF(Calc!BD161<=$J$6,Calc!BD161,$J$6))","v":1092}]
[null,{"$f":"IF(Calc!AN162<$M$4,Calc!AN162,IF(B24>$M$4,B24,B24))","v":{"v":506.66666666666663,"d":"507"}},{"$f":"IF(Calc!AU162<0,0,IF(Calc!AU162<=$J$6,Calc!AU162,$J$6))","v":237},{"$f":"IF(Calc!AW162<$M$3,Calc!AW162,IF(D24>$M$3,D24,D24))","v":152},{"$f":"IF(Calc!BD162<0,0,IF(Calc!BD162<=$J$6,Calc!BD162,$J$6))","v":1085}]
[null,{"$f":"IF(Calc!AN163<$M$4,Calc!AN163,IF(B25>$M$4,B25,B25))","v":{"v":533.3333333333334,"d":"533"}},{"$f":"IF(Calc!AU163<0,0,IF(Calc!AU163<=$J$6,Calc!AU163,$J$6))","v":232},{"$f":"IF(Calc!AW163<$M$3,Calc!AW163,IF(D25>$M$3,D25,D25))","v":160},{"$f":"IF(Calc!BD163<0,0,IF(Calc!BD163<=$J$6,Calc!BD163,$J$6))","v":1078}]
[null,{"$f":"IF(Calc!AN164<$M$4,Calc!AN164,IF(B26>$M$4,B26,B26))","v":560},{"$f":"IF(Calc!AU164<0,0,IF(Calc!AU164<=$J$6,Calc!AU164,$J$6))","v":228},{"$f":"IF(Calc!AW164<$M$3,Calc!AW164,IF(D26>$M$3,D26,D26))","v":168},{"$f":"IF(Calc!BD164<0,0,IF(Calc!BD164<=$J$6,Calc!BD164,$J$6))","v":1070}]
[null,{"$f":"IF(Calc!AN165<$M$4,Calc!AN165,IF(B27>$M$4,B27,B27))","v":{"v":586.6666666666666,"d":"587"}},{"$f":"IF(Calc!AU165<0,0,IF(Calc!AU165<=$J$6,Calc!AU165,$J$6))","v":224},{"$f":"IF(Calc!AW165<$M$3,Calc!AW165,IF(D27>$M$3,D27,D27))","v":176},{"$f":"IF(Calc!BD165<0,0,IF(Calc!BD165<=$J$6,Calc!BD165,$J$6))","v":1061}]
[null,{"$f":"IF(Calc!AN166<$M$4,Calc!AN166,IF(B28>$M$4,B28,B28))","v":{"v":613.3333333333334,"d":"613"}},{"$f":"IF(Calc!AU166<0,0,IF(Calc!AU166<=$J$6,Calc!AU166,$J$6))","v":219},{"$f":"IF(Calc!AW166<$M$3,Calc!AW166,IF(D28>$M$3,D28,D28))","v":184},{"$f":"IF(Calc!BD166<0,0,IF(Calc!BD166<=$J$6,Calc!BD166,$J$6))","v":1052}]
[null,{"$f":"IF(Calc!AN167<$M$4,Calc!AN167,IF(B29>$M$4,B29,B29))","v":640},{"$f":"IF(Calc!AU167<0,0,IF(Calc!AU167<=$J$6,Calc!AU167,$J$6))","v":214},{"$f":"IF(Calc!AW167<$M$3,Calc!AW167,IF(D29>$M$3,D29,D29))","v":192},{"$f":"IF(Calc!BD167<0,0,IF(Calc!BD167<=$J$6,Calc!BD167,$J$6))","v":1043}]
[null,{"$f":"IF(Calc!AN168<$M$4,Calc!AN168,IF(B30>$M$4,B30,B30))","v":{"v":666.6666666666667,"d":"667"}},{"$f":"IF(Calc!AU168<0,0,IF(Calc!AU168<=$J$6,Calc!AU168,$J$6))","v":209},{"$f":"IF(Calc!AW168<$M$3,Calc!AW168,IF(D30>$M$3,D30,D30))","v":200},{"$f":"IF(Calc!BD168<0,0,IF(Calc!BD168<=$J$6,Calc!BD168,$J$6))","v":1033}]
[null,{"$f":"IF(Calc!AN169<$M$4,Calc!AN169,IF(B31>$M$4,B31,B31))","v":{"v":693.3333333333333,"d":"693"}},{"$f":"IF(Calc!AU169<0,0,IF(Calc!AU169<=$J$6,Calc!AU169,$J$6))","v":204},{"$f":"IF(Calc!AW169<$M$3,Calc!AW169,IF(D31>$M$3,D31,D31))","v":208},{"$f":"IF(Calc!BD169<0,0,IF(Calc!BD169<=$J$6,Calc!BD169,$J$6))","v":1024}]
[null,{"$f":"IF(Calc!AN170<$M$4,Calc!AN170,IF(B32>$M$4,B32,B32))","v":720},{"$f":"IF(Calc!AU170<0,0,IF(Calc!AU170<=$J$6,Calc!AU170,$J$6))","v":200},{"$f":"IF(Calc!AW170<$M$3,Calc!AW170,IF(D32>$M$3,D32,D32))","v":216},{"$f":"IF(Calc!BD170<0,0,IF(Calc!BD170<=$J$6,Calc!BD170,$J$6))","v":1015}]
[null,{"$f":"IF(Calc!AN171<$M$4,Calc!AN171,IF(B33>$M$4,B33,B33))","v":{"v":746.6666666666667,"d":"747"}},{"$f":"IF(Calc!AU171<0,0,IF(Calc!AU171<=$J$6,Calc!AU171,$J$6))","v":195},{"$f":"IF(Calc!AW171<$M$3,Calc!AW171,IF(D33>$M$3,D33,D33))","v":224},{"$f":"IF(Calc!BD171<0,0,IF(Calc!BD171<=$J$6,Calc!BD171,$J$6))","v":1006}]
[null,{"$f":"IF(Calc!AN172<$M$4,Calc!AN172,IF(B34>$M$4,B34,B34))","v":{"v":773.3333333333333,"d":"773"}},{"$f":"IF(Calc!AU172<0,0,IF(Calc!AU172<=$J$6,Calc!AU172,$J$6))","v":190},{"$f":"IF(Calc!AW172<$M$3,Calc!AW172,IF(D34>$M$3,D34,D34))","v":232},{"$f":"IF(Calc!BD172<0,0,IF(Calc!BD172<=$J$6,Calc!BD172,$J$6))","v":996}]
[null,{"$f":"IF(Calc!AN173<$M$4,Calc!AN173,IF(B35>$M$4,B35,B35))","v":800},{"$f":"IF(Calc!AU173<0,0,IF(Calc!AU173<=$J$6,Calc!AU173,$J$6))","v":185},{"$f":"IF(Calc!AW173<$M$3,Calc!AW173,IF(D35>$M$3,D35,D35))","v":240},{"$f":"IF(Calc!BD173<0,0,IF(Calc!BD173<=$J$6,Calc!BD173,$J$6))","v":987}]
[null,{"$f":"IF(Calc!AN174<$M$4,Calc!AN174,IF(B36>$M$4,B36,B36))","v":{"v":826.6666666666667,"d":"827"}},{"$f":"IF(Calc!AU174<0,0,IF(Calc!AU174<=$J$6,Calc!AU174,$J$6))","v":180},{"$f":"IF(Calc!AW174<$M$3,Calc!AW174,IF(D36>$M$3,D36,D36))","v":248},{"$f":"IF(Calc!BD174<0,0,IF(Calc!BD174<=$J$6,Calc!BD174,$J$6))","v":978}]
[null,{"$f":"IF(Calc!AN175<$M$4,Calc!AN175,IF(B37>$M$4,B37,B37))","v":{"v":853.3333333333333,"d":"853"}},{"$f":"IF(Calc!AU175<0,0,IF(Calc!AU175<=$J$6,Calc!AU175,$J$6))","v":176},{"$f":"IF(Calc!AW175<$M$3,Calc!AW175,IF(D37>$M$3,D37,D37))","v":256},{"$f":"IF(Calc!BD175<0,0,IF(Calc!BD175<=$J$6,Calc!BD175,$J$6))","v":969}]
[null,{"$f":"IF(Calc!AN176<$M$4,Calc!AN176,IF(B38>$M$4,B38,B38))","v":880},{"$f":"IF(Calc!AU176<0,0,IF(Calc!AU176<=$J$6,Calc!AU176,$J$6))","v":171},{"$f":"IF(Calc!AW176<$M$3,Calc!AW176,IF(D38>$M$3,D38,D38))","v":264},{"$f":"IF(Calc!BD176<0,0,IF(Calc!BD176<=$J$6,Calc!BD176,$J$6))","v":959}]
[null,{"$f":"IF(Calc!AN177<$M$4,Calc!AN177,IF(B39>$M$4,B39,B39))","v":{"v":906.6666666666667,"d":"907"}},{"$f":"IF(Calc!AU177<0,0,IF(Calc!AU177<=$J$6,Calc!AU177,$J$6))","v":166},{"$f":"IF(Calc!AW177<$M$3,Calc!AW177,IF(D39>$M$3,D39,D39))","v":272},{"$f":"IF(Calc!BD177<0,0,IF(Calc!BD177<=$J$6,Calc!BD177,$J$6))","v":950}]
[null,{"$f":"IF(Calc!AN178<$M$4,Calc!AN178,IF(B40>$M$4,B40,B40))","v":{"v":933.3333333333333,"d":"933"}},{"$f":"IF(Calc!AU178<0,0,IF(Calc!AU178<=$J$6,Calc!AU178,$J$6))","v":161},{"$f":"IF(Calc!AW178<$M$3,Calc!AW178,IF(D40>$M$3,D40,D40))","v":280},{"$f":"IF(Calc!BD178<0,0,IF(Calc!BD178<=$J$6,Calc!BD178,$J$6))","v":941}]
[null,{"$f":"IF(Calc!AN179<$M$4,Calc!AN179,IF(B41>$M$4,B41,B41))","v":960},{"$f":"IF(Calc!AU179<0,0,IF(Calc!AU179<=$J$6,Calc!AU179,$J$6))","v":157},{"$f":"IF(Calc!AW179<$M$3,Calc!AW179,IF(D41>$M$3,D41,D41))","v":288},{"$f":"IF(Calc!BD179<0,0,IF(Calc!BD179<=$J$6,Calc!BD179,$J$6))","v":932}]
[null,{"$f":"IF(Calc!AN180<$M$4,Calc!AN180,IF(B42>$M$4,B42,B42))","v":{"v":986.6666666666667,"d":"987"}},{"$f":"IF(Calc!AU180<0,0,IF(Calc!AU180<=$J$6,Calc!AU180,$J$6))","v":152},{"$f":"IF(Calc!AW180<$M$3,Calc!AW180,IF(D42>$M$3,D42,D42))","v":296},{"$f":"IF(Calc!BD180<0,0,IF(Calc!BD180<=$J$6,Calc!BD180,$J$6))","v":922}]
[null,{"$f":"IF(Calc!AN181<$M$4,Calc!AN181,IF(B43>$M$4,B43,B43))","v":{"v":1013.3333333333333,"d":"1013"}},{"$f":"IF(Calc!AU181<0,0,IF(Calc!AU181<=$J$6,Calc!AU181,$J$6))","v":147},{"$f":"IF(Calc!AW181<$M$3,Calc!AW181,IF(D43>$M$3,D43,D43))","v":304},{"$f":"IF(Calc!BD181<0,0,IF(Calc!BD181<=$J$6,Calc!BD181,$J$6))","v":913}]
[null,{"$f":"IF(Calc!AN182<$M$4,Calc!AN182,IF(B44>$M$4,B44,B44))","v":1040},{"$f":"IF(Calc!AU182<0,0,IF(Calc!AU182<=$J$6,Calc!AU182,$J$6))","v":142},{"$f":"IF(Calc!AW182<$M$3,Calc!AW182,IF(D44>$M$3,D44,D44))","v":312},{"$f":"IF(Calc!BD182<0,0,IF(Calc!BD182<=$J$6,Calc!BD182,$J$6))","v":904}]
[null,{"$f":"IF(Calc!AN183<$M$4,Calc!AN183,IF(B45>$M$4,B45,B45))","v":{"v":1066.6666666666667,"d":"1067"}},{"$f":"IF(Calc!AU183<0,0,IF(Calc!AU183<=$J$6,Calc!AU183,$J$6))","v":137},{"$f":"IF(Calc!AW183<$M$3,Calc!AW183,IF(D45>$M$3,D45,D45))","v":320},{"$f":"IF(Calc!BD183<0,0,IF(Calc!BD183<=$J$6,Calc!BD183,$J$6))","v":895}]
[null,{"$f":"IF(Calc!AN184<$M$4,Calc!AN184,IF(B46>$M$4,B46,B46))","v":{"v":1093.3333333333333,"d":"1093"}},{"$f":"IF(Calc!AU184<0,0,IF(Calc!AU184<=$J$6,Calc!AU184,$J$6))","v":133},{"$f":"IF(Calc!AW184<$M$3,Calc!AW184,IF(D46>$M$3,D46,D46))","v":328},{"$f":"IF(Calc!BD184<0,0,IF(Calc!BD184<=$J$6,Calc!BD184,$J$6))","v":885}]
[null,{"$f":"IF(Calc!AN185<$M$4,Calc!AN185,IF(B47>$M$4,B47,B47))","v":1120},{"$f":"IF(Calc!AU185<0,0,IF(Calc!AU185<=$J$6,Calc!AU185,$J$6))","v":128},{"$f":"IF(Calc!AW185<$M$3,Calc!AW185,IF(D47>$M$3,D47,D47))","v":336},{"$f":"IF(Calc!BD185<0,0,IF(Calc!BD185<=$J$6,Calc!BD185,$J$6))","v":876}]
[null,{"$f":"IF(Calc!AN186<$M$4,Calc!AN186,IF(B48>$M$4,B48,B48))","v":{"v":1146.6666666666667,"d":"1147"}},{"$f":"IF(Calc!AU186<0,0,IF(Calc!AU186<=$J$6,Calc!AU186,$J$6))","v":123},{"$f":"IF(Calc!AW186<$M$3,Calc!AW186,IF(D48>$M$3,D48,D48))","v":344},{"$f":"IF(Calc!BD186<0,0,IF(Calc!BD186<=$J$6,Calc!BD186,$J$6))","v":867}]
[null,{"$f":"IF(Calc!AN187<$M$4,Calc!AN187,IF(B49>$M$4,B49,B49))","v":{"v":1173.3333333333333,"d":"1173"}},{"$f":"IF(Calc!AU187<0,0,IF(Calc!AU187<=$J$6,Calc!AU187,$J$6))","v":118},{"$f":"IF(Calc!AW187<$M$3,Calc!AW187,IF(D49>$M$3,D49,D49))","v":352},{"$f":"IF(Calc!BD187<0,0,IF(Calc!BD187<=$J$6,Calc!BD187,$J$6))","v":858}]
[null,{"$f":"IF(Calc!AN188<$M$4,Calc!AN188,IF(B50>$M$4,B50,B50))","v":1200},{"$f":"IF(Calc!AU188<0,0,IF(Calc!AU188<=$J$6,Calc!AU188,$J$6))","v":113},{"$f":"IF(Calc!AW188<$M$3,Calc!AW188,IF(D50>$M$3,D50,D50))","v":360},{"$f":"IF(Calc!BD188<0,0,IF(Calc!BD188<=$J$6,Calc!BD188,$J$6))","v":848}]
[null,{"$f":"IF(Calc!AN189<$M$4,Calc!AN189,IF(B51>$M$4,B51,B51))","v":{"v":1226.6666666666667,"d":"1227"}},{"$f":"IF(Calc!AU189<0,0,IF(Calc!AU189<=$J$6,Calc!AU189,$J$6))","v":109},{"$f":"IF(Calc!AW189<$M$3,Calc!AW189,IF(D51>$M$3,D51,D51))","v":368},{"$f":"IF(Calc!BD189<0,0,IF(Calc!BD189<=$J$6,Calc!BD189,$J$6))","v":839}]
[null,{"$f":"IF(Calc!AN190<$M$4,Calc!AN190,IF(B52>$M$4,B52,B52))","v":{"v":1253.3333333333333,"d":"1253"}},{"$f":"IF(Calc!AU190<0,0,IF(Calc!AU190<=$J$6,Calc!AU190,$J$6))","v":104},{"$f":"IF(Calc!AW190<$M$3,Calc!AW190,IF(D52>$M$3,D52,D52))","v":376},{"$f":"IF(Calc!BD190<0,0,IF(Calc!BD190<=$J$6,Calc!BD190,$J$6))","v":830}]
[null,{"$f":"IF(Calc!AN191<$M$4,Calc!AN191,IF(B53>$M$4,B53,B53))","v":1280},{"$f":"IF(Calc!AU191<0,0,IF(Calc!AU191<=$J$6,Calc!AU191,$J$6))","v":99},{"$f":"IF(Calc!AW191<$M$3,Calc!AW191,IF(D53>$M$3,D53,D53))","v":384},{"$f":"IF(Calc!BD191<0,0,IF(Calc!BD191<=$J$6,Calc!BD191,$J$6))","v":821}]
[null,{"$f":"IF(Calc!AN192<$M$4,Calc!AN192,IF(B54>$M$4,B54,B54))","v":{"v":1306.6666666666665,"d":"1307"}},{"$f":"IF(Calc!AU192<0,0,IF(Calc!AU192<=$J$6,Calc!AU192,$J$6))","v":94},{"$f":"IF(Calc!AW192<$M$3,Calc!AW192,IF(D54>$M$3,D54,D54))","v":392},{"$f":"IF(Calc!BD192<0,0,IF(Calc!BD192<=$J$6,Calc!BD192,$J$6))","v":811}]
[null,{"$f":"IF(Calc!AN193<$M$4,Calc!AN193,IF(B55>$M$4,B55,B55))","v":{"v":1306.6666666666665,"d":"1307"}},{"$f":"IF(Calc!AU193<0,0,IF(Calc!AU193<=$J$6,Calc!AU193,$J$6))","v":90},{"$f":"IF(Calc!AW193<$M$3,Calc!AW193,IF(D55>$M$3,D55,D55))","v":392},{"$f":"IF(Calc!BD193<0,0,IF(Calc!BD193<=$J$6,Calc!BD193,$J$6))","v":804}]
[null,{"$f":"IF(Calc!AN194<$M$4,Calc!AN194,IF(B56>$M$4,B56,B56))","v":{"v":1306.6666666666665,"d":"1307"}},{"$f":"IF(Calc!AU194<0,0,IF(Calc!AU194<=$J$6,Calc!AU194,$J$6))","v":0},{"$f":"IF(Calc!AW194<$M$3,Calc!AW194,IF(D56>$M$3,D56,D56))","v":392},{"$f":"IF(Calc!BD194<0,0,IF(Calc!BD194<=$J$6,Calc!BD194,$J$6))","v":0}]
[{"$nulls":11},"Output"]
[null,"Cyclic duty",null,null,"Max input torque for RediMount",{"$nulls":5},"Förskjutning",null,"Förskjutning"]
[{"$nulls":4},"PC25",2.3,"Nm",{"$nulls":4},"PC25B10",null,"PC25B03"]
[null,"PC25B10",null,"PC25B03",null,"Motor ","High torque test",{"$nulls":3},0,"Fx (N)",null,"Fx (N)"]
[null,"mm/s","Fx (N)","mm/s","Fx (N)","Torque","1 = high torque"]
[null,{"$f":"IF(Calc!BT143>$M$4,$M$4,Calc!BT143)","v":0},{"$f":"IF(Calc!BV143<0,0,IF(Calc!BV143<=$J$6,Calc!BV143,$J$6))","v":1173},{"$f":"IF(Calc!BZ143<$M$3,Calc!BZ143,$M$3)","v":0},{"$f":"IF(Calc!CB143<0,0,IF(Calc!CB143<=$J$6,Calc!CB143,$J$6))","v":1250},{"$f":"Calc!BX143","v":{"v":2.7600000000000002,"d":"2.76"}},{"$f":"IF(AND(F63>$F$60,G62<>0),1,0)","v":1},{"$nulls":3},{"$f":"IF(G63=1,MATCH($K$61,G63:$G$113,0),C63)","v":13},{"$f":"IF(C63<0,0,IF(K63<>C63,OFFSET(B62,K63,1,1,1),C63))","v":841},{"$f":"IF(G63=1,MATCH($K$61,G63:$G$113,0),E63)","v":13},{"$f":"IF(E63<0,0,IF(M63<>E63,OFFSET(D62,M63,1,1,1),E63))","v":1250}]
[null,{"$f":"IF(Calc!BT144>$M$4,$M$4,Calc!BT144)","v":{"v":858.0666666666666,"d":"858"}},{"$f":"IF(Calc!BV144<0,0,IF(Calc!BV144<=$J$6,Calc!BV144,$J$6))","v":1076},{"$f":"IF(Calc!BZ144<$M$3,Calc!BZ144,$M$3)","v":{"v":257.41999999999996,"d":"257"}},{"$f":"IF(Calc!CB144<0,0,IF(Calc!CB144<=$J$6,Calc!CB144,$J$6))","v":1250},{"$f":"Calc!BX144","v":{"v":2.7600000000000002,"d":"2.76"}},{"$f":"IF(AND(F64>$F$60,G63<>0),1,0)","v":1},{"$nulls":3},{"$f":"IF(G64=1,MATCH($K$61,G64:$G$113,0),C64)","v":12},{"$f":"IF(C64<0,0,IF(K64<>C64,OFFSET(B63,K64,1,1,1),C64))","v":841},{"$f":"IF(G64=1,MATCH($K$61,G64:$G$113,0),E64)","v":12},{"$f":"IF(E64<0,0,IF(M64<>E64,OFFSET(D63,M64,1,1,1),E64))","v":1250}]
[null,{"$f":"IF(Calc!BT145>$M$4,$M$4,Calc!BT145)","v":{"v":870.8,"d":"871"}},{"$f":"IF(Calc!BV145<0,0,IF(Calc!BV145<=$J$6,Calc!BV145,$J$6))","v":1056},{"$f":"IF(Calc!BZ145<$M$3,Calc!BZ145,$M$3)","v":{"v":261.24,"d":"261"}},{"$f":"IF(Calc!CB145<0,0,IF(Calc!CB145<=$J$6,Calc!CB145,$J$6))","v":1250},{"$f":"Calc!BX145","v":{"v":2.719411692307692,"d":"2.72"}},1,{"$nulls":3},{"$f":"IF(G65=1,MATCH($K$61,G65:$G$113,0),C65)","v":11},841,{"$f":"IF(G65=1,MATCH($K$61,G65:$G$113,0),E65)","v":11},1250]
[null,{"$f":"IF(Calc!BT146>$M$4,$M$4,Calc!BT146)","v":{"v":883.7833333333333,"d":"884"}},{"$f":"IF(Calc!BV146<0,0,IF(Calc!BV146<=$J$6,Calc!BV146,$J$6))","v":1036},{"$f":"IF(Calc!BZ146<$M$3,Calc!BZ146,$M$3)","v":{"v":265.135,"d":"265"}},{"$f":"IF(Calc!CB146<0,0,IF(Calc!CB146<=$J$6,Calc!CB146,$J$6))","v":1250},{"$f":"Calc!BX146","v":{"v":2.678226989010989,"d":"2.68"}},1,{"$nulls":3},{"$f":"IF(G66=1,MATCH($K$61,G66:$G$113,0),C66)","v":10},841,{"$f":"IF(G66=1,MATCH($K$61,G66:$G$113,0),E66)","v":10},1250]
[null,{"$f":"IF(Calc!BT147>$M$4,$M$4,Calc!BT147)","v":{"v":897.0166666666667,"d":"897"}},{"$f":"IF(Calc!BV147<0,0,IF(Calc!BV147<=$J$6,Calc!BV147,$J$6))","v":1015},{"$f":"IF(Calc!BZ147<$M$3,Calc!BZ147,$M$3)","v":{"v":269.105,"d":"269"}},{"$f":"IF(Calc!CB147<0,0,IF(Calc!CB147<=$J$6,Calc!CB147,$J$6))","v":1250},{"$f":"Calc!BX147","v":{"v":2.6364458901098904,"d":"2.64"}},1,{"$nulls":3},{"$f":"IF(G67=1,MATCH($K$61,G67:$G$113,0),C67)","v":9},841,{"$f":"IF(G67=1,MATCH($K$61,G67:$G$113,0),E67)","v":9},1250]
[null,{"$f":"IF(Calc!BT148>$M$4,$M$4,Calc!BT148)","v":{"v":910.5166666666668,"d":"911"}},{"$f":"IF(Calc!BV148<0,0,IF(Calc!BV148<=$J$6,Calc!BV148,$J$6))","v":995},{"$f":"IF(Calc!BZ148<$M$3,Calc!BZ148,$M$3)","v":{"v":273.15500000000003,"d":"273"}},{"$f":"IF(Calc!CB148<0,0,IF(Calc!CB148<=$J$6,Calc!CB148,$J$6))","v":1250},{"$f":"Calc!BX148","v":{"v":2.5940683956043955,"d":"2.59"}},1,{"$nulls":3},{"$f":"IF(G68=1,MATCH($K$61,G68:$G$113,0),C68)","v":8},841,{"$f":"IF(G68=1,MATCH($K$61,G68:$G$113,0),E68)","v":8},1250]
[null,{"$f":"IF(Calc!BT149>$M$4,$M$4,Calc!BT149)","v":{"v":924.2833333333333,"d":"924"}},{"$f":"IF(Calc!BV149<0,0,IF(Calc!BV149<=$J$6,Calc!BV149,$J$6))","v":974},{"$f":"IF(Calc!BZ149<$M$3,Calc!BZ149,$M$3)","v":{"v":277.28499999999997,"d":"277"}},{"$f":"IF(Calc!CB149<0,0,IF(Calc!CB149<=$J$6,Calc!CB149,$J$6))","v":1250},{"$f":"Calc!BX149","v":{"v":2.5510945054945053,"d":"2.55"}},1,{"$nulls":3},{"$f":"IF(G69=1,MATCH($K$61,G69:$G$113,0),C69)","v":7},841,{"$f":"IF(G69=1,MATCH($K$61,G69:$G$113,0),E69)","v":7},1250]
[null,{"$f":"IF(Calc!BT150>$M$4,$M$4,Calc!BT150)","v":{"v":938.3333333333333,"d":"938"}},{"$f":"IF(Calc!BV150<0,0,IF(Calc!BV150<=$J$6,Calc!BV150,$J$6))","v":952},{"$f":"IF(Calc!BZ150<$M$3,Calc!BZ150,$M$3)","v":{"v":281.5,"d":"282"}},{"$f":"IF(Calc!CB150<0,0,IF(Calc!CB150<=$J$6,Calc!CB150,$J$6))","v":1250},{"$f":"Calc!BX150","v":{"v":2.5075242197802194,"d":"2.51"}},1,{"$nulls":3},{"$f":"IF(G70=1,MATCH($K$61,G70:$G$113,0),C70)","v":6},841,{"$f":"IF(G70=1,MATCH($K$61,G70:$G$113,0),E70)","v":6},1250]
[null,{"$f":"IF(Calc!BT151>$M$4,$M$4,Calc!BT151)","v":{"v":952.6333333333333,"d":"953"}},{"$f":"IF(Calc!BV151<0,0,IF(Calc!BV151<=$J$6,Calc!BV151,$J$6))","v":931},{"$f":"IF(Calc!BZ151<$M$3,Calc!BZ151,$M$3)","v":{"v":285.79,"d":"286"}},{"$f":"IF(Calc!CB151<0,0,IF(Calc!CB151<=$J$6,Calc!CB151,$J$6))","v":1250},{"$f":"Calc!BX151","v":{"v":2.4633575384615383,"d":"2.46"}},1,{"$nulls":3},{"$f":"IF(G71=1,MATCH($K$61,G71:$G$113,0),C71)","v":5},841,{"$f":"IF(G71=1,MATCH($K$61,G71:$G$113,0),E71)","v":5},1250]
[null,{"$f":"IF(Calc!BT152>$M$4,$M$4,Calc!BT152)","v":{"v":967.2166666666667,"d":"967"}},{"$f":"IF(Calc!BV152<0,0,IF(Calc!BV152<=$J$6,Calc!BV152,$J$6))","v":909},{"$f":"IF(Calc!BZ152<$M$3,Calc!BZ152,$M$3)","v":{"v":290.16499999999996,"d":"290"}},{"$f":"IF(Calc!CB152<0,0,IF(Calc!CB152<=$J$6,Calc!CB152,$J$6))","v":1250},{"$f":"Calc!BX152","v":{"v":2.418594461538462,"d":"2.42"}},1,{"$nulls":3},{"$f":"IF(G72=1,MATCH($K$61,G72:$G$113,0),C72)","v":4},841,{"$f":"IF(G72=1,MATCH($K$61,G72:$G$113,0),E72)","v":4},1250]
[null,{"$f":"IF(Calc!BT153>$M$4,$M$4,Calc!BT153)","v":{"v":982.0666666666666,"d":"982"}},{"$f":"IF(Calc!BV153<0,0,IF(Calc!BV153<=$J$6,Calc!BV153,$J$6))","v":887},{"$f":"IF(Calc!BZ153<$M$3,Calc!BZ153,$M$3)","v":{"v":294.62,"d":"295"}},{"$f":"IF(Calc!CB153<0,0,IF(Calc!CB153<=$J$6,Calc!CB153,$J$6))","v":1250},{"$f":"Calc!BX153","v":{"v":2.373234989010989,"d":"2.37"}},1,{"$nulls":3},{"$f":"IF(G73=1,MATCH($K$61,G73:$G$113,0),C73)","v":3},841,{"$f":"IF(G73=1,MATCH($K$61,G73:$G$113,0),E73)","v":3},1250]
[null,{"$f":"IF(Calc!BT154>$M$4,$M$4,Calc!BT154)","v":{"v":997.2,"d":"997"}},{"$f":"IF(Calc!BV154<0,0,IF(Calc!BV154<=$J$6,Calc!BV154,$J$6))","v":864},{"$f":"IF(Calc!BZ154<$M$3,Calc!BZ154,$M$3)","v":{"v":299.15999999999997,"d":"299"}},{"$f":"IF(Calc!CB154<0,0,IF(Calc!CB154<=$J$6,Calc!CB154,$J$6))","v":1250},{"$f":"Calc!BX154","v":{"v":2.3272791208791213,"d":"2.33"}},1,{"$nulls":3},{"$f":"IF(G74=1,MATCH($K$61,G74:$G$113,0),C74)","v":2},841,{"$f":"IF(G74=1,MATCH($K$61,G74:$G$113,0),E74)","v":2},1250]
[null,{"$f":"IF(Calc!BT155>$M$4,$M$4,Calc!BT155)","v":{"v":1012.6,"d":"1013"}},{"$f":"IF(Calc!BV155<0,0,IF(Calc!BV155<=$J$6,Calc!BV155,$J$6))","v":841},{"$f":"IF(Calc!BZ155<$M$3,Calc!BZ155,$M$3)","v":{"v":303.78000000000003,"d":"304"}},{"$f":"IF(Calc!CB155<0,0,IF(Calc!CB155<=$J$6,Calc!CB155,$J$6))","v":1250},{"$f":"Calc!BX155","v":{"v":2.2807268571428576,"d":"2.28"}},0,{"$nulls":3},{"$f":"IF(G75=1,MATCH($K$61,G75:$G$113,0),C75)","v":841},841,{"$f":"IF(G75=1,MATCH($K$61,G75:$G$113,0),E75)","v":1250},1250]
[null,{"$f":"IF(Calc!BT156>$M$4,$M$4,Calc!BT156)","v":{"v":1028.2833333333333,"d":"1028"}},{"$f":"IF(Calc!BV156<0,0,IF(Calc!BV156<=$J$6,Calc!BV156,$J$6))","v":818},{"$f":"IF(Calc!BZ156<$M$3,Calc!BZ156,$M$3)","v":{"v":308.485,"d":"308"}},{"$f":"IF(Calc!CB156<0,0,IF(Calc!CB156<=$J$6,Calc!CB156,$J$6))","v":1250},{"$f":"Calc!BX156","v":{"v":2.2335781978021974,"d":"2.23"}},0,{"$nulls":3},{"$f":"IF(G76=1,MATCH($K$61,G76:$G$113,0),C76)","v":818},818,{"$f":"IF(G76=1,MATCH($K$61,G76:$G$113,0),E76)","v":1250},1250]
[null,{"$f":"IF(Calc!BT157>$M$4,$M$4,Calc!BT157)","v":{"v":1044.25,"d":"1044"}},{"$f":"IF(Calc!BV157<0,0,IF(Calc!BV157<=$J$6,Calc!BV157,$J$6))","v":795},{"$f":"IF(Calc!BZ157<$M$3,Calc!BZ157,$M$3)","v":{"v":313.275,"d":"313"}},{"$f":"IF(Calc!CB157<0,0,IF(Calc!CB157<=$J$6,Calc!CB157,$J$6))","v":1250},{"$f":"Calc!BX157","v":{"v":2.1858331428571427,"d":"2.19"}},0,{"$nulls":3},{"$f":"IF(G77=1,MATCH($K$61,G77:$G$113,0),C77)","v":795},795,{"$f":"IF(G77=1,MATCH($K$61,G77:$G$113,0),E77)","v":1250},1250]
[null,{"$f":"IF(Calc!BT158>$M$4,$M$4,Calc!BT158)","v":{"v":1060.4833333333333,"d":"1060"}},{"$f":"IF(Calc!BV158<0,0,IF(Calc!BV158<=$J$6,Calc!BV158,$J$6))","v":771},{"$f":"IF(Calc!BZ158<$M$3,Calc!BZ158,$M$3)","v":{"v":318.145,"d":"318"}},{"$f":"IF(Calc!CB158<0,0,IF(Calc!CB158<=$J$6,Calc!CB158,$J$6))","v":1250},{"$f":"Calc!BX158","v":{"v":2.1374916923076923,"d":"2.14"}},0,{"$nulls":3},{"$f":"IF(G78=1,MATCH($K$61,G78:$G$113,0),C78)","v":771},771,{"$f":"IF(G78=1,MATCH($K$61,G78:$G$113,0),E78)","v":1250},1250]
[null,{"$f":"IF(Calc!BT159>$M$4,$M$4,Calc!BT159)","v":{"v":1076.9833333333331,"d":"1077"}},{"$f":"IF(Calc!BV159<0,0,IF(Calc!BV159<=$J$6,Calc!BV159,$J$6))","v":747},{"$f":"IF(Calc!BZ159<$M$3,Calc!BZ159,$M$3)","v":{"v":323.09499999999997,"d":"323"}},{"$f":"IF(Calc!CB159<0,0,IF(Calc!CB159<=$J$6,Calc!CB159,$J$6))","v":1250},{"$f":"Calc!BX159","v":{"v":2.088553846153846,"d":"2.09"}},0,{"$nulls":3},{"$f":"IF(G79=1,MATCH($K$61,G79:$G$113,0),C79)","v":747},747,{"$f":"IF(G79=1,MATCH($K$61,G79:$G$113,0),E79)","v":1250},1250]
[null,{"$f":"IF(Calc!BT160>$M$4,$M$4,Calc!BT160)","v":{"v":1093.75,"d":"1094"}},{"$f":"IF(Calc!BV160<0,0,IF(Calc!BV160<=$J$6,Calc!BV160,$J$6))","v":723},{"$f":"IF(Calc!BZ160<$M$3,Calc!BZ160,$M$3)","v":{"v":328.125,"d":"328"}},{"$f":"IF(Calc!CB160<0,0,IF(Calc!CB160<=$J$6,Calc!CB160,$J$6))","v":1250},{"$f":"Calc!BX160","v":{"v":2.0390196043956044,"d":"2.04"}},0,{"$nulls":3},{"$f":"IF(G80=1,MATCH($K$61,G80:$G$113,0),C80)","v":723},723,{"$f":"IF(G80=1,MATCH($K$61,G80:$G$113,0),E80)","v":1250},1250]
[null,{"$f":"IF(Calc!BT161>$M$4,$M$4,Calc!BT161)","v":{"v":1110.7833333333333,"d":"1111"}},{"$f":"IF(Calc!BV161<0,0,IF(Calc!BV161<=$J$6,Calc!BV161,$J$6))","v":698},{"$f":"IF(Calc!BZ161<$M$3,Calc!BZ161,$M$3)","v":{"v":333.235,"d":"333"}},{"$f":"IF(Calc!CB161<0,0,IF(Calc!CB161<=$J$6,Calc!CB161,$J$6))","v":1250},{"$f":"Calc!BX161","v":{"v":1.9888889670329672,"d":"1.99"}},0,{"$nulls":3},{"$f":"IF(G81=1,MATCH($K$61,G81:$G$113,0),C81)","v":698},698,{"$f":"IF(G81=1,MATCH($K$61,G81:$G$113,0),E81)","v":1250},1250]
[null,{"$f":"IF(Calc!BT162>$M$4,$M$4,Calc!BT162)","v":{"v":1128.0666666666666,"d":"1128"}},{"$f":"IF(Calc!BV162<0,0,IF(Calc!BV162<=$J$6,Calc!BV162,$J$6))","v":673},{"$f":"IF(Calc!BZ162<$M$3,Calc!BZ162,$M$3)","v":{"v":338.41999999999996,"d":"338"}},{"$f":"IF(Calc!CB162<0,0,IF(Calc!CB162<=$J$6,Calc!CB162,$J$6))","v":1250},{"$f":"Calc!BX162","v":{"v":1.938161934065934,"d":"1.94"}},0,{"$nulls":3},{"$f":"IF(G82=1,MATCH($K$61,G82:$G$113,0),C82)","v":673},673,{"$f":"IF(G82=1,MATCH($K$61,G82:$G$113,0),E82)","v":1250},1250]
[null,{"$f":"IF(Calc!BT163>$M$4,$M$4,Calc!BT163)","v":{"v":1145.6,"d":"1146"}},{"$f":"IF(Calc!BV163<0,0,IF(Calc!BV163<=$J$6,Calc!BV163,$J$6))","v":648},{"$f":"IF(Calc!BZ163<$M$3,Calc!BZ163,$M$3)","v":{"v":343.68,"d":"344"}},{"$f":"IF(Calc!CB163<0,0,IF(Calc!CB163<=$J$6,Calc!CB163,$J$6))","v":1250},{"$f":"Calc!BX163","v":{"v":1.8868385054945054,"d":"1.89"}},0,{"$nulls":3},{"$f":"IF(G83=1,MATCH($K$61,G83:$G$113,0),C83)","v":648},648,{"$f":"IF(G83=1,MATCH($K$61,G83:$G$113,0),E83)","v":1250},1250]
[null,{"$f":"IF(Calc!BT164>$M$4,$M$4,Calc!BT164)","v":{"v":1163.3500000000001,"d":"1163"}},{"$f":"IF(Calc!BV164<0,0,IF(Calc!BV164<=$J$6,Calc!BV164,$J$6))","v":623},{"$f":"IF(Calc!BZ164<$M$3,Calc!BZ164,$M$3)","v":{"v":349.005,"d":"349"}},{"$f":"IF(Calc!CB164<0,0,IF(Calc!CB164<=$J$6,Calc!CB164,$J$6))","v":1250},{"$f":"Calc!BX164","v":{"v":1.834918681318681,"d":"1.83"}},0,{"$nulls":3},{"$f":"IF(G84=1,MATCH($K$61,G84:$G$113,0),C84)","v":623},623,{"$f":"IF(G84=1,MATCH($K$61,G84:$G$113,0),E84)","v":1250},1250]
[null,{"$f":"IF(Calc!BT165>$M$4,$M$4,Calc!BT165)","v":{"v":1181.3333333333335,"d":"1181"}},{"$f":"IF(Calc!BV165<0,0,IF(Calc!BV165<=$J$6,Calc!BV165,$J$6))","v":597},{"$f":"IF(Calc!BZ165<$M$3,Calc!BZ165,$M$3)","v":{"v":354.40000000000003,"d":"354"}},{"$f":"IF(Calc!CB165<0,0,IF(Calc!CB165<=$J$6,Calc!CB165,$J$6))","v":1250},{"$f":"Calc!BX165","v":{"v":1.7824024615384615,"d":"1.78"}},0,{"$nulls":3},{"$f":"IF(G85=1,MATCH($K$61,G85:$G$113,0),C85)","v":597},597,{"$f":"IF(G85=1,MATCH($K$61,G85:$G$113,0),E85)","v":1250},1250]
[null,{"$f":"IF(Calc!BT166>$M$4,$M$4,Calc!BT166)","v":{"v":1199.5166666666667,"d":"1200"}},{"$f":"IF(Calc!BV166<0,0,IF(Calc!BV166<=$J$6,Calc!BV166,$J$6))","v":571},{"$f":"IF(Calc!BZ166<$M$3,Calc!BZ166,$M$3)","v":{"v":359.855,"d":"360"}},{"$f":"IF(Calc!CB166<0,0,IF(Calc!CB166<=$J$6,Calc!CB166,$J$6))","v":1250},{"$f":"Calc!BX166","v":{"v":1.7292898461538462,"d":"1.73"}},0,{"$nulls":3},{"$f":"IF(G86=1,MATCH($K$61,G86:$G$113,0),C86)","v":571},571,{"$f":"IF(G86=1,MATCH($K$61,G86:$G$113,0),E86)","v":1250},1250]
[null,{"$f":"IF(Calc!BT167>$M$4,$M$4,Calc!BT167)","v":{"v":1217.8999999999999,"d":"1218"}},{"$f":"IF(Calc!BV167<0,0,IF(Calc!BV167<=$J$6,Calc!BV167,$J$6))","v":544},{"$f":"IF(Calc!BZ167<$M$3,Calc!BZ167,$M$3)","v":{"v":365.37,"d":"365"}},{"$f":"IF(Calc!CB167<0,0,IF(Calc!CB167<=$J$6,Calc!CB167,$J$6))","v":1250},{"$f":"Calc!BX167","v":{"v":1.6755808351648354,"d":"1.68"}},0,{"$nulls":3},{"$f":"IF(G87=1,MATCH($K$61,G87:$G$113,0),C87)","v":544},544,{"$f":"IF(G87=1,MATCH($K$61,G87:$G$113,0),E87)","v":1250},1250]
[null,{"$f":"IF(Calc!BT168>$M$4,$M$4,Calc!BT168)","v":{"v":1236.45,"d":"1236"}},{"$f":"IF(Calc!BV168<0,0,IF(Calc!BV168<=$J$6,Calc!BV168,$J$6))","v":518},{"$f":"IF(Calc!BZ168<$M$3,Calc!BZ168,$M$3)","v":{"v":370.935,"d":"371"}},{"$f":"IF(Calc!CB168<0,0,IF(Calc!CB168<=$J$6,Calc!CB168,$J$6))","v":1250},{"$f":"Calc!BX168","v":{"v":1.6212754285714288,"d":"1.62"}},0,{"$nulls":3},{"$f":"IF(G88=1,MATCH($K$61,G88:$G$113,0),C88)","v":518},518,{"$f":"IF(G88=1,MATCH($K$61,G88:$G$113,0),E88)","v":1250},1250]
[null,{"$f":"IF(Calc!BT169>$M$4,$M$4,Calc!BT169)","v":{"v":1255.1333333333334,"d":"1255"}},{"$f":"IF(Calc!BV169<0,0,IF(Calc!BV169<=$J$6,Calc!BV169,$J$6))","v":491},{"$f":"IF(Calc!BZ169<$M$3,Calc!BZ169,$M$3)","v":{"v":376.54,"d":"377"}},{"$f":"IF(Calc!CB169<0,0,IF(Calc!CB169<=$J$6,Calc!CB169,$J$6))","v":1250},{"$f":"Calc!BX169","v":{"v":1.5663736263736265,"d":"1.57"}},0,{"$nulls":3},{"$f":"IF(G89=1,MATCH($K$61,G89:$G$113,0),C89)","v":491},491,{"$f":"IF(G89=1,MATCH($K$61,G89:$G$113,0),E89)","v":1250},1250]
[null,{"$f":"IF(Calc!BT170>$M$4,$M$4,Calc!BT170)","v":{"v":1273.95,"d":"1274"}},{"$f":"IF(Calc!BV170<0,0,IF(Calc!BV170<=$J$6,Calc!BV170,$J$6))","v":464},{"$f":"IF(Calc!BZ170<$M$3,Calc!BZ170,$M$3)","v":{"v":382.185,"d":"382"}},{"$f":"IF(Calc!CB170<0,0,IF(Calc!CB170<=$J$6,Calc!CB170,$J$6))","v":1250},{"$f":"Calc!BX170","v":{"v":1.5108754285714285,"d":"1.51"}},0,{"$nulls":3},{"$f":"IF(G90=1,MATCH($K$61,G90:$G$113,0),C90)","v":464},464,{"$f":"IF(G90=1,MATCH($K$61,G90:$G$113,0),E90)","v":1250},1250]
[null,{"$f":"IF(Calc!BT171>$M$4,$M$4,Calc!BT171)","v":{"v":1292.8666666666666,"d":"1293"}},{"$f":"IF(Calc!BV171<0,0,IF(Calc!BV171<=$J$6,Calc!BV171,$J$6))","v":436},{"$f":"IF(Calc!BZ171<$M$3,Calc!BZ171,$M$3)","v":{"v":387.86,"d":"388"}},{"$f":"IF(Calc!CB171<0,0,IF(Calc!CB171<=$J$6,Calc!CB171,$J$6))","v":1250},{"$f":"Calc!BX171","v":{"v":1.4547808351648353,"d":"1.45"}},0,{"$nulls":3},{"$f":"IF(G91=1,MATCH($K$61,G91:$G$113,0),C91)","v":436},436,{"$f":"IF(G91=1,MATCH($K$61,G91:$G$113,0),E91)","v":1250},1250]
[null,{"$f":"IF(Calc!BT172>$M$4,$M$4,Calc!BT172)","v":{"v":1311.85,"d":"1312"}},{"$f":"IF(Calc!BV172<0,0,IF(Calc!BV172<=$J$6,Calc!BV172,$J$6))","v":408},{"$f":"IF(Calc!BZ172<$M$3,Calc!BZ172,$M$3)","v":{"v":393.555,"d":"394"}},{"$f":"IF(Calc!CB172<0,0,IF(Calc!CB172<=$J$6,Calc!CB172,$J$6))","v":1250},{"$f":"Calc!BX172","v":{"v":1.398089846153846,"d":"1.40"}},0,{"$nulls":3},{"$f":"IF(G92=1,MATCH($K$61,G92:$G$113,0),C92)","v":408},408,{"$f":"IF(G92=1,MATCH($K$61,G92:$G$113,0),E92)","v":1250},1250]
[null,{"$f":"IF(Calc!BT173>$M$4,$M$4,Calc!BT173)","v":{"v":1330.8666666666668,"d":"1331"}},{"$f":"IF(Calc!BV173<0,0,IF(Calc!BV173<=$J$6,Calc!BV173,$J$6))","v":380},{"$f":"IF(Calc!BZ173<$M$3,Calc!BZ173,$M$3)","v":{"v":399.26,"d":"399"}},{"$f":"IF(Calc!CB173<0,0,IF(Calc!CB173<=$J$6,Calc!CB173,$J$6))","v":1250},{"$f":"Calc!BX173","v":{"v":1.3408024615384615,"d":"1.34"}},0,{"$nulls":3},{"$f":"IF(G93=1,MATCH($K$61,G93:$G$113,0),C93)","v":380},380,{"$f":"IF(G93=1,MATCH($K$61,G93:$G$113,0),E93)","v":1250},1250]
[null,{"$f":"IF(Calc!BT174>$M$4,$M$4,Calc!BT174)","v":{"v":1333.3333333333335,"d":"1333"}},{"$f":"IF(Calc!BV174<0,0,IF(Calc!BV174<=$J$6,Calc!BV174,$J$6))","v":354},{"$f":"IF(Calc!BZ174<$M$3,Calc!BZ174,$M$3)","v":400},{"$f":"IF(Calc!CB174<0,0,IF(Calc!CB174<=$J$6,Calc!CB174,$J$6))","v":1250},{"$f":"Calc!BX174","v":{"v":1.2829186813186786,"d":"1.28"}},0,{"$nulls":3},{"$f":"IF(G94=1,MATCH($K$61,G94:$G$113,0),C94)","v":354},354,{"$f":"IF(G94=1,MATCH($K$61,G94:$G$113,0),E94)","v":1250},1250]
[null,{"$f":"IF(Calc!BT175>$M$4,$M$4,Calc!BT175)","v":{"v":1333.3333333333335,"d":"1333"}},{"$f":"IF(Calc!BV175<0,0,IF(Calc!BV175<=$J$6,Calc!BV175,$J$6))","v":327},{"$f":"IF(Calc!BZ175<$M$3,Calc!BZ175,$M$3)","v":400},{"$f":"IF(Calc!CB175<0,0,IF(Calc!CB175<=$J$6,Calc!CB175,$J$6))","v":1250},{"$f":"Calc!BX175","v":{"v":1.2244385054945026,"d":"1.22"}},0,{"$nulls":3},{"$f":"IF(G95=1,MATCH($K$61,G95:$G$113,0),C95)","v":327},327,{"$f":"IF(G95=1,MATCH($K$61,G95:$G$113,0),E95)","v":1250},1250]
[null,{"$f":"IF(Calc!BT176>$M$4,$M$4,Calc!BT176)","v":{"v":1333.3333333333335,"d":"1333"}},{"$f":"IF(Calc!BV176<0,0,IF(Calc!BV176<=$J$6,Calc!BV176,$J$6))","v":301},{"$f":"IF(Calc!BZ176<$M$3,Calc!BZ176,$M$3)","v":400},{"$f":"IF(Calc!CB176<0,0,IF(Calc!CB176<=$J$6,Calc!CB176,$J$6))","v":1250},{"$f":"Calc!BX176","v":{"v":1.1653619340659311,"d":"1.17"}},0,{"$nulls":3},{"$f":"IF(G96=1,MATCH($K$61,G96:$G$113,0),C96)","v":301},301,{"$f":"IF(G96=1,MATCH($K$61,G96:$G$113,0),E96)","v":1250},1250]
[null,{"$f":"IF(Calc!BT177>$M$4,$M$4,Calc!BT177)","v":{"v":1333.3333333333335,"d":"1333"}},{"$f":"IF(Calc!BV177<0,0,IF(Calc!BV177<=$J$6,Calc!BV177,$J$6))","v":274},{"$f":"IF(Calc!BZ177<$M$3,Calc!BZ177,$M$3)","v":400},{"$f":"IF(Calc!CB177<0,0,IF(Calc!CB177<=$J$6,Calc!CB177,$J$6))","v":1250},{"$f":"Calc!BX177","v":{"v":1.1056889670329642,"d":"1.11"}},0,{"$nulls":3},{"$f":"IF(G97=1,MATCH($K$61,G97:$G$113,0),C97)","v":274},274,{"$f":"IF(G97=1,MATCH($K$61,G97:$G$113,0),E97)","v":1250},1250]
[null,{"$f":"IF(Calc!BT178>$M$4,$M$4,Calc!BT178)","v":{"v":1333.3333333333335,"d":"1333"}},{"$f":"IF(Calc!BV178<0,0,IF(Calc!BV178<=$J$6,Calc!BV178,$J$6))","v":246},{"$f":"IF(Calc!BZ178<$M$3,Calc!BZ178,$M$3)","v":400},{"$f":"IF(Calc!CB178<0,0,IF(Calc!CB178<=$J$6,Calc!CB178,$J$6))","v":1250},{"$f":"Calc!BX178","v":{"v":1.0454196043956014,"d":"1.05"}},0,{"$nulls":3},{"$f":"IF(G98=1,MATCH($K$61,G98:$G$113,0),C98)","v":246},246,{"$f":"IF(G98=1,MATCH($K$61,G98:$G$113,0),E98)","v":1250},1250]
[null,{"$f":"IF(Calc!BT179>$M$4,$M$4,Calc!BT179)","v":{"v":1333.3333333333335,"d":"1333"}},{"$f":"IF(Calc!BV179<0,0,IF(Calc!BV179<=$J$6,Calc!BV179,$J$6))","v":219},{"$f":"IF(Calc!BZ179<$M$3,Calc!BZ179,$M$3)","v":400},{"$f":"IF(Calc!CB179<0,0,IF(Calc!CB179<=$J$6,Calc!CB179,$J$6))","v":1233},{"$f":"Calc!BX179","v":{"v":0.9845538461538429,"d":"0.98"}},0,{"$nulls":3},{"$f":"IF(G99=1,MATCH($K$61,G99:$G$113,0),C99)","v":219},219,{"$f":"IF(G99=1,MATCH($K$61,G99:$G$113,0),E99)","v":1233},1233]
[null,{"$f":"IF(Calc!BT180>$M$4,$M$4,Calc!BT180)","v":{"v":1333.3333333333335,"d":"1333"}},{"$f":"IF(Calc!BV180<0,0,IF(Calc!BV180<=$J$6,Calc!BV180,$J$6))","v":191},{"$f":"IF(Calc!BZ180<$M$3,Calc!BZ180,$M$3)","v":400},{"$f":"IF(Calc!CB180<0,0,IF(Calc!CB180<=$J$6,Calc!CB180,$J$6))","v":1140},{"$f":"Calc!BX180","v":{"v":0.9230916923076893,"d":"0.92"}},0,{"$nulls":3},{"$f":"IF(G100=1,MATCH($K$61,G100:$G$113,0),C100)","v":191},191,{"$f":"IF(G100=1,MATCH($K$61,G100:$G$113,0),E100)","v":1140},1140]
[null,{"$f":"IF(Calc!BT181>$M$4,$M$4,Calc!BT181)","v":{"v":1333.3333333333335,"d":"1333"}},{"$f":"IF(Calc!BV181<0,0,IF(Calc!BV181<=$J$6,Calc!BV181,$J$6))","v":163},{"$f":"IF(Calc!BZ181<$M$3,Calc!BZ181,$M$3)","v":400},{"$f":"IF(Calc!CB181<0,0,IF(Calc!CB181<=$J$6,Calc!CB181,$J$6))","v":1047},{"$f":"Calc!BX181","v":{"v":0.8610331428571397,"d":"0.86"}},0,{"$nulls":3},{"$f":"IF(G101=1,MATCH($K$61,G101:$G$113,0),C101)","v":163},163,{"$f":"IF(G101=1,MATCH($K$61,G101:$G$113,0),E101)","v":1047},1047]
[null,{"$f":"IF(Calc!BT182>$M$4,$M$4,Calc!BT182)","v":{"v":1333.3333333333335,"d":"1333"}},{"$f":"IF(Calc!BV182<0,0,IF(Calc!BV182<=$J$6,Calc!BV182,$J$6))","v":134},{"$f":"IF(Calc!BZ182<$M$3,Calc!BZ182,$M$3)","v":400},{"$f":"IF(Calc!CB182<0,0,IF(Calc!CB182<=$J$6,Calc!CB182,$J$6))","v":952},{"$f":"Calc!BX182","v":{"v":0.7983781978021947,"d":"0.80"}},0,{"$nulls":3},{"$f":"IF(G102=1,MATCH($K$61,G102:$G$113,0),C102)","v":134},134,{"$f":"IF(G102=1,MATCH($K$61,G102:$G$113,0),E102)","v":952},952]
[null,{"$f":"IF(Calc!BT183>$M$4,$M$4,Calc!BT183)","v":{"v":1333.3333333333335,"d":"1333"}},{"$f":"IF(Calc!BV183<0,0,IF(Calc!BV183<=$J$6,Calc!BV183,$J$6))","v":106},{"$f":"IF(Calc!BZ183<$M$3,Calc!BZ183,$M$3)","v":400},{"$f":"IF(Calc!CB183<0,0,IF(Calc!CB183<=$J$6,Calc!CB183,$J$6))","v":857},{"$f":"Calc!BX183","v":{"v":0.7351268571428539,"d":"0.74"}},0,{"$nulls":3},{"$f":"IF(G103=1,MATCH($K$61,G103:$G$113,0),C103)","v":106},106,{"$f":"IF(G103=1,MATCH($K$61,G103:$G$113,0),E103)","v":857},857]
[null,{"$f":"IF(Calc!BT184>$M$4,$M$4,Calc!BT184)","v":{"v":1333.3333333333335,"d":"1333"}},{"$f":"IF(Calc!BV184<0,0,IF(Calc!BV184<=$J$6,Calc!BV184,$J$6))","v":77},{"$f":"IF(Calc!BZ184<$M$3,Calc!BZ184,$M$3)","v":400},{"$f":"IF(Calc!CB184<0,0,IF(Calc!CB184<=$J$6,Calc!CB184,$J$6))","v":760},{"$f":"Calc!BX184","v":{"v":0.6712791208791177,"d":"0.67"}},0,{"$nulls":3},{"$f":"IF(G104=1,MATCH($K$61,G104:$G$113,0),C104)","v":77},77,{"$f":"IF(G104=1,MATCH($K$61,G104:$G$113,0),E104)","v":760},760]
[null,{"$f":"IF(Calc!BT185>$M$4,$M$4,Calc!BT185)","v":{"v":1333.3333333333335,"d":"1333"}},{"$f":"IF(Calc!BV185<0,0,IF(Calc!BV185<=$J$6,Calc!BV185,$J$6))","v":48},{"$f":"IF(Calc!BZ185<$M$3,Calc!BZ185,$M$3)","v":400},{"$f":"IF(Calc!CB185<0,0,IF(Calc!CB185<=$J$6,Calc!CB185,$J$6))","v":663},{"$f":"Calc!BX185","v":{"v":0.6068349890109856,"d":"0.61"}},0,{"$nulls":3},{"$f":"IF(G105=1,MATCH($K$61,G105:$G$113,0),C105)","v":48},48,{"$f":"IF(G105=1,MATCH($K$61,G105:$G$113,0),E105)","v":663},663]
[null,{"$f":"IF(Calc!BT186>$M$4,$M$4,Calc!BT186)","v":{"v":1333.3333333333335,"d":"1333"}},{"$f":"IF(Calc!BV186<0,0,IF(Calc!BV186<=$J$6,Calc!BV186,$J$6))","v":18},{"$f":"IF(Calc!BZ186<$M$3,Calc!BZ186,$M$3)","v":400},{"$f":"IF(Calc!CB186<0,0,IF(Calc!CB186<=$J$6,Calc!CB186,$J$6))","v":565},{"$f":"Calc!BX186","v":{"v":0.5417944615384582,"d":"0.54"}},0,{"$nulls":3},{"$f":"IF(G106=1,MATCH($K$61,G106:$G$113,0),C106)","v":18},18,{"$f":"IF(G106=1,MATCH($K$61,G106:$G$113,0),E106)","v":565},565]
[null,{"$f":"IF(Calc!BT187>$M$4,$M$4,Calc!BT187)","v":{"v":1333.3333333333335,"d":"1333"}},{"$f":"IF(Calc!BV187<0,0,IF(Calc!BV187<=$J$6,Calc!BV187,$J$6))","v":0},{"$f":"IF(Calc!BZ187<$M$3,Calc!BZ187,$M$3)","v":400},{"$f":"IF(Calc!CB187<0,0,IF(Calc!CB187<=$J$6,Calc!CB187,$J$6))","v":466},{"$f":"Calc!BX187","v":{"v":0.4761575384615351,"d":"0.48"}},0,{"$nulls":3},{"$f":"IF(G107=1,MATCH($K$61,G107:$G$113,0),C107)","v":0},0,{"$f":"IF(G107=1,MATCH($K$61,G107:$G$113,0),E107)","v":466},466]
[null,{"$f":"IF(Calc!BT188>$M$4,$M$4,Calc!BT188)","v":{"v":1333.3333333333335,"d":"1333"}},{"$f":"IF(Calc!BV188<0,0,IF(Calc!BV188<=$J$6,Calc!BV188,$J$6))","v":0},{"$f":"IF(Calc!BZ188<$M$3,Calc!BZ188,$M$3)","v":400},{"$f":"IF(Calc!CB188<0,0,IF(Calc!CB188<=$J$6,Calc!CB188,$J$6))","v":366},{"$f":"Calc!BX188","v":{"v":0.4099242197802164,"d":"0.41"}},0,{"$nulls":3},{"$f":"IF(G108=1,MATCH($K$61,G108:$G$113,0),C108)","v":0},0,{"$f":"IF(G108=1,MATCH($K$61,G108:$G$113,0),E108)","v":366},366]
[null,{"$f":"IF(Calc!BT189>$M$4,$M$4,Calc!BT189)","v":{"v":1333.3333333333335,"d":"1333"}},{"$f":"IF(Calc!BV189<0,0,IF(Calc!BV189<=$J$6,Calc!BV189,$J$6))","v":0},{"$f":"IF(Calc!BZ189<$M$3,Calc!BZ189,$M$3)","v":400},{"$f":"IF(Calc!CB189<0,0,IF(Calc!CB189<=$J$6,Calc!CB189,$J$6))","v":266},{"$f":"Calc!BX189","v":{"v":0.3430945054945021,"d":"0.34"}},0,{"$nulls":3},{"$f":"IF(G109=1,MATCH($K$61,G109:$G$113,0),C109)","v":0},0,{"$f":"IF(G109=1,MATCH($K$61,G109:$G$113,0),E109)","v":266},266]
[null,{"$f":"IF(Calc!BT190>$M$4,$M$4,Calc!BT190)","v":{"v":1333.3333333333335,"d":"1333"}},{"$f":"IF(Calc!BV190<0,0,IF(Calc!BV190<=$J$6,Calc!BV190,$J$6))","v":0},{"$f":"IF(Calc!BZ190<$M$3,Calc!BZ190,$M$3)","v":400},{"$f":"IF(Calc!CB190<0,0,IF(Calc!CB190<=$J$6,Calc!CB190,$J$6))","v":164},{"$f":"Calc!BX190","v":{"v":0.2756683956043922,"d":"0.28"}},0,{"$nulls":3},{"$f":"IF(G110=1,MATCH($K$61,G110:$G$113,0),C110)","v":0},0,{"$f":"IF(G110=1,MATCH($K$61,G110:$G$113,0),E110)","v":164},164]
[null,{"$f":"IF(Calc!BT191>$M$4,$M$4,Calc!BT191)","v":{"v":1333.3333333333335,"d":"1333"}},{"$f":"IF(Calc!BV191<0,0,IF(Calc!BV191<=$J$6,Calc!BV191,$J$6))","v":0},{"$f":"IF(Calc!BZ191<$M$3,Calc!BZ191,$M$3)","v":400},{"$f":"IF(Calc!CB191<0,0,IF(Calc!CB191<=$J$6,Calc!CB191,$J$6))","v":61},{"$f":"Calc!BX191","v":{"v":0.20764589010988635,"d":"0.21"}},0,{"$nulls":3},{"$f":"IF(G111=1,MATCH($K$61,G111:$G$113,0),C111)","v":0},0,{"$f":"IF(G111=1,MATCH($K$61,G111:$G$113,0),E111)","v":61},61]
[null,{"$f":"IF(Calc!BT192>$M$4,$M$4,Calc!BT192)","v":{"v":1333.3333333333335,"d":"1333"}},{"$f":"IF(Calc!BV192<0,0,IF(Calc!BV192<=$J$6,Calc!BV192,$J$6))","v":0},{"$f":"IF(Calc!BZ192<$M$3,Calc!BZ192,$M$3)","v":400},{"$f":"IF(Calc!CB192<0,0,IF(Calc!CB192<=$J$6,Calc!CB192,$J$6))","v":0},{"$f":"Calc!BX192","v":{"v":0.13902698901098556,"d":"0.14"}},0,{"$nulls":3},{"$f":"IF(G112=1,MATCH($K$61,G112:$G$113,0),C112)","v":0},0,{"$f":"IF(G112=1,MATCH($K$61,G112:$G$113,0),E112)","v":0},0]
[null,{"$f":"IF(Calc!BT193>$M$4,$M$4,Calc!BT193)","v":{"v":1333.3333333333335,"d":"1333"}},{"$f":"IF(Calc!BV193<0,0,Calc!BV193)","v":0},{"$f":"IF(Calc!BZ193<$M$3,Calc!BZ193,$M$3)","v":400},{"$f":"IF(Calc!CB193<0,0,IF(Calc!CB193<=$J$6,Calc!CB193,$J$6))","v":0},{"$f":"Calc!BX193","v":{"v":0.06981169230768883,"d":"0.07"}},0,{"$nulls":3},{"$f":"IF(G113=1,MATCH($K$61,G113:$G$113,0),C113)","v":0},0,{"$f":"IF(G113=1,MATCH($K$61,G113:$G$113,0),E113)","v":0},0]
[null,{"$f":"IF(Calc!BT194>$M$4,$M$4,Calc!BT194)","v":{"v":1333.3333333333335,"d":"1333"}},{"$f":"IF(Calc!BV194<0,0,Calc!BV194)","v":0},{"$f":"IF(Calc!BZ194<$M$3,Calc!BZ194,$M$3)","v":400},{"$f":"IF(Calc!CB194<0,0,IF(Calc!CB194<=$J$6,Calc!CB194,$J$6))","v":0},{"$f":"Calc!BX194","v":{"v":0,"d":"0.00"}},0,{"$nulls":3},{"$f":"IF(G114=1,MATCH($K$61,G$113:$G114,0),C114)","v":0},{"$f":"IF(C114<0,0,IF(K114<>C114,OFFSET(B113,K114,1,1,1),C114))","v":0},{"$f":"IF(G114=1,MATCH($K$61,G$113:$G114,0),E114)","v":0},{"$f":"IF(E114<0,0,IF(M114<>E114,OFFSET(D113,M114,1,1,1),E114))","v":0}]
[]
[]
[]
[]
[{"$f":"B3","v":"AKM22E"},{"$f":"D3","v":"(240 VAC)"}]
[null,"mm/s","Output",null,"mm/s","Output"]